{"text_format":"1","workbook":"xlsx","n_sheets":13,"sheets":["CadastroContas","FluxoCaixa","Configuração","1","2","3","4","5","6","7","8","TB_Cadastro_Contas","TB_Fluxo_Caixa"],"not_rendered":{"charts":1,"images":0,"macros":1,"external_links":0,"defined_names":54,"comments":0,"pivot_tables":8},"unopened":[],"bounds":{"document_bytes":16777216,"sheet_cells":100000,"rows_first":2000,"rows_last":500,"rows_between":2000,"halvings":0,"cell_chars":16384,"cell_head_chars":4096},"cells_cut":0,"cells_raw":0,"read":"whole","date_system":"1900"}

{"sheet":"CadastroContas","index":0,"n_rows":10224,"n_cols":54,"rows_kept":4500,"cut":true,"hidden":false,"merged":[[56,7,56,14],[59,7,59,17],[62,4,64,17],[67,7,67,17],[223,23,223,24],[53,7,53,17],[2,2,2,19],[4,7,4,17],[7,7,7,8],[7,14,7,17],[13,7,13,8]],"bounds":{"rows_first":2000,"rows_last":500,"rows_between":2000,"halvings":0}}
[]
[]
[null,null,"Cadastro de Contas"]
[]
[null,null,"Parceiro de Negócio:",null,null,null,null,{"$f":"IF(E5=\"\",\"\",VLOOKUP(E5,Configuração!B7:D10006,2))","v":""},null,null,null,null,null,null,null,null,null,null,null,null,null,null,null,null,null,null,null,null,null,null,null,null,null,null,null,null,null,null,"Tipo de Operação","Conta","Resultado"]
[]
[]
[null,null,"N° Doc/NF:",null,null,null,null,"Tipo de Operação:",null,null,null,null,2,null,{"$f":"IF(L8=\"\",\"\",VLOOKUP(L8,Configuração!S7:T16,2))","v":""},null,null,null,null,null,null,null,null,null,null,null,null,null,null,null,null,null,null,null,null,null,null,null,{"$f":"IF(AM11=\"\",\"\",IF(OR(AM11=\"D (T)\",AM11=\"C (T)\"),\"T\",AM11))","v":""},{"$f":"IF(E57=\"\",\"\",IF(E57>1000,\"T\",IF(E57>200,\"D\",\"C\")))","v":""},{"$f":"IF(AND(AM8<>\"\",AN8<>\"\"),IF(AM8=AN8,0,1),\"\")","v":""}]
[]
[]
[null,null,"Emissáo:",null,null,null,null,null,"Mês:",null,null,{"$f":"IF(E11=\"\",\"\",VLOOKUP(MONTH(VLOOKUP(E11,V225:W5702,2)),X225:Y236,2))","v":""},null,null,"Ano:",null,null,{"$f":"IF(E11=\"\",\"\",YEAR(VLOOKUP(E11,V225:W5702,2)))","v":""},null,null,null,null,null,null,null,null,null,null,null,null,null,null,null,null,null,null,null,null,{"$f":"IF(L8=\"\",\"\",VLOOKUP(L8,Configuração!S7:U16,3))","v":""}]
[]
[]
[null,null,"Setor:",null,null,4,null,{"$f":"IF(E14=\"\",\"\",VLOOKUP(E14,Configuração!M7:N16,2))","v":""},null,null,null,null,null,null,"Vencimento",null,null,"Valor R$",null,null,null,null,null,null,null,null,null,null,null,null,null,null,null,null,null,null,null,null,null,null,"Contador Parcela"]
[]
[null,null,null,null,null,null,null,null,null,null,null,1,null,null,null,null,null,null,null,null,null,null,null,null,null,null,null,null,null,null,null,null,null,null,null,null,null,null,null,null,1]
[]
[]
[null,null,null,null,null,null,null,null,null,null,null,2,null,null,null,null,null,null,null,null,null,null,null,null,null,null,null,null,null,null,null,null,null,null,null,null,null,null,null,null,{"$f":"IF(O19>0,IF(R19>0,1,\"\"),\"\")","v":""}]
[]
[]
[null,null,null,null,null,null,null,null,null,null,null,3,null,null,null,null,null,null,null,null,null,null,null,null,null,null,null,null,null,null,null,null,null,null,null,null,null,null,null,null,{"$f":"IF(O22>0,IF(R22>0,1,\"\"),\"\")","v":""}]
[]
[]
[null,null,null,null,null,null,null,null,null,null,null,4,null,null,null,null,null,null,null,null,null,null,null,null,null,null,null,null,null,null,null,null,null,null,null,null,null,null,null,null,{"$f":"IF(O25>0,IF(R25>0,1,\"\"),\"\")","v":""}]
[]
[]
[null,null,null,null,null,null,null,null,null,null,null,5,null,null,null,null,null,null,null,null,null,null,null,null,null,null,null,null,null,null,null,null,null,null,null,null,null,null,null,null,{"$f":"IF(O28>0,IF(R28>0,1,\"\"),\"\")","v":""}]
[]
[]
[null,null,null,null,null,null,null,null,null,null,null,6,null,null,null,null,null,null,null,null,null,null,null,null,null,null,null,null,null,null,null,null,null,null,null,null,null,null,null,null,{"$f":"IF(O31>0,IF(R31>0,1,\"\"),\"\")","v":""}]
[]
[]
[null,null,null,null,null,null,null,null,null,null,null,7,null,null,null,null,null,null,null,null,null,null,null,null,null,null,null,null,null,null,null,null,null,null,null,null,null,null,null,null,{"$f":"IF(O34>0,IF(R34>0,1,\"\"),\"\")","v":""}]
[]
[]
[null,null,null,null,null,null,null,null,null,null,null,8,null,null,null,null,null,null,null,null,null,null,null,null,null,null,null,null,null,null,null,null,null,null,null,null,null,null,null,null,{"$f":"IF(O37>0,IF(R37>0,1,\"\"),\"\")","v":""}]
[]
[]
[null,null,null,null,null,null,null,null,null,null,null,9,null,null,null,null,null,null,null,null,null,null,null,null,null,null,null,null,null,null,null,null,null,null,null,null,null,null,null,null,{"$f":"IF(O40>0,IF(R40>0,1,\"\"),\"\")","v":""}]
[]
[]
[null,null,null,null,null,null,null,null,null,null,null,10,null,null,null,null,null,null,null,null,null,null,null,null,null,null,null,null,null,null,null,null,null,null,null,null,null,null,null,null,{"$f":"IF(O43>0,IF(R43>0,1,\"\"),\"\")","v":""}]
[]
[]
[null,null,null,null,null,null,null,null,null,null,null,11,null,null,null,null,null,null,null,null,null,null,null,null,null,null,null,null,null,null,null,null,null,null,null,null,null,null,null,null,{"$f":"IF(O46>0,IF(R46>0,1,\"\"),\"\")","v":""}]
[]
[]
[null,null,null,null,null,null,null,null,null,null,null,12,null,null,null,null,null,null,null,null,null,null,null,null,null,null,null,null,null,null,null,null,null,null,null,null,null,null,null,null,{"$f":"IF(O49>0,IF(R49>0,1,\"\"),\"\")","v":""}]
[]
[]
[null,null,null,null,null,null,null,null,"Número de Parcelas:",null,null,{"$f":"SUM(AO16:AO49)","v":1},null,null,"Total:",null,null,{"$f":"SUM(R16:R49)","v":0}]
[]
[null,null,"Portador:",null,null,null,null,{"$f":"IF(E54=\"\",\"\",VLOOKUP(E54,Configuração!P7:Q16,2))","v":""}]
[]
[]
[null,null,"Conta:",null,null,null,null,{"$f":"IF(E57=\"\",\"\",VLOOKUP(E57,Configuração!F7:H927,3))","v":""},null,null,null,null,null,null,null,null,null,{"$f":"IF(E57=\"\",\"\",VLOOKUP(E57,Configuração!F7:H927,2))","v":""}]
[]
[]
[null,null,"Empresa:",null,null,null,null,{"$f":"IF(E60=\"\",\"\",VLOOKUP(E60,Configuração!J7:K16,2))","v":""}]
[]
[]
[null,null,"Observação:"]
[]
[]
[]
[]
[null,null,"Status:",null,null,null,null,{"$f":"IF(E68=\"\",\"\",VLOOKUP(E68,Configuração!W7:X16,2))","v":""}]
[]
[]
[]
[]
[]
[]
[]
[]
[]
[]
[]
[]
[]
[]
[]
[]
[]
[]
[]
[]
[]
[]
[]
[]
[]
[]
[]
[]
[]
[]
[]
[]
[]
[]
[]
[]
[]
[]
[]
[]
[]
[]
[]
[]
[]
[]
[]
[]
[]
[]
[]
[]
[]
[]
[]
[]
[]
[]
[]
[]
[]
[]
[]
[]
[]
[]
[]
[]
[]
[]
[]
[]
[]
[]
[]
[]
[]
[]
[]
[]
[]
[]
[]
[]
[]
[]
[]
[]
[]
[]
[]
[]
[]
[]
[]
[]
[]
[]
[]
[]
[]
[]
[]
[]
[]
[]
[]
[]
[]
[]
[]
[]
[]
[]
[]
[]
[]
[]
[]
[]
[]
[]
[]
[]
[]
[]
[]
[]
[]
[]
[]
[]
[]
[]
[]
[]
[]
[]
[]
[]
[]
[]
[]
[]
[]
[]
[]
[]
[]
[]
[]
[]
[]
[]
[]
[null,null,"Status",null,"PN",null,null,"Setor","Portador",null,null,"Tipo Doc.",null,null,"Conta",null,null,"Filial",null,null,null,"Data","Data","Mes",null,null,"Código","Cod PN","PN","N° Doc/NF","Cod Tipo de Conta","Tipo de Conta","Emissão","Mès Emissão","Ano Emissão","Cod Setor","Setor","Vencimento","Mês","Ano","Valor","Parcela","Cod Portador","Portador","Cod Conta","Conta","N° Conta","Cod Empresa","Empresa","Observação","Cod Conclusão","Status","Data L","Hora L"]
[null,null,{"$f":"IF(Configuração!X7=\"\",\"\",Configuração!W7)","v":1},null,{"$f":"IF(Configuração!C7=\"\",\"\",Configuração!B7)","v":""},null,null,{"$f":"IF(Configuração!N7=\"\",\"\",Configuração!M7)","v":1},{"$f":"IF(Configuração!Q7=\"\",\"\",Configuração!P7)","v":1},null,null,{"$f":"IF(Configuração!T7=\"\",\"\",Configuração!S7)","v":1},null,null,{"$f":"IF(Configuração!H9=\"\",\"\",IF($L$8=\"\",\"\",IF(VLOOKUP($L$8,Configuração!$S$7:$U$16,3)=\"C\",Configuração!F9,\"\")))","v":""},null,null,{"$f":"IF(Configuração!K7=\"\",\"\",Configuração!J7)","v":1},null,null,null,1012009,39814,1,"Janeiro",null,{"$f":"IF(AB225=\"\",\"\",Configuração!$AF$7)","v":""},{"$f":"IF(E5=\"\",\"\",E5)","v":""},{"$f":"IF(H5=\"\",\"\",H5)","v":""},{"$f":"IF(E8=\"\",\"\",E8)","v":""},{"$f":"IF(L8=\"\",\"\",L8)","v":""},{"$f":"IF(O8=\"\",\"\",O8)","v":""},{"$f":"IF(E11=\"\",\"\",VLOOKUP(E11,$V$225:$W$5702,2))","v":""},{"$f":"IF(L11=\"\",\"\",L11)","v":""},{"$f":"IF(R11=\"\",\"\",R11)","v":""},{"$f":"IF(E14=\"\",\"\",E14)","v":""},{"$f":"IF(H14=\"\",\"\",H14)","v":""},{"$f":"IF(O16=\"\",\"\",VLOOKUP(O16,$V$225:$W$5702,2))","v":""},{"$f":"IF(AL225=\"\",\"\",VLOOKUP(MONTH(AL225),$X$225:$Y$236,2))","v":""},{"$f":"IF(AL225=\"\",\"\",YEAR(AL225))","v":""},{"$f":"IF(R16=\"\",\"\",IF(AE225=\"\",\"\",IF(OR(VLOOKUP(AE225,Configuração!$S$7:$U$16,3)=\"C\",VLOOKUP(AE225,Configuração!$S$7:$U$16,3)=\"C (T)\"),R16,-R16)))","v":""},{"$f":"IF($L$52<1,\"\",CONCATENATE(\"1/\",$L$52))","v":"1/1"},{"$f":"IF(E54=\"\",\"\",E54)","v":""},{"$f":"IF(H54=\"\",\"\",H54)","v":""},{"$f":"IF(E57=\"\",\"\",E57)","v":""},{"$f":"IF(H57=\"\",\"\",H57)","v":""},{"$f":"IF(R57=\"\",\"\",R57)","v":""},{"$f":"IF(E60=\"\",\"\",E60)","v":""},{"$f":"IF(H60=\"\",\"\",H60)","v":""},{"$f":"IF(E63=\"\",\"\",E63)","v":""},{"$f":"IF(E68=\"\",\"\",E68)","v":""},{"$f":"IF(H68=\"\",\"\",H68)","v":""},{"$f":"IF(AZ225=\"\",\"\",TODAY())","v":""},{"$f":"IF(AZ225=\"\",\"\",NOW())","v":""}]
[null,null,{"$f":"IF(Configuração!X8=\"\",\"\",Configuração!W8)","v":2},null,{"$f":"IF(Configuração!C8=\"\",\"\",Configuração!B8)","v":""},null,null,{"$f":"IF(Configuração!N8=\"\",\"\",Configuração!M8)","v":2},{"$f":"IF(Configuração!Q8=\"\",\"\",Configuração!P8)","v":2},null,null,{"$f":"IF(Configuração!T8=\"\",\"\",Configuração!S8)","v":2},null,null,{"$f":"IF(Configuração!H10=\"\",\"\",IF($L$8=\"\",\"\",IF(VLOOKUP($L$8,Configuração!$S$7:$U$16,3)=\"C\",Configuração!F10,\"\")))","v":""},null,null,{"$f":"IF(Configuração!K8=\"\",\"\",Configuração!J8)","v":""},null,null,null,1012010,40179,2,"Fevereiro",null,{"$f":"IF(AB226=\"\",\"\",Configuração!$AF$7)","v":""},{"$f":"IF($L$52<2,\"\",IF($AB$225=\"\",\"\",IF(O19=\"\",\"\",IF(R19=\"\",\"\",$AB$225))))","v":""},{"$f":"IF($AB226=\"\",\"\",AC$225)","v":""},"","","",{"$f":"IF($AB226=\"\",\"\",AG$225)","v":""},"","","","",{"$f":"IF(AB226=\"\",\"\",IF(O19=\"\",\"\",VLOOKUP(O19,$V$225:$W$5702,2)))","v":""},{"$f":"IF(AL226=\"\",\"\",VLOOKUP(MONTH(AL226),$X$225:$Y$236,2))","v":""},{"$f":"IF(AL226=\"\",\"\",YEAR(AL226))","v":""},{"$f":"IF(R19=\"\",\"\",IF(AE226=\"\",\"\",IF(OR(VLOOKUP(AE226,Configuração!$S$7:$U$16,3)=\"C\",VLOOKUP(AE226,Configuração!$S$7:$U$16,3)=\"C (T)\"),R19,-R19)))","v":""},{"$f":"IF($AB226=\"\",\"\",IF($L$52<2,\"\",CONCATENATE(\"2/\",$L$52)))","v":""},{"$f":"IF($AB226=\"\",\"\",AQ$225)","v":""},"","","","","","","","","","",""]
[null,null,{"$f":"IF(Configuração!X9=\"\",\"\",Configuração!W9)","v":""},null,{"$f":"IF(Configuração!C9=\"\",\"\",Configuração!B9)","v":""},null,null,{"$f":"IF(Configuração!N9=\"\",\"\",Configuração!M9)","v":3},{"$f":"IF(Configuração!Q9=\"\",\"\",Configuração!P9)","v":3},null,null,{"$f":"IF(Configuração!T9=\"\",\"\",Configuração!S9)","v":3},null,null,{"$f":"IF(Configuração!H11=\"\",\"\",IF($L$8=\"\",\"\",IF(VLOOKUP($L$8,Configuração!$S$7:$U$16,3)=\"C\",Configuração!F11,\"\")))","v":""},null,null,{"$f":"IF(Configuração!K9=\"\",\"\",Configuração!J9)","v":""},null,null,null,1012011,40544,3,"Março",null,{"$f":"IF(AB227=\"\",\"\",Configuração!$AF$7)","v":""},{"$f":"IF($L$52<3,\"\",IF($AB$225=\"\",\"\",IF(O22=\"\",\"\",IF(R22=\"\",\"\",$AB$225))))","v":""},"","","","",{"$f":"IF($AB227=\"\",\"\",AG$225)","v":""},"","","","",{"$f":"IF(AB227=\"\",\"\",IF(O22=\"\",\"\",VLOOKUP(O22,$V$225:$W$5702,2)))","v":""},"","",{"$f":"IF(R22=\"\",\"\",IF(AE227=\"\",\"\",IF(OR(VLOOKUP(AE227,Configuração!$S$7:$U$16,3)=\"C\",VLOOKUP(AE227,Configuração!$S$7:$U$16,3)=\"C (T)\"),R22,-R22)))","v":""},{"$f":"IF($AB227=\"\",\"\",IF($L$52<3,\"\",CONCATENATE(\"3/\",$L$52)))","v":""},"","","","","","","","","","","",""]
[null,null,{"$f":"IF(Configuração!X10=\"\",\"\",Configuração!W10)","v":""},null,{"$f":"IF(Configuração!C10=\"\",\"\",Configuração!B10)","v":""},null,null,{"$f":"IF(Configuração!N10=\"\",\"\",Configuração!M10)","v":4},{"$f":"IF(Configuração!Q10=\"\",\"\",Configuração!P10)","v":4},null,null,{"$f":"IF(Configuração!T10=\"\",\"\",Configuração!S10)","v":4},null,null,{"$f":"IF(Configuração!H12=\"\",\"\",IF($L$8=\"\",\"\",IF(VLOOKUP($L$8,Configuração!$S$7:$U$16,3)=\"C\",Configuração!F12,\"\")))","v":""},null,null,{"$f":"IF(Configuração!K10=\"\",\"\",Configuração!J10)","v":""},null,null,null,1012012,40909,4,"Abril",null,{"$f":"IF(AB228=\"\",\"\",Configuração!$AF$7)","v":""},{"$f":"IF($L$52<4,\"\",IF($AB$225=\"\",\"\",IF(O25=\"\",\"\",IF(R25=\"\",\"\",$AB$225))))","v":""},"","","","",{"$f":"IF($AB228=\"\",\"\",AG$225)","v":""},"","","","",{"$f":"IF(AB228=\"\",\"\",IF(O25=\"\",\"\",VLOOKUP(O25,$V$225:$W$5702,2)))","v":""},"","",{"$f":"IF(R25=\"\",\"\",IF(AE228=\"\",\"\",IF(OR(VLOOKUP(AE228,Configuração!$S$7:$U$16,3)=\"C\",VLOOKUP(AE228,Configuração!$S$7:$U$16,3)=\"C (T)\"),R25,-R25)))","v":""},{"$f":"IF($AB228=\"\",\"\",IF($L$52<4,\"\",CONCATENATE(\"4/\",$L$52)))","v":""},"","","","","","","","","","","",""]
[null,null,{"$f":"IF(Configuração!X11=\"\",\"\",Configuração!W11)","v":""},null,{"$f":"IF(Configuração!C11=\"\",\"\",Configuração!B11)","v":""},null,null,{"$f":"IF(Configuração!N11=\"\",\"\",Configuração!M11)","v":""},{"$f":"IF(Configuração!Q11=\"\",\"\",Configuração!P11)","v":5},null,null,{"$f":"IF(Configuração!T11=\"\",\"\",Configuração!S11)","v":""},null,null,{"$f":"IF(Configuração!H13=\"\",\"\",IF($L$8=\"\",\"\",IF(VLOOKUP($L$8,Configuração!$S$7:$U$16,3)=\"C\",Configuração!F13,\"\")))","v":""},null,null,{"$f":"IF(Configuração!K11=\"\",\"\",Configuração!J11)","v":""},null,null,null,1012013,41275,5,"Maio",null,{"$f":"IF(AB229=\"\",\"\",Configuração!$AF$7)","v":""},{"$f":"IF($L$52<5,\"\",IF($AB$225=\"\",\"\",IF(O28=\"\",\"\",IF(R28=\"\",\"\",$AB$225))))","v":""},"","","","",{"$f":"IF($AB229=\"\",\"\",AG$225)","v":""},"","","","",{"$f":"IF(AB229=\"\",\"\",IF(O28=\"\",\"\",VLOOKUP(O28,$V$225:$W$5702,2)))","v":""},"","",{"$f":"IF(R28=\"\",\"\",IF(AE229=\"\",\"\",IF(OR(VLOOKUP(AE229,Configuração!$S$7:$U$16,3)=\"C\",VLOOKUP(AE229,Configuração!$S$7:$U$16,3)=\"C (T)\"),R28,-R28)))","v":""},{"$f":"IF($AB229=\"\",\"\",IF($L$52<5,\"\",CONCATENATE(\"5/\",$L$52)))","v":""},"","","","","","","","","","","",""]
[null,null,{"$f":"IF(Configuração!X12=\"\",\"\",Configuração!W12)","v":""},null,{"$f":"IF(Configuração!C12=\"\",\"\",Configuração!B12)","v":""},null,null,{"$f":"IF(Configuração!N12=\"\",\"\",Configuração!M12)","v":""},{"$f":"IF(Configuração!Q12=\"\",\"\",Configuração!P12)","v":6},null,null,{"$f":"IF(Configuração!T12=\"\",\"\",Configuração!S12)","v":""},null,null,{"$f":"IF(Configuração!H14=\"\",\"\",IF($L$8=\"\",\"\",IF(VLOOKUP($L$8,Configuração!$S$7:$U$16,3)=\"C\",Configuração!F14,\"\")))","v":""},null,null,{"$f":"IF(Configuração!K12=\"\",\"\",Configuração!J12)","v":""},null,null,null,1012014,41640,6,"Junho",null,{"$f":"IF(AB230=\"\",\"\",Configuração!$AF$7)","v":""},{"$f":"IF($L$52<6,\"\",IF($AB$225=\"\",\"\",IF(O31=\"\",\"\",IF(R31=\"\",\"\",$AB$225))))","v":""},"","","","",{"$f":"IF($AB230=\"\",\"\",AG$225)","v":""},"","","","",{"$f":"IF(AB230=\"\",\"\",IF(O31=\"\",\"\",VLOOKUP(O31,$V$225:$W$5702,2)))","v":""},"","",{"$f":"IF(R31=\"\",\"\",IF(AE230=\"\",\"\",IF(OR(VLOOKUP(AE230,Configuração!$S$7:$U$16,3)=\"C\",VLOOKUP(AE230,Configuração!$S$7:$U$16,3)=\"C (T)\"),R31,-R31)))","v":""},{"$f":"IF($AB230=\"\",\"\",IF($L$52<6,\"\",CONCATENATE(\"6/\",$L$52)))","v":""},"","","","","","","","","","","",""]
[null,null,{"$f":"IF(Configuração!X13=\"\",\"\",Configuração!W13)","v":""},null,{"$f":"IF(Configuração!C13=\"\",\"\",Configuração!B13)","v":""},null,null,{"$f":"IF(Configuração!N13=\"\",\"\",Configuração!M13)","v":""},{"$f":"IF(Configuração!Q13=\"\",\"\",Configuração!P13)","v":7},null,null,{"$f":"IF(Configuração!T13=\"\",\"\",Configuração!S13)","v":""},null,null,{"$f":"IF(Configuração!H15=\"\",\"\",IF($L$8=\"\",\"\",IF(VLOOKUP($L$8,Configuração!$S$7:$U$16,3)=\"C\",Configuração!F15,\"\")))","v":""},null,null,{"$f":"IF(Configuração!K13=\"\",\"\",Configuração!J13)","v":""},null,null,null,1012015,42005,7,"Julho",null,{"$f":"IF(AB231=\"\",\"\",Configuração!$AF$7)","v":""},{"$f":"IF($L$52<7,\"\",IF($AB$225=\"\",\"\",IF(O34=\"\",\"\",IF(R34=\"\",\"\",$AB$225))))","v":""},"","","","","","","","","",{"$f":"IF(AB231=\"\",\"\",IF(O34=\"\",\"\",VLOOKUP(O34,$V$225:$W$5702,2)))","v":""},"","",{"$f":"IF(R34=\"\",\"\",IF(AE231=\"\",\"\",IF(OR(VLOOKUP(AE231,Configuração!$S$7:$U$16,3)=\"C\",VLOOKUP(AE231,Configuração!$S$7:$U$16,3)=\"C (T)\"),R34,-R34)))","v":""},{"$f":"IF($AB231=\"\",\"\",IF($L$52<7,\"\",CONCATENATE(\"7/\",$L$52)))","v":""},"","","","","","","","","","","",""]
[null,null,{"$f":"IF(Configuração!X14=\"\",\"\",Configuração!W14)","v":""},null,{"$f":"IF(Configuração!C14=\"\",\"\",Configuração!B14)","v":""},null,null,{"$f":"IF(Configuração!N14=\"\",\"\",Configuração!M14)","v":""},{"$f":"IF(Configuração!Q14=\"\",\"\",Configuração!P14)","v":""},null,null,{"$f":"IF(Configuração!T14=\"\",\"\",Configuração!S14)","v":""},null,null,{"$f":"IF(Configuração!H16=\"\",\"\",IF($L$8=\"\",\"\",IF(VLOOKUP($L$8,Configuração!$S$7:$U$16,3)=\"C\",Configuração!F16,\"\")))","v":""},null,null,{"$f":"IF(Configuração!K14=\"\",\"\",Configuração!J14)","v":""},null,null,null,1012016,42370,8,"Agosto",null,{"$f":"IF(AB232=\"\",\"\",Configuração!$AF$7)","v":""},{"$f":"IF($L$52<8,\"\",IF($AB$225=\"\",\"\",IF(O37=\"\",\"\",IF(R37=\"\",\"\",$AB$225))))","v":""},"","","","","","","","","",{"$f":"IF(AB232=\"\",\"\",IF(O37=\"\",\"\",VLOOKUP(O37,$V$225:$W$5702,2)))","v":""},"","",{"$f":"IF(R37=\"\",\"\",IF(AE232=\"\",\"\",IF(OR(VLOOKUP(AE232,Configuração!$S$7:$U$16,3)=\"C\",VLOOKUP(AE232,Configuração!$S$7:$U$16,3)=\"C (T)\"),R37,-R37)))","v":""},{"$f":"IF($AB232=\"\",\"\",IF($L$52<8,\"\",CONCATENATE(\"8/\",$L$52)))","v":""},"","","","","","","","","","","",""]
[null,null,{"$f":"IF(Configuração!X15=\"\",\"\",Configuração!W15)","v":""},null,{"$f":"IF(Configuração!C15=\"\",\"\",Configuração!B15)","v":""},null,null,{"$f":"IF(Configuração!N15=\"\",\"\",Configuração!M15)","v":""},{"$f":"IF(Configuração!Q15=\"\",\"\",Configuração!P15)","v":""},null,null,{"$f":"IF(Configuração!T15=\"\",\"\",Configuração!S15)","v":""},null,null,{"$f":"IF(Configuração!H17=\"\",\"\",IF($L$8=\"\",\"\",IF(VLOOKUP($L$8,Configuração!$S$7:$U$16,3)=\"C\",Configuração!F17,\"\")))","v":""},null,null,{"$f":"IF(Configuração!K15=\"\",\"\",Configuração!J15)","v":""},null,null,null,1012017,42736,9,"Setembro",null,{"$f":"IF(AB233=\"\",\"\",Configuração!$AF$7)","v":""},{"$f":"IF($L$52<9,\"\",IF($AB$225=\"\",\"\",IF(O40=\"\",\"\",IF(R40=\"\",\"\",$AB$225))))","v":""},"","","","","","","","","",{"$f":"IF(AB233=\"\",\"\",IF(O40=\"\",\"\",VLOOKUP(O40,$V$225:$W$5702,2)))","v":""},"","",{"$f":"IF(R40=\"\",\"\",IF(AE233=\"\",\"\",IF(OR(VLOOKUP(AE233,Configuração!$S$7:$U$16,3)=\"C\",VLOOKUP(AE233,Configuração!$S$7:$U$16,3)=\"C (T)\"),R40,-R40)))","v":""},{"$f":"IF($AB233=\"\",\"\",IF($L$52<9,\"\",CONCATENATE(\"9/\",$L$52)))","v":""},"","","","","","","","","","","",""]
[null,null,{"$f":"IF(Configuração!X16=\"\",\"\",Configuração!W16)","v":""},null,{"$f":"IF(Configuração!C16=\"\",\"\",Configuração!B16)","v":""},null,null,{"$f":"IF(Configuração!N16=\"\",\"\",Configuração!M16)","v":""},{"$f":"IF(Configuração!Q16=\"\",\"\",Configuração!P16)","v":""},null,null,{"$f":"IF(Configuração!T16=\"\",\"\",Configuração!S16)","v":""},null,null,{"$f":"IF(Configuração!H18=\"\",\"\",IF($L$8=\"\",\"\",IF(VLOOKUP($L$8,Configuração!$S$7:$U$16,3)=\"C\",Configuração!F18,\"\")))","v":""},null,null,{"$f":"IF(Configuração!K16=\"\",\"\",Configuração!J16)","v":""},null,null,null,1012018,43101,10,"Outubro",null,{"$f":"IF(AB234=\"\",\"\",Configuração!$AF$7)","v":""},{"$f":"IF($L$52<10,\"\",IF($AB$225=\"\",\"\",IF(O43=\"\",\"\",IF(R43=\"\",\"\",$AB$225))))","v":""},"","","","","","","","","",{"$f":"IF(AB234=\"\",\"\",IF(O43=\"\",\"\",VLOOKUP(O43,$V$225:$W$5702,2)))","v":""},"","",{"$f":"IF(R43=\"\",\"\",IF(AE234=\"\",\"\",IF(OR(VLOOKUP(AE234,Configuração!$S$7:$U$16,3)=\"C\",VLOOKUP(AE234,Configuração!$S$7:$U$16,3)=\"C (T)\"),R43,-R43)))","v":""},{"$f":"IF($AB234=\"\",\"\",IF($L$52<10,\"\",CONCATENATE(\"10/\",$L$52)))","v":""},"","","","","","","","","","","",""]
[null,null,null,null,{"$f":"IF(Configuração!C17=\"\",\"\",Configuração!B17)","v":""},null,null,null,null,null,null,null,null,null,{"$f":"IF(Configuração!H19=\"\",\"\",IF($L$8=\"\",\"\",IF(VLOOKUP($L$8,Configuração!$S$7:$U$16,3)=\"C\",Configuração!F19,\"\")))","v":""},null,null,null,null,null,null,1012019,43466,11,"Novembro",null,{"$f":"IF(AB235=\"\",\"\",Configuração!$AF$7)","v":""},{"$f":"IF($L$52<11,\"\",IF($AB$225=\"\",\"\",IF(O46=\"\",\"\",IF(R46=\"\",\"\",$AB$225))))","v":""},"","","","","","","","","",{"$f":"IF(AB235=\"\",\"\",IF(O46=\"\",\"\",VLOOKUP(O46,$V$225:$W$5702,2)))","v":""},"","",{"$f":"IF(R46=\"\",\"\",IF(AE235=\"\",\"\",IF(OR(VLOOKUP(AE235,Configuração!$S$7:$U$16,3)=\"C\",VLOOKUP(AE235,Configuração!$S$7:$U$16,3)=\"C (T)\"),R46,-R46)))","v":""},{"$f":"IF($AB235=\"\",\"\",IF($L$52<11,\"\",CONCATENATE(\"11/\",$L$52)))","v":""},"","","","","","","","","","","",""]
[null,null,null,null,{"$f":"IF(Configuração!C18=\"\",\"\",Configuração!B18)","v":""},null,null,null,null,null,null,null,null,null,{"$f":"IF(Configuração!H20=\"\",\"\",IF($L$8=\"\",\"\",IF(VLOOKUP($L$8,Configuração!$S$7:$U$16,3)=\"C\",Configuração!F20,\"\")))","v":""},null,null,null,null,null,null,1012020,43831,12,"Dezembro",null,{"$f":"IF(AB236=\"\",\"\",Configuração!$AF$7)","v":""},{"$f":"IF($L$52<12,\"\",IF($AB$225=\"\",\"\",IF(O49=\"\",\"\",IF(R49=\"\",\"\",$AB$225))))","v":""},"","","","","","","","","",{"$f":"IF(AB236=\"\",\"\",IF(O49=\"\",\"\",VLOOKUP(O49,$V$225:$W$5702,2)))","v":""},"","",{"$f":"IF(R49=\"\",\"\",IF(AE236=\"\",\"\",IF(OR(VLOOKUP(AE236,Configuração!$S$7:$U$16,3)=\"C\",VLOOKUP(AE236,Configuração!$S$7:$U$16,3)=\"C (T)\"),R49,-R49)))","v":""},{"$f":"IF($AB236=\"\",\"\",IF($L$52<12,\"\",CONCATENATE(\"12/\",$L$52)))","v":""},"","","","","","","",{"$f":"IF($AB236=\"\",\"\",AX$225)","v":""},"","","",""]
[null,null,null,null,{"$f":"IF(Configuração!C19=\"\",\"\",Configuração!B19)","v":""},null,null,null,null,null,null,null,null,null,{"$f":"IF(Configuração!H21=\"\",\"\",IF($L$8=\"\",\"\",IF(VLOOKUP($L$8,Configuração!$S$7:$U$16,3)=\"C\",Configuração!F21,\"\")))","v":""},null,null,null,null,null,null,1012021,44197]
[null,null,null,null,{"$f":"IF(Configuração!C20=\"\",\"\",Configuração!B20)","v":""},null,null,null,null,null,null,null,null,null,{"$f":"IF(Configuração!H22=\"\",\"\",IF($L$8=\"\",\"\",IF(VLOOKUP($L$8,Configuração!$S$7:$U$16,3)=\"C\",Configuração!F22,\"\")))","v":""},null,null,null,null,null,null,1012022,44562]
[null,null,null,null,{"$f":"IF(Configuração!C21=\"\",\"\",Configuração!B21)","v":""},null,null,null,null,null,null,null,null,null,{"$f":"IF(Configuração!H23=\"\",\"\",IF($L$8=\"\",\"\",IF(VLOOKUP($L$8,Configuração!$S$7:$U$16,3)=\"C\",Configuração!F23,\"\")))","v":""},null,null,null,null,null,null,1012023,44927]
[null,null,null,null,{"$f":"IF(Configuração!C22=\"\",\"\",Configuração!B22)","v":""},null,null,null,null,null,null,null,null,null,{"$f":"IF(Configuração!H24=\"\",\"\",IF($L$8=\"\",\"\",IF(VLOOKUP($L$8,Configuração!$S$7:$U$16,3)=\"C\",Configuração!F24,\"\")))","v":""},null,null,null,null,null,null,1022009,39845]
[null,null,null,null,{"$f":"IF(Configuração!C23=\"\",\"\",Configuração!B23)","v":""},null,null,null,null,null,null,null,null,null,{"$f":"IF(Configuração!H25=\"\",\"\",IF($L$8=\"\",\"\",IF(VLOOKUP($L$8,Configuração!$S$7:$U$16,3)=\"C\",Configuração!F25,\"\")))","v":""},null,null,null,null,null,null,1022010,40210]
[null,null,null,null,{"$f":"IF(Configuração!C24=\"\",\"\",Configuração!B24)","v":""},null,null,null,null,null,null,null,null,null,{"$f":"IF(Configuração!H26=\"\",\"\",IF($L$8=\"\",\"\",IF(VLOOKUP($L$8,Configuração!$S$7:$U$16,3)=\"C\",Configuração!F26,\"\")))","v":""},null,null,null,null,null,null,1022011,40575]
[null,null,null,null,{"$f":"IF(Configuração!C25=\"\",\"\",Configuração!B25)","v":""},null,null,null,null,null,null,null,null,null,{"$f":"IF(Configuração!H27=\"\",\"\",IF($L$8=\"\",\"\",IF(VLOOKUP($L$8,Configuração!$S$7:$U$16,3)=\"C\",Configuração!F27,\"\")))","v":""},null,null,null,null,null,null,1022012,40940]
[null,null,null,null,{"$f":"IF(Configuração!C26=\"\",\"\",Configuração!B26)","v":""},null,null,null,null,null,null,null,null,null,{"$f":"IF(Configuração!H28=\"\",\"\",IF($L$8=\"\",\"\",IF(VLOOKUP($L$8,Configuração!$S$7:$U$16,3)=\"C\",Configuração!F28,\"\")))","v":""},null,null,null,null,null,null,1022013,41306]
[null,null,null,null,{"$f":"IF(Configuração!C27=\"\",\"\",Configuração!B27)","v":""},null,null,null,null,null,null,null,null,null,{"$f":"IF(Configuração!H29=\"\",\"\",IF($L$8=\"\",\"\",IF(VLOOKUP($L$8,Configuração!$S$7:$U$16,3)=\"C\",Configuração!F29,\"\")))","v":""},null,null,null,null,null,null,1022014,41671]
[null,null,null,null,{"$f":"IF(Configuração!C28=\"\",\"\",Configuração!B28)","v":""},null,null,null,null,null,null,null,null,null,{"$f":"IF(Configuração!H30=\"\",\"\",IF($L$8=\"\",\"\",IF(VLOOKUP($L$8,Configuração!$S$7:$U$16,3)=\"C\",Configuração!F30,\"\")))","v":""},null,null,null,null,null,null,1022015,42036]
[null,null,null,null,{"$f":"IF(Configuração!C29=\"\",\"\",Configuração!B29)","v":""},null,null,null,null,null,null,null,null,null,{"$f":"IF(Configuração!H31=\"\",\"\",IF($L$8=\"\",\"\",IF(VLOOKUP($L$8,Configuração!$S$7:$U$16,3)=\"C\",Configuração!F31,\"\")))","v":""},null,null,null,null,null,null,1022016,42401]
[null,null,null,null,{"$f":"IF(Configuração!C30=\"\",\"\",Configuração!B30)","v":""},null,null,null,null,null,null,null,null,null,{"$f":"IF(Configuração!H32=\"\",\"\",IF($L$8=\"\",\"\",IF(VLOOKUP($L$8,Configuração!$S$7:$U$16,3)=\"C\",Configuração!F32,\"\")))","v":""},null,null,null,null,null,null,1022017,42767]
[null,null,null,null,{"$f":"IF(Configuração!C31=\"\",\"\",Configuração!B31)","v":""},null,null,null,null,null,null,null,null,null,{"$f":"IF(Configuração!H33=\"\",\"\",IF($L$8=\"\",\"\",IF(VLOOKUP($L$8,Configuração!$S$7:$U$16,3)=\"C\",Configuração!F33,\"\")))","v":""},null,null,null,null,null,null,1022018,43132]
[null,null,null,null,{"$f":"IF(Configuração!C32=\"\",\"\",Configuração!B32)","v":""},null,null,null,null,null,null,null,null,null,{"$f":"IF(Configuração!H34=\"\",\"\",IF($L$8=\"\",\"\",IF(VLOOKUP($L$8,Configuração!$S$7:$U$16,3)=\"C\",Configuração!F34,\"\")))","v":""},null,null,null,null,null,null,1022019,43497]
[null,null,null,null,{"$f":"IF(Configuração!C33=\"\",\"\",Configuração!B33)","v":""},null,null,null,null,null,null,null,null,null,{"$f":"IF(Configuração!H35=\"\",\"\",IF($L$8=\"\",\"\",IF(VLOOKUP($L$8,Configuração!$S$7:$U$16,3)=\"C\",Configuração!F35,\"\")))","v":""},null,null,null,null,null,null,1022020,43862]
[null,null,null,null,{"$f":"IF(Configuração!C34=\"\",\"\",Configuração!B34)","v":""},null,null,null,null,null,null,null,null,null,{"$f":"IF(Configuração!H36=\"\",\"\",IF($L$8=\"\",\"\",IF(VLOOKUP($L$8,Configuração!$S$7:$U$16,3)=\"C\",Configuração!F36,\"\")))","v":""},null,null,null,null,null,null,1022021,44228]
[null,null,null,null,{"$f":"IF(Configuração!C35=\"\",\"\",Configuração!B35)","v":""},null,null,null,null,null,null,null,null,null,{"$f":"IF(Configuração!H37=\"\",\"\",IF($L$8=\"\",\"\",IF(VLOOKUP($L$8,Configuração!$S$7:$U$16,3)=\"C\",Configuração!F37,\"\")))","v":""},null,null,null,null,null,null,1022022,44593]
[null,null,null,null,{"$f":"IF(Configuração!C36=\"\",\"\",Configuração!B36)","v":""},null,null,null,null,null,null,null,null,null,{"$f":"IF(Configuração!H38=\"\",\"\",IF($L$8=\"\",\"\",IF(VLOOKUP($L$8,Configuração!$S$7:$U$16,3)=\"C\",Configuração!F38,\"\")))","v":""},null,null,null,null,null,null,1022023,44958]
[null,null,null,null,{"$f":"IF(Configuração!C37=\"\",\"\",Configuração!B37)","v":""},null,null,null,null,null,null,null,null,null,{"$f":"IF(Configuração!H39=\"\",\"\",IF($L$8=\"\",\"\",IF(VLOOKUP($L$8,Configuração!$S$7:$U$16,3)=\"C\",Configuração!F39,\"\")))","v":""},null,null,null,null,null,null,1032009,39873]
[null,null,null,null,{"$f":"IF(Configuração!C38=\"\",\"\",Configuração!B38)","v":""},null,null,null,null,null,null,null,null,null,{"$f":"IF(Configuração!H40=\"\",\"\",IF($L$8=\"\",\"\",IF(VLOOKUP($L$8,Configuração!$S$7:$U$16,3)=\"C\",Configuração!F40,\"\")))","v":""},null,null,null,null,null,null,1032010,40238]
[null,null,null,null,{"$f":"IF(Configuração!C39=\"\",\"\",Configuração!B39)","v":""},null,null,null,null,null,null,null,null,null,{"$f":"IF(Configuração!H41=\"\",\"\",IF($L$8=\"\",\"\",IF(VLOOKUP($L$8,Configuração!$S$7:$U$16,3)=\"C\",Configuração!F41,\"\")))","v":""},null,null,null,null,null,null,1032011,40603]
[null,null,null,null,{"$f":"IF(Configuração!C40=\"\",\"\",Configuração!B40)","v":""},null,null,null,null,null,null,null,null,null,{"$f":"IF(Configuração!H42=\"\",\"\",IF($L$8=\"\",\"\",IF(VLOOKUP($L$8,Configuração!$S$7:$U$16,3)=\"C\",Configuração!F42,\"\")))","v":""},null,null,null,null,null,null,1032012,40969]
[null,null,null,null,{"$f":"IF(Configuração!C41=\"\",\"\",Configuração!B41)","v":""},null,null,null,null,null,null,null,null,null,{"$f":"IF(Configuração!H43=\"\",\"\",IF($L$8=\"\",\"\",IF(VLOOKUP($L$8,Configuração!$S$7:$U$16,3)=\"C\",Configuração!F43,\"\")))","v":""},null,null,null,null,null,null,1032013,41334]
[null,null,null,null,{"$f":"IF(Configuração!C42=\"\",\"\",Configuração!B42)","v":""},null,null,null,null,null,null,null,null,null,{"$f":"IF(Configuração!H44=\"\",\"\",IF($L$8=\"\",\"\",IF(VLOOKUP($L$8,Configuração!$S$7:$U$16,3)=\"C\",Configuração!F44,\"\")))","v":""},null,null,null,null,null,null,1032014,41699]
[null,null,null,null,{"$f":"IF(Configuração!C43=\"\",\"\",Configuração!B43)","v":""},null,null,null,null,null,null,null,null,null,{"$f":"IF(Configuração!H45=\"\",\"\",IF($L$8=\"\",\"\",IF(VLOOKUP($L$8,Configuração!$S$7:$U$16,3)=\"C\",Configuração!F45,\"\")))","v":""},null,null,null,null,null,null,1032015,42064]
[null,null,null,null,{"$f":"IF(Configuração!C44=\"\",\"\",Configuração!B44)","v":""},null,null,null,null,null,null,null,null,null,{"$f":"IF(Configuração!H46=\"\",\"\",IF($L$8=\"\",\"\",IF(VLOOKUP($L$8,Configuração!$S$7:$U$16,3)=\"C\",Configuração!F46,\"\")))","v":""},null,null,null,null,null,null,1032016,42430]
[null,null,null,null,{"$f":"IF(Configuração!C45=\"\",\"\",Configuração!B45)","v":""},null,null,null,null,null,null,null,null,null,{"$f":"IF(Configuração!H47=\"\",\"\",IF($L$8=\"\",\"\",IF(VLOOKUP($L$8,Configuração!$S$7:$U$16,3)=\"C\",Configuração!F47,\"\")))","v":""},null,null,null,null,null,null,1032017,42795]
[null,null,null,null,{"$f":"IF(Configuração!C46=\"\",\"\",Configuração!B46)","v":""},null,null,null,null,null,null,null,null,null,{"$f":"IF(Configuração!H48=\"\",\"\",IF($L$8=\"\",\"\",IF(VLOOKUP($L$8,Configuração!$S$7:$U$16,3)=\"C\",Configuração!F48,\"\")))","v":""},null,null,null,null,null,null,1032018,43160]
[null,null,null,null,{"$f":"IF(Configuração!C47=\"\",\"\",Configuração!B47)","v":""},null,null,null,null,null,null,null,null,null,{"$f":"IF(Configuração!H49=\"\",\"\",IF($L$8=\"\",\"\",IF(VLOOKUP($L$8,Configuração!$S$7:$U$16,3)=\"C\",Configuração!F49,\"\")))","v":""},null,null,null,null,null,null,1032019,43525]
[null,null,null,null,{"$f":"IF(Configuração!C48=\"\",\"\",Configuração!B48)","v":""},null,null,null,null,null,null,null,null,null,{"$f":"IF(Configuração!H50=\"\",\"\",IF($L$8=\"\",\"\",IF(VLOOKUP($L$8,Configuração!$S$7:$U$16,3)=\"C\",Configuração!F50,\"\")))","v":""},null,null,null,null,null,null,1032020,43891]
[null,null,null,null,{"$f":"IF(Configuração!C49=\"\",\"\",Configuração!B49)","v":""},null,null,null,null,null,null,null,null,null,{"$f":"IF(Configuração!H51=\"\",\"\",IF($L$8=\"\",\"\",IF(VLOOKUP($L$8,Configuração!$S$7:$U$16,3)=\"C\",Configuração!F51,\"\")))","v":""},null,null,null,null,null,null,1032021,44256]
[null,null,null,null,{"$f":"IF(Configuração!C50=\"\",\"\",Configuração!B50)","v":""},null,null,null,null,null,null,null,null,null,{"$f":"IF(Configuração!H52=\"\",\"\",IF($L$8=\"\",\"\",IF(VLOOKUP($L$8,Configuração!$S$7:$U$16,3)=\"C\",Configuração!F52,\"\")))","v":""},null,null,null,null,null,null,1032022,44621]
[null,null,null,null,{"$f":"IF(Configuração!C51=\"\",\"\",Configuração!B51)","v":""},null,null,null,null,null,null,null,null,null,{"$f":"IF(Configuração!H53=\"\",\"\",IF($L$8=\"\",\"\",IF(VLOOKUP($L$8,Configuração!$S$7:$U$16,3)=\"C\",Configuração!F53,\"\")))","v":""},null,null,null,null,null,null,1032023,44986]
[null,null,null,null,{"$f":"IF(Configuração!C52=\"\",\"\",Configuração!B52)","v":""},null,null,null,null,null,null,null,null,null,{"$f":"IF(Configuração!H54=\"\",\"\",IF($L$8=\"\",\"\",IF(VLOOKUP($L$8,Configuração!$S$7:$U$16,3)=\"C\",Configuração!F54,\"\")))","v":""},null,null,null,null,null,null,1042009,39904]
[null,null,null,null,{"$f":"IF(Configuração!C53=\"\",\"\",Configuração!B53)","v":""},null,null,null,null,null,null,null,null,null,{"$f":"IF(Configuração!H55=\"\",\"\",IF($L$8=\"\",\"\",IF(VLOOKUP($L$8,Configuração!$S$7:$U$16,3)=\"C\",Configuração!F55,\"\")))","v":""},null,null,null,null,null,null,1042010,40269]
[null,null,null,null,{"$f":"IF(Configuração!C54=\"\",\"\",Configuração!B54)","v":""},null,null,null,null,null,null,null,null,null,{"$f":"IF(Configuração!H56=\"\",\"\",IF($L$8=\"\",\"\",IF(VLOOKUP($L$8,Configuração!$S$7:$U$16,3)=\"C\",Configuração!F56,\"\")))","v":""},null,null,null,null,null,null,1042011,40634]
[null,null,null,null,{"$f":"IF(Configuração!C55=\"\",\"\",Configuração!B55)","v":""},null,null,null,null,null,null,null,null,null,{"$f":"IF(Configuração!H57=\"\",\"\",IF($L$8=\"\",\"\",IF(VLOOKUP($L$8,Configuração!$S$7:$U$16,3)=\"C\",Configuração!F57,\"\")))","v":""},null,null,null,null,null,null,1042012,41000]
[null,null,null,null,{"$f":"IF(Configuração!C56=\"\",\"\",Configuração!B56)","v":""},null,null,null,null,null,null,null,null,null,{"$f":"IF(Configuração!H58=\"\",\"\",IF($L$8=\"\",\"\",IF(VLOOKUP($L$8,Configuração!$S$7:$U$16,3)=\"C\",Configuração!F58,\"\")))","v":""},null,null,null,null,null,null,1042013,41365]
[null,null,null,null,{"$f":"IF(Configuração!C57=\"\",\"\",Configuração!B57)","v":""},null,null,null,null,null,null,null,null,null,null,null,null,null,null,null,null,1042014,41730]
[null,null,null,null,{"$f":"IF(Configuração!C58=\"\",\"\",Configuração!B58)","v":""},null,null,null,null,null,null,null,null,null,{"$f":"IF(Configuração!H60=\"\",\"\",IF($L$8=\"\",\"\",IF(VLOOKUP($L$8,Configuração!$S$7:$U$16,3)=\"C\",Configuração!F60,\"\")))","v":""},null,null,null,null,null,null,1042015,42095]
[null,null,null,null,{"$f":"IF(Configuração!C59=\"\",\"\",Configuração!B59)","v":""},null,null,null,null,null,null,null,null,null,{"$f":"IF(Configuração!H61=\"\",\"\",IF($L$8=\"\",\"\",IF(VLOOKUP($L$8,Configuração!$S$7:$U$16,3)=\"C\",Configuração!F61,\"\")))","v":""},null,null,null,null,null,null,1042016,42461]
[null,null,null,null,{"$f":"IF(Configuração!C60=\"\",\"\",Configuração!B60)","v":""},null,null,null,null,null,null,null,null,null,{"$f":"IF(Configuração!H62=\"\",\"\",IF($L$8=\"\",\"\",IF(VLOOKUP($L$8,Configuração!$S$7:$U$16,3)=\"C\",Configuração!F62,\"\")))","v":""},null,null,null,null,null,null,1042017,42826]
[null,null,null,null,{"$f":"IF(Configuração!C61=\"\",\"\",Configuração!B61)","v":""},null,null,null,null,null,null,null,null,null,{"$f":"IF(Configuração!H63=\"\",\"\",IF($L$8=\"\",\"\",IF(VLOOKUP($L$8,Configuração!$S$7:$U$16,3)=\"C\",Configuração!F63,\"\")))","v":""},null,null,null,null,null,null,1042018,43191]
[null,null,null,null,{"$f":"IF(Configuração!C62=\"\",\"\",Configuração!B62)","v":""},null,null,null,null,null,null,null,null,null,{"$f":"IF(Configuração!H64=\"\",\"\",IF($L$8=\"\",\"\",IF(VLOOKUP($L$8,Configuração!$S$7:$U$16,3)=\"C\",Configuração!F64,\"\")))","v":""},null,null,null,null,null,null,1042019,43556]
[null,null,null,null,{"$f":"IF(Configuração!C63=\"\",\"\",Configuração!B63)","v":""},null,null,null,null,null,null,null,null,null,{"$f":"IF(Configuração!H65=\"\",\"\",IF($L$8=\"\",\"\",IF(VLOOKUP($L$8,Configuração!$S$7:$U$16,3)=\"C\",Configuração!F65,\"\")))","v":""},null,null,null,null,null,null,1042020,43922]
[null,null,null,null,{"$f":"IF(Configuração!C64=\"\",\"\",Configuração!B64)","v":""},null,null,null,null,null,null,null,null,null,{"$f":"IF(Configuração!H66=\"\",\"\",IF($L$8=\"\",\"\",IF(VLOOKUP($L$8,Configuração!$S$7:$U$16,3)=\"C\",Configuração!F66,\"\")))","v":""},null,null,null,null,null,null,1042021,44287]
[null,null,null,null,{"$f":"IF(Configuração!C65=\"\",\"\",Configuração!B65)","v":""},null,null,null,null,null,null,null,null,null,{"$f":"IF(Configuração!H67=\"\",\"\",IF($L$8=\"\",\"\",IF(VLOOKUP($L$8,Configuração!$S$7:$U$16,3)=\"C\",Configuração!F67,\"\")))","v":""},null,null,null,null,null,null,1042022,44652]
[null,null,null,null,{"$f":"IF(Configuração!C66=\"\",\"\",Configuração!B66)","v":""},null,null,null,null,null,null,null,null,null,{"$f":"IF(Configuração!H68=\"\",\"\",IF($L$8=\"\",\"\",IF(VLOOKUP($L$8,Configuração!$S$7:$U$16,3)=\"C\",Configuração!F68,\"\")))","v":""},null,null,null,null,null,null,1042023,45017]
[null,null,null,null,{"$f":"IF(Configuração!C67=\"\",\"\",Configuração!B67)","v":""},null,null,null,null,null,null,null,null,null,{"$f":"IF(Configuração!H69=\"\",\"\",IF($L$8=\"\",\"\",IF(VLOOKUP($L$8,Configuração!$S$7:$U$16,3)=\"C\",Configuração!F69,\"\")))","v":""},null,null,null,null,null,null,1052009,39934]
[null,null,null,null,{"$f":"IF(Configuração!C68=\"\",\"\",Configuração!B68)","v":""},null,null,null,null,null,null,null,null,null,{"$f":"IF(Configuração!H70=\"\",\"\",IF($L$8=\"\",\"\",IF(VLOOKUP($L$8,Configuração!$S$7:$U$16,3)=\"C\",Configuração!F70,\"\")))","v":""},null,null,null,null,null,null,1052010,40299]
[null,null,null,null,{"$f":"IF(Configuração!C69=\"\",\"\",Configuração!B69)","v":""},null,null,null,null,null,null,null,null,null,{"$f":"IF(Configuração!H71=\"\",\"\",IF($L$8=\"\",\"\",IF(VLOOKUP($L$8,Configuração!$S$7:$U$16,3)=\"C\",Configuração!F71,\"\")))","v":""},null,null,null,null,null,null,1052011,40664]
[null,null,null,null,{"$f":"IF(Configuração!C70=\"\",\"\",Configuração!B70)","v":""},null,null,null,null,null,null,null,null,null,{"$f":"IF(Configuração!H72=\"\",\"\",IF($L$8=\"\",\"\",IF(VLOOKUP($L$8,Configuração!$S$7:$U$16,3)=\"C\",Configuração!F72,\"\")))","v":""},null,null,null,null,null,null,1052012,41030]
[null,null,null,null,{"$f":"IF(Configuração!C71=\"\",\"\",Configuração!B71)","v":""},null,null,null,null,null,null,null,null,null,{"$f":"IF(Configuração!H73=\"\",\"\",IF($L$8=\"\",\"\",IF(VLOOKUP($L$8,Configuração!$S$7:$U$16,3)=\"C\",Configuração!F73,\"\")))","v":""},null,null,null,null,null,null,1052013,41395]
[null,null,null,null,{"$f":"IF(Configuração!C72=\"\",\"\",Configuração!B72)","v":""},null,null,null,null,null,null,null,null,null,{"$f":"IF(Configuração!H74=\"\",\"\",IF($L$8=\"\",\"\",IF(VLOOKUP($L$8,Configuração!$S$7:$U$16,3)=\"C\",Configuração!F74,\"\")))","v":""},null,null,null,null,null,null,1052014,41760]
[null,null,null,null,{"$f":"IF(Configuração!C73=\"\",\"\",Configuração!B73)","v":""},null,null,null,null,null,null,null,null,null,{"$f":"IF(Configuração!H75=\"\",\"\",IF($L$8=\"\",\"\",IF(VLOOKUP($L$8,Configuração!$S$7:$U$16,3)=\"C\",Configuração!F75,\"\")))","v":""},null,null,null,null,null,null,1052015,42125]
[null,null,null,null,{"$f":"IF(Configuração!C74=\"\",\"\",Configuração!B74)","v":""},null,null,null,null,null,null,null,null,null,{"$f":"IF(Configuração!H76=\"\",\"\",IF($L$8=\"\",\"\",IF(VLOOKUP($L$8,Configuração!$S$7:$U$16,3)=\"C\",Configuração!F76,\"\")))","v":""},null,null,null,null,null,null,1052016,42491]
[null,null,null,null,{"$f":"IF(Configuração!C75=\"\",\"\",Configuração!B75)","v":""},null,null,null,null,null,null,null,null,null,{"$f":"IF(Configuração!H77=\"\",\"\",IF($L$8=\"\",\"\",IF(VLOOKUP($L$8,Configuração!$S$7:$U$16,3)=\"C\",Configuração!F77,\"\")))","v":""},null,null,null,null,null,null,1052017,42856]
[null,null,null,null,{"$f":"IF(Configuração!C76=\"\",\"\",Configuração!B76)","v":""},null,null,null,null,null,null,null,null,null,{"$f":"IF(Configuração!H78=\"\",\"\",IF($L$8=\"\",\"\",IF(VLOOKUP($L$8,Configuração!$S$7:$U$16,3)=\"C\",Configuração!F78,\"\")))","v":""},null,null,null,null,null,null,1052018,43221]
[null,null,null,null,{"$f":"IF(Configuração!C77=\"\",\"\",Configuração!B77)","v":""},null,null,null,null,null,null,null,null,null,{"$f":"IF(Configuração!H79=\"\",\"\",IF($L$8=\"\",\"\",IF(VLOOKUP($L$8,Configuração!$S$7:$U$16,3)=\"C\",Configuração!F79,\"\")))","v":""},null,null,null,null,null,null,1052019,43586]
[null,null,null,null,{"$f":"IF(Configuração!C78=\"\",\"\",Configuração!B78)","v":""},null,null,null,null,null,null,null,null,null,{"$f":"IF(Configuração!H80=\"\",\"\",IF($L$8=\"\",\"\",IF(VLOOKUP($L$8,Configuração!$S$7:$U$16,3)=\"C\",Configuração!F80,\"\")))","v":""},null,null,null,null,null,null,1052020,43952]
[null,null,null,null,{"$f":"IF(Configuração!C79=\"\",\"\",Configuração!B79)","v":""},null,null,null,null,null,null,null,null,null,{"$f":"IF(Configuração!H81=\"\",\"\",IF($L$8=\"\",\"\",IF(VLOOKUP($L$8,Configuração!$S$7:$U$16,3)=\"C\",Configuração!F81,\"\")))","v":""},null,null,null,null,null,null,1052021,44317]
[null,null,null,null,{"$f":"IF(Configuração!C80=\"\",\"\",Configuração!B80)","v":""},null,null,null,null,null,null,null,null,null,{"$f":"IF(Configuração!H82=\"\",\"\",IF($L$8=\"\",\"\",IF(VLOOKUP($L$8,Configuração!$S$7:$U$16,3)=\"C\",Configuração!F82,\"\")))","v":""},null,null,null,null,null,null,1052022,44682]
[null,null,null,null,{"$f":"IF(Configuração!C81=\"\",\"\",Configuração!B81)","v":""},null,null,null,null,null,null,null,null,null,{"$f":"IF(Configuração!H83=\"\",\"\",IF($L$8=\"\",\"\",IF(VLOOKUP($L$8,Configuração!$S$7:$U$16,3)=\"C\",Configuração!F83,\"\")))","v":""},null,null,null,null,null,null,1052023,45047]
[null,null,null,null,{"$f":"IF(Configuração!C82=\"\",\"\",Configuração!B82)","v":""},null,null,null,null,null,null,null,null,null,{"$f":"IF(Configuração!H84=\"\",\"\",IF($L$8=\"\",\"\",IF(VLOOKUP($L$8,Configuração!$S$7:$U$16,3)=\"C\",Configuração!F84,\"\")))","v":""},null,null,null,null,null,null,1062009,39965]
[null,null,null,null,{"$f":"IF(Configuração!C83=\"\",\"\",Configuração!B83)","v":""},null,null,null,null,null,null,null,null,null,{"$f":"IF(Configuração!H85=\"\",\"\",IF($L$8=\"\",\"\",IF(VLOOKUP($L$8,Configuração!$S$7:$U$16,3)=\"C\",Configuração!F85,\"\")))","v":""},null,null,null,null,null,null,1062010,40330]
[null,null,null,null,{"$f":"IF(Configuração!C84=\"\",\"\",Configuração!B84)","v":""},null,null,null,null,null,null,null,null,null,{"$f":"IF(Configuração!H86=\"\",\"\",IF($L$8=\"\",\"\",IF(VLOOKUP($L$8,Configuração!$S$7:$U$16,3)=\"C\",Configuração!F86,\"\")))","v":""},null,null,null,null,null,null,1062011,40695]
[null,null,null,null,{"$f":"IF(Configuração!C85=\"\",\"\",Configuração!B85)","v":""},null,null,null,null,null,null,null,null,null,{"$f":"IF(Configuração!H87=\"\",\"\",IF($L$8=\"\",\"\",IF(VLOOKUP($L$8,Configuração!$S$7:$U$16,3)=\"C\",Configuração!F87,\"\")))","v":""},null,null,null,null,null,null,1062012,41061]
[null,null,null,null,{"$f":"IF(Configuração!C86=\"\",\"\",Configuração!B86)","v":""},null,null,null,null,null,null,null,null,null,{"$f":"IF(Configuração!H88=\"\",\"\",IF($L$8=\"\",\"\",IF(VLOOKUP($L$8,Configuração!$S$7:$U$16,3)=\"C\",Configuração!F88,\"\")))","v":""},null,null,null,null,null,null,1062013,41426]
[null,null,null,null,{"$f":"IF(Configuração!C87=\"\",\"\",Configuração!B87)","v":""},null,null,null,null,null,null,null,null,null,{"$f":"IF(Configuração!H89=\"\",\"\",IF($L$8=\"\",\"\",IF(VLOOKUP($L$8,Configuração!$S$7:$U$16,3)=\"C\",Configuração!F89,\"\")))","v":""},null,null,null,null,null,null,1062014,41791]
[null,null,null,null,{"$f":"IF(Configuração!C88=\"\",\"\",Configuração!B88)","v":""},null,null,null,null,null,null,null,null,null,{"$f":"IF(Configuração!H90=\"\",\"\",IF($L$8=\"\",\"\",IF(VLOOKUP($L$8,Configuração!$S$7:$U$16,3)=\"C\",Configuração!F90,\"\")))","v":""},null,null,null,null,null,null,1062015,42156]
[null,null,null,null,{"$f":"IF(Configuração!C89=\"\",\"\",Configuração!B89)","v":""},null,null,null,null,null,null,null,null,null,{"$f":"IF(Configuração!H91=\"\",\"\",IF($L$8=\"\",\"\",IF(VLOOKUP($L$8,Configuração!$S$7:$U$16,3)=\"C\",Configuração!F91,\"\")))","v":""},null,null,null,null,null,null,1062016,42522]
[null,null,null,null,{"$f":"IF(Configuração!C90=\"\",\"\",Configuração!B90)","v":""},null,null,null,null,null,null,null,null,null,{"$f":"IF(Configuração!H92=\"\",\"\",IF($L$8=\"\",\"\",IF(VLOOKUP($L$8,Configuração!$S$7:$U$16,3)=\"C\",Configuração!F92,\"\")))","v":""},null,null,null,null,null,null,1062017,42887]
[null,null,null,null,{"$f":"IF(Configuração!C91=\"\",\"\",Configuração!B91)","v":""},null,null,null,null,null,null,null,null,null,{"$f":"IF(Configuração!H93=\"\",\"\",IF($L$8=\"\",\"\",IF(VLOOKUP($L$8,Configuração!$S$7:$U$16,3)=\"C\",Configuração!F93,\"\")))","v":""},null,null,null,null,null,null,1062018,43252]
[null,null,null,null,{"$f":"IF(Configuração!C92=\"\",\"\",Configuração!B92)","v":""},null,null,null,null,null,null,null,null,null,{"$f":"IF(Configuração!H94=\"\",\"\",IF($L$8=\"\",\"\",IF(VLOOKUP($L$8,Configuração!$S$7:$U$16,3)=\"C\",Configuração!F94,\"\")))","v":""},null,null,null,null,null,null,1062019,43617]
[null,null,null,null,{"$f":"IF(Configuração!C93=\"\",\"\",Configuração!B93)","v":""},null,null,null,null,null,null,null,null,null,{"$f":"IF(Configuração!H95=\"\",\"\",IF($L$8=\"\",\"\",IF(VLOOKUP($L$8,Configuração!$S$7:$U$16,3)=\"C\",Configuração!F95,\"\")))","v":""},null,null,null,null,null,null,1062020,43983]
[null,null,null,null,{"$f":"IF(Configuração!C94=\"\",\"\",Configuração!B94)","v":""},null,null,null,null,null,null,null,null,null,{"$f":"IF(Configuração!H96=\"\",\"\",IF($L$8=\"\",\"\",IF(VLOOKUP($L$8,Configuração!$S$7:$U$16,3)=\"C\",Configuração!F96,\"\")))","v":""},null,null,null,null,null,null,1062021,44348]
[null,null,null,null,{"$f":"IF(Configuração!C95=\"\",\"\",Configuração!B95)","v":""},null,null,null,null,null,null,null,null,null,{"$f":"IF(Configuração!H97=\"\",\"\",IF($L$8=\"\",\"\",IF(VLOOKUP($L$8,Configuração!$S$7:$U$16,3)=\"C\",Configuração!F97,\"\")))","v":""},null,null,null,null,null,null,1062022,44713]
[null,null,null,null,{"$f":"IF(Configuração!C96=\"\",\"\",Configuração!B96)","v":""},null,null,null,null,null,null,null,null,null,{"$f":"IF(Configuração!H98=\"\",\"\",IF($L$8=\"\",\"\",IF(VLOOKUP($L$8,Configuração!$S$7:$U$16,3)=\"C\",Configuração!F98,\"\")))","v":""},null,null,null,null,null,null,1062023,45078]
[null,null,null,null,{"$f":"IF(Configuração!C97=\"\",\"\",Configuração!B97)","v":""},null,null,null,null,null,null,null,null,null,{"$f":"IF(Configuração!H99=\"\",\"\",IF($L$8=\"\",\"\",IF(VLOOKUP($L$8,Configuração!$S$7:$U$16,3)=\"C\",Configuração!F99,\"\")))","v":""},null,null,null,null,null,null,1072009,39995]
[null,null,null,null,{"$f":"IF(Configuração!C98=\"\",\"\",Configuração!B98)","v":""},null,null,null,null,null,null,null,null,null,{"$f":"IF(Configuração!H100=\"\",\"\",IF($L$8=\"\",\"\",IF(VLOOKUP($L$8,Configuração!$S$7:$U$16,3)=\"C\",Configuração!F100,\"\")))","v":""},null,null,null,null,null,null,1072010,40360]
[null,null,null,null,{"$f":"IF(Configuração!C99=\"\",\"\",Configuração!B99)","v":""},null,null,null,null,null,null,null,null,null,{"$f":"IF(Configuração!H101=\"\",\"\",IF($L$8=\"\",\"\",IF(VLOOKUP($L$8,Configuração!$S$7:$U$16,3)=\"C\",Configuração!F101,\"\")))","v":""},null,null,null,null,null,null,1072011,40725]
[null,null,null,null,{"$f":"IF(Configuração!C100=\"\",\"\",Configuração!B100)","v":""},null,null,null,null,null,null,null,null,null,{"$f":"IF(Configuração!H102=\"\",\"\",IF($L$8=\"\",\"\",IF(VLOOKUP($L$8,Configuração!$S$7:$U$16,3)=\"C\",Configuração!F102,\"\")))","v":""},null,null,null,null,null,null,1072012,41091]
[null,null,null,null,{"$f":"IF(Configuração!C101=\"\",\"\",Configuração!B101)","v":""},null,null,null,null,null,null,null,null,null,{"$f":"IF(Configuração!H103=\"\",\"\",IF($L$8=\"\",\"\",IF(VLOOKUP($L$8,Configuração!$S$7:$U$16,3)=\"C\",Configuração!F103,\"\")))","v":""},null,null,null,null,null,null,1072013,41456]
[null,null,null,null,{"$f":"IF(Configuração!C102=\"\",\"\",Configuração!B102)","v":""},null,null,null,null,null,null,null,null,null,{"$f":"IF(Configuração!H104=\"\",\"\",IF($L$8=\"\",\"\",IF(VLOOKUP($L$8,Configuração!$S$7:$U$16,3)=\"C\",Configuração!F104,\"\")))","v":""},null,null,null,null,null,null,1072014,41821]
[null,null,null,null,{"$f":"IF(Configuração!C103=\"\",\"\",Configuração!B103)","v":""},null,null,null,null,null,null,null,null,null,{"$f":"IF(Configuração!H105=\"\",\"\",IF($L$8=\"\",\"\",IF(VLOOKUP($L$8,Configuração!$S$7:$U$16,3)=\"C\",Configuração!F105,\"\")))","v":""},null,null,null,null,null,null,1072015,42186]
[null,null,null,null,{"$f":"IF(Configuração!C104=\"\",\"\",Configuração!B104)","v":""},null,null,null,null,null,null,null,null,null,{"$f":"IF(Configuração!H106=\"\",\"\",IF($L$8=\"\",\"\",IF(VLOOKUP($L$8,Configuração!$S$7:$U$16,3)=\"C\",Configuração!F106,\"\")))","v":""},null,null,null,null,null,null,1072016,42552]
[null,null,null,null,{"$f":"IF(Configuração!C105=\"\",\"\",Configuração!B105)","v":""},null,null,null,null,null,null,null,null,null,{"$f":"IF(Configuração!H107=\"\",\"\",IF($L$8=\"\",\"\",IF(VLOOKUP($L$8,Configuração!$S$7:$U$16,3)=\"C\",Configuração!F107,\"\")))","v":""},null,null,null,null,null,null,1072017,42917]
[null,null,null,null,{"$f":"IF(Configuração!C106=\"\",\"\",Configuração!B106)","v":""},null,null,null,null,null,null,null,null,null,{"$f":"IF(Configuração!H108=\"\",\"\",IF($L$8=\"\",\"\",IF(VLOOKUP($L$8,Configuração!$S$7:$U$16,3)=\"C\",Configuração!F108,\"\")))","v":""},null,null,null,null,null,null,1072018,43282]
[null,null,null,null,{"$f":"IF(Configuração!C107=\"\",\"\",Configuração!B107)","v":""},null,null,null,null,null,null,null,null,null,{"$f":"IF(Configuração!H109=\"\",\"\",IF($L$8=\"\",\"\",IF(VLOOKUP($L$8,Configuração!$S$7:$U$16,3)=\"C\",Configuração!F109,\"\")))","v":""},null,null,null,null,null,null,1072019,43647]
[null,null,null,null,{"$f":"IF(Configuração!C108=\"\",\"\",Configuração!B108)","v":""},null,null,null,null,null,null,null,null,null,null,null,null,null,null,null,null,1072020,44013]
[null,null,null,null,{"$f":"IF(Configuração!C109=\"\",\"\",Configuração!B109)","v":""},null,null,null,null,null,null,null,null,null,{"$f":"IF(Configuração!H111=\"\",\"\",IF($L$8=\"\",\"\",IF(VLOOKUP($L$8,Configuração!$S$7:$U$16,3)=\"C\",Configuração!F111,\"\")))","v":""},null,null,null,null,null,null,1072021,44378]
[null,null,null,null,{"$f":"IF(Configuração!C110=\"\",\"\",Configuração!B110)","v":""},null,null,null,null,null,null,null,null,null,{"$f":"IF(Configuração!H112=\"\",\"\",IF($L$8=\"\",\"\",IF(VLOOKUP($L$8,Configuração!$S$7:$U$16,3)=\"C\",Configuração!F112,\"\")))","v":""},null,null,null,null,null,null,1072022,44743]
[null,null,null,null,{"$f":"IF(Configuração!C111=\"\",\"\",Configuração!B111)","v":""},null,null,null,null,null,null,null,null,null,{"$f":"IF(Configuração!H113=\"\",\"\",IF($L$8=\"\",\"\",IF(VLOOKUP($L$8,Configuração!$S$7:$U$16,3)=\"C\",Configuração!F113,\"\")))","v":""},null,null,null,null,null,null,1072023,45108]
[null,null,null,null,{"$f":"IF(Configuração!C112=\"\",\"\",Configuração!B112)","v":""},null,null,null,null,null,null,null,null,null,{"$f":"IF(Configuração!H114=\"\",\"\",IF($L$8=\"\",\"\",IF(VLOOKUP($L$8,Configuração!$S$7:$U$16,3)=\"C\",Configuração!F114,\"\")))","v":""},null,null,null,null,null,null,1082009,40026]
[null,null,null,null,{"$f":"IF(Configuração!C113=\"\",\"\",Configuração!B113)","v":""},null,null,null,null,null,null,null,null,null,{"$f":"IF(Configuração!H115=\"\",\"\",IF($L$8=\"\",\"\",IF(VLOOKUP($L$8,Configuração!$S$7:$U$16,3)=\"C\",Configuração!F115,\"\")))","v":""},null,null,null,null,null,null,1082010,40391]
[null,null,null,null,{"$f":"IF(Configuração!C114=\"\",\"\",Configuração!B114)","v":""},null,null,null,null,null,null,null,null,null,{"$f":"IF(Configuração!H116=\"\",\"\",IF($L$8=\"\",\"\",IF(VLOOKUP($L$8,Configuração!$S$7:$U$16,3)=\"C\",Configuração!F116,\"\")))","v":""},null,null,null,null,null,null,1082011,40756]
[null,null,null,null,{"$f":"IF(Configuração!C115=\"\",\"\",Configuração!B115)","v":""},null,null,null,null,null,null,null,null,null,{"$f":"IF(Configuração!H117=\"\",\"\",IF($L$8=\"\",\"\",IF(VLOOKUP($L$8,Configuração!$S$7:$U$16,3)=\"C\",Configuração!F117,\"\")))","v":""},null,null,null,null,null,null,1082012,41122]
[null,null,null,null,{"$f":"IF(Configuração!C116=\"\",\"\",Configuração!B116)","v":""},null,null,null,null,null,null,null,null,null,{"$f":"IF(Configuração!H118=\"\",\"\",IF($L$8=\"\",\"\",IF(VLOOKUP($L$8,Configuração!$S$7:$U$16,3)=\"C\",Configuração!F118,\"\")))","v":""},null,null,null,null,null,null,1082013,41487]
[null,null,null,null,{"$f":"IF(Configuração!C117=\"\",\"\",Configuração!B117)","v":""},null,null,null,null,null,null,null,null,null,{"$f":"IF(Configuração!H119=\"\",\"\",IF($L$8=\"\",\"\",IF(VLOOKUP($L$8,Configuração!$S$7:$U$16,3)=\"C\",Configuração!F119,\"\")))","v":""},null,null,null,null,null,null,1082014,41852]
[null,null,null,null,{"$f":"IF(Configuração!C118=\"\",\"\",Configuração!B118)","v":""},null,null,null,null,null,null,null,null,null,{"$f":"IF(Configuração!H120=\"\",\"\",IF($L$8=\"\",\"\",IF(VLOOKUP($L$8,Configuração!$S$7:$U$16,3)=\"C\",Configuração!F120,\"\")))","v":""},null,null,null,null,null,null,1082015,42217]
[null,null,null,null,{"$f":"IF(Configuração!C119=\"\",\"\",Configuração!B119)","v":""},null,null,null,null,null,null,null,null,null,{"$f":"IF(Configuração!H121=\"\",\"\",IF($L$8=\"\",\"\",IF(VLOOKUP($L$8,Configuração!$S$7:$U$16,3)=\"C\",Configuração!F121,\"\")))","v":""},null,null,null,null,null,null,1082016,42583]
[null,null,null,null,{"$f":"IF(Configuração!C120=\"\",\"\",Configuração!B120)","v":""},null,null,null,null,null,null,null,null,null,{"$f":"IF(Configuração!H122=\"\",\"\",IF($L$8=\"\",\"\",IF(VLOOKUP($L$8,Configuração!$S$7:$U$16,3)=\"C\",Configuração!F122,\"\")))","v":""},null,null,null,null,null,null,1082017,42948]
[null,null,null,null,{"$f":"IF(Configuração!C121=\"\",\"\",Configuração!B121)","v":""},null,null,null,null,null,null,null,null,null,{"$f":"IF(Configuração!H123=\"\",\"\",IF($L$8=\"\",\"\",IF(VLOOKUP($L$8,Configuração!$S$7:$U$16,3)=\"C\",Configuração!F123,\"\")))","v":""},null,null,null,null,null,null,1082018,43313]
[null,null,null,null,{"$f":"IF(Configuração!C122=\"\",\"\",Configuração!B122)","v":""},null,null,null,null,null,null,null,null,null,{"$f":"IF(Configuração!H124=\"\",\"\",IF($L$8=\"\",\"\",IF(VLOOKUP($L$8,Configuração!$S$7:$U$16,3)=\"C\",Configuração!F124,\"\")))","v":""},null,null,null,null,null,null,1082019,43678]
[null,null,null,null,{"$f":"IF(Configuração!C123=\"\",\"\",Configuração!B123)","v":""},null,null,null,null,null,null,null,null,null,{"$f":"IF(Configuração!H125=\"\",\"\",IF($L$8=\"\",\"\",IF(VLOOKUP($L$8,Configuração!$S$7:$U$16,3)=\"C\",Configuração!F125,\"\")))","v":""},null,null,null,null,null,null,1082020,44044]
[null,null,null,null,{"$f":"IF(Configuração!C124=\"\",\"\",Configuração!B124)","v":""},null,null,null,null,null,null,null,null,null,{"$f":"IF(Configuração!H126=\"\",\"\",IF($L$8=\"\",\"\",IF(VLOOKUP($L$8,Configuração!$S$7:$U$16,3)=\"C\",Configuração!F126,\"\")))","v":""},null,null,null,null,null,null,1082021,44409]
[null,null,null,null,{"$f":"IF(Configuração!C125=\"\",\"\",Configuração!B125)","v":""},null,null,null,null,null,null,null,null,null,{"$f":"IF(Configuração!H127=\"\",\"\",IF($L$8=\"\",\"\",IF(VLOOKUP($L$8,Configuração!$S$7:$U$16,3)=\"C\",Configuração!F127,\"\")))","v":""},null,null,null,null,null,null,1082022,44774]
[null,null,null,null,{"$f":"IF(Configuração!C126=\"\",\"\",Configuração!B126)","v":""},null,null,null,null,null,null,null,null,null,{"$f":"IF(Configuração!H128=\"\",\"\",IF($L$8=\"\",\"\",IF(VLOOKUP($L$8,Configuração!$S$7:$U$16,3)=\"C\",Configuração!F128,\"\")))","v":""},null,null,null,null,null,null,1082023,45139]
[null,null,null,null,{"$f":"IF(Configuração!C127=\"\",\"\",Configuração!B127)","v":""},null,null,null,null,null,null,null,null,null,{"$f":"IF(Configuração!H129=\"\",\"\",IF($L$8=\"\",\"\",IF(VLOOKUP($L$8,Configuração!$S$7:$U$16,3)=\"C\",Configuração!F129,\"\")))","v":""},null,null,null,null,null,null,1092009,40057]
[null,null,null,null,{"$f":"IF(Configuração!C128=\"\",\"\",Configuração!B128)","v":""},null,null,null,null,null,null,null,null,null,{"$f":"IF(Configuração!H130=\"\",\"\",IF($L$8=\"\",\"\",IF(VLOOKUP($L$8,Configuração!$S$7:$U$16,3)=\"C\",Configuração!F130,\"\")))","v":""},null,null,null,null,null,null,1092010,40422]
[null,null,null,null,{"$f":"IF(Configuração!C129=\"\",\"\",Configuração!B129)","v":""},null,null,null,null,null,null,null,null,null,{"$f":"IF(Configuração!H131=\"\",\"\",IF($L$8=\"\",\"\",IF(VLOOKUP($L$8,Configuração!$S$7:$U$16,3)=\"C\",Configuração!F131,\"\")))","v":""},null,null,null,null,null,null,1092011,40787]
[null,null,null,null,{"$f":"IF(Configuração!C130=\"\",\"\",Configuração!B130)","v":""},null,null,null,null,null,null,null,null,null,{"$f":"IF(Configuração!H132=\"\",\"\",IF($L$8=\"\",\"\",IF(VLOOKUP($L$8,Configuração!$S$7:$U$16,3)=\"C\",Configuração!F132,\"\")))","v":""},null,null,null,null,null,null,1092012,41153]
[null,null,null,null,{"$f":"IF(Configuração!C131=\"\",\"\",Configuração!B131)","v":""},null,null,null,null,null,null,null,null,null,{"$f":"IF(Configuração!H133=\"\",\"\",IF($L$8=\"\",\"\",IF(VLOOKUP($L$8,Configuração!$S$7:$U$16,3)=\"C\",Configuração!F133,\"\")))","v":""},null,null,null,null,null,null,1092013,41518]
[null,null,null,null,{"$f":"IF(Configuração!C132=\"\",\"\",Configuração!B132)","v":""},null,null,null,null,null,null,null,null,null,{"$f":"IF(Configuração!H134=\"\",\"\",IF($L$8=\"\",\"\",IF(VLOOKUP($L$8,Configuração!$S$7:$U$16,3)=\"C\",Configuração!F134,\"\")))","v":""},null,null,null,null,null,null,1092014,41883]
[null,null,null,null,{"$f":"IF(Configuração!C133=\"\",\"\",Configuração!B133)","v":""},null,null,null,null,null,null,null,null,null,{"$f":"IF(Configuração!H135=\"\",\"\",IF($L$8=\"\",\"\",IF(VLOOKUP($L$8,Configuração!$S$7:$U$16,3)=\"C\",Configuração!F135,\"\")))","v":""},null,null,null,null,null,null,1092015,42248]
[null,null,null,null,{"$f":"IF(Configuração!C134=\"\",\"\",Configuração!B134)","v":""},null,null,null,null,null,null,null,null,null,{"$f":"IF(Configuração!H136=\"\",\"\",IF($L$8=\"\",\"\",IF(VLOOKUP($L$8,Configuração!$S$7:$U$16,3)=\"C\",Configuração!F136,\"\")))","v":""},null,null,null,null,null,null,1092016,42614]
[null,null,null,null,{"$f":"IF(Configuração!C135=\"\",\"\",Configuração!B135)","v":""},null,null,null,null,null,null,null,null,null,{"$f":"IF(Configuração!H137=\"\",\"\",IF($L$8=\"\",\"\",IF(VLOOKUP($L$8,Configuração!$S$7:$U$16,3)=\"C\",Configuração!F137,\"\")))","v":""},null,null,null,null,null,null,1092017,42979]
[null,null,null,null,{"$f":"IF(Configuração!C136=\"\",\"\",Configuração!B136)","v":""},null,null,null,null,null,null,null,null,null,{"$f":"IF(Configuração!H138=\"\",\"\",IF($L$8=\"\",\"\",IF(VLOOKUP($L$8,Configuração!$S$7:$U$16,3)=\"C\",Configuração!F138,\"\")))","v":""},null,null,null,null,null,null,1092018,43344]
[null,null,null,null,{"$f":"IF(Configuração!C137=\"\",\"\",Configuração!B137)","v":""},null,null,null,null,null,null,null,null,null,{"$f":"IF(Configuração!H139=\"\",\"\",IF($L$8=\"\",\"\",IF(VLOOKUP($L$8,Configuração!$S$7:$U$16,3)=\"C\",Configuração!F139,\"\")))","v":""},null,null,null,null,null,null,1092019,43709]
[null,null,null,null,{"$f":"IF(Configuração!C138=\"\",\"\",Configuração!B138)","v":""},null,null,null,null,null,null,null,null,null,{"$f":"IF(Configuração!H140=\"\",\"\",IF($L$8=\"\",\"\",IF(VLOOKUP($L$8,Configuração!$S$7:$U$16,3)=\"C\",Configuração!F140,\"\")))","v":""},null,null,null,null,null,null,1092020,44075]
[null,null,null,null,{"$f":"IF(Configuração!C139=\"\",\"\",Configuração!B139)","v":""},null,null,null,null,null,null,null,null,null,{"$f":"IF(Configuração!H141=\"\",\"\",IF($L$8=\"\",\"\",IF(VLOOKUP($L$8,Configuração!$S$7:$U$16,3)=\"C\",Configuração!F141,\"\")))","v":""},null,null,null,null,null,null,1092021,44440]
[null,null,null,null,{"$f":"IF(Configuração!C140=\"\",\"\",Configuração!B140)","v":""},null,null,null,null,null,null,null,null,null,{"$f":"IF(Configuração!H142=\"\",\"\",IF($L$8=\"\",\"\",IF(VLOOKUP($L$8,Configuração!$S$7:$U$16,3)=\"C\",Configuração!F142,\"\")))","v":""},null,null,null,null,null,null,1092022,44805]
[null,null,null,null,{"$f":"IF(Configuração!C141=\"\",\"\",Configuração!B141)","v":""},null,null,null,null,null,null,null,null,null,{"$f":"IF(Configuração!H143=\"\",\"\",IF($L$8=\"\",\"\",IF(VLOOKUP($L$8,Configuração!$S$7:$U$16,3)=\"C\",Configuração!F143,\"\")))","v":""},null,null,null,null,null,null,1092023,45170]
[null,null,null,null,{"$f":"IF(Configuração!C142=\"\",\"\",Configuração!B142)","v":""},null,null,null,null,null,null,null,null,null,{"$f":"IF(Configuração!H144=\"\",\"\",IF($L$8=\"\",\"\",IF(VLOOKUP($L$8,Configuração!$S$7:$U$16,3)=\"C\",Configuração!F144,\"\")))","v":""},null,null,null,null,null,null,1102009,40087]
[null,null,null,null,{"$f":"IF(Configuração!C143=\"\",\"\",Configuração!B143)","v":""},null,null,null,null,null,null,null,null,null,{"$f":"IF(Configuração!H145=\"\",\"\",IF($L$8=\"\",\"\",IF(VLOOKUP($L$8,Configuração!$S$7:$U$16,3)=\"C\",Configuração!F145,\"\")))","v":""},null,null,null,null,null,null,1102010,40452]
[null,null,null,null,{"$f":"IF(Configuração!C144=\"\",\"\",Configuração!B144)","v":""},null,null,null,null,null,null,null,null,null,{"$f":"IF(Configuração!H146=\"\",\"\",IF($L$8=\"\",\"\",IF(VLOOKUP($L$8,Configuração!$S$7:$U$16,3)=\"C\",Configuração!F146,\"\")))","v":""},null,null,null,null,null,null,1102011,40817]
[null,null,null,null,{"$f":"IF(Configuração!C145=\"\",\"\",Configuração!B145)","v":""},null,null,null,null,null,null,null,null,null,{"$f":"IF(Configuração!H147=\"\",\"\",IF($L$8=\"\",\"\",IF(VLOOKUP($L$8,Configuração!$S$7:$U$16,3)=\"C\",Configuração!F147,\"\")))","v":""},null,null,null,null,null,null,1102012,41183]
[null,null,null,null,{"$f":"IF(Configuração!C146=\"\",\"\",Configuração!B146)","v":""},null,null,null,null,null,null,null,null,null,{"$f":"IF(Configuração!H148=\"\",\"\",IF($L$8=\"\",\"\",IF(VLOOKUP($L$8,Configuração!$S$7:$U$16,3)=\"C\",Configuração!F148,\"\")))","v":""},null,null,null,null,null,null,1102013,41548]
[null,null,null,null,{"$f":"IF(Configuração!C147=\"\",\"\",Configuração!B147)","v":""},null,null,null,null,null,null,null,null,null,{"$f":"IF(Configuração!H149=\"\",\"\",IF($L$8=\"\",\"\",IF(VLOOKUP($L$8,Configuração!$S$7:$U$16,3)=\"C\",Configuração!F149,\"\")))","v":""},null,null,null,null,null,null,1102014,41913]
[null,null,null,null,{"$f":"IF(Configuração!C148=\"\",\"\",Configuração!B148)","v":""},null,null,null,null,null,null,null,null,null,{"$f":"IF(Configuração!H150=\"\",\"\",IF($L$8=\"\",\"\",IF(VLOOKUP($L$8,Configuração!$S$7:$U$16,3)=\"C\",Configuração!F150,\"\")))","v":""},null,null,null,null,null,null,1102015,42278]
[null,null,null,null,{"$f":"IF(Configuração!C149=\"\",\"\",Configuração!B149)","v":""},null,null,null,null,null,null,null,null,null,{"$f":"IF(Configuração!H151=\"\",\"\",IF($L$8=\"\",\"\",IF(VLOOKUP($L$8,Configuração!$S$7:$U$16,3)=\"C\",Configuração!F151,\"\")))","v":""},null,null,null,null,null,null,1102016,42644]
[null,null,null,null,{"$f":"IF(Configuração!C150=\"\",\"\",Configuração!B150)","v":""},null,null,null,null,null,null,null,null,null,{"$f":"IF(Configuração!H152=\"\",\"\",IF($L$8=\"\",\"\",IF(VLOOKUP($L$8,Configuração!$S$7:$U$16,3)=\"C\",Configuração!F152,\"\")))","v":""},null,null,null,null,null,null,1102017,43009]
[null,null,null,null,{"$f":"IF(Configuração!C151=\"\",\"\",Configuração!B151)","v":""},null,null,null,null,null,null,null,null,null,{"$f":"IF(Configuração!H153=\"\",\"\",IF($L$8=\"\",\"\",IF(VLOOKUP($L$8,Configuração!$S$7:$U$16,3)=\"C\",Configuração!F153,\"\")))","v":""},null,null,null,null,null,null,1102018,43374]
[null,null,null,null,{"$f":"IF(Configuração!C152=\"\",\"\",Configuração!B152)","v":""},null,null,null,null,null,null,null,null,null,{"$f":"IF(Configuração!H154=\"\",\"\",IF($L$8=\"\",\"\",IF(VLOOKUP($L$8,Configuração!$S$7:$U$16,3)=\"C\",Configuração!F154,\"\")))","v":""},null,null,null,null,null,null,1102019,43739]
[null,null,null,null,{"$f":"IF(Configuração!C153=\"\",\"\",Configuração!B153)","v":""},null,null,null,null,null,null,null,null,null,{"$f":"IF(Configuração!H155=\"\",\"\",IF($L$8=\"\",\"\",IF(VLOOKUP($L$8,Configuração!$S$7:$U$16,3)=\"C\",Configuração!F155,\"\")))","v":""},null,null,null,null,null,null,1102020,44105]
[null,null,null,null,{"$f":"IF(Configuração!C154=\"\",\"\",Configuração!B154)","v":""},null,null,null,null,null,null,null,null,null,{"$f":"IF(Configuração!H156=\"\",\"\",IF($L$8=\"\",\"\",IF(VLOOKUP($L$8,Configuração!$S$7:$U$16,3)=\"C\",Configuração!F156,\"\")))","v":""},null,null,null,null,null,null,1102021,44470]
[null,null,null,null,{"$f":"IF(Configuração!C155=\"\",\"\",Configuração!B155)","v":""},null,null,null,null,null,null,null,null,null,{"$f":"IF(Configuração!H157=\"\",\"\",IF($L$8=\"\",\"\",IF(VLOOKUP($L$8,Configuração!$S$7:$U$16,3)=\"C\",Configuração!F157,\"\")))","v":""},null,null,null,null,null,null,1102022,44835]
[null,null,null,null,{"$f":"IF(Configuração!C156=\"\",\"\",Configuração!B156)","v":""},null,null,null,null,null,null,null,null,null,{"$f":"IF(Configuração!H158=\"\",\"\",IF($L$8=\"\",\"\",IF(VLOOKUP($L$8,Configuração!$S$7:$U$16,3)=\"C\",Configuração!F158,\"\")))","v":""},null,null,null,null,null,null,1102023,45200]
[null,null,null,null,{"$f":"IF(Configuração!C157=\"\",\"\",Configuração!B157)","v":""},null,null,null,null,null,null,null,null,null,{"$f":"IF(Configuração!H159=\"\",\"\",IF($L$8=\"\",\"\",IF(VLOOKUP($L$8,Configuração!$S$7:$U$16,3)=\"C\",Configuração!F159,\"\")))","v":""},null,null,null,null,null,null,1112009,40118]
[null,null,null,null,{"$f":"IF(Configuração!C158=\"\",\"\",Configuração!B158)","v":""},null,null,null,null,null,null,null,null,null,{"$f":"IF(Configuração!H160=\"\",\"\",IF($L$8=\"\",\"\",IF(VLOOKUP($L$8,Configuração!$S$7:$U$16,3)=\"C\",Configuração!F160,\"\")))","v":""},null,null,null,null,null,null,1112010,40483]
[null,null,null,null,{"$f":"IF(Configuração!C159=\"\",\"\",Configuração!B159)","v":""},null,null,null,null,null,null,null,null,null,null,null,null,null,null,null,null,1112011,40848]
[null,null,null,null,{"$f":"IF(Configuração!C160=\"\",\"\",Configuração!B160)","v":""},null,null,null,null,null,null,null,null,null,null,null,null,null,null,null,null,1112012,41214]
[null,null,null,null,{"$f":"IF(Configuração!C161=\"\",\"\",Configuração!B161)","v":""},null,null,null,null,null,null,null,null,null,{"$f":"IF(Configuração!H163=\"\",\"\",IF($L$8=\"\",\"\",IF(VLOOKUP($L$8,Configuração!$S$7:$U$16,3)=\"D\",Configuração!F163,\"\")))","v":""},null,null,null,null,null,null,1112013,41579]
[null,null,null,null,{"$f":"IF(Configuração!C162=\"\",\"\",Configuração!B162)","v":""},null,null,null,null,null,null,null,null,null,{"$f":"IF(Configuração!H164=\"\",\"\",IF($L$8=\"\",\"\",IF(VLOOKUP($L$8,Configuração!$S$7:$U$16,3)=\"D\",Configuração!F164,\"\")))","v":""},null,null,null,null,null,null,1112014,41944]
[null,null,null,null,{"$f":"IF(Configuração!C163=\"\",\"\",Configuração!B163)","v":""},null,null,null,null,null,null,null,null,null,{"$f":"IF(Configuração!H165=\"\",\"\",IF($L$8=\"\",\"\",IF(VLOOKUP($L$8,Configuração!$S$7:$U$16,3)=\"D\",Configuração!F165,\"\")))","v":""},null,null,null,null,null,null,1112015,42309]
[null,null,null,null,{"$f":"IF(Configuração!C164=\"\",\"\",Configuração!B164)","v":""},null,null,null,null,null,null,null,null,null,{"$f":"IF(Configuração!H166=\"\",\"\",IF($L$8=\"\",\"\",IF(VLOOKUP($L$8,Configuração!$S$7:$U$16,3)=\"D\",Configuração!F166,\"\")))","v":""},null,null,null,null,null,null,1112016,42675]
[null,null,null,null,{"$f":"IF(Configuração!C165=\"\",\"\",Configuração!B165)","v":""},null,null,null,null,null,null,null,null,null,{"$f":"IF(Configuração!H167=\"\",\"\",IF($L$8=\"\",\"\",IF(VLOOKUP($L$8,Configuração!$S$7:$U$16,3)=\"D\",Configuração!F167,\"\")))","v":""},null,null,null,null,null,null,1112017,43040]
[null,null,null,null,{"$f":"IF(Configuração!C166=\"\",\"\",Configuração!B166)","v":""},null,null,null,null,null,null,null,null,null,{"$f":"IF(Configuração!H168=\"\",\"\",IF($L$8=\"\",\"\",IF(VLOOKUP($L$8,Configuração!$S$7:$U$16,3)=\"D\",Configuração!F168,\"\")))","v":""},null,null,null,null,null,null,1112018,43405]
[null,null,null,null,{"$f":"IF(Configuração!C167=\"\",\"\",Configuração!B167)","v":""},null,null,null,null,null,null,null,null,null,{"$f":"IF(Configuração!H169=\"\",\"\",IF($L$8=\"\",\"\",IF(VLOOKUP($L$8,Configuração!$S$7:$U$16,3)=\"D\",Configuração!F169,\"\")))","v":""},null,null,null,null,null,null,1112019,43770]
[null,null,null,null,{"$f":"IF(Configuração!C168=\"\",\"\",Configuração!B168)","v":""},null,null,null,null,null,null,null,null,null,{"$f":"IF(Configuração!H170=\"\",\"\",IF($L$8=\"\",\"\",IF(VLOOKUP($L$8,Configuração!$S$7:$U$16,3)=\"D\",Configuração!F170,\"\")))","v":""},null,null,null,null,null,null,1112020,44136]
[null,null,null,null,{"$f":"IF(Configuração!C169=\"\",\"\",Configuração!B169)","v":""},null,null,null,null,null,null,null,null,null,{"$f":"IF(Configuração!H171=\"\",\"\",IF($L$8=\"\",\"\",IF(VLOOKUP($L$8,Configuração!$S$7:$U$16,3)=\"D\",Configuração!F171,\"\")))","v":""},null,null,null,null,null,null,1112021,44501]
[null,null,null,null,{"$f":"IF(Configuração!C170=\"\",\"\",Configuração!B170)","v":""},null,null,null,null,null,null,null,null,null,{"$f":"IF(Configuração!H172=\"\",\"\",IF($L$8=\"\",\"\",IF(VLOOKUP($L$8,Configuração!$S$7:$U$16,3)=\"D\",Configuração!F172,\"\")))","v":""},null,null,null,null,null,null,1112022,44866]
[null,null,null,null,{"$f":"IF(Configuração!C171=\"\",\"\",Configuração!B171)","v":""},null,null,null,null,null,null,null,null,null,{"$f":"IF(Configuração!H173=\"\",\"\",IF($L$8=\"\",\"\",IF(VLOOKUP($L$8,Configuração!$S$7:$U$16,3)=\"D\",Configuração!F173,\"\")))","v":""},null,null,null,null,null,null,1112023,45231]
[null,null,null,null,{"$f":"IF(Configuração!C172=\"\",\"\",Configuração!B172)","v":""},null,null,null,null,null,null,null,null,null,{"$f":"IF(Configuração!H174=\"\",\"\",IF($L$8=\"\",\"\",IF(VLOOKUP($L$8,Configuração!$S$7:$U$16,3)=\"D\",Configuração!F174,\"\")))","v":""},null,null,null,null,null,null,1122009,40148]
[null,null,null,null,{"$f":"IF(Configuração!C173=\"\",\"\",Configuração!B173)","v":""},null,null,null,null,null,null,null,null,null,{"$f":"IF(Configuração!H175=\"\",\"\",IF($L$8=\"\",\"\",IF(VLOOKUP($L$8,Configuração!$S$7:$U$16,3)=\"D\",Configuração!F175,\"\")))","v":""},null,null,null,null,null,null,1122010,40513]
[null,null,null,null,{"$f":"IF(Configuração!C174=\"\",\"\",Configuração!B174)","v":""},null,null,null,null,null,null,null,null,null,{"$f":"IF(Configuração!H176=\"\",\"\",IF($L$8=\"\",\"\",IF(VLOOKUP($L$8,Configuração!$S$7:$U$16,3)=\"D\",Configuração!F176,\"\")))","v":""},null,null,null,null,null,null,1122011,40878]
[null,null,null,null,{"$f":"IF(Configuração!C175=\"\",\"\",Configuração!B175)","v":""},null,null,null,null,null,null,null,null,null,{"$f":"IF(Configuração!H177=\"\",\"\",IF($L$8=\"\",\"\",IF(VLOOKUP($L$8,Configuração!$S$7:$U$16,3)=\"D\",Configuração!F177,\"\")))","v":""},null,null,null,null,null,null,1122012,41244]
[null,null,null,null,{"$f":"IF(Configuração!C176=\"\",\"\",Configuração!B176)","v":""},null,null,null,null,null,null,null,null,null,{"$f":"IF(Configuração!H178=\"\",\"\",IF($L$8=\"\",\"\",IF(VLOOKUP($L$8,Configuração!$S$7:$U$16,3)=\"D\",Configuração!F178,\"\")))","v":""},null,null,null,null,null,null,1122013,41609]
[null,null,null,null,{"$f":"IF(Configuração!C177=\"\",\"\",Configuração!B177)","v":""},null,null,null,null,null,null,null,null,null,{"$f":"IF(Configuração!H179=\"\",\"\",IF($L$8=\"\",\"\",IF(VLOOKUP($L$8,Configuração!$S$7:$U$16,3)=\"D\",Configuração!F179,\"\")))","v":""},null,null,null,null,null,null,1122014,41974]
[null,null,null,null,{"$f":"IF(Configuração!C178=\"\",\"\",Configuração!B178)","v":""},null,null,null,null,null,null,null,null,null,{"$f":"IF(Configuração!H180=\"\",\"\",IF($L$8=\"\",\"\",IF(VLOOKUP($L$8,Configuração!$S$7:$U$16,3)=\"D\",Configuração!F180,\"\")))","v":""},null,null,null,null,null,null,1122015,42339]
[null,null,null,null,{"$f":"IF(Configuração!C179=\"\",\"\",Configuração!B179)","v":""},null,null,null,null,null,null,null,null,null,{"$f":"IF(Configuração!H181=\"\",\"\",IF($L$8=\"\",\"\",IF(VLOOKUP($L$8,Configuração!$S$7:$U$16,3)=\"D\",Configuração!F181,\"\")))","v":""},null,null,null,null,null,null,1122016,42705]
[null,null,null,null,{"$f":"IF(Configuração!C180=\"\",\"\",Configuração!B180)","v":""},null,null,null,null,null,null,null,null,null,{"$f":"IF(Configuração!H182=\"\",\"\",IF($L$8=\"\",\"\",IF(VLOOKUP($L$8,Configuração!$S$7:$U$16,3)=\"D\",Configuração!F182,\"\")))","v":""},null,null,null,null,null,null,1122017,43070]
[null,null,null,null,{"$f":"IF(Configuração!C181=\"\",\"\",Configuração!B181)","v":""},null,null,null,null,null,null,null,null,null,{"$f":"IF(Configuração!H183=\"\",\"\",IF($L$8=\"\",\"\",IF(VLOOKUP($L$8,Configuração!$S$7:$U$16,3)=\"D\",Configuração!F183,\"\")))","v":""},null,null,null,null,null,null,1122018,43435]
[null,null,null,null,{"$f":"IF(Configuração!C182=\"\",\"\",Configuração!B182)","v":""},null,null,null,null,null,null,null,null,null,{"$f":"IF(Configuração!H184=\"\",\"\",IF($L$8=\"\",\"\",IF(VLOOKUP($L$8,Configuração!$S$7:$U$16,3)=\"D\",Configuração!F184,\"\")))","v":""},null,null,null,null,null,null,1122019,43800]
[null,null,null,null,{"$f":"IF(Configuração!C183=\"\",\"\",Configuração!B183)","v":""},null,null,null,null,null,null,null,null,null,{"$f":"IF(Configuração!H185=\"\",\"\",IF($L$8=\"\",\"\",IF(VLOOKUP($L$8,Configuração!$S$7:$U$16,3)=\"D\",Configuração!F185,\"\")))","v":""},null,null,null,null,null,null,1122020,44166]
[null,null,null,null,{"$f":"IF(Configuração!C184=\"\",\"\",Configuração!B184)","v":""},null,null,null,null,null,null,null,null,null,{"$f":"IF(Configuração!H186=\"\",\"\",IF($L$8=\"\",\"\",IF(VLOOKUP($L$8,Configuração!$S$7:$U$16,3)=\"D\",Configuração!F186,\"\")))","v":""},null,null,null,null,null,null,1122021,44531]
[null,null,null,null,{"$f":"IF(Configuração!C185=\"\",\"\",Configuração!B185)","v":""},null,null,null,null,null,null,null,null,null,{"$f":"IF(Configuração!H187=\"\",\"\",IF($L$8=\"\",\"\",IF(VLOOKUP($L$8,Configuração!$S$7:$U$16,3)=\"D\",Configuração!F187,\"\")))","v":""},null,null,null,null,null,null,1122022,44896]
[null,null,null,null,{"$f":"IF(Configuração!C186=\"\",\"\",Configuração!B186)","v":""},null,null,null,null,null,null,null,null,null,{"$f":"IF(Configuração!H188=\"\",\"\",IF($L$8=\"\",\"\",IF(VLOOKUP($L$8,Configuração!$S$7:$U$16,3)=\"D\",Configuração!F188,\"\")))","v":""},null,null,null,null,null,null,1122023,45261]
[null,null,null,null,{"$f":"IF(Configuração!C187=\"\",\"\",Configuração!B187)","v":""},null,null,null,null,null,null,null,null,null,{"$f":"IF(Configuração!H189=\"\",\"\",IF($L$8=\"\",\"\",IF(VLOOKUP($L$8,Configuração!$S$7:$U$16,3)=\"D\",Configuração!F189,\"\")))","v":""},null,null,null,null,null,null,2012009,39815]
[null,null,null,null,{"$f":"IF(Configuração!C188=\"\",\"\",Configuração!B188)","v":""},null,null,null,null,null,null,null,null,null,{"$f":"IF(Configuração!H190=\"\",\"\",IF($L$8=\"\",\"\",IF(VLOOKUP($L$8,Configuração!$S$7:$U$16,3)=\"D\",Configuração!F190,\"\")))","v":""},null,null,null,null,null,null,2012010,40180]
[null,null,null,null,{"$f":"IF(Configuração!C189=\"\",\"\",Configuração!B189)","v":""},null,null,null,null,null,null,null,null,null,{"$f":"IF(Configuração!H191=\"\",\"\",IF($L$8=\"\",\"\",IF(VLOOKUP($L$8,Configuração!$S$7:$U$16,3)=\"D\",Configuração!F191,\"\")))","v":""},null,null,null,null,null,null,2012011,40545]
[null,null,null,null,{"$f":"IF(Configuração!C190=\"\",\"\",Configuração!B190)","v":""},null,null,null,null,null,null,null,null,null,{"$f":"IF(Configuração!H192=\"\",\"\",IF($L$8=\"\",\"\",IF(VLOOKUP($L$8,Configuração!$S$7:$U$16,3)=\"D\",Configuração!F192,\"\")))","v":""},null,null,null,null,null,null,2012012,40910]
[null,null,null,null,{"$f":"IF(Configuração!C191=\"\",\"\",Configuração!B191)","v":""},null,null,null,null,null,null,null,null,null,{"$f":"IF(Configuração!H193=\"\",\"\",IF($L$8=\"\",\"\",IF(VLOOKUP($L$8,Configuração!$S$7:$U$16,3)=\"D\",Configuração!F193,\"\")))","v":""},null,null,null,null,null,null,2012013,41276]
[null,null,null,null,{"$f":"IF(Configuração!C192=\"\",\"\",Configuração!B192)","v":""},null,null,null,null,null,null,null,null,null,{"$f":"IF(Configuração!H194=\"\",\"\",IF($L$8=\"\",\"\",IF(VLOOKUP($L$8,Configuração!$S$7:$U$16,3)=\"D\",Configuração!F194,\"\")))","v":""},null,null,null,null,null,null,2012014,41641]
[null,null,null,null,{"$f":"IF(Configuração!C193=\"\",\"\",Configuração!B193)","v":""},null,null,null,null,null,null,null,null,null,{"$f":"IF(Configuração!H195=\"\",\"\",IF($L$8=\"\",\"\",IF(VLOOKUP($L$8,Configuração!$S$7:$U$16,3)=\"D\",Configuração!F195,\"\")))","v":""},null,null,null,null,null,null,2012015,42006]
[null,null,null,null,{"$f":"IF(Configuração!C194=\"\",\"\",Configuração!B194)","v":""},null,null,null,null,null,null,null,null,null,{"$f":"IF(Configuração!H196=\"\",\"\",IF($L$8=\"\",\"\",IF(VLOOKUP($L$8,Configuração!$S$7:$U$16,3)=\"D\",Configuração!F196,\"\")))","v":""},null,null,null,null,null,null,2012016,42371]
[null,null,null,null,{"$f":"IF(Configuração!C195=\"\",\"\",Configuração!B195)","v":""},null,null,null,null,null,null,null,null,null,{"$f":"IF(Configuração!H197=\"\",\"\",IF($L$8=\"\",\"\",IF(VLOOKUP($L$8,Configuração!$S$7:$U$16,3)=\"D\",Configuração!F197,\"\")))","v":""},null,null,null,null,null,null,2012017,42737]
[null,null,null,null,{"$f":"IF(Configuração!C196=\"\",\"\",Configuração!B196)","v":""},null,null,null,null,null,null,null,null,null,{"$f":"IF(Configuração!H198=\"\",\"\",IF($L$8=\"\",\"\",IF(VLOOKUP($L$8,Configuração!$S$7:$U$16,3)=\"D\",Configuração!F198,\"\")))","v":""},null,null,null,null,null,null,2012018,43102]
[null,null,null,null,{"$f":"IF(Configuração!C197=\"\",\"\",Configuração!B197)","v":""},null,null,null,null,null,null,null,null,null,{"$f":"IF(Configuração!H199=\"\",\"\",IF($L$8=\"\",\"\",IF(VLOOKUP($L$8,Configuração!$S$7:$U$16,3)=\"D\",Configuração!F199,\"\")))","v":""},null,null,null,null,null,null,2012019,43467]
[null,null,null,null,{"$f":"IF(Configuração!C198=\"\",\"\",Configuração!B198)","v":""},null,null,null,null,null,null,null,null,null,{"$f":"IF(Configuração!H200=\"\",\"\",IF($L$8=\"\",\"\",IF(VLOOKUP($L$8,Configuração!$S$7:$U$16,3)=\"D\",Configuração!F200,\"\")))","v":""},null,null,null,null,null,null,2012020,43832]
[null,null,null,null,{"$f":"IF(Configuração!C199=\"\",\"\",Configuração!B199)","v":""},null,null,null,null,null,null,null,null,null,{"$f":"IF(Configuração!H201=\"\",\"\",IF($L$8=\"\",\"\",IF(VLOOKUP($L$8,Configuração!$S$7:$U$16,3)=\"D\",Configuração!F201,\"\")))","v":""},null,null,null,null,null,null,2012021,44198]
[null,null,null,null,{"$f":"IF(Configuração!C200=\"\",\"\",Configuração!B200)","v":""},null,null,null,null,null,null,null,null,null,{"$f":"IF(Configuração!H202=\"\",\"\",IF($L$8=\"\",\"\",IF(VLOOKUP($L$8,Configuração!$S$7:$U$16,3)=\"D\",Configuração!F202,\"\")))","v":""},null,null,null,null,null,null,2012022,44563]
[null,null,null,null,{"$f":"IF(Configuração!C201=\"\",\"\",Configuração!B201)","v":""},null,null,null,null,null,null,null,null,null,{"$f":"IF(Configuração!H203=\"\",\"\",IF($L$8=\"\",\"\",IF(VLOOKUP($L$8,Configuração!$S$7:$U$16,3)=\"D\",Configuração!F203,\"\")))","v":""},null,null,null,null,null,null,2012023,44928]
[null,null,null,null,{"$f":"IF(Configuração!C202=\"\",\"\",Configuração!B202)","v":""},null,null,null,null,null,null,null,null,null,{"$f":"IF(Configuração!H204=\"\",\"\",IF($L$8=\"\",\"\",IF(VLOOKUP($L$8,Configuração!$S$7:$U$16,3)=\"D\",Configuração!F204,\"\")))","v":""},null,null,null,null,null,null,2022009,39846]
[null,null,null,null,{"$f":"IF(Configuração!C203=\"\",\"\",Configuração!B203)","v":""},null,null,null,null,null,null,null,null,null,{"$f":"IF(Configuração!H205=\"\",\"\",IF($L$8=\"\",\"\",IF(VLOOKUP($L$8,Configuração!$S$7:$U$16,3)=\"D\",Configuração!F205,\"\")))","v":""},null,null,null,null,null,null,2022010,40211]
[null,null,null,null,{"$f":"IF(Configuração!C204=\"\",\"\",Configuração!B204)","v":""},null,null,null,null,null,null,null,null,null,{"$f":"IF(Configuração!H206=\"\",\"\",IF($L$8=\"\",\"\",IF(VLOOKUP($L$8,Configuração!$S$7:$U$16,3)=\"D\",Configuração!F206,\"\")))","v":""},null,null,null,null,null,null,2022011,40576]
[null,null,null,null,{"$f":"IF(Configuração!C205=\"\",\"\",Configuração!B205)","v":""},null,null,null,null,null,null,null,null,null,{"$f":"IF(Configuração!H207=\"\",\"\",IF($L$8=\"\",\"\",IF(VLOOKUP($L$8,Configuração!$S$7:$U$16,3)=\"D\",Configuração!F207,\"\")))","v":""},null,null,null,null,null,null,2022012,40941]
[null,null,null,null,{"$f":"IF(Configuração!C206=\"\",\"\",Configuração!B206)","v":""},null,null,null,null,null,null,null,null,null,{"$f":"IF(Configuração!H208=\"\",\"\",IF($L$8=\"\",\"\",IF(VLOOKUP($L$8,Configuração!$S$7:$U$16,3)=\"D\",Configuração!F208,\"\")))","v":""},null,null,null,null,null,null,2022013,41307]
[null,null,null,null,{"$f":"IF(Configuração!C207=\"\",\"\",Configuração!B207)","v":""},null,null,null,null,null,null,null,null,null,{"$f":"IF(Configuração!H209=\"\",\"\",IF($L$8=\"\",\"\",IF(VLOOKUP($L$8,Configuração!$S$7:$U$16,3)=\"D\",Configuração!F209,\"\")))","v":""},null,null,null,null,null,null,2022014,41672]
[null,null,null,null,{"$f":"IF(Configuração!C208=\"\",\"\",Configuração!B208)","v":""},null,null,null,null,null,null,null,null,null,{"$f":"IF(Configuração!H210=\"\",\"\",IF($L$8=\"\",\"\",IF(VLOOKUP($L$8,Configuração!$S$7:$U$16,3)=\"D\",Configuração!F210,\"\")))","v":""},null,null,null,null,null,null,2022015,42037]
[null,null,null,null,{"$f":"IF(Configuração!C209=\"\",\"\",Configuração!B209)","v":""},null,null,null,null,null,null,null,null,null,{"$f":"IF(Configuração!H211=\"\",\"\",IF($L$8=\"\",\"\",IF(VLOOKUP($L$8,Configuração!$S$7:$U$16,3)=\"D\",Configuração!F211,\"\")))","v":""},null,null,null,null,null,null,2022016,42402]
[null,null,null,null,{"$f":"IF(Configuração!C210=\"\",\"\",Configuração!B210)","v":""},null,null,null,null,null,null,null,null,null,{"$f":"IF(Configuração!H212=\"\",\"\",IF($L$8=\"\",\"\",IF(VLOOKUP($L$8,Configuração!$S$7:$U$16,3)=\"D\",Configuração!F212,\"\")))","v":""},null,null,null,null,null,null,2022017,42768]
[null,null,null,null,{"$f":"IF(Configuração!C211=\"\",\"\",Configuração!B211)","v":""},null,null,null,null,null,null,null,null,null,null,null,null,null,null,null,null,2022018,43133]
[null,null,null,null,{"$f":"IF(Configuração!C212=\"\",\"\",Configuração!B212)","v":""},null,null,null,null,null,null,null,null,null,{"$f":"IF(Configuração!H214=\"\",\"\",IF($L$8=\"\",\"\",IF(VLOOKUP($L$8,Configuração!$S$7:$U$16,3)=\"D\",Configuração!F214,\"\")))","v":""},null,null,null,null,null,null,2022019,43498]
[null,null,null,null,{"$f":"IF(Configuração!C213=\"\",\"\",Configuração!B213)","v":""},null,null,null,null,null,null,null,null,null,{"$f":"IF(Configuração!H215=\"\",\"\",IF($L$8=\"\",\"\",IF(VLOOKUP($L$8,Configuração!$S$7:$U$16,3)=\"D\",Configuração!F215,\"\")))","v":""},null,null,null,null,null,null,2022020,43863]
[null,null,null,null,{"$f":"IF(Configuração!C214=\"\",\"\",Configuração!B214)","v":""},null,null,null,null,null,null,null,null,null,{"$f":"IF(Configuração!H216=\"\",\"\",IF($L$8=\"\",\"\",IF(VLOOKUP($L$8,Configuração!$S$7:$U$16,3)=\"D\",Configuração!F216,\"\")))","v":""},null,null,null,null,null,null,2022021,44229]
[null,null,null,null,{"$f":"IF(Configuração!C215=\"\",\"\",Configuração!B215)","v":""},null,null,null,null,null,null,null,null,null,{"$f":"IF(Configuração!H217=\"\",\"\",IF($L$8=\"\",\"\",IF(VLOOKUP($L$8,Configuração!$S$7:$U$16,3)=\"D\",Configuração!F217,\"\")))","v":""},null,null,null,null,null,null,2022022,44594]
[null,null,null,null,{"$f":"IF(Configuração!C216=\"\",\"\",Configuração!B216)","v":""},null,null,null,null,null,null,null,null,null,{"$f":"IF(Configuração!H218=\"\",\"\",IF($L$8=\"\",\"\",IF(VLOOKUP($L$8,Configuração!$S$7:$U$16,3)=\"D\",Configuração!F218,\"\")))","v":""},null,null,null,null,null,null,2022023,44959]
[null,null,null,null,{"$f":"IF(Configuração!C217=\"\",\"\",Configuração!B217)","v":""},null,null,null,null,null,null,null,null,null,{"$f":"IF(Configuração!H219=\"\",\"\",IF($L$8=\"\",\"\",IF(VLOOKUP($L$8,Configuração!$S$7:$U$16,3)=\"D\",Configuração!F219,\"\")))","v":""},null,null,null,null,null,null,2032009,39874]
[null,null,null,null,{"$f":"IF(Configuração!C218=\"\",\"\",Configuração!B218)","v":""},null,null,null,null,null,null,null,null,null,{"$f":"IF(Configuração!H220=\"\",\"\",IF($L$8=\"\",\"\",IF(VLOOKUP($L$8,Configuração!$S$7:$U$16,3)=\"D\",Configuração!F220,\"\")))","v":""},null,null,null,null,null,null,2032010,40239]
[null,null,null,null,{"$f":"IF(Configuração!C219=\"\",\"\",Configuração!B219)","v":""},null,null,null,null,null,null,null,null,null,{"$f":"IF(Configuração!H221=\"\",\"\",IF($L$8=\"\",\"\",IF(VLOOKUP($L$8,Configuração!$S$7:$U$16,3)=\"D\",Configuração!F221,\"\")))","v":""},null,null,null,null,null,null,2032011,40604]
[null,null,null,null,{"$f":"IF(Configuração!C220=\"\",\"\",Configuração!B220)","v":""},null,null,null,null,null,null,null,null,null,{"$f":"IF(Configuração!H222=\"\",\"\",IF($L$8=\"\",\"\",IF(VLOOKUP($L$8,Configuração!$S$7:$U$16,3)=\"D\",Configuração!F222,\"\")))","v":""},null,null,null,null,null,null,2032012,40970]
[null,null,null,null,{"$f":"IF(Configuração!C221=\"\",\"\",Configuração!B221)","v":""},null,null,null,null,null,null,null,null,null,{"$f":"IF(Configuração!H223=\"\",\"\",IF($L$8=\"\",\"\",IF(VLOOKUP($L$8,Configuração!$S$7:$U$16,3)=\"D\",Configuração!F223,\"\")))","v":""},null,null,null,null,null,null,2032013,41335]
[null,null,null,null,{"$f":"IF(Configuração!C222=\"\",\"\",Configuração!B222)","v":""},null,null,null,null,null,null,null,null,null,{"$f":"IF(Configuração!H224=\"\",\"\",IF($L$8=\"\",\"\",IF(VLOOKUP($L$8,Configuração!$S$7:$U$16,3)=\"D\",Configuração!F224,\"\")))","v":""},null,null,null,null,null,null,2032014,41700]
[null,null,null,null,{"$f":"IF(Configuração!C223=\"\",\"\",Configuração!B223)","v":""},null,null,null,null,null,null,null,null,null,{"$f":"IF(Configuração!H225=\"\",\"\",IF($L$8=\"\",\"\",IF(VLOOKUP($L$8,Configuração!$S$7:$U$16,3)=\"D\",Configuração!F225,\"\")))","v":""},null,null,null,null,null,null,2032015,42065]
[null,null,null,null,{"$f":"IF(Configuração!C224=\"\",\"\",Configuração!B224)","v":""},null,null,null,null,null,null,null,null,null,{"$f":"IF(Configuração!H226=\"\",\"\",IF($L$8=\"\",\"\",IF(VLOOKUP($L$8,Configuração!$S$7:$U$16,3)=\"D\",Configuração!F226,\"\")))","v":""},null,null,null,null,null,null,2032016,42431]
[null,null,null,null,{"$f":"IF(Configuração!C225=\"\",\"\",Configuração!B225)","v":""},null,null,null,null,null,null,null,null,null,{"$f":"IF(Configuração!H227=\"\",\"\",IF($L$8=\"\",\"\",IF(VLOOKUP($L$8,Configuração!$S$7:$U$16,3)=\"D\",Configuração!F227,\"\")))","v":""},null,null,null,null,null,null,2032017,42796]
[null,null,null,null,{"$f":"IF(Configuração!C226=\"\",\"\",Configuração!B226)","v":""},null,null,null,null,null,null,null,null,null,{"$f":"IF(Configuração!H228=\"\",\"\",IF($L$8=\"\",\"\",IF(VLOOKUP($L$8,Configuração!$S$7:$U$16,3)=\"D\",Configuração!F228,\"\")))","v":""},null,null,null,null,null,null,2032018,43161]
[null,null,null,null,{"$f":"IF(Configuração!C227=\"\",\"\",Configuração!B227)","v":""},null,null,null,null,null,null,null,null,null,{"$f":"IF(Configuração!H229=\"\",\"\",IF($L$8=\"\",\"\",IF(VLOOKUP($L$8,Configuração!$S$7:$U$16,3)=\"D\",Configuração!F229,\"\")))","v":""},null,null,null,null,null,null,2032019,43526]
[null,null,null,null,{"$f":"IF(Configuração!C228=\"\",\"\",Configuração!B228)","v":""},null,null,null,null,null,null,null,null,null,{"$f":"IF(Configuração!H230=\"\",\"\",IF($L$8=\"\",\"\",IF(VLOOKUP($L$8,Configuração!$S$7:$U$16,3)=\"D\",Configuração!F230,\"\")))","v":""},null,null,null,null,null,null,2032020,43892]
[null,null,null,null,{"$f":"IF(Configuração!C229=\"\",\"\",Configuração!B229)","v":""},null,null,null,null,null,null,null,null,null,{"$f":"IF(Configuração!H231=\"\",\"\",IF($L$8=\"\",\"\",IF(VLOOKUP($L$8,Configuração!$S$7:$U$16,3)=\"D\",Configuração!F231,\"\")))","v":""},null,null,null,null,null,null,2032021,44257]
[null,null,null,null,{"$f":"IF(Configuração!C230=\"\",\"\",Configuração!B230)","v":""},null,null,null,null,null,null,null,null,null,{"$f":"IF(Configuração!H232=\"\",\"\",IF($L$8=\"\",\"\",IF(VLOOKUP($L$8,Configuração!$S$7:$U$16,3)=\"D\",Configuração!F232,\"\")))","v":""},null,null,null,null,null,null,2032022,44622]
[null,null,null,null,{"$f":"IF(Configuração!C231=\"\",\"\",Configuração!B231)","v":""},null,null,null,null,null,null,null,null,null,{"$f":"IF(Configuração!H233=\"\",\"\",IF($L$8=\"\",\"\",IF(VLOOKUP($L$8,Configuração!$S$7:$U$16,3)=\"D\",Configuração!F233,\"\")))","v":""},null,null,null,null,null,null,2032023,44987]
[null,null,null,null,{"$f":"IF(Configuração!C232=\"\",\"\",Configuração!B232)","v":""},null,null,null,null,null,null,null,null,null,{"$f":"IF(Configuração!H234=\"\",\"\",IF($L$8=\"\",\"\",IF(VLOOKUP($L$8,Configuração!$S$7:$U$16,3)=\"D\",Configuração!F234,\"\")))","v":""},null,null,null,null,null,null,2042009,39905]
[null,null,null,null,{"$f":"IF(Configuração!C233=\"\",\"\",Configuração!B233)","v":""},null,null,null,null,null,null,null,null,null,{"$f":"IF(Configuração!H235=\"\",\"\",IF($L$8=\"\",\"\",IF(VLOOKUP($L$8,Configuração!$S$7:$U$16,3)=\"D\",Configuração!F235,\"\")))","v":""},null,null,null,null,null,null,2042010,40270]
[null,null,null,null,{"$f":"IF(Configuração!C234=\"\",\"\",Configuração!B234)","v":""},null,null,null,null,null,null,null,null,null,{"$f":"IF(Configuração!H236=\"\",\"\",IF($L$8=\"\",\"\",IF(VLOOKUP($L$8,Configuração!$S$7:$U$16,3)=\"D\",Configuração!F236,\"\")))","v":""},null,null,null,null,null,null,2042011,40635]
[null,null,null,null,{"$f":"IF(Configuração!C235=\"\",\"\",Configuração!B235)","v":""},null,null,null,null,null,null,null,null,null,{"$f":"IF(Configuração!H237=\"\",\"\",IF($L$8=\"\",\"\",IF(VLOOKUP($L$8,Configuração!$S$7:$U$16,3)=\"D\",Configuração!F237,\"\")))","v":""},null,null,null,null,null,null,2042012,41001]
[null,null,null,null,{"$f":"IF(Configuração!C236=\"\",\"\",Configuração!B236)","v":""},null,null,null,null,null,null,null,null,null,{"$f":"IF(Configuração!H238=\"\",\"\",IF($L$8=\"\",\"\",IF(VLOOKUP($L$8,Configuração!$S$7:$U$16,3)=\"D\",Configuração!F238,\"\")))","v":""},null,null,null,null,null,null,2042013,41366]
[null,null,null,null,{"$f":"IF(Configuração!C237=\"\",\"\",Configuração!B237)","v":""},null,null,null,null,null,null,null,null,null,{"$f":"IF(Configuração!H239=\"\",\"\",IF($L$8=\"\",\"\",IF(VLOOKUP($L$8,Configuração!$S$7:$U$16,3)=\"D\",Configuração!F239,\"\")))","v":""},null,null,null,null,null,null,2042014,41731]
[null,null,null,null,{"$f":"IF(Configuração!C238=\"\",\"\",Configuração!B238)","v":""},null,null,null,null,null,null,null,null,null,{"$f":"IF(Configuração!H240=\"\",\"\",IF($L$8=\"\",\"\",IF(VLOOKUP($L$8,Configuração!$S$7:$U$16,3)=\"D\",Configuração!F240,\"\")))","v":""},null,null,null,null,null,null,2042015,42096]
[null,null,null,null,{"$f":"IF(Configuração!C239=\"\",\"\",Configuração!B239)","v":""},null,null,null,null,null,null,null,null,null,{"$f":"IF(Configuração!H241=\"\",\"\",IF($L$8=\"\",\"\",IF(VLOOKUP($L$8,Configuração!$S$7:$U$16,3)=\"D\",Configuração!F241,\"\")))","v":""},null,null,null,null,null,null,2042016,42462]
[null,null,null,null,{"$f":"IF(Configuração!C240=\"\",\"\",Configuração!B240)","v":""},null,null,null,null,null,null,null,null,null,{"$f":"IF(Configuração!H242=\"\",\"\",IF($L$8=\"\",\"\",IF(VLOOKUP($L$8,Configuração!$S$7:$U$16,3)=\"D\",Configuração!F242,\"\")))","v":""},null,null,null,null,null,null,2042017,42827]
[null,null,null,null,{"$f":"IF(Configuração!C241=\"\",\"\",Configuração!B241)","v":""},null,null,null,null,null,null,null,null,null,{"$f":"IF(Configuração!H243=\"\",\"\",IF($L$8=\"\",\"\",IF(VLOOKUP($L$8,Configuração!$S$7:$U$16,3)=\"D\",Configuração!F243,\"\")))","v":""},null,null,null,null,null,null,2042018,43192]
[null,null,null,null,{"$f":"IF(Configuração!C242=\"\",\"\",Configuração!B242)","v":""},null,null,null,null,null,null,null,null,null,{"$f":"IF(Configuração!H244=\"\",\"\",IF($L$8=\"\",\"\",IF(VLOOKUP($L$8,Configuração!$S$7:$U$16,3)=\"D\",Configuração!F244,\"\")))","v":""},null,null,null,null,null,null,2042019,43557]
[null,null,null,null,{"$f":"IF(Configuração!C243=\"\",\"\",Configuração!B243)","v":""},null,null,null,null,null,null,null,null,null,{"$f":"IF(Configuração!H245=\"\",\"\",IF($L$8=\"\",\"\",IF(VLOOKUP($L$8,Configuração!$S$7:$U$16,3)=\"D\",Configuração!F245,\"\")))","v":""},null,null,null,null,null,null,2042020,43923]
[null,null,null,null,{"$f":"IF(Configuração!C244=\"\",\"\",Configuração!B244)","v":""},null,null,null,null,null,null,null,null,null,{"$f":"IF(Configuração!H246=\"\",\"\",IF($L$8=\"\",\"\",IF(VLOOKUP($L$8,Configuração!$S$7:$U$16,3)=\"D\",Configuração!F246,\"\")))","v":""},null,null,null,null,null,null,2042021,44288]
[null,null,null,null,{"$f":"IF(Configuração!C245=\"\",\"\",Configuração!B245)","v":""},null,null,null,null,null,null,null,null,null,{"$f":"IF(Configuração!H247=\"\",\"\",IF($L$8=\"\",\"\",IF(VLOOKUP($L$8,Configuração!$S$7:$U$16,3)=\"D\",Configuração!F247,\"\")))","v":""},null,null,null,null,null,null,2042022,44653]
[null,null,null,null,{"$f":"IF(Configuração!C246=\"\",\"\",Configuração!B246)","v":""},null,null,null,null,null,null,null,null,null,{"$f":"IF(Configuração!H248=\"\",\"\",IF($L$8=\"\",\"\",IF(VLOOKUP($L$8,Configuração!$S$7:$U$16,3)=\"D\",Configuração!F248,\"\")))","v":""},null,null,null,null,null,null,2042023,45018]
[null,null,null,null,{"$f":"IF(Configuração!C247=\"\",\"\",Configuração!B247)","v":""},null,null,null,null,null,null,null,null,null,{"$f":"IF(Configuração!H249=\"\",\"\",IF($L$8=\"\",\"\",IF(VLOOKUP($L$8,Configuração!$S$7:$U$16,3)=\"D\",Configuração!F249,\"\")))","v":""},null,null,null,null,null,null,2052009,39935]
[null,null,null,null,{"$f":"IF(Configuração!C248=\"\",\"\",Configuração!B248)","v":""},null,null,null,null,null,null,null,null,null,{"$f":"IF(Configuração!H250=\"\",\"\",IF($L$8=\"\",\"\",IF(VLOOKUP($L$8,Configuração!$S$7:$U$16,3)=\"D\",Configuração!F250,\"\")))","v":""},null,null,null,null,null,null,2052010,40300]
[null,null,null,null,{"$f":"IF(Configuração!C249=\"\",\"\",Configuração!B249)","v":""},null,null,null,null,null,null,null,null,null,{"$f":"IF(Configuração!H251=\"\",\"\",IF($L$8=\"\",\"\",IF(VLOOKUP($L$8,Configuração!$S$7:$U$16,3)=\"D\",Configuração!F251,\"\")))","v":""},null,null,null,null,null,null,2052011,40665]
[null,null,null,null,{"$f":"IF(Configuração!C250=\"\",\"\",Configuração!B250)","v":""},null,null,null,null,null,null,null,null,null,{"$f":"IF(Configuração!H252=\"\",\"\",IF($L$8=\"\",\"\",IF(VLOOKUP($L$8,Configuração!$S$7:$U$16,3)=\"D\",Configuração!F252,\"\")))","v":""},null,null,null,null,null,null,2052012,41031]
[null,null,null,null,{"$f":"IF(Configuração!C251=\"\",\"\",Configuração!B251)","v":""},null,null,null,null,null,null,null,null,null,{"$f":"IF(Configuração!H253=\"\",\"\",IF($L$8=\"\",\"\",IF(VLOOKUP($L$8,Configuração!$S$7:$U$16,3)=\"D\",Configuração!F253,\"\")))","v":""},null,null,null,null,null,null,2052013,41396]
[null,null,null,null,{"$f":"IF(Configuração!C252=\"\",\"\",Configuração!B252)","v":""},null,null,null,null,null,null,null,null,null,{"$f":"IF(Configuração!H254=\"\",\"\",IF($L$8=\"\",\"\",IF(VLOOKUP($L$8,Configuração!$S$7:$U$16,3)=\"D\",Configuração!F254,\"\")))","v":""},null,null,null,null,null,null,2052014,41761]
[null,null,null,null,{"$f":"IF(Configuração!C253=\"\",\"\",Configuração!B253)","v":""},null,null,null,null,null,null,null,null,null,{"$f":"IF(Configuração!H255=\"\",\"\",IF($L$8=\"\",\"\",IF(VLOOKUP($L$8,Configuração!$S$7:$U$16,3)=\"D\",Configuração!F255,\"\")))","v":""},null,null,null,null,null,null,2052015,42126]
[null,null,null,null,{"$f":"IF(Configuração!C254=\"\",\"\",Configuração!B254)","v":""},null,null,null,null,null,null,null,null,null,{"$f":"IF(Configuração!H256=\"\",\"\",IF($L$8=\"\",\"\",IF(VLOOKUP($L$8,Configuração!$S$7:$U$16,3)=\"D\",Configuração!F256,\"\")))","v":""},null,null,null,null,null,null,2052016,42492]
[null,null,null,null,{"$f":"IF(Configuração!C255=\"\",\"\",Configuração!B255)","v":""},null,null,null,null,null,null,null,null,null,{"$f":"IF(Configuração!H257=\"\",\"\",IF($L$8=\"\",\"\",IF(VLOOKUP($L$8,Configuração!$S$7:$U$16,3)=\"D\",Configuração!F257,\"\")))","v":""},null,null,null,null,null,null,2052017,42857]
[null,null,null,null,{"$f":"IF(Configuração!C256=\"\",\"\",Configuração!B256)","v":""},null,null,null,null,null,null,null,null,null,{"$f":"IF(Configuração!H258=\"\",\"\",IF($L$8=\"\",\"\",IF(VLOOKUP($L$8,Configuração!$S$7:$U$16,3)=\"D\",Configuração!F258,\"\")))","v":""},null,null,null,null,null,null,2052018,43222]
[null,null,null,null,{"$f":"IF(Configuração!C257=\"\",\"\",Configuração!B257)","v":""},null,null,null,null,null,null,null,null,null,{"$f":"IF(Configuração!H259=\"\",\"\",IF($L$8=\"\",\"\",IF(VLOOKUP($L$8,Configuração!$S$7:$U$16,3)=\"D\",Configuração!F259,\"\")))","v":""},null,null,null,null,null,null,2052019,43587]
[null,null,null,null,{"$f":"IF(Configuração!C258=\"\",\"\",Configuração!B258)","v":""},null,null,null,null,null,null,null,null,null,{"$f":"IF(Configuração!H260=\"\",\"\",IF($L$8=\"\",\"\",IF(VLOOKUP($L$8,Configuração!$S$7:$U$16,3)=\"D\",Configuração!F260,\"\")))","v":""},null,null,null,null,null,null,2052020,43953]
[null,null,null,null,{"$f":"IF(Configuração!C259=\"\",\"\",Configuração!B259)","v":""},null,null,null,null,null,null,null,null,null,{"$f":"IF(Configuração!H261=\"\",\"\",IF($L$8=\"\",\"\",IF(VLOOKUP($L$8,Configuração!$S$7:$U$16,3)=\"D\",Configuração!F261,\"\")))","v":""},null,null,null,null,null,null,2052021,44318]
[null,null,null,null,{"$f":"IF(Configuração!C260=\"\",\"\",Configuração!B260)","v":""},null,null,null,null,null,null,null,null,null,{"$f":"IF(Configuração!H262=\"\",\"\",IF($L$8=\"\",\"\",IF(VLOOKUP($L$8,Configuração!$S$7:$U$16,3)=\"D\",Configuração!F262,\"\")))","v":""},null,null,null,null,null,null,2052022,44683]
[null,null,null,null,{"$f":"IF(Configuração!C261=\"\",\"\",Configuração!B261)","v":""},null,null,null,null,null,null,null,null,null,{"$f":"IF(Configuração!H263=\"\",\"\",IF($L$8=\"\",\"\",IF(VLOOKUP($L$8,Configuração!$S$7:$U$16,3)=\"D\",Configuração!F263,\"\")))","v":""},null,null,null,null,null,null,2052023,45048]
[null,null,null,null,{"$f":"IF(Configuração!C262=\"\",\"\",Configuração!B262)","v":""},null,null,null,null,null,null,null,null,null,null,null,null,null,null,null,null,2062009,39966]
[null,null,null,null,{"$f":"IF(Configuração!C263=\"\",\"\",Configuração!B263)","v":""},null,null,null,null,null,null,null,null,null,{"$f":"IF(Configuração!H265=\"\",\"\",IF($L$8=\"\",\"\",IF(VLOOKUP($L$8,Configuração!$S$7:$U$16,3)=\"D\",Configuração!F265,\"\")))","v":""},null,null,null,null,null,null,2062010,40331]
[null,null,null,null,{"$f":"IF(Configuração!C264=\"\",\"\",Configuração!B264)","v":""},null,null,null,null,null,null,null,null,null,{"$f":"IF(Configuração!H266=\"\",\"\",IF($L$8=\"\",\"\",IF(VLOOKUP($L$8,Configuração!$S$7:$U$16,3)=\"D\",Configuração!F266,\"\")))","v":""},null,null,null,null,null,null,2062011,40696]
[null,null,null,null,{"$f":"IF(Configuração!C265=\"\",\"\",Configuração!B265)","v":""},null,null,null,null,null,null,null,null,null,{"$f":"IF(Configuração!H267=\"\",\"\",IF($L$8=\"\",\"\",IF(VLOOKUP($L$8,Configuração!$S$7:$U$16,3)=\"D\",Configuração!F267,\"\")))","v":""},null,null,null,null,null,null,2062012,41062]
[null,null,null,null,{"$f":"IF(Configuração!C266=\"\",\"\",Configuração!B266)","v":""},null,null,null,null,null,null,null,null,null,{"$f":"IF(Configuração!H268=\"\",\"\",IF($L$8=\"\",\"\",IF(VLOOKUP($L$8,Configuração!$S$7:$U$16,3)=\"D\",Configuração!F268,\"\")))","v":""},null,null,null,null,null,null,2062013,41427]
[null,null,null,null,{"$f":"IF(Configuração!C267=\"\",\"\",Configuração!B267)","v":""},null,null,null,null,null,null,null,null,null,{"$f":"IF(Configuração!H269=\"\",\"\",IF($L$8=\"\",\"\",IF(VLOOKUP($L$8,Configuração!$S$7:$U$16,3)=\"D\",Configuração!F269,\"\")))","v":""},null,null,null,null,null,null,2062014,41792]
[null,null,null,null,{"$f":"IF(Configuração!C268=\"\",\"\",Configuração!B268)","v":""},null,null,null,null,null,null,null,null,null,{"$f":"IF(Configuração!H270=\"\",\"\",IF($L$8=\"\",\"\",IF(VLOOKUP($L$8,Configuração!$S$7:$U$16,3)=\"D\",Configuração!F270,\"\")))","v":""},null,null,null,null,null,null,2062015,42157]
[null,null,null,null,{"$f":"IF(Configuração!C269=\"\",\"\",Configuração!B269)","v":""},null,null,null,null,null,null,null,null,null,{"$f":"IF(Configuração!H271=\"\",\"\",IF($L$8=\"\",\"\",IF(VLOOKUP($L$8,Configuração!$S$7:$U$16,3)=\"D\",Configuração!F271,\"\")))","v":""},null,null,null,null,null,null,2062016,42523]
[null,null,null,null,{"$f":"IF(Configuração!C270=\"\",\"\",Configuração!B270)","v":""},null,null,null,null,null,null,null,null,null,{"$f":"IF(Configuração!H272=\"\",\"\",IF($L$8=\"\",\"\",IF(VLOOKUP($L$8,Configuração!$S$7:$U$16,3)=\"D\",Configuração!F272,\"\")))","v":""},null,null,null,null,null,null,2062017,42888]
[null,null,null,null,{"$f":"IF(Configuração!C271=\"\",\"\",Configuração!B271)","v":""},null,null,null,null,null,null,null,null,null,{"$f":"IF(Configuração!H273=\"\",\"\",IF($L$8=\"\",\"\",IF(VLOOKUP($L$8,Configuração!$S$7:$U$16,3)=\"D\",Configuração!F273,\"\")))","v":""},null,null,null,null,null,null,2062018,43253]
[null,null,null,null,{"$f":"IF(Configuração!C272=\"\",\"\",Configuração!B272)","v":""},null,null,null,null,null,null,null,null,null,{"$f":"IF(Configuração!H274=\"\",\"\",IF($L$8=\"\",\"\",IF(VLOOKUP($L$8,Configuração!$S$7:$U$16,3)=\"D\",Configuração!F274,\"\")))","v":""},null,null,null,null,null,null,2062019,43618]
[null,null,null,null,{"$f":"IF(Configuração!C273=\"\",\"\",Configuração!B273)","v":""},null,null,null,null,null,null,null,null,null,{"$f":"IF(Configuração!H275=\"\",\"\",IF($L$8=\"\",\"\",IF(VLOOKUP($L$8,Configuração!$S$7:$U$16,3)=\"D\",Configuração!F275,\"\")))","v":""},null,null,null,null,null,null,2062020,43984]
[null,null,null,null,{"$f":"IF(Configuração!C274=\"\",\"\",Configuração!B274)","v":""},null,null,null,null,null,null,null,null,null,{"$f":"IF(Configuração!H276=\"\",\"\",IF($L$8=\"\",\"\",IF(VLOOKUP($L$8,Configuração!$S$7:$U$16,3)=\"D\",Configuração!F276,\"\")))","v":""},null,null,null,null,null,null,2062021,44349]
[null,null,null,null,{"$f":"IF(Configuração!C275=\"\",\"\",Configuração!B275)","v":""},null,null,null,null,null,null,null,null,null,{"$f":"IF(Configuração!H277=\"\",\"\",IF($L$8=\"\",\"\",IF(VLOOKUP($L$8,Configuração!$S$7:$U$16,3)=\"D\",Configuração!F277,\"\")))","v":""},null,null,null,null,null,null,2062022,44714]
[null,null,null,null,{"$f":"IF(Configuração!C276=\"\",\"\",Configuração!B276)","v":""},null,null,null,null,null,null,null,null,null,{"$f":"IF(Configuração!H278=\"\",\"\",IF($L$8=\"\",\"\",IF(VLOOKUP($L$8,Configuração!$S$7:$U$16,3)=\"D\",Configuração!F278,\"\")))","v":""},null,null,null,null,null,null,2062023,45079]
[null,null,null,null,{"$f":"IF(Configuração!C277=\"\",\"\",Configuração!B277)","v":""},null,null,null,null,null,null,null,null,null,{"$f":"IF(Configuração!H279=\"\",\"\",IF($L$8=\"\",\"\",IF(VLOOKUP($L$8,Configuração!$S$7:$U$16,3)=\"D\",Configuração!F279,\"\")))","v":""},null,null,null,null,null,null,2072009,39996]
[null,null,null,null,{"$f":"IF(Configuração!C278=\"\",\"\",Configuração!B278)","v":""},null,null,null,null,null,null,null,null,null,{"$f":"IF(Configuração!H280=\"\",\"\",IF($L$8=\"\",\"\",IF(VLOOKUP($L$8,Configuração!$S$7:$U$16,3)=\"D\",Configuração!F280,\"\")))","v":""},null,null,null,null,null,null,2072010,40361]
[null,null,null,null,{"$f":"IF(Configuração!C279=\"\",\"\",Configuração!B279)","v":""},null,null,null,null,null,null,null,null,null,{"$f":"IF(Configuração!H281=\"\",\"\",IF($L$8=\"\",\"\",IF(VLOOKUP($L$8,Configuração!$S$7:$U$16,3)=\"D\",Configuração!F281,\"\")))","v":""},null,null,null,null,null,null,2072011,40726]
[null,null,null,null,{"$f":"IF(Configuração!C280=\"\",\"\",Configuração!B280)","v":""},null,null,null,null,null,null,null,null,null,{"$f":"IF(Configuração!H282=\"\",\"\",IF($L$8=\"\",\"\",IF(VLOOKUP($L$8,Configuração!$S$7:$U$16,3)=\"D\",Configuração!F282,\"\")))","v":""},null,null,null,null,null,null,2072012,41092]
[null,null,null,null,{"$f":"IF(Configuração!C281=\"\",\"\",Configuração!B281)","v":""},null,null,null,null,null,null,null,null,null,{"$f":"IF(Configuração!H283=\"\",\"\",IF($L$8=\"\",\"\",IF(VLOOKUP($L$8,Configuração!$S$7:$U$16,3)=\"D\",Configuração!F283,\"\")))","v":""},null,null,null,null,null,null,2072013,41457]
[null,null,null,null,{"$f":"IF(Configuração!C282=\"\",\"\",Configuração!B282)","v":""},null,null,null,null,null,null,null,null,null,{"$f":"IF(Configuração!H284=\"\",\"\",IF($L$8=\"\",\"\",IF(VLOOKUP($L$8,Configuração!$S$7:$U$16,3)=\"D\",Configuração!F284,\"\")))","v":""},null,null,null,null,null,null,2072014,41822]
[null,null,null,null,{"$f":"IF(Configuração!C283=\"\",\"\",Configuração!B283)","v":""},null,null,null,null,null,null,null,null,null,{"$f":"IF(Configuração!H285=\"\",\"\",IF($L$8=\"\",\"\",IF(VLOOKUP($L$8,Configuração!$S$7:$U$16,3)=\"D\",Configuração!F285,\"\")))","v":""},null,null,null,null,null,null,2072015,42187]
[null,null,null,null,{"$f":"IF(Configuração!C284=\"\",\"\",Configuração!B284)","v":""},null,null,null,null,null,null,null,null,null,{"$f":"IF(Configuração!H286=\"\",\"\",IF($L$8=\"\",\"\",IF(VLOOKUP($L$8,Configuração!$S$7:$U$16,3)=\"D\",Configuração!F286,\"\")))","v":""},null,null,null,null,null,null,2072016,42553]
[null,null,null,null,{"$f":"IF(Configuração!C285=\"\",\"\",Configuração!B285)","v":""},null,null,null,null,null,null,null,null,null,{"$f":"IF(Configuração!H287=\"\",\"\",IF($L$8=\"\",\"\",IF(VLOOKUP($L$8,Configuração!$S$7:$U$16,3)=\"D\",Configuração!F287,\"\")))","v":""},null,null,null,null,null,null,2072017,42918]
[null,null,null,null,{"$f":"IF(Configuração!C286=\"\",\"\",Configuração!B286)","v":""},null,null,null,null,null,null,null,null,null,{"$f":"IF(Configuração!H288=\"\",\"\",IF($L$8=\"\",\"\",IF(VLOOKUP($L$8,Configuração!$S$7:$U$16,3)=\"D\",Configuração!F288,\"\")))","v":""},null,null,null,null,null,null,2072018,43283]
[null,null,null,null,{"$f":"IF(Configuração!C287=\"\",\"\",Configuração!B287)","v":""},null,null,null,null,null,null,null,null,null,{"$f":"IF(Configuração!H289=\"\",\"\",IF($L$8=\"\",\"\",IF(VLOOKUP($L$8,Configuração!$S$7:$U$16,3)=\"D\",Configuração!F289,\"\")))","v":""},null,null,null,null,null,null,2072019,43648]
[null,null,null,null,{"$f":"IF(Configuração!C288=\"\",\"\",Configuração!B288)","v":""},null,null,null,null,null,null,null,null,null,{"$f":"IF(Configuração!H290=\"\",\"\",IF($L$8=\"\",\"\",IF(VLOOKUP($L$8,Configuração!$S$7:$U$16,3)=\"D\",Configuração!F290,\"\")))","v":""},null,null,null,null,null,null,2072020,44014]
[null,null,null,null,{"$f":"IF(Configuração!C289=\"\",\"\",Configuração!B289)","v":""},null,null,null,null,null,null,null,null,null,{"$f":"IF(Configuração!H291=\"\",\"\",IF($L$8=\"\",\"\",IF(VLOOKUP($L$8,Configuração!$S$7:$U$16,3)=\"D\",Configuração!F291,\"\")))","v":""},null,null,null,null,null,null,2072021,44379]
[null,null,null,null,{"$f":"IF(Configuração!C290=\"\",\"\",Configuração!B290)","v":""},null,null,null,null,null,null,null,null,null,{"$f":"IF(Configuração!H292=\"\",\"\",IF($L$8=\"\",\"\",IF(VLOOKUP($L$8,Configuração!$S$7:$U$16,3)=\"D\",Configuração!F292,\"\")))","v":""},null,null,null,null,null,null,2072022,44744]
[null,null,null,null,{"$f":"IF(Configuração!C291=\"\",\"\",Configuração!B291)","v":""},null,null,null,null,null,null,null,null,null,{"$f":"IF(Configuração!H293=\"\",\"\",IF($L$8=\"\",\"\",IF(VLOOKUP($L$8,Configuração!$S$7:$U$16,3)=\"D\",Configuração!F293,\"\")))","v":""},null,null,null,null,null,null,2072023,45109]
[null,null,null,null,{"$f":"IF(Configuração!C292=\"\",\"\",Configuração!B292)","v":""},null,null,null,null,null,null,null,null,null,{"$f":"IF(Configuração!H294=\"\",\"\",IF($L$8=\"\",\"\",IF(VLOOKUP($L$8,Configuração!$S$7:$U$16,3)=\"D\",Configuração!F294,\"\")))","v":""},null,null,null,null,null,null,2082009,40027]
[null,null,null,null,{"$f":"IF(Configuração!C293=\"\",\"\",Configuração!B293)","v":""},null,null,null,null,null,null,null,null,null,{"$f":"IF(Configuração!H295=\"\",\"\",IF($L$8=\"\",\"\",IF(VLOOKUP($L$8,Configuração!$S$7:$U$16,3)=\"D\",Configuração!F295,\"\")))","v":""},null,null,null,null,null,null,2082010,40392]
[null,null,null,null,{"$f":"IF(Configuração!C294=\"\",\"\",Configuração!B294)","v":""},null,null,null,null,null,null,null,null,null,{"$f":"IF(Configuração!H296=\"\",\"\",IF($L$8=\"\",\"\",IF(VLOOKUP($L$8,Configuração!$S$7:$U$16,3)=\"D\",Configuração!F296,\"\")))","v":""},null,null,null,null,null,null,2082011,40757]
[null,null,null,null,{"$f":"IF(Configuração!C295=\"\",\"\",Configuração!B295)","v":""},null,null,null,null,null,null,null,null,null,{"$f":"IF(Configuração!H297=\"\",\"\",IF($L$8=\"\",\"\",IF(VLOOKUP($L$8,Configuração!$S$7:$U$16,3)=\"D\",Configuração!F297,\"\")))","v":""},null,null,null,null,null,null,2082012,41123]
[null,null,null,null,{"$f":"IF(Configuração!C296=\"\",\"\",Configuração!B296)","v":""},null,null,null,null,null,null,null,null,null,{"$f":"IF(Configuração!H298=\"\",\"\",IF($L$8=\"\",\"\",IF(VLOOKUP($L$8,Configuração!$S$7:$U$16,3)=\"D\",Configuração!F298,\"\")))","v":""},null,null,null,null,null,null,2082013,41488]
[null,null,null,null,{"$f":"IF(Configuração!C297=\"\",\"\",Configuração!B297)","v":""},null,null,null,null,null,null,null,null,null,{"$f":"IF(Configuração!H299=\"\",\"\",IF($L$8=\"\",\"\",IF(VLOOKUP($L$8,Configuração!$S$7:$U$16,3)=\"D\",Configuração!F299,\"\")))","v":""},null,null,null,null,null,null,2082014,41853]
[null,null,null,null,{"$f":"IF(Configuração!C298=\"\",\"\",Configuração!B298)","v":""},null,null,null,null,null,null,null,null,null,{"$f":"IF(Configuração!H300=\"\",\"\",IF($L$8=\"\",\"\",IF(VLOOKUP($L$8,Configuração!$S$7:$U$16,3)=\"D\",Configuração!F300,\"\")))","v":""},null,null,null,null,null,null,2082015,42218]
[null,null,null,null,{"$f":"IF(Configuração!C299=\"\",\"\",Configuração!B299)","v":""},null,null,null,null,null,null,null,null,null,{"$f":"IF(Configuração!H301=\"\",\"\",IF($L$8=\"\",\"\",IF(VLOOKUP($L$8,Configuração!$S$7:$U$16,3)=\"D\",Configuração!F301,\"\")))","v":""},null,null,null,null,null,null,2082016,42584]
[null,null,null,null,{"$f":"IF(Configuração!C300=\"\",\"\",Configuração!B300)","v":""},null,null,null,null,null,null,null,null,null,{"$f":"IF(Configuração!H302=\"\",\"\",IF($L$8=\"\",\"\",IF(VLOOKUP($L$8,Configuração!$S$7:$U$16,3)=\"D\",Configuração!F302,\"\")))","v":""},null,null,null,null,null,null,2082017,42949]
[null,null,null,null,{"$f":"IF(Configuração!C301=\"\",\"\",Configuração!B301)","v":""},null,null,null,null,null,null,null,null,null,{"$f":"IF(Configuração!H303=\"\",\"\",IF($L$8=\"\",\"\",IF(VLOOKUP($L$8,Configuração!$S$7:$U$16,3)=\"D\",Configuração!F303,\"\")))","v":""},null,null,null,null,null,null,2082018,43314]
[null,null,null,null,{"$f":"IF(Configuração!C302=\"\",\"\",Configuração!B302)","v":""},null,null,null,null,null,null,null,null,null,{"$f":"IF(Configuração!H304=\"\",\"\",IF($L$8=\"\",\"\",IF(VLOOKUP($L$8,Configuração!$S$7:$U$16,3)=\"D\",Configuração!F304,\"\")))","v":""},null,null,null,null,null,null,2082019,43679]
[null,null,null,null,{"$f":"IF(Configuração!C303=\"\",\"\",Configuração!B303)","v":""},null,null,null,null,null,null,null,null,null,{"$f":"IF(Configuração!H305=\"\",\"\",IF($L$8=\"\",\"\",IF(VLOOKUP($L$8,Configuração!$S$7:$U$16,3)=\"D\",Configuração!F305,\"\")))","v":""},null,null,null,null,null,null,2082020,44045]
[null,null,null,null,{"$f":"IF(Configuração!C304=\"\",\"\",Configuração!B304)","v":""},null,null,null,null,null,null,null,null,null,{"$f":"IF(Configuração!H306=\"\",\"\",IF($L$8=\"\",\"\",IF(VLOOKUP($L$8,Configuração!$S$7:$U$16,3)=\"D\",Configuração!F306,\"\")))","v":""},null,null,null,null,null,null,2082021,44410]
[null,null,null,null,{"$f":"IF(Configuração!C305=\"\",\"\",Configuração!B305)","v":""},null,null,null,null,null,null,null,null,null,{"$f":"IF(Configuração!H307=\"\",\"\",IF($L$8=\"\",\"\",IF(VLOOKUP($L$8,Configuração!$S$7:$U$16,3)=\"D\",Configuração!F307,\"\")))","v":""},null,null,null,null,null,null,2082022,44775]
[null,null,null,null,{"$f":"IF(Configuração!C306=\"\",\"\",Configuração!B306)","v":""},null,null,null,null,null,null,null,null,null,{"$f":"IF(Configuração!H308=\"\",\"\",IF($L$8=\"\",\"\",IF(VLOOKUP($L$8,Configuração!$S$7:$U$16,3)=\"D\",Configuração!F308,\"\")))","v":""},null,null,null,null,null,null,2082023,45140]
[null,null,null,null,{"$f":"IF(Configuração!C307=\"\",\"\",Configuração!B307)","v":""},null,null,null,null,null,null,null,null,null,{"$f":"IF(Configuração!H309=\"\",\"\",IF($L$8=\"\",\"\",IF(VLOOKUP($L$8,Configuração!$S$7:$U$16,3)=\"D\",Configuração!F309,\"\")))","v":""},null,null,null,null,null,null,2092009,40058]
[null,null,null,null,{"$f":"IF(Configuração!C308=\"\",\"\",Configuração!B308)","v":""},null,null,null,null,null,null,null,null,null,{"$f":"IF(Configuração!H310=\"\",\"\",IF($L$8=\"\",\"\",IF(VLOOKUP($L$8,Configuração!$S$7:$U$16,3)=\"D\",Configuração!F310,\"\")))","v":""},null,null,null,null,null,null,2092010,40423]
[null,null,null,null,{"$f":"IF(Configuração!C309=\"\",\"\",Configuração!B309)","v":""},null,null,null,null,null,null,null,null,null,{"$f":"IF(Configuração!H311=\"\",\"\",IF($L$8=\"\",\"\",IF(VLOOKUP($L$8,Configuração!$S$7:$U$16,3)=\"D\",Configuração!F311,\"\")))","v":""},null,null,null,null,null,null,2092011,40788]
[null,null,null,null,{"$f":"IF(Configuração!C310=\"\",\"\",Configuração!B310)","v":""},null,null,null,null,null,null,null,null,null,{"$f":"IF(Configuração!H312=\"\",\"\",IF($L$8=\"\",\"\",IF(VLOOKUP($L$8,Configuração!$S$7:$U$16,3)=\"D\",Configuração!F312,\"\")))","v":""},null,null,null,null,null,null,2092012,41154]
[null,null,null,null,{"$f":"IF(Configuração!C311=\"\",\"\",Configuração!B311)","v":""},null,null,null,null,null,null,null,null,null,{"$f":"IF(Configuração!H313=\"\",\"\",IF($L$8=\"\",\"\",IF(VLOOKUP($L$8,Configuração!$S$7:$U$16,3)=\"D\",Configuração!F313,\"\")))","v":""},null,null,null,null,null,null,2092013,41519]
[null,null,null,null,{"$f":"IF(Configuração!C312=\"\",\"\",Configuração!B312)","v":""},null,null,null,null,null,null,null,null,null,{"$f":"IF(Configuração!H314=\"\",\"\",IF($L$8=\"\",\"\",IF(VLOOKUP($L$8,Configuração!$S$7:$U$16,3)=\"D\",Configuração!F314,\"\")))","v":""},null,null,null,null,null,null,2092014,41884]
[null,null,null,null,{"$f":"IF(Configuração!C313=\"\",\"\",Configuração!B313)","v":""},null,null,null,null,null,null,null,null,null,null,null,null,null,null,null,null,2092015,42249]
[null,null,null,null,{"$f":"IF(Configuração!C314=\"\",\"\",Configuração!B314)","v":""},null,null,null,null,null,null,null,null,null,{"$f":"IF(Configuração!H316=\"\",\"\",IF($L$8=\"\",\"\",IF(VLOOKUP($L$8,Configuração!$S$7:$U$16,3)=\"D\",Configuração!F316,\"\")))","v":""},null,null,null,null,null,null,2092016,42615]
[null,null,null,null,{"$f":"IF(Configuração!C315=\"\",\"\",Configuração!B315)","v":""},null,null,null,null,null,null,null,null,null,{"$f":"IF(Configuração!H317=\"\",\"\",IF($L$8=\"\",\"\",IF(VLOOKUP($L$8,Configuração!$S$7:$U$16,3)=\"D\",Configuração!F317,\"\")))","v":""},null,null,null,null,null,null,2092017,42980]
[null,null,null,null,{"$f":"IF(Configuração!C316=\"\",\"\",Configuração!B316)","v":""},null,null,null,null,null,null,null,null,null,{"$f":"IF(Configuração!H318=\"\",\"\",IF($L$8=\"\",\"\",IF(VLOOKUP($L$8,Configuração!$S$7:$U$16,3)=\"D\",Configuração!F318,\"\")))","v":""},null,null,null,null,null,null,2092018,43345]
[null,null,null,null,{"$f":"IF(Configuração!C317=\"\",\"\",Configuração!B317)","v":""},null,null,null,null,null,null,null,null,null,{"$f":"IF(Configuração!H319=\"\",\"\",IF($L$8=\"\",\"\",IF(VLOOKUP($L$8,Configuração!$S$7:$U$16,3)=\"D\",Configuração!F319,\"\")))","v":""},null,null,null,null,null,null,2092019,43710]
[null,null,null,null,{"$f":"IF(Configuração!C318=\"\",\"\",Configuração!B318)","v":""},null,null,null,null,null,null,null,null,null,{"$f":"IF(Configuração!H320=\"\",\"\",IF($L$8=\"\",\"\",IF(VLOOKUP($L$8,Configuração!$S$7:$U$16,3)=\"D\",Configuração!F320,\"\")))","v":""},null,null,null,null,null,null,2092020,44076]
[null,null,null,null,{"$f":"IF(Configuração!C319=\"\",\"\",Configuração!B319)","v":""},null,null,null,null,null,null,null,null,null,{"$f":"IF(Configuração!H321=\"\",\"\",IF($L$8=\"\",\"\",IF(VLOOKUP($L$8,Configuração!$S$7:$U$16,3)=\"D\",Configuração!F321,\"\")))","v":""},null,null,null,null,null,null,2092021,44441]
[null,null,null,null,{"$f":"IF(Configuração!C320=\"\",\"\",Configuração!B320)","v":""},null,null,null,null,null,null,null,null,null,{"$f":"IF(Configuração!H322=\"\",\"\",IF($L$8=\"\",\"\",IF(VLOOKUP($L$8,Configuração!$S$7:$U$16,3)=\"D\",Configuração!F322,\"\")))","v":""},null,null,null,null,null,null,2092022,44806]
[null,null,null,null,{"$f":"IF(Configuração!C321=\"\",\"\",Configuração!B321)","v":""},null,null,null,null,null,null,null,null,null,{"$f":"IF(Configuração!H323=\"\",\"\",IF($L$8=\"\",\"\",IF(VLOOKUP($L$8,Configuração!$S$7:$U$16,3)=\"D\",Configuração!F323,\"\")))","v":""},null,null,null,null,null,null,2092023,45171]
[null,null,null,null,{"$f":"IF(Configuração!C322=\"\",\"\",Configuração!B322)","v":""},null,null,null,null,null,null,null,null,null,{"$f":"IF(Configuração!H324=\"\",\"\",IF($L$8=\"\",\"\",IF(VLOOKUP($L$8,Configuração!$S$7:$U$16,3)=\"D\",Configuração!F324,\"\")))","v":""},null,null,null,null,null,null,2102009,40088]
[null,null,null,null,{"$f":"IF(Configuração!C323=\"\",\"\",Configuração!B323)","v":""},null,null,null,null,null,null,null,null,null,{"$f":"IF(Configuração!H325=\"\",\"\",IF($L$8=\"\",\"\",IF(VLOOKUP($L$8,Configuração!$S$7:$U$16,3)=\"D\",Configuração!F325,\"\")))","v":""},null,null,null,null,null,null,2102010,40453]
[null,null,null,null,{"$f":"IF(Configuração!C324=\"\",\"\",Configuração!B324)","v":""},null,null,null,null,null,null,null,null,null,{"$f":"IF(Configuração!H326=\"\",\"\",IF($L$8=\"\",\"\",IF(VLOOKUP($L$8,Configuração!$S$7:$U$16,3)=\"D\",Configuração!F326,\"\")))","v":""},null,null,null,null,null,null,2102011,40818]
[null,null,null,null,{"$f":"IF(Configuração!C325=\"\",\"\",Configuração!B325)","v":""},null,null,null,null,null,null,null,null,null,{"$f":"IF(Configuração!H327=\"\",\"\",IF($L$8=\"\",\"\",IF(VLOOKUP($L$8,Configuração!$S$7:$U$16,3)=\"D\",Configuração!F327,\"\")))","v":""},null,null,null,null,null,null,2102012,41184]
[null,null,null,null,{"$f":"IF(Configuração!C326=\"\",\"\",Configuração!B326)","v":""},null,null,null,null,null,null,null,null,null,{"$f":"IF(Configuração!H328=\"\",\"\",IF($L$8=\"\",\"\",IF(VLOOKUP($L$8,Configuração!$S$7:$U$16,3)=\"D\",Configuração!F328,\"\")))","v":""},null,null,null,null,null,null,2102013,41549]
[null,null,null,null,{"$f":"IF(Configuração!C327=\"\",\"\",Configuração!B327)","v":""},null,null,null,null,null,null,null,null,null,{"$f":"IF(Configuração!H329=\"\",\"\",IF($L$8=\"\",\"\",IF(VLOOKUP($L$8,Configuração!$S$7:$U$16,3)=\"D\",Configuração!F329,\"\")))","v":""},null,null,null,null,null,null,2102014,41914]
[null,null,null,null,{"$f":"IF(Configuração!C328=\"\",\"\",Configuração!B328)","v":""},null,null,null,null,null,null,null,null,null,{"$f":"IF(Configuração!H330=\"\",\"\",IF($L$8=\"\",\"\",IF(VLOOKUP($L$8,Configuração!$S$7:$U$16,3)=\"D\",Configuração!F330,\"\")))","v":""},null,null,null,null,null,null,2102015,42279]
[null,null,null,null,{"$f":"IF(Configuração!C329=\"\",\"\",Configuração!B329)","v":""},null,null,null,null,null,null,null,null,null,{"$f":"IF(Configuração!H331=\"\",\"\",IF($L$8=\"\",\"\",IF(VLOOKUP($L$8,Configuração!$S$7:$U$16,3)=\"D\",Configuração!F331,\"\")))","v":""},null,null,null,null,null,null,2102016,42645]
[null,null,null,null,{"$f":"IF(Configuração!C330=\"\",\"\",Configuração!B330)","v":""},null,null,null,null,null,null,null,null,null,{"$f":"IF(Configuração!H332=\"\",\"\",IF($L$8=\"\",\"\",IF(VLOOKUP($L$8,Configuração!$S$7:$U$16,3)=\"D\",Configuração!F332,\"\")))","v":""},null,null,null,null,null,null,2102017,43010]
[null,null,null,null,{"$f":"IF(Configuração!C331=\"\",\"\",Configuração!B331)","v":""},null,null,null,null,null,null,null,null,null,{"$f":"IF(Configuração!H333=\"\",\"\",IF($L$8=\"\",\"\",IF(VLOOKUP($L$8,Configuração!$S$7:$U$16,3)=\"D\",Configuração!F333,\"\")))","v":""},null,null,null,null,null,null,2102018,43375]
[null,null,null,null,{"$f":"IF(Configuração!C332=\"\",\"\",Configuração!B332)","v":""},null,null,null,null,null,null,null,null,null,{"$f":"IF(Configuração!H334=\"\",\"\",IF($L$8=\"\",\"\",IF(VLOOKUP($L$8,Configuração!$S$7:$U$16,3)=\"D\",Configuração!F334,\"\")))","v":""},null,null,null,null,null,null,2102019,43740]
[null,null,null,null,{"$f":"IF(Configuração!C333=\"\",\"\",Configuração!B333)","v":""},null,null,null,null,null,null,null,null,null,{"$f":"IF(Configuração!H335=\"\",\"\",IF($L$8=\"\",\"\",IF(VLOOKUP($L$8,Configuração!$S$7:$U$16,3)=\"D\",Configuração!F335,\"\")))","v":""},null,null,null,null,null,null,2102020,44106]
[null,null,null,null,{"$f":"IF(Configuração!C334=\"\",\"\",Configuração!B334)","v":""},null,null,null,null,null,null,null,null,null,{"$f":"IF(Configuração!H336=\"\",\"\",IF($L$8=\"\",\"\",IF(VLOOKUP($L$8,Configuração!$S$7:$U$16,3)=\"D\",Configuração!F336,\"\")))","v":""},null,null,null,null,null,null,2102021,44471]
[null,null,null,null,{"$f":"IF(Configuração!C335=\"\",\"\",Configuração!B335)","v":""},null,null,null,null,null,null,null,null,null,{"$f":"IF(Configuração!H337=\"\",\"\",IF($L$8=\"\",\"\",IF(VLOOKUP($L$8,Configuração!$S$7:$U$16,3)=\"D\",Configuração!F337,\"\")))","v":""},null,null,null,null,null,null,2102022,44836]
[null,null,null,null,{"$f":"IF(Configuração!C336=\"\",\"\",Configuração!B336)","v":""},null,null,null,null,null,null,null,null,null,{"$f":"IF(Configuração!H338=\"\",\"\",IF($L$8=\"\",\"\",IF(VLOOKUP($L$8,Configuração!$S$7:$U$16,3)=\"D\",Configuração!F338,\"\")))","v":""},null,null,null,null,null,null,2102023,45201]
[null,null,null,null,{"$f":"IF(Configuração!C337=\"\",\"\",Configuração!B337)","v":""},null,null,null,null,null,null,null,null,null,{"$f":"IF(Configuração!H339=\"\",\"\",IF($L$8=\"\",\"\",IF(VLOOKUP($L$8,Configuração!$S$7:$U$16,3)=\"D\",Configuração!F339,\"\")))","v":""},null,null,null,null,null,null,2112009,40119]
[null,null,null,null,{"$f":"IF(Configuração!C338=\"\",\"\",Configuração!B338)","v":""},null,null,null,null,null,null,null,null,null,{"$f":"IF(Configuração!H340=\"\",\"\",IF($L$8=\"\",\"\",IF(VLOOKUP($L$8,Configuração!$S$7:$U$16,3)=\"D\",Configuração!F340,\"\")))","v":""},null,null,null,null,null,null,2112010,40484]
[null,null,null,null,{"$f":"IF(Configuração!C339=\"\",\"\",Configuração!B339)","v":""},null,null,null,null,null,null,null,null,null,{"$f":"IF(Configuração!H341=\"\",\"\",IF($L$8=\"\",\"\",IF(VLOOKUP($L$8,Configuração!$S$7:$U$16,3)=\"D\",Configuração!F341,\"\")))","v":""},null,null,null,null,null,null,2112011,40849]
[null,null,null,null,{"$f":"IF(Configuração!C340=\"\",\"\",Configuração!B340)","v":""},null,null,null,null,null,null,null,null,null,{"$f":"IF(Configuração!H342=\"\",\"\",IF($L$8=\"\",\"\",IF(VLOOKUP($L$8,Configuração!$S$7:$U$16,3)=\"D\",Configuração!F342,\"\")))","v":""},null,null,null,null,null,null,2112012,41215]
[null,null,null,null,{"$f":"IF(Configuração!C341=\"\",\"\",Configuração!B341)","v":""},null,null,null,null,null,null,null,null,null,{"$f":"IF(Configuração!H343=\"\",\"\",IF($L$8=\"\",\"\",IF(VLOOKUP($L$8,Configuração!$S$7:$U$16,3)=\"D\",Configuração!F343,\"\")))","v":""},null,null,null,null,null,null,2112013,41580]
[null,null,null,null,{"$f":"IF(Configuração!C342=\"\",\"\",Configuração!B342)","v":""},null,null,null,null,null,null,null,null,null,{"$f":"IF(Configuração!H344=\"\",\"\",IF($L$8=\"\",\"\",IF(VLOOKUP($L$8,Configuração!$S$7:$U$16,3)=\"D\",Configuração!F344,\"\")))","v":""},null,null,null,null,null,null,2112014,41945]
[null,null,null,null,{"$f":"IF(Configuração!C343=\"\",\"\",Configuração!B343)","v":""},null,null,null,null,null,null,null,null,null,{"$f":"IF(Configuração!H345=\"\",\"\",IF($L$8=\"\",\"\",IF(VLOOKUP($L$8,Configuração!$S$7:$U$16,3)=\"D\",Configuração!F345,\"\")))","v":""},null,null,null,null,null,null,2112015,42310]
[null,null,null,null,{"$f":"IF(Configuração!C344=\"\",\"\",Configuração!B344)","v":""},null,null,null,null,null,null,null,null,null,{"$f":"IF(Configuração!H346=\"\",\"\",IF($L$8=\"\",\"\",IF(VLOOKUP($L$8,Configuração!$S$7:$U$16,3)=\"D\",Configuração!F346,\"\")))","v":""},null,null,null,null,null,null,2112016,42676]
[null,null,null,null,{"$f":"IF(Configuração!C345=\"\",\"\",Configuração!B345)","v":""},null,null,null,null,null,null,null,null,null,{"$f":"IF(Configuração!H347=\"\",\"\",IF($L$8=\"\",\"\",IF(VLOOKUP($L$8,Configuração!$S$7:$U$16,3)=\"D\",Configuração!F347,\"\")))","v":""},null,null,null,null,null,null,2112017,43041]
[null,null,null,null,{"$f":"IF(Configuração!C346=\"\",\"\",Configuração!B346)","v":""},null,null,null,null,null,null,null,null,null,{"$f":"IF(Configuração!H348=\"\",\"\",IF($L$8=\"\",\"\",IF(VLOOKUP($L$8,Configuração!$S$7:$U$16,3)=\"D\",Configuração!F348,\"\")))","v":""},null,null,null,null,null,null,2112018,43406]
[null,null,null,null,{"$f":"IF(Configuração!C347=\"\",\"\",Configuração!B347)","v":""},null,null,null,null,null,null,null,null,null,{"$f":"IF(Configuração!H349=\"\",\"\",IF($L$8=\"\",\"\",IF(VLOOKUP($L$8,Configuração!$S$7:$U$16,3)=\"D\",Configuração!F349,\"\")))","v":""},null,null,null,null,null,null,2112019,43771]
[null,null,null,null,{"$f":"IF(Configuração!C348=\"\",\"\",Configuração!B348)","v":""},null,null,null,null,null,null,null,null,null,{"$f":"IF(Configuração!H350=\"\",\"\",IF($L$8=\"\",\"\",IF(VLOOKUP($L$8,Configuração!$S$7:$U$16,3)=\"D\",Configuração!F350,\"\")))","v":""},null,null,null,null,null,null,2112020,44137]
[null,null,null,null,{"$f":"IF(Configuração!C349=\"\",\"\",Configuração!B349)","v":""},null,null,null,null,null,null,null,null,null,{"$f":"IF(Configuração!H351=\"\",\"\",IF($L$8=\"\",\"\",IF(VLOOKUP($L$8,Configuração!$S$7:$U$16,3)=\"D\",Configuração!F351,\"\")))","v":""},null,null,null,null,null,null,2112021,44502]
[null,null,null,null,{"$f":"IF(Configuração!C350=\"\",\"\",Configuração!B350)","v":""},null,null,null,null,null,null,null,null,null,{"$f":"IF(Configuração!H352=\"\",\"\",IF($L$8=\"\",\"\",IF(VLOOKUP($L$8,Configuração!$S$7:$U$16,3)=\"D\",Configuração!F352,\"\")))","v":""},null,null,null,null,null,null,2112022,44867]
[null,null,null,null,{"$f":"IF(Configuração!C351=\"\",\"\",Configuração!B351)","v":""},null,null,null,null,null,null,null,null,null,{"$f":"IF(Configuração!H353=\"\",\"\",IF($L$8=\"\",\"\",IF(VLOOKUP($L$8,Configuração!$S$7:$U$16,3)=\"D\",Configuração!F353,\"\")))","v":""},null,null,null,null,null,null,2112023,45232]
[null,null,null,null,{"$f":"IF(Configuração!C352=\"\",\"\",Configuração!B352)","v":""},null,null,null,null,null,null,null,null,null,{"$f":"IF(Configuração!H354=\"\",\"\",IF($L$8=\"\",\"\",IF(VLOOKUP($L$8,Configuração!$S$7:$U$16,3)=\"D\",Configuração!F354,\"\")))","v":""},null,null,null,null,null,null,2122009,40149]
[null,null,null,null,{"$f":"IF(Configuração!C353=\"\",\"\",Configuração!B353)","v":""},null,null,null,null,null,null,null,null,null,{"$f":"IF(Configuração!H355=\"\",\"\",IF($L$8=\"\",\"\",IF(VLOOKUP($L$8,Configuração!$S$7:$U$16,3)=\"D\",Configuração!F355,\"\")))","v":""},null,null,null,null,null,null,2122010,40514]
[null,null,null,null,{"$f":"IF(Configuração!C354=\"\",\"\",Configuração!B354)","v":""},null,null,null,null,null,null,null,null,null,{"$f":"IF(Configuração!H356=\"\",\"\",IF($L$8=\"\",\"\",IF(VLOOKUP($L$8,Configuração!$S$7:$U$16,3)=\"D\",Configuração!F356,\"\")))","v":""},null,null,null,null,null,null,2122011,40879]
[null,null,null,null,{"$f":"IF(Configuração!C355=\"\",\"\",Configuração!B355)","v":""},null,null,null,null,null,null,null,null,null,{"$f":"IF(Configuração!H357=\"\",\"\",IF($L$8=\"\",\"\",IF(VLOOKUP($L$8,Configuração!$S$7:$U$16,3)=\"D\",Configuração!F357,\"\")))","v":""},null,null,null,null,null,null,2122012,41245]
[null,null,null,null,{"$f":"IF(Configuração!C356=\"\",\"\",Configuração!B356)","v":""},null,null,null,null,null,null,null,null,null,{"$f":"IF(Configuração!H358=\"\",\"\",IF($L$8=\"\",\"\",IF(VLOOKUP($L$8,Configuração!$S$7:$U$16,3)=\"D\",Configuração!F358,\"\")))","v":""},null,null,null,null,null,null,2122013,41610]
[null,null,null,null,{"$f":"IF(Configuração!C357=\"\",\"\",Configuração!B357)","v":""},null,null,null,null,null,null,null,null,null,{"$f":"IF(Configuração!H359=\"\",\"\",IF($L$8=\"\",\"\",IF(VLOOKUP($L$8,Configuração!$S$7:$U$16,3)=\"D\",Configuração!F359,\"\")))","v":""},null,null,null,null,null,null,2122014,41975]
[null,null,null,null,{"$f":"IF(Configuração!C358=\"\",\"\",Configuração!B358)","v":""},null,null,null,null,null,null,null,null,null,{"$f":"IF(Configuração!H360=\"\",\"\",IF($L$8=\"\",\"\",IF(VLOOKUP($L$8,Configuração!$S$7:$U$16,3)=\"D\",Configuração!F360,\"\")))","v":""},null,null,null,null,null,null,2122015,42340]
[null,null,null,null,{"$f":"IF(Configuração!C359=\"\",\"\",Configuração!B359)","v":""},null,null,null,null,null,null,null,null,null,{"$f":"IF(Configuração!H361=\"\",\"\",IF($L$8=\"\",\"\",IF(VLOOKUP($L$8,Configuração!$S$7:$U$16,3)=\"D\",Configuração!F361,\"\")))","v":""},null,null,null,null,null,null,2122016,42706]
[null,null,null,null,{"$f":"IF(Configuração!C360=\"\",\"\",Configuração!B360)","v":""},null,null,null,null,null,null,null,null,null,{"$f":"IF(Configuração!H362=\"\",\"\",IF($L$8=\"\",\"\",IF(VLOOKUP($L$8,Configuração!$S$7:$U$16,3)=\"D\",Configuração!F362,\"\")))","v":""},null,null,null,null,null,null,2122017,43071]
[null,null,null,null,{"$f":"IF(Configuração!C361=\"\",\"\",Configuração!B361)","v":""},null,null,null,null,null,null,null,null,null,{"$f":"IF(Configuração!H363=\"\",\"\",IF($L$8=\"\",\"\",IF(VLOOKUP($L$8,Configuração!$S$7:$U$16,3)=\"D\",Configuração!F363,\"\")))","v":""},null,null,null,null,null,null,2122018,43436]
[null,null,null,null,{"$f":"IF(Configuração!C362=\"\",\"\",Configuração!B362)","v":""},null,null,null,null,null,null,null,null,null,{"$f":"IF(Configuração!H364=\"\",\"\",IF($L$8=\"\",\"\",IF(VLOOKUP($L$8,Configuração!$S$7:$U$16,3)=\"D\",Configuração!F364,\"\")))","v":""},null,null,null,null,null,null,2122019,43801]
[null,null,null,null,{"$f":"IF(Configuração!C363=\"\",\"\",Configuração!B363)","v":""},null,null,null,null,null,null,null,null,null,{"$f":"IF(Configuração!H365=\"\",\"\",IF($L$8=\"\",\"\",IF(VLOOKUP($L$8,Configuração!$S$7:$U$16,3)=\"D\",Configuração!F365,\"\")))","v":""},null,null,null,null,null,null,2122020,44167]
[null,null,null,null,{"$f":"IF(Configuração!C364=\"\",\"\",Configuração!B364)","v":""},null,null,null,null,null,null,null,null,null,null,null,null,null,null,null,null,2122021,44532]
[null,null,null,null,{"$f":"IF(Configuração!C365=\"\",\"\",Configuração!B365)","v":""},null,null,null,null,null,null,null,null,null,{"$f":"IF(Configuração!H367=\"\",\"\",IF($L$8=\"\",\"\",IF(VLOOKUP($L$8,Configuração!$S$7:$U$16,3)=\"D\",Configuração!F367,\"\")))","v":""},null,null,null,null,null,null,2122022,44897]
[null,null,null,null,{"$f":"IF(Configuração!C366=\"\",\"\",Configuração!B366)","v":""},null,null,null,null,null,null,null,null,null,{"$f":"IF(Configuração!H368=\"\",\"\",IF($L$8=\"\",\"\",IF(VLOOKUP($L$8,Configuração!$S$7:$U$16,3)=\"D\",Configuração!F368,\"\")))","v":""},null,null,null,null,null,null,2122023,45262]
[null,null,null,null,{"$f":"IF(Configuração!C367=\"\",\"\",Configuração!B367)","v":""},null,null,null,null,null,null,null,null,null,{"$f":"IF(Configuração!H369=\"\",\"\",IF($L$8=\"\",\"\",IF(VLOOKUP($L$8,Configuração!$S$7:$U$16,3)=\"D\",Configuração!F369,\"\")))","v":""},null,null,null,null,null,null,3012009,39816]
[null,null,null,null,{"$f":"IF(Configuração!C368=\"\",\"\",Configuração!B368)","v":""},null,null,null,null,null,null,null,null,null,{"$f":"IF(Configuração!H370=\"\",\"\",IF($L$8=\"\",\"\",IF(VLOOKUP($L$8,Configuração!$S$7:$U$16,3)=\"D\",Configuração!F370,\"\")))","v":""},null,null,null,null,null,null,3012010,40181]
[null,null,null,null,{"$f":"IF(Configuração!C369=\"\",\"\",Configuração!B369)","v":""},null,null,null,null,null,null,null,null,null,{"$f":"IF(Configuração!H371=\"\",\"\",IF($L$8=\"\",\"\",IF(VLOOKUP($L$8,Configuração!$S$7:$U$16,3)=\"D\",Configuração!F371,\"\")))","v":""},null,null,null,null,null,null,3012011,40546]
[null,null,null,null,{"$f":"IF(Configuração!C370=\"\",\"\",Configuração!B370)","v":""},null,null,null,null,null,null,null,null,null,{"$f":"IF(Configuração!H372=\"\",\"\",IF($L$8=\"\",\"\",IF(VLOOKUP($L$8,Configuração!$S$7:$U$16,3)=\"D\",Configuração!F372,\"\")))","v":""},null,null,null,null,null,null,3012012,40911]
[null,null,null,null,{"$f":"IF(Configuração!C371=\"\",\"\",Configuração!B371)","v":""},null,null,null,null,null,null,null,null,null,{"$f":"IF(Configuração!H373=\"\",\"\",IF($L$8=\"\",\"\",IF(VLOOKUP($L$8,Configuração!$S$7:$U$16,3)=\"D\",Configuração!F373,\"\")))","v":""},null,null,null,null,null,null,3012013,41277]
[null,null,null,null,{"$f":"IF(Configuração!C372=\"\",\"\",Configuração!B372)","v":""},null,null,null,null,null,null,null,null,null,{"$f":"IF(Configuração!H374=\"\",\"\",IF($L$8=\"\",\"\",IF(VLOOKUP($L$8,Configuração!$S$7:$U$16,3)=\"D\",Configuração!F374,\"\")))","v":""},null,null,null,null,null,null,3012014,41642]
[null,null,null,null,{"$f":"IF(Configuração!C373=\"\",\"\",Configuração!B373)","v":""},null,null,null,null,null,null,null,null,null,{"$f":"IF(Configuração!H375=\"\",\"\",IF($L$8=\"\",\"\",IF(VLOOKUP($L$8,Configuração!$S$7:$U$16,3)=\"D\",Configuração!F375,\"\")))","v":""},null,null,null,null,null,null,3012015,42007]
[null,null,null,null,{"$f":"IF(Configuração!C374=\"\",\"\",Configuração!B374)","v":""},null,null,null,null,null,null,null,null,null,{"$f":"IF(Configuração!H376=\"\",\"\",IF($L$8=\"\",\"\",IF(VLOOKUP($L$8,Configuração!$S$7:$U$16,3)=\"D\",Configuração!F376,\"\")))","v":""},null,null,null,null,null,null,3012016,42372]
[null,null,null,null,{"$f":"IF(Configuração!C375=\"\",\"\",Configuração!B375)","v":""},null,null,null,null,null,null,null,null,null,{"$f":"IF(Configuração!H377=\"\",\"\",IF($L$8=\"\",\"\",IF(VLOOKUP($L$8,Configuração!$S$7:$U$16,3)=\"D\",Configuração!F377,\"\")))","v":""},null,null,null,null,null,null,3012017,42738]
[null,null,null,null,{"$f":"IF(Configuração!C376=\"\",\"\",Configuração!B376)","v":""},null,null,null,null,null,null,null,null,null,{"$f":"IF(Configuração!H378=\"\",\"\",IF($L$8=\"\",\"\",IF(VLOOKUP($L$8,Configuração!$S$7:$U$16,3)=\"D\",Configuração!F378,\"\")))","v":""},null,null,null,null,null,null,3012018,43103]
[null,null,null,null,{"$f":"IF(Configuração!C377=\"\",\"\",Configuração!B377)","v":""},null,null,null,null,null,null,null,null,null,{"$f":"IF(Configuração!H379=\"\",\"\",IF($L$8=\"\",\"\",IF(VLOOKUP($L$8,Configuração!$S$7:$U$16,3)=\"D\",Configuração!F379,\"\")))","v":""},null,null,null,null,null,null,3012019,43468]
[null,null,null,null,{"$f":"IF(Configuração!C378=\"\",\"\",Configuração!B378)","v":""},null,null,null,null,null,null,null,null,null,{"$f":"IF(Configuração!H380=\"\",\"\",IF($L$8=\"\",\"\",IF(VLOOKUP($L$8,Configuração!$S$7:$U$16,3)=\"D\",Configuração!F380,\"\")))","v":""},null,null,null,null,null,null,3012020,43833]
[null,null,null,null,{"$f":"IF(Configuração!C379=\"\",\"\",Configuração!B379)","v":""},null,null,null,null,null,null,null,null,null,{"$f":"IF(Configuração!H381=\"\",\"\",IF($L$8=\"\",\"\",IF(VLOOKUP($L$8,Configuração!$S$7:$U$16,3)=\"D\",Configuração!F381,\"\")))","v":""},null,null,null,null,null,null,3012021,44199]
[null,null,null,null,{"$f":"IF(Configuração!C380=\"\",\"\",Configuração!B380)","v":""},null,null,null,null,null,null,null,null,null,{"$f":"IF(Configuração!H382=\"\",\"\",IF($L$8=\"\",\"\",IF(VLOOKUP($L$8,Configuração!$S$7:$U$16,3)=\"D\",Configuração!F382,\"\")))","v":""},null,null,null,null,null,null,3012022,44564]
[null,null,null,null,{"$f":"IF(Configuração!C381=\"\",\"\",Configuração!B381)","v":""},null,null,null,null,null,null,null,null,null,{"$f":"IF(Configuração!H383=\"\",\"\",IF($L$8=\"\",\"\",IF(VLOOKUP($L$8,Configuração!$S$7:$U$16,3)=\"D\",Configuração!F383,\"\")))","v":""},null,null,null,null,null,null,3012023,44929]
[null,null,null,null,{"$f":"IF(Configuração!C382=\"\",\"\",Configuração!B382)","v":""},null,null,null,null,null,null,null,null,null,{"$f":"IF(Configuração!H384=\"\",\"\",IF($L$8=\"\",\"\",IF(VLOOKUP($L$8,Configuração!$S$7:$U$16,3)=\"D\",Configuração!F384,\"\")))","v":""},null,null,null,null,null,null,3022009,39847]
[null,null,null,null,{"$f":"IF(Configuração!C383=\"\",\"\",Configuração!B383)","v":""},null,null,null,null,null,null,null,null,null,{"$f":"IF(Configuração!H385=\"\",\"\",IF($L$8=\"\",\"\",IF(VLOOKUP($L$8,Configuração!$S$7:$U$16,3)=\"D\",Configuração!F385,\"\")))","v":""},null,null,null,null,null,null,3022010,40212]
[null,null,null,null,{"$f":"IF(Configuração!C384=\"\",\"\",Configuração!B384)","v":""},null,null,null,null,null,null,null,null,null,{"$f":"IF(Configuração!H386=\"\",\"\",IF($L$8=\"\",\"\",IF(VLOOKUP($L$8,Configuração!$S$7:$U$16,3)=\"D\",Configuração!F386,\"\")))","v":""},null,null,null,null,null,null,3022011,40577]
[null,null,null,null,{"$f":"IF(Configuração!C385=\"\",\"\",Configuração!B385)","v":""},null,null,null,null,null,null,null,null,null,{"$f":"IF(Configuração!H387=\"\",\"\",IF($L$8=\"\",\"\",IF(VLOOKUP($L$8,Configuração!$S$7:$U$16,3)=\"D\",Configuração!F387,\"\")))","v":""},null,null,null,null,null,null,3022012,40942]
[null,null,null,null,{"$f":"IF(Configuração!C386=\"\",\"\",Configuração!B386)","v":""},null,null,null,null,null,null,null,null,null,{"$f":"IF(Configuração!H388=\"\",\"\",IF($L$8=\"\",\"\",IF(VLOOKUP($L$8,Configuração!$S$7:$U$16,3)=\"D\",Configuração!F388,\"\")))","v":""},null,null,null,null,null,null,3022013,41308]
[null,null,null,null,{"$f":"IF(Configuração!C387=\"\",\"\",Configuração!B387)","v":""},null,null,null,null,null,null,null,null,null,{"$f":"IF(Configuração!H389=\"\",\"\",IF($L$8=\"\",\"\",IF(VLOOKUP($L$8,Configuração!$S$7:$U$16,3)=\"D\",Configuração!F389,\"\")))","v":""},null,null,null,null,null,null,3022014,41673]
[null,null,null,null,{"$f":"IF(Configuração!C388=\"\",\"\",Configuração!B388)","v":""},null,null,null,null,null,null,null,null,null,{"$f":"IF(Configuração!H390=\"\",\"\",IF($L$8=\"\",\"\",IF(VLOOKUP($L$8,Configuração!$S$7:$U$16,3)=\"D\",Configuração!F390,\"\")))","v":""},null,null,null,null,null,null,3022015,42038]
[null,null,null,null,{"$f":"IF(Configuração!C389=\"\",\"\",Configuração!B389)","v":""},null,null,null,null,null,null,null,null,null,{"$f":"IF(Configuração!H391=\"\",\"\",IF($L$8=\"\",\"\",IF(VLOOKUP($L$8,Configuração!$S$7:$U$16,3)=\"D\",Configuração!F391,\"\")))","v":""},null,null,null,null,null,null,3022016,42403]
[null,null,null,null,{"$f":"IF(Configuração!C390=\"\",\"\",Configuração!B390)","v":""},null,null,null,null,null,null,null,null,null,{"$f":"IF(Configuração!H392=\"\",\"\",IF($L$8=\"\",\"\",IF(VLOOKUP($L$8,Configuração!$S$7:$U$16,3)=\"D\",Configuração!F392,\"\")))","v":""},null,null,null,null,null,null,3022017,42769]
[null,null,null,null,{"$f":"IF(Configuração!C391=\"\",\"\",Configuração!B391)","v":""},null,null,null,null,null,null,null,null,null,{"$f":"IF(Configuração!H393=\"\",\"\",IF($L$8=\"\",\"\",IF(VLOOKUP($L$8,Configuração!$S$7:$U$16,3)=\"D\",Configuração!F393,\"\")))","v":""},null,null,null,null,null,null,3022018,43134]
[null,null,null,null,{"$f":"IF(Configuração!C392=\"\",\"\",Configuração!B392)","v":""},null,null,null,null,null,null,null,null,null,{"$f":"IF(Configuração!H394=\"\",\"\",IF($L$8=\"\",\"\",IF(VLOOKUP($L$8,Configuração!$S$7:$U$16,3)=\"D\",Configuração!F394,\"\")))","v":""},null,null,null,null,null,null,3022019,43499]
[null,null,null,null,{"$f":"IF(Configuração!C393=\"\",\"\",Configuração!B393)","v":""},null,null,null,null,null,null,null,null,null,{"$f":"IF(Configuração!H395=\"\",\"\",IF($L$8=\"\",\"\",IF(VLOOKUP($L$8,Configuração!$S$7:$U$16,3)=\"D\",Configuração!F395,\"\")))","v":""},null,null,null,null,null,null,3022020,43864]
[null,null,null,null,{"$f":"IF(Configuração!C394=\"\",\"\",Configuração!B394)","v":""},null,null,null,null,null,null,null,null,null,{"$f":"IF(Configuração!H396=\"\",\"\",IF($L$8=\"\",\"\",IF(VLOOKUP($L$8,Configuração!$S$7:$U$16,3)=\"D\",Configuração!F396,\"\")))","v":""},null,null,null,null,null,null,3022021,44230]
[null,null,null,null,{"$f":"IF(Configuração!C395=\"\",\"\",Configuração!B395)","v":""},null,null,null,null,null,null,null,null,null,{"$f":"IF(Configuração!H397=\"\",\"\",IF($L$8=\"\",\"\",IF(VLOOKUP($L$8,Configuração!$S$7:$U$16,3)=\"D\",Configuração!F397,\"\")))","v":""},null,null,null,null,null,null,3022022,44595]
[null,null,null,null,{"$f":"IF(Configuração!C396=\"\",\"\",Configuração!B396)","v":""},null,null,null,null,null,null,null,null,null,{"$f":"IF(Configuração!H398=\"\",\"\",IF($L$8=\"\",\"\",IF(VLOOKUP($L$8,Configuração!$S$7:$U$16,3)=\"D\",Configuração!F398,\"\")))","v":""},null,null,null,null,null,null,3022023,44960]
[null,null,null,null,{"$f":"IF(Configuração!C397=\"\",\"\",Configuração!B397)","v":""},null,null,null,null,null,null,null,null,null,{"$f":"IF(Configuração!H399=\"\",\"\",IF($L$8=\"\",\"\",IF(VLOOKUP($L$8,Configuração!$S$7:$U$16,3)=\"D\",Configuração!F399,\"\")))","v":""},null,null,null,null,null,null,3032009,39875]
[null,null,null,null,{"$f":"IF(Configuração!C398=\"\",\"\",Configuração!B398)","v":""},null,null,null,null,null,null,null,null,null,{"$f":"IF(Configuração!H400=\"\",\"\",IF($L$8=\"\",\"\",IF(VLOOKUP($L$8,Configuração!$S$7:$U$16,3)=\"D\",Configuração!F400,\"\")))","v":""},null,null,null,null,null,null,3032010,40240]
[null,null,null,null,{"$f":"IF(Configuração!C399=\"\",\"\",Configuração!B399)","v":""},null,null,null,null,null,null,null,null,null,{"$f":"IF(Configuração!H401=\"\",\"\",IF($L$8=\"\",\"\",IF(VLOOKUP($L$8,Configuração!$S$7:$U$16,3)=\"D\",Configuração!F401,\"\")))","v":""},null,null,null,null,null,null,3032011,40605]
[null,null,null,null,{"$f":"IF(Configuração!C400=\"\",\"\",Configuração!B400)","v":""},null,null,null,null,null,null,null,null,null,{"$f":"IF(Configuração!H402=\"\",\"\",IF($L$8=\"\",\"\",IF(VLOOKUP($L$8,Configuração!$S$7:$U$16,3)=\"D\",Configuração!F402,\"\")))","v":""},null,null,null,null,null,null,3032012,40971]
[null,null,null,null,{"$f":"IF(Configuração!C401=\"\",\"\",Configuração!B401)","v":""},null,null,null,null,null,null,null,null,null,{"$f":"IF(Configuração!H403=\"\",\"\",IF($L$8=\"\",\"\",IF(VLOOKUP($L$8,Configuração!$S$7:$U$16,3)=\"D\",Configuração!F403,\"\")))","v":""},null,null,null,null,null,null,3032013,41336]
[null,null,null,null,{"$f":"IF(Configuração!C402=\"\",\"\",Configuração!B402)","v":""},null,null,null,null,null,null,null,null,null,{"$f":"IF(Configuração!H404=\"\",\"\",IF($L$8=\"\",\"\",IF(VLOOKUP($L$8,Configuração!$S$7:$U$16,3)=\"D\",Configuração!F404,\"\")))","v":""},null,null,null,null,null,null,3032014,41701]
[null,null,null,null,{"$f":"IF(Configuração!C403=\"\",\"\",Configuração!B403)","v":""},null,null,null,null,null,null,null,null,null,{"$f":"IF(Configuração!H405=\"\",\"\",IF($L$8=\"\",\"\",IF(VLOOKUP($L$8,Configuração!$S$7:$U$16,3)=\"D\",Configuração!F405,\"\")))","v":""},null,null,null,null,null,null,3032015,42066]
[null,null,null,null,{"$f":"IF(Configuração!C404=\"\",\"\",Configuração!B404)","v":""},null,null,null,null,null,null,null,null,null,{"$f":"IF(Configuração!H406=\"\",\"\",IF($L$8=\"\",\"\",IF(VLOOKUP($L$8,Configuração!$S$7:$U$16,3)=\"D\",Configuração!F406,\"\")))","v":""},null,null,null,null,null,null,3032016,42432]
[null,null,null,null,{"$f":"IF(Configuração!C405=\"\",\"\",Configuração!B405)","v":""},null,null,null,null,null,null,null,null,null,{"$f":"IF(Configuração!H407=\"\",\"\",IF($L$8=\"\",\"\",IF(VLOOKUP($L$8,Configuração!$S$7:$U$16,3)=\"D\",Configuração!F407,\"\")))","v":""},null,null,null,null,null,null,3032017,42797]
[null,null,null,null,{"$f":"IF(Configuração!C406=\"\",\"\",Configuração!B406)","v":""},null,null,null,null,null,null,null,null,null,{"$f":"IF(Configuração!H408=\"\",\"\",IF($L$8=\"\",\"\",IF(VLOOKUP($L$8,Configuração!$S$7:$U$16,3)=\"D\",Configuração!F408,\"\")))","v":""},null,null,null,null,null,null,3032018,43162]
[null,null,null,null,{"$f":"IF(Configuração!C407=\"\",\"\",Configuração!B407)","v":""},null,null,null,null,null,null,null,null,null,{"$f":"IF(Configuração!H409=\"\",\"\",IF($L$8=\"\",\"\",IF(VLOOKUP($L$8,Configuração!$S$7:$U$16,3)=\"D\",Configuração!F409,\"\")))","v":""},null,null,null,null,null,null,3032019,43527]
[null,null,null,null,{"$f":"IF(Configuração!C408=\"\",\"\",Configuração!B408)","v":""},null,null,null,null,null,null,null,null,null,{"$f":"IF(Configuração!H410=\"\",\"\",IF($L$8=\"\",\"\",IF(VLOOKUP($L$8,Configuração!$S$7:$U$16,3)=\"D\",Configuração!F410,\"\")))","v":""},null,null,null,null,null,null,3032020,43893]
[null,null,null,null,{"$f":"IF(Configuração!C409=\"\",\"\",Configuração!B409)","v":""},null,null,null,null,null,null,null,null,null,{"$f":"IF(Configuração!H411=\"\",\"\",IF($L$8=\"\",\"\",IF(VLOOKUP($L$8,Configuração!$S$7:$U$16,3)=\"D\",Configuração!F411,\"\")))","v":""},null,null,null,null,null,null,3032021,44258]
[null,null,null,null,{"$f":"IF(Configuração!C410=\"\",\"\",Configuração!B410)","v":""},null,null,null,null,null,null,null,null,null,{"$f":"IF(Configuração!H412=\"\",\"\",IF($L$8=\"\",\"\",IF(VLOOKUP($L$8,Configuração!$S$7:$U$16,3)=\"D\",Configuração!F412,\"\")))","v":""},null,null,null,null,null,null,3032022,44623]
[null,null,null,null,{"$f":"IF(Configuração!C411=\"\",\"\",Configuração!B411)","v":""},null,null,null,null,null,null,null,null,null,{"$f":"IF(Configuração!H413=\"\",\"\",IF($L$8=\"\",\"\",IF(VLOOKUP($L$8,Configuração!$S$7:$U$16,3)=\"D\",Configuração!F413,\"\")))","v":""},null,null,null,null,null,null,3032023,44988]
[null,null,null,null,{"$f":"IF(Configuração!C412=\"\",\"\",Configuração!B412)","v":""},null,null,null,null,null,null,null,null,null,{"$f":"IF(Configuração!H414=\"\",\"\",IF($L$8=\"\",\"\",IF(VLOOKUP($L$8,Configuração!$S$7:$U$16,3)=\"D\",Configuração!F414,\"\")))","v":""},null,null,null,null,null,null,3042009,39906]
[null,null,null,null,{"$f":"IF(Configuração!C413=\"\",\"\",Configuração!B413)","v":""},null,null,null,null,null,null,null,null,null,{"$f":"IF(Configuração!H415=\"\",\"\",IF($L$8=\"\",\"\",IF(VLOOKUP($L$8,Configuração!$S$7:$U$16,3)=\"D\",Configuração!F415,\"\")))","v":""},null,null,null,null,null,null,3042010,40271]
[null,null,null,null,{"$f":"IF(Configuração!C414=\"\",\"\",Configuração!B414)","v":""},null,null,null,null,null,null,null,null,null,{"$f":"IF(Configuração!H416=\"\",\"\",IF($L$8=\"\",\"\",IF(VLOOKUP($L$8,Configuração!$S$7:$U$16,3)=\"D\",Configuração!F416,\"\")))","v":""},null,null,null,null,null,null,3042011,40636]
[null,null,null,null,{"$f":"IF(Configuração!C415=\"\",\"\",Configuração!B415)","v":""},null,null,null,null,null,null,null,null,null,null,null,null,null,null,null,null,3042012,41002]
[null,null,null,null,{"$f":"IF(Configuração!C416=\"\",\"\",Configuração!B416)","v":""},null,null,null,null,null,null,null,null,null,{"$f":"IF(Configuração!H418=\"\",\"\",IF($L$8=\"\",\"\",IF(VLOOKUP($L$8,Configuração!$S$7:$U$16,3)=\"D\",Configuração!F418,\"\")))","v":""},null,null,null,null,null,null,3042013,41367]
[null,null,null,null,{"$f":"IF(Configuração!C417=\"\",\"\",Configuração!B417)","v":""},null,null,null,null,null,null,null,null,null,{"$f":"IF(Configuração!H419=\"\",\"\",IF($L$8=\"\",\"\",IF(VLOOKUP($L$8,Configuração!$S$7:$U$16,3)=\"D\",Configuração!F419,\"\")))","v":""},null,null,null,null,null,null,3042014,41732]
[null,null,null,null,{"$f":"IF(Configuração!C418=\"\",\"\",Configuração!B418)","v":""},null,null,null,null,null,null,null,null,null,{"$f":"IF(Configuração!H420=\"\",\"\",IF($L$8=\"\",\"\",IF(VLOOKUP($L$8,Configuração!$S$7:$U$16,3)=\"D\",Configuração!F420,\"\")))","v":""},null,null,null,null,null,null,3042015,42097]
[null,null,null,null,{"$f":"IF(Configuração!C419=\"\",\"\",Configuração!B419)","v":""},null,null,null,null,null,null,null,null,null,{"$f":"IF(Configuração!H421=\"\",\"\",IF($L$8=\"\",\"\",IF(VLOOKUP($L$8,Configuração!$S$7:$U$16,3)=\"D\",Configuração!F421,\"\")))","v":""},null,null,null,null,null,null,3042016,42463]
[null,null,null,null,{"$f":"IF(Configuração!C420=\"\",\"\",Configuração!B420)","v":""},null,null,null,null,null,null,null,null,null,{"$f":"IF(Configuração!H422=\"\",\"\",IF($L$8=\"\",\"\",IF(VLOOKUP($L$8,Configuração!$S$7:$U$16,3)=\"D\",Configuração!F422,\"\")))","v":""},null,null,null,null,null,null,3042017,42828]
[null,null,null,null,{"$f":"IF(Configuração!C421=\"\",\"\",Configuração!B421)","v":""},null,null,null,null,null,null,null,null,null,{"$f":"IF(Configuração!H423=\"\",\"\",IF($L$8=\"\",\"\",IF(VLOOKUP($L$8,Configuração!$S$7:$U$16,3)=\"D\",Configuração!F423,\"\")))","v":""},null,null,null,null,null,null,3042018,43193]
[null,null,null,null,{"$f":"IF(Configuração!C422=\"\",\"\",Configuração!B422)","v":""},null,null,null,null,null,null,null,null,null,{"$f":"IF(Configuração!H424=\"\",\"\",IF($L$8=\"\",\"\",IF(VLOOKUP($L$8,Configuração!$S$7:$U$16,3)=\"D\",Configuração!F424,\"\")))","v":""},null,null,null,null,null,null,3042019,43558]
[null,null,null,null,{"$f":"IF(Configuração!C423=\"\",\"\",Configuração!B423)","v":""},null,null,null,null,null,null,null,null,null,{"$f":"IF(Configuração!H425=\"\",\"\",IF($L$8=\"\",\"\",IF(VLOOKUP($L$8,Configuração!$S$7:$U$16,3)=\"D\",Configuração!F425,\"\")))","v":""},null,null,null,null,null,null,3042020,43924]
[null,null,null,null,{"$f":"IF(Configuração!C424=\"\",\"\",Configuração!B424)","v":""},null,null,null,null,null,null,null,null,null,{"$f":"IF(Configuração!H426=\"\",\"\",IF($L$8=\"\",\"\",IF(VLOOKUP($L$8,Configuração!$S$7:$U$16,3)=\"D\",Configuração!F426,\"\")))","v":""},null,null,null,null,null,null,3042021,44289]
[null,null,null,null,{"$f":"IF(Configuração!C425=\"\",\"\",Configuração!B425)","v":""},null,null,null,null,null,null,null,null,null,{"$f":"IF(Configuração!H427=\"\",\"\",IF($L$8=\"\",\"\",IF(VLOOKUP($L$8,Configuração!$S$7:$U$16,3)=\"D\",Configuração!F427,\"\")))","v":""},null,null,null,null,null,null,3042022,44654]
[null,null,null,null,{"$f":"IF(Configuração!C426=\"\",\"\",Configuração!B426)","v":""},null,null,null,null,null,null,null,null,null,{"$f":"IF(Configuração!H428=\"\",\"\",IF($L$8=\"\",\"\",IF(VLOOKUP($L$8,Configuração!$S$7:$U$16,3)=\"D\",Configuração!F428,\"\")))","v":""},null,null,null,null,null,null,3042023,45019]
[null,null,null,null,{"$f":"IF(Configuração!C427=\"\",\"\",Configuração!B427)","v":""},null,null,null,null,null,null,null,null,null,{"$f":"IF(Configuração!H429=\"\",\"\",IF($L$8=\"\",\"\",IF(VLOOKUP($L$8,Configuração!$S$7:$U$16,3)=\"D\",Configuração!F429,\"\")))","v":""},null,null,null,null,null,null,3052009,39936]
[null,null,null,null,{"$f":"IF(Configuração!C428=\"\",\"\",Configuração!B428)","v":""},null,null,null,null,null,null,null,null,null,{"$f":"IF(Configuração!H430=\"\",\"\",IF($L$8=\"\",\"\",IF(VLOOKUP($L$8,Configuração!$S$7:$U$16,3)=\"D\",Configuração!F430,\"\")))","v":""},null,null,null,null,null,null,3052010,40301]
[null,null,null,null,{"$f":"IF(Configuração!C429=\"\",\"\",Configuração!B429)","v":""},null,null,null,null,null,null,null,null,null,{"$f":"IF(Configuração!H431=\"\",\"\",IF($L$8=\"\",\"\",IF(VLOOKUP($L$8,Configuração!$S$7:$U$16,3)=\"D\",Configuração!F431,\"\")))","v":""},null,null,null,null,null,null,3052011,40666]
[null,null,null,null,{"$f":"IF(Configuração!C430=\"\",\"\",Configuração!B430)","v":""},null,null,null,null,null,null,null,null,null,{"$f":"IF(Configuração!H432=\"\",\"\",IF($L$8=\"\",\"\",IF(VLOOKUP($L$8,Configuração!$S$7:$U$16,3)=\"D\",Configuração!F432,\"\")))","v":""},null,null,null,null,null,null,3052012,41032]
[null,null,null,null,{"$f":"IF(Configuração!C431=\"\",\"\",Configuração!B431)","v":""},null,null,null,null,null,null,null,null,null,{"$f":"IF(Configuração!H433=\"\",\"\",IF($L$8=\"\",\"\",IF(VLOOKUP($L$8,Configuração!$S$7:$U$16,3)=\"D\",Configuração!F433,\"\")))","v":""},null,null,null,null,null,null,3052013,41397]
[null,null,null,null,{"$f":"IF(Configuração!C432=\"\",\"\",Configuração!B432)","v":""},null,null,null,null,null,null,null,null,null,{"$f":"IF(Configuração!H434=\"\",\"\",IF($L$8=\"\",\"\",IF(VLOOKUP($L$8,Configuração!$S$7:$U$16,3)=\"D\",Configuração!F434,\"\")))","v":""},null,null,null,null,null,null,3052014,41762]
[null,null,null,null,{"$f":"IF(Configuração!C433=\"\",\"\",Configuração!B433)","v":""},null,null,null,null,null,null,null,null,null,{"$f":"IF(Configuração!H435=\"\",\"\",IF($L$8=\"\",\"\",IF(VLOOKUP($L$8,Configuração!$S$7:$U$16,3)=\"D\",Configuração!F435,\"\")))","v":""},null,null,null,null,null,null,3052015,42127]
[null,null,null,null,{"$f":"IF(Configuração!C434=\"\",\"\",Configuração!B434)","v":""},null,null,null,null,null,null,null,null,null,{"$f":"IF(Configuração!H436=\"\",\"\",IF($L$8=\"\",\"\",IF(VLOOKUP($L$8,Configuração!$S$7:$U$16,3)=\"D\",Configuração!F436,\"\")))","v":""},null,null,null,null,null,null,3052016,42493]
[null,null,null,null,{"$f":"IF(Configuração!C435=\"\",\"\",Configuração!B435)","v":""},null,null,null,null,null,null,null,null,null,{"$f":"IF(Configuração!H437=\"\",\"\",IF($L$8=\"\",\"\",IF(VLOOKUP($L$8,Configuração!$S$7:$U$16,3)=\"D\",Configuração!F437,\"\")))","v":""},null,null,null,null,null,null,3052017,42858]
[null,null,null,null,{"$f":"IF(Configuração!C436=\"\",\"\",Configuração!B436)","v":""},null,null,null,null,null,null,null,null,null,{"$f":"IF(Configuração!H438=\"\",\"\",IF($L$8=\"\",\"\",IF(VLOOKUP($L$8,Configuração!$S$7:$U$16,3)=\"D\",Configuração!F438,\"\")))","v":""},null,null,null,null,null,null,3052018,43223]
[null,null,null,null,{"$f":"IF(Configuração!C437=\"\",\"\",Configuração!B437)","v":""},null,null,null,null,null,null,null,null,null,{"$f":"IF(Configuração!H439=\"\",\"\",IF($L$8=\"\",\"\",IF(VLOOKUP($L$8,Configuração!$S$7:$U$16,3)=\"D\",Configuração!F439,\"\")))","v":""},null,null,null,null,null,null,3052019,43588]
[null,null,null,null,{"$f":"IF(Configuração!C438=\"\",\"\",Configuração!B438)","v":""},null,null,null,null,null,null,null,null,null,{"$f":"IF(Configuração!H440=\"\",\"\",IF($L$8=\"\",\"\",IF(VLOOKUP($L$8,Configuração!$S$7:$U$16,3)=\"D\",Configuração!F440,\"\")))","v":""},null,null,null,null,null,null,3052020,43954]
[null,null,null,null,{"$f":"IF(Configuração!C439=\"\",\"\",Configuração!B439)","v":""},null,null,null,null,null,null,null,null,null,{"$f":"IF(Configuração!H441=\"\",\"\",IF($L$8=\"\",\"\",IF(VLOOKUP($L$8,Configuração!$S$7:$U$16,3)=\"D\",Configuração!F441,\"\")))","v":""},null,null,null,null,null,null,3052021,44319]
[null,null,null,null,{"$f":"IF(Configuração!C440=\"\",\"\",Configuração!B440)","v":""},null,null,null,null,null,null,null,null,null,{"$f":"IF(Configuração!H442=\"\",\"\",IF($L$8=\"\",\"\",IF(VLOOKUP($L$8,Configuração!$S$7:$U$16,3)=\"D\",Configuração!F442,\"\")))","v":""},null,null,null,null,null,null,3052022,44684]
[null,null,null,null,{"$f":"IF(Configuração!C441=\"\",\"\",Configuração!B441)","v":""},null,null,null,null,null,null,null,null,null,{"$f":"IF(Configuração!H443=\"\",\"\",IF($L$8=\"\",\"\",IF(VLOOKUP($L$8,Configuração!$S$7:$U$16,3)=\"D\",Configuração!F443,\"\")))","v":""},null,null,null,null,null,null,3052023,45049]
[null,null,null,null,{"$f":"IF(Configuração!C442=\"\",\"\",Configuração!B442)","v":""},null,null,null,null,null,null,null,null,null,{"$f":"IF(Configuração!H444=\"\",\"\",IF($L$8=\"\",\"\",IF(VLOOKUP($L$8,Configuração!$S$7:$U$16,3)=\"D\",Configuração!F444,\"\")))","v":""},null,null,null,null,null,null,3062009,39967]
[null,null,null,null,{"$f":"IF(Configuração!C443=\"\",\"\",Configuração!B443)","v":""},null,null,null,null,null,null,null,null,null,{"$f":"IF(Configuração!H445=\"\",\"\",IF($L$8=\"\",\"\",IF(VLOOKUP($L$8,Configuração!$S$7:$U$16,3)=\"D\",Configuração!F445,\"\")))","v":""},null,null,null,null,null,null,3062010,40332]
[null,null,null,null,{"$f":"IF(Configuração!C444=\"\",\"\",Configuração!B444)","v":""},null,null,null,null,null,null,null,null,null,{"$f":"IF(Configuração!H446=\"\",\"\",IF($L$8=\"\",\"\",IF(VLOOKUP($L$8,Configuração!$S$7:$U$16,3)=\"D\",Configuração!F446,\"\")))","v":""},null,null,null,null,null,null,3062011,40697]
[null,null,null,null,{"$f":"IF(Configuração!C445=\"\",\"\",Configuração!B445)","v":""},null,null,null,null,null,null,null,null,null,{"$f":"IF(Configuração!H447=\"\",\"\",IF($L$8=\"\",\"\",IF(VLOOKUP($L$8,Configuração!$S$7:$U$16,3)=\"D\",Configuração!F447,\"\")))","v":""},null,null,null,null,null,null,3062012,41063]
[null,null,null,null,{"$f":"IF(Configuração!C446=\"\",\"\",Configuração!B446)","v":""},null,null,null,null,null,null,null,null,null,{"$f":"IF(Configuração!H448=\"\",\"\",IF($L$8=\"\",\"\",IF(VLOOKUP($L$8,Configuração!$S$7:$U$16,3)=\"D\",Configuração!F448,\"\")))","v":""},null,null,null,null,null,null,3062013,41428]
[null,null,null,null,{"$f":"IF(Configuração!C447=\"\",\"\",Configuração!B447)","v":""},null,null,null,null,null,null,null,null,null,{"$f":"IF(Configuração!H449=\"\",\"\",IF($L$8=\"\",\"\",IF(VLOOKUP($L$8,Configuração!$S$7:$U$16,3)=\"D\",Configuração!F449,\"\")))","v":""},null,null,null,null,null,null,3062014,41793]
[null,null,null,null,{"$f":"IF(Configuração!C448=\"\",\"\",Configuração!B448)","v":""},null,null,null,null,null,null,null,null,null,{"$f":"IF(Configuração!H450=\"\",\"\",IF($L$8=\"\",\"\",IF(VLOOKUP($L$8,Configuração!$S$7:$U$16,3)=\"D\",Configuração!F450,\"\")))","v":""},null,null,null,null,null,null,3062015,42158]
[null,null,null,null,{"$f":"IF(Configuração!C449=\"\",\"\",Configuração!B449)","v":""},null,null,null,null,null,null,null,null,null,{"$f":"IF(Configuração!H451=\"\",\"\",IF($L$8=\"\",\"\",IF(VLOOKUP($L$8,Configuração!$S$7:$U$16,3)=\"D\",Configuração!F451,\"\")))","v":""},null,null,null,null,null,null,3062016,42524]
[null,null,null,null,{"$f":"IF(Configuração!C450=\"\",\"\",Configuração!B450)","v":""},null,null,null,null,null,null,null,null,null,{"$f":"IF(Configuração!H452=\"\",\"\",IF($L$8=\"\",\"\",IF(VLOOKUP($L$8,Configuração!$S$7:$U$16,3)=\"D\",Configuração!F452,\"\")))","v":""},null,null,null,null,null,null,3062017,42889]
[null,null,null,null,{"$f":"IF(Configuração!C451=\"\",\"\",Configuração!B451)","v":""},null,null,null,null,null,null,null,null,null,{"$f":"IF(Configuração!H453=\"\",\"\",IF($L$8=\"\",\"\",IF(VLOOKUP($L$8,Configuração!$S$7:$U$16,3)=\"D\",Configuração!F453,\"\")))","v":""},null,null,null,null,null,null,3062018,43254]
[null,null,null,null,{"$f":"IF(Configuração!C452=\"\",\"\",Configuração!B452)","v":""},null,null,null,null,null,null,null,null,null,{"$f":"IF(Configuração!H454=\"\",\"\",IF($L$8=\"\",\"\",IF(VLOOKUP($L$8,Configuração!$S$7:$U$16,3)=\"D\",Configuração!F454,\"\")))","v":""},null,null,null,null,null,null,3062019,43619]
[null,null,null,null,{"$f":"IF(Configuração!C453=\"\",\"\",Configuração!B453)","v":""},null,null,null,null,null,null,null,null,null,{"$f":"IF(Configuração!H455=\"\",\"\",IF($L$8=\"\",\"\",IF(VLOOKUP($L$8,Configuração!$S$7:$U$16,3)=\"D\",Configuração!F455,\"\")))","v":""},null,null,null,null,null,null,3062020,43985]
[null,null,null,null,{"$f":"IF(Configuração!C454=\"\",\"\",Configuração!B454)","v":""},null,null,null,null,null,null,null,null,null,{"$f":"IF(Configuração!H456=\"\",\"\",IF($L$8=\"\",\"\",IF(VLOOKUP($L$8,Configuração!$S$7:$U$16,3)=\"D\",Configuração!F456,\"\")))","v":""},null,null,null,null,null,null,3062021,44350]
[null,null,null,null,{"$f":"IF(Configuração!C455=\"\",\"\",Configuração!B455)","v":""},null,null,null,null,null,null,null,null,null,{"$f":"IF(Configuração!H457=\"\",\"\",IF($L$8=\"\",\"\",IF(VLOOKUP($L$8,Configuração!$S$7:$U$16,3)=\"D\",Configuração!F457,\"\")))","v":""},null,null,null,null,null,null,3062022,44715]
[null,null,null,null,{"$f":"IF(Configuração!C456=\"\",\"\",Configuração!B456)","v":""},null,null,null,null,null,null,null,null,null,{"$f":"IF(Configuração!H458=\"\",\"\",IF($L$8=\"\",\"\",IF(VLOOKUP($L$8,Configuração!$S$7:$U$16,3)=\"D\",Configuração!F458,\"\")))","v":""},null,null,null,null,null,null,3062023,45080]
[null,null,null,null,{"$f":"IF(Configuração!C457=\"\",\"\",Configuração!B457)","v":""},null,null,null,null,null,null,null,null,null,{"$f":"IF(Configuração!H459=\"\",\"\",IF($L$8=\"\",\"\",IF(VLOOKUP($L$8,Configuração!$S$7:$U$16,3)=\"D\",Configuração!F459,\"\")))","v":""},null,null,null,null,null,null,3072009,39997]
[null,null,null,null,{"$f":"IF(Configuração!C458=\"\",\"\",Configuração!B458)","v":""},null,null,null,null,null,null,null,null,null,{"$f":"IF(Configuração!H460=\"\",\"\",IF($L$8=\"\",\"\",IF(VLOOKUP($L$8,Configuração!$S$7:$U$16,3)=\"D\",Configuração!F460,\"\")))","v":""},null,null,null,null,null,null,3072010,40362]
[null,null,null,null,{"$f":"IF(Configuração!C459=\"\",\"\",Configuração!B459)","v":""},null,null,null,null,null,null,null,null,null,{"$f":"IF(Configuração!H461=\"\",\"\",IF($L$8=\"\",\"\",IF(VLOOKUP($L$8,Configuração!$S$7:$U$16,3)=\"D\",Configuração!F461,\"\")))","v":""},null,null,null,null,null,null,3072011,40727]
[null,null,null,null,{"$f":"IF(Configuração!C460=\"\",\"\",Configuração!B460)","v":""},null,null,null,null,null,null,null,null,null,{"$f":"IF(Configuração!H462=\"\",\"\",IF($L$8=\"\",\"\",IF(VLOOKUP($L$8,Configuração!$S$7:$U$16,3)=\"D\",Configuração!F462,\"\")))","v":""},null,null,null,null,null,null,3072012,41093]
[null,null,null,null,{"$f":"IF(Configuração!C461=\"\",\"\",Configuração!B461)","v":""},null,null,null,null,null,null,null,null,null,{"$f":"IF(Configuração!H463=\"\",\"\",IF($L$8=\"\",\"\",IF(VLOOKUP($L$8,Configuração!$S$7:$U$16,3)=\"D\",Configuração!F463,\"\")))","v":""},null,null,null,null,null,null,3072013,41458]
[null,null,null,null,{"$f":"IF(Configuração!C462=\"\",\"\",Configuração!B462)","v":""},null,null,null,null,null,null,null,null,null,{"$f":"IF(Configuração!H464=\"\",\"\",IF($L$8=\"\",\"\",IF(VLOOKUP($L$8,Configuração!$S$7:$U$16,3)=\"D\",Configuração!F464,\"\")))","v":""},null,null,null,null,null,null,3072014,41823]
[null,null,null,null,{"$f":"IF(Configuração!C463=\"\",\"\",Configuração!B463)","v":""},null,null,null,null,null,null,null,null,null,{"$f":"IF(Configuração!H465=\"\",\"\",IF($L$8=\"\",\"\",IF(VLOOKUP($L$8,Configuração!$S$7:$U$16,3)=\"D\",Configuração!F465,\"\")))","v":""},null,null,null,null,null,null,3072015,42188]
[null,null,null,null,{"$f":"IF(Configuração!C464=\"\",\"\",Configuração!B464)","v":""},null,null,null,null,null,null,null,null,null,{"$f":"IF(Configuração!H466=\"\",\"\",IF($L$8=\"\",\"\",IF(VLOOKUP($L$8,Configuração!$S$7:$U$16,3)=\"D\",Configuração!F466,\"\")))","v":""},null,null,null,null,null,null,3072016,42554]
[null,null,null,null,{"$f":"IF(Configuração!C465=\"\",\"\",Configuração!B465)","v":""},null,null,null,null,null,null,null,null,null,{"$f":"IF(Configuração!H467=\"\",\"\",IF($L$8=\"\",\"\",IF(VLOOKUP($L$8,Configuração!$S$7:$U$16,3)=\"D\",Configuração!F467,\"\")))","v":""},null,null,null,null,null,null,3072017,42919]
[null,null,null,null,{"$f":"IF(Configuração!C466=\"\",\"\",Configuração!B466)","v":""},null,null,null,null,null,null,null,null,null,null,null,null,null,null,null,null,3072018,43284]
[null,null,null,null,{"$f":"IF(Configuração!C467=\"\",\"\",Configuração!B467)","v":""},null,null,null,null,null,null,null,null,null,{"$f":"IF(Configuração!H469=\"\",\"\",IF($L$8=\"\",\"\",IF(VLOOKUP($L$8,Configuração!$S$7:$U$16,3)=\"D\",Configuração!F469,\"\")))","v":""},null,null,null,null,null,null,3072019,43649]
[null,null,null,null,{"$f":"IF(Configuração!C468=\"\",\"\",Configuração!B468)","v":""},null,null,null,null,null,null,null,null,null,{"$f":"IF(Configuração!H470=\"\",\"\",IF($L$8=\"\",\"\",IF(VLOOKUP($L$8,Configuração!$S$7:$U$16,3)=\"D\",Configuração!F470,\"\")))","v":""},null,null,null,null,null,null,3072020,44015]
[null,null,null,null,{"$f":"IF(Configuração!C469=\"\",\"\",Configuração!B469)","v":""},null,null,null,null,null,null,null,null,null,{"$f":"IF(Configuração!H471=\"\",\"\",IF($L$8=\"\",\"\",IF(VLOOKUP($L$8,Configuração!$S$7:$U$16,3)=\"D\",Configuração!F471,\"\")))","v":""},null,null,null,null,null,null,3072021,44380]
[null,null,null,null,{"$f":"IF(Configuração!C470=\"\",\"\",Configuração!B470)","v":""},null,null,null,null,null,null,null,null,null,{"$f":"IF(Configuração!H472=\"\",\"\",IF($L$8=\"\",\"\",IF(VLOOKUP($L$8,Configuração!$S$7:$U$16,3)=\"D\",Configuração!F472,\"\")))","v":""},null,null,null,null,null,null,3072022,44745]
[null,null,null,null,{"$f":"IF(Configuração!C471=\"\",\"\",Configuração!B471)","v":""},null,null,null,null,null,null,null,null,null,{"$f":"IF(Configuração!H473=\"\",\"\",IF($L$8=\"\",\"\",IF(VLOOKUP($L$8,Configuração!$S$7:$U$16,3)=\"D\",Configuração!F473,\"\")))","v":""},null,null,null,null,null,null,3072023,45110]
[null,null,null,null,{"$f":"IF(Configuração!C472=\"\",\"\",Configuração!B472)","v":""},null,null,null,null,null,null,null,null,null,{"$f":"IF(Configuração!H474=\"\",\"\",IF($L$8=\"\",\"\",IF(VLOOKUP($L$8,Configuração!$S$7:$U$16,3)=\"D\",Configuração!F474,\"\")))","v":""},null,null,null,null,null,null,3082009,40028]
[null,null,null,null,{"$f":"IF(Configuração!C473=\"\",\"\",Configuração!B473)","v":""},null,null,null,null,null,null,null,null,null,{"$f":"IF(Configuração!H475=\"\",\"\",IF($L$8=\"\",\"\",IF(VLOOKUP($L$8,Configuração!$S$7:$U$16,3)=\"D\",Configuração!F475,\"\")))","v":""},null,null,null,null,null,null,3082010,40393]
[null,null,null,null,{"$f":"IF(Configuração!C474=\"\",\"\",Configuração!B474)","v":""},null,null,null,null,null,null,null,null,null,{"$f":"IF(Configuração!H476=\"\",\"\",IF($L$8=\"\",\"\",IF(VLOOKUP($L$8,Configuração!$S$7:$U$16,3)=\"D\",Configuração!F476,\"\")))","v":""},null,null,null,null,null,null,3082011,40758]
[null,null,null,null,{"$f":"IF(Configuração!C475=\"\",\"\",Configuração!B475)","v":""},null,null,null,null,null,null,null,null,null,{"$f":"IF(Configuração!H477=\"\",\"\",IF($L$8=\"\",\"\",IF(VLOOKUP($L$8,Configuração!$S$7:$U$16,3)=\"D\",Configuração!F477,\"\")))","v":""},null,null,null,null,null,null,3082012,41124]
[null,null,null,null,{"$f":"IF(Configuração!C476=\"\",\"\",Configuração!B476)","v":""},null,null,null,null,null,null,null,null,null,{"$f":"IF(Configuração!H478=\"\",\"\",IF($L$8=\"\",\"\",IF(VLOOKUP($L$8,Configuração!$S$7:$U$16,3)=\"D\",Configuração!F478,\"\")))","v":""},null,null,null,null,null,null,3082013,41489]
[null,null,null,null,{"$f":"IF(Configuração!C477=\"\",\"\",Configuração!B477)","v":""},null,null,null,null,null,null,null,null,null,{"$f":"IF(Configuração!H479=\"\",\"\",IF($L$8=\"\",\"\",IF(VLOOKUP($L$8,Configuração!$S$7:$U$16,3)=\"D\",Configuração!F479,\"\")))","v":""},null,null,null,null,null,null,3082014,41854]
[null,null,null,null,{"$f":"IF(Configuração!C478=\"\",\"\",Configuração!B478)","v":""},null,null,null,null,null,null,null,null,null,{"$f":"IF(Configuração!H480=\"\",\"\",IF($L$8=\"\",\"\",IF(VLOOKUP($L$8,Configuração!$S$7:$U$16,3)=\"D\",Configuração!F480,\"\")))","v":""},null,null,null,null,null,null,3082015,42219]
[null,null,null,null,{"$f":"IF(Configuração!C479=\"\",\"\",Configuração!B479)","v":""},null,null,null,null,null,null,null,null,null,{"$f":"IF(Configuração!H481=\"\",\"\",IF($L$8=\"\",\"\",IF(VLOOKUP($L$8,Configuração!$S$7:$U$16,3)=\"D\",Configuração!F481,\"\")))","v":""},null,null,null,null,null,null,3082016,42585]
[null,null,null,null,{"$f":"IF(Configuração!C480=\"\",\"\",Configuração!B480)","v":""},null,null,null,null,null,null,null,null,null,{"$f":"IF(Configuração!H482=\"\",\"\",IF($L$8=\"\",\"\",IF(VLOOKUP($L$8,Configuração!$S$7:$U$16,3)=\"D\",Configuração!F482,\"\")))","v":""},null,null,null,null,null,null,3082017,42950]
[null,null,null,null,{"$f":"IF(Configuração!C481=\"\",\"\",Configuração!B481)","v":""},null,null,null,null,null,null,null,null,null,{"$f":"IF(Configuração!H483=\"\",\"\",IF($L$8=\"\",\"\",IF(VLOOKUP($L$8,Configuração!$S$7:$U$16,3)=\"D\",Configuração!F483,\"\")))","v":""},null,null,null,null,null,null,3082018,43315]
[null,null,null,null,{"$f":"IF(Configuração!C482=\"\",\"\",Configuração!B482)","v":""},null,null,null,null,null,null,null,null,null,{"$f":"IF(Configuração!H484=\"\",\"\",IF($L$8=\"\",\"\",IF(VLOOKUP($L$8,Configuração!$S$7:$U$16,3)=\"D\",Configuração!F484,\"\")))","v":""},null,null,null,null,null,null,3082019,43680]
[null,null,null,null,{"$f":"IF(Configuração!C483=\"\",\"\",Configuração!B483)","v":""},null,null,null,null,null,null,null,null,null,{"$f":"IF(Configuração!H485=\"\",\"\",IF($L$8=\"\",\"\",IF(VLOOKUP($L$8,Configuração!$S$7:$U$16,3)=\"D\",Configuração!F485,\"\")))","v":""},null,null,null,null,null,null,3082020,44046]
[null,null,null,null,{"$f":"IF(Configuração!C484=\"\",\"\",Configuração!B484)","v":""},null,null,null,null,null,null,null,null,null,{"$f":"IF(Configuração!H486=\"\",\"\",IF($L$8=\"\",\"\",IF(VLOOKUP($L$8,Configuração!$S$7:$U$16,3)=\"D\",Configuração!F486,\"\")))","v":""},null,null,null,null,null,null,3082021,44411]
[null,null,null,null,{"$f":"IF(Configuração!C485=\"\",\"\",Configuração!B485)","v":""},null,null,null,null,null,null,null,null,null,{"$f":"IF(Configuração!H487=\"\",\"\",IF($L$8=\"\",\"\",IF(VLOOKUP($L$8,Configuração!$S$7:$U$16,3)=\"D\",Configuração!F487,\"\")))","v":""},null,null,null,null,null,null,3082022,44776]
[null,null,null,null,{"$f":"IF(Configuração!C486=\"\",\"\",Configuração!B486)","v":""},null,null,null,null,null,null,null,null,null,{"$f":"IF(Configuração!H488=\"\",\"\",IF($L$8=\"\",\"\",IF(VLOOKUP($L$8,Configuração!$S$7:$U$16,3)=\"D\",Configuração!F488,\"\")))","v":""},null,null,null,null,null,null,3082023,45141]
[null,null,null,null,{"$f":"IF(Configuração!C487=\"\",\"\",Configuração!B487)","v":""},null,null,null,null,null,null,null,null,null,{"$f":"IF(Configuração!H489=\"\",\"\",IF($L$8=\"\",\"\",IF(VLOOKUP($L$8,Configuração!$S$7:$U$16,3)=\"D\",Configuração!F489,\"\")))","v":""},null,null,null,null,null,null,3092009,40059]
[null,null,null,null,{"$f":"IF(Configuração!C488=\"\",\"\",Configuração!B488)","v":""},null,null,null,null,null,null,null,null,null,{"$f":"IF(Configuração!H490=\"\",\"\",IF($L$8=\"\",\"\",IF(VLOOKUP($L$8,Configuração!$S$7:$U$16,3)=\"D\",Configuração!F490,\"\")))","v":""},null,null,null,null,null,null,3092010,40424]
[null,null,null,null,{"$f":"IF(Configuração!C489=\"\",\"\",Configuração!B489)","v":""},null,null,null,null,null,null,null,null,null,{"$f":"IF(Configuração!H491=\"\",\"\",IF($L$8=\"\",\"\",IF(VLOOKUP($L$8,Configuração!$S$7:$U$16,3)=\"D\",Configuração!F491,\"\")))","v":""},null,null,null,null,null,null,3092011,40789]
[null,null,null,null,{"$f":"IF(Configuração!C490=\"\",\"\",Configuração!B490)","v":""},null,null,null,null,null,null,null,null,null,{"$f":"IF(Configuração!H492=\"\",\"\",IF($L$8=\"\",\"\",IF(VLOOKUP($L$8,Configuração!$S$7:$U$16,3)=\"D\",Configuração!F492,\"\")))","v":""},null,null,null,null,null,null,3092012,41155]
[null,null,null,null,{"$f":"IF(Configuração!C491=\"\",\"\",Configuração!B491)","v":""},null,null,null,null,null,null,null,null,null,{"$f":"IF(Configuração!H493=\"\",\"\",IF($L$8=\"\",\"\",IF(VLOOKUP($L$8,Configuração!$S$7:$U$16,3)=\"D\",Configuração!F493,\"\")))","v":""},null,null,null,null,null,null,3092013,41520]
[null,null,null,null,{"$f":"IF(Configuração!C492=\"\",\"\",Configuração!B492)","v":""},null,null,null,null,null,null,null,null,null,{"$f":"IF(Configuração!H494=\"\",\"\",IF($L$8=\"\",\"\",IF(VLOOKUP($L$8,Configuração!$S$7:$U$16,3)=\"D\",Configuração!F494,\"\")))","v":""},null,null,null,null,null,null,3092014,41885]
[null,null,null,null,{"$f":"IF(Configuração!C493=\"\",\"\",Configuração!B493)","v":""},null,null,null,null,null,null,null,null,null,{"$f":"IF(Configuração!H495=\"\",\"\",IF($L$8=\"\",\"\",IF(VLOOKUP($L$8,Configuração!$S$7:$U$16,3)=\"D\",Configuração!F495,\"\")))","v":""},null,null,null,null,null,null,3092015,42250]
[null,null,null,null,{"$f":"IF(Configuração!C494=\"\",\"\",Configuração!B494)","v":""},null,null,null,null,null,null,null,null,null,{"$f":"IF(Configuração!H496=\"\",\"\",IF($L$8=\"\",\"\",IF(VLOOKUP($L$8,Configuração!$S$7:$U$16,3)=\"D\",Configuração!F496,\"\")))","v":""},null,null,null,null,null,null,3092016,42616]
[null,null,null,null,{"$f":"IF(Configuração!C495=\"\",\"\",Configuração!B495)","v":""},null,null,null,null,null,null,null,null,null,{"$f":"IF(Configuração!H497=\"\",\"\",IF($L$8=\"\",\"\",IF(VLOOKUP($L$8,Configuração!$S$7:$U$16,3)=\"D\",Configuração!F497,\"\")))","v":""},null,null,null,null,null,null,3092017,42981]
[null,null,null,null,{"$f":"IF(Configuração!C496=\"\",\"\",Configuração!B496)","v":""},null,null,null,null,null,null,null,null,null,{"$f":"IF(Configuração!H498=\"\",\"\",IF($L$8=\"\",\"\",IF(VLOOKUP($L$8,Configuração!$S$7:$U$16,3)=\"D\",Configuração!F498,\"\")))","v":""},null,null,null,null,null,null,3092018,43346]
[null,null,null,null,{"$f":"IF(Configuração!C497=\"\",\"\",Configuração!B497)","v":""},null,null,null,null,null,null,null,null,null,{"$f":"IF(Configuração!H499=\"\",\"\",IF($L$8=\"\",\"\",IF(VLOOKUP($L$8,Configuração!$S$7:$U$16,3)=\"D\",Configuração!F499,\"\")))","v":""},null,null,null,null,null,null,3092019,43711]
[null,null,null,null,{"$f":"IF(Configuração!C498=\"\",\"\",Configuração!B498)","v":""},null,null,null,null,null,null,null,null,null,{"$f":"IF(Configuração!H500=\"\",\"\",IF($L$8=\"\",\"\",IF(VLOOKUP($L$8,Configuração!$S$7:$U$16,3)=\"D\",Configuração!F500,\"\")))","v":""},null,null,null,null,null,null,3092020,44077]
[null,null,null,null,{"$f":"IF(Configuração!C499=\"\",\"\",Configuração!B499)","v":""},null,null,null,null,null,null,null,null,null,{"$f":"IF(Configuração!H501=\"\",\"\",IF($L$8=\"\",\"\",IF(VLOOKUP($L$8,Configuração!$S$7:$U$16,3)=\"D\",Configuração!F501,\"\")))","v":""},null,null,null,null,null,null,3092021,44442]
[null,null,null,null,{"$f":"IF(Configuração!C500=\"\",\"\",Configuração!B500)","v":""},null,null,null,null,null,null,null,null,null,{"$f":"IF(Configuração!H502=\"\",\"\",IF($L$8=\"\",\"\",IF(VLOOKUP($L$8,Configuração!$S$7:$U$16,3)=\"D\",Configuração!F502,\"\")))","v":""},null,null,null,null,null,null,3092022,44807]
[null,null,null,null,{"$f":"IF(Configuração!C501=\"\",\"\",Configuração!B501)","v":""},null,null,null,null,null,null,null,null,null,{"$f":"IF(Configuração!H503=\"\",\"\",IF($L$8=\"\",\"\",IF(VLOOKUP($L$8,Configuração!$S$7:$U$16,3)=\"D\",Configuração!F503,\"\")))","v":""},null,null,null,null,null,null,3092023,45172]
[null,null,null,null,{"$f":"IF(Configuração!C502=\"\",\"\",Configuração!B502)","v":""},null,null,null,null,null,null,null,null,null,{"$f":"IF(Configuração!H504=\"\",\"\",IF($L$8=\"\",\"\",IF(VLOOKUP($L$8,Configuração!$S$7:$U$16,3)=\"D\",Configuração!F504,\"\")))","v":""},null,null,null,null,null,null,3102009,40089]
[null,null,null,null,{"$f":"IF(Configuração!C503=\"\",\"\",Configuração!B503)","v":""},null,null,null,null,null,null,null,null,null,{"$f":"IF(Configuração!H505=\"\",\"\",IF($L$8=\"\",\"\",IF(VLOOKUP($L$8,Configuração!$S$7:$U$16,3)=\"D\",Configuração!F505,\"\")))","v":""},null,null,null,null,null,null,3102010,40454]
[null,null,null,null,{"$f":"IF(Configuração!C504=\"\",\"\",Configuração!B504)","v":""},null,null,null,null,null,null,null,null,null,{"$f":"IF(Configuração!H506=\"\",\"\",IF($L$8=\"\",\"\",IF(VLOOKUP($L$8,Configuração!$S$7:$U$16,3)=\"D\",Configuração!F506,\"\")))","v":""},null,null,null,null,null,null,3102011,40819]
[null,null,null,null,{"$f":"IF(Configuração!C505=\"\",\"\",Configuração!B505)","v":""},null,null,null,null,null,null,null,null,null,{"$f":"IF(Configuração!H507=\"\",\"\",IF($L$8=\"\",\"\",IF(VLOOKUP($L$8,Configuração!$S$7:$U$16,3)=\"D\",Configuração!F507,\"\")))","v":""},null,null,null,null,null,null,3102012,41185]
[null,null,null,null,{"$f":"IF(Configuração!C506=\"\",\"\",Configuração!B506)","v":""},null,null,null,null,null,null,null,null,null,{"$f":"IF(Configuração!H508=\"\",\"\",IF($L$8=\"\",\"\",IF(VLOOKUP($L$8,Configuração!$S$7:$U$16,3)=\"D\",Configuração!F508,\"\")))","v":""},null,null,null,null,null,null,3102013,41550]
[null,null,null,null,{"$f":"IF(Configuração!C507=\"\",\"\",Configuração!B507)","v":""},null,null,null,null,null,null,null,null,null,{"$f":"IF(Configuração!H509=\"\",\"\",IF($L$8=\"\",\"\",IF(VLOOKUP($L$8,Configuração!$S$7:$U$16,3)=\"D\",Configuração!F509,\"\")))","v":""},null,null,null,null,null,null,3102014,41915]
[null,null,null,null,{"$f":"IF(Configuração!C508=\"\",\"\",Configuração!B508)","v":""},null,null,null,null,null,null,null,null,null,{"$f":"IF(Configuração!H510=\"\",\"\",IF($L$8=\"\",\"\",IF(VLOOKUP($L$8,Configuração!$S$7:$U$16,3)=\"D\",Configuração!F510,\"\")))","v":""},null,null,null,null,null,null,3102015,42280]
[null,null,null,null,{"$f":"IF(Configuração!C509=\"\",\"\",Configuração!B509)","v":""},null,null,null,null,null,null,null,null,null,{"$f":"IF(Configuração!H511=\"\",\"\",IF($L$8=\"\",\"\",IF(VLOOKUP($L$8,Configuração!$S$7:$U$16,3)=\"D\",Configuração!F511,\"\")))","v":""},null,null,null,null,null,null,3102016,42646]
[null,null,null,null,{"$f":"IF(Configuração!C510=\"\",\"\",Configuração!B510)","v":""},null,null,null,null,null,null,null,null,null,{"$f":"IF(Configuração!H512=\"\",\"\",IF($L$8=\"\",\"\",IF(VLOOKUP($L$8,Configuração!$S$7:$U$16,3)=\"D\",Configuração!F512,\"\")))","v":""},null,null,null,null,null,null,3102017,43011]
[null,null,null,null,{"$f":"IF(Configuração!C511=\"\",\"\",Configuração!B511)","v":""},null,null,null,null,null,null,null,null,null,{"$f":"IF(Configuração!H513=\"\",\"\",IF($L$8=\"\",\"\",IF(VLOOKUP($L$8,Configuração!$S$7:$U$16,3)=\"D\",Configuração!F513,\"\")))","v":""},null,null,null,null,null,null,3102018,43376]
[null,null,null,null,{"$f":"IF(Configuração!C512=\"\",\"\",Configuração!B512)","v":""},null,null,null,null,null,null,null,null,null,{"$f":"IF(Configuração!H514=\"\",\"\",IF($L$8=\"\",\"\",IF(VLOOKUP($L$8,Configuração!$S$7:$U$16,3)=\"D\",Configuração!F514,\"\")))","v":""},null,null,null,null,null,null,3102019,43741]
[null,null,null,null,{"$f":"IF(Configuração!C513=\"\",\"\",Configuração!B513)","v":""},null,null,null,null,null,null,null,null,null,{"$f":"IF(Configuração!H515=\"\",\"\",IF($L$8=\"\",\"\",IF(VLOOKUP($L$8,Configuração!$S$7:$U$16,3)=\"D\",Configuração!F515,\"\")))","v":""},null,null,null,null,null,null,3102020,44107]
[null,null,null,null,{"$f":"IF(Configuração!C514=\"\",\"\",Configuração!B514)","v":""},null,null,null,null,null,null,null,null,null,{"$f":"IF(Configuração!H516=\"\",\"\",IF($L$8=\"\",\"\",IF(VLOOKUP($L$8,Configuração!$S$7:$U$16,3)=\"D\",Configuração!F516,\"\")))","v":""},null,null,null,null,null,null,3102021,44472]
[null,null,null,null,{"$f":"IF(Configuração!C515=\"\",\"\",Configuração!B515)","v":""},null,null,null,null,null,null,null,null,null,{"$f":"IF(Configuração!H517=\"\",\"\",IF($L$8=\"\",\"\",IF(VLOOKUP($L$8,Configuração!$S$7:$U$16,3)=\"D\",Configuração!F517,\"\")))","v":""},null,null,null,null,null,null,3102022,44837]
[null,null,null,null,{"$f":"IF(Configuração!C516=\"\",\"\",Configuração!B516)","v":""},null,null,null,null,null,null,null,null,null,{"$f":"IF(Configuração!H518=\"\",\"\",IF($L$8=\"\",\"\",IF(VLOOKUP($L$8,Configuração!$S$7:$U$16,3)=\"D\",Configuração!F518,\"\")))","v":""},null,null,null,null,null,null,3102023,45202]
[null,null,null,null,{"$f":"IF(Configuração!C517=\"\",\"\",Configuração!B517)","v":""},null,null,null,null,null,null,null,null,null,null,null,null,null,null,null,null,3112009,40120]
[null,null,null,null,{"$f":"IF(Configuração!C518=\"\",\"\",Configuração!B518)","v":""},null,null,null,null,null,null,null,null,null,{"$f":"IF(Configuração!H520=\"\",\"\",IF($L$8=\"\",\"\",IF(VLOOKUP($L$8,Configuração!$S$7:$U$16,3)=\"D\",Configuração!F520,\"\")))","v":""},null,null,null,null,null,null,3112010,40485]
[null,null,null,null,{"$f":"IF(Configuração!C519=\"\",\"\",Configuração!B519)","v":""},null,null,null,null,null,null,null,null,null,{"$f":"IF(Configuração!H521=\"\",\"\",IF($L$8=\"\",\"\",IF(VLOOKUP($L$8,Configuração!$S$7:$U$16,3)=\"D\",Configuração!F521,\"\")))","v":""},null,null,null,null,null,null,3112011,40850]
[null,null,null,null,{"$f":"IF(Configuração!C520=\"\",\"\",Configuração!B520)","v":""},null,null,null,null,null,null,null,null,null,{"$f":"IF(Configuração!H522=\"\",\"\",IF($L$8=\"\",\"\",IF(VLOOKUP($L$8,Configuração!$S$7:$U$16,3)=\"D\",Configuração!F522,\"\")))","v":""},null,null,null,null,null,null,3112012,41216]
[null,null,null,null,{"$f":"IF(Configuração!C521=\"\",\"\",Configuração!B521)","v":""},null,null,null,null,null,null,null,null,null,{"$f":"IF(Configuração!H523=\"\",\"\",IF($L$8=\"\",\"\",IF(VLOOKUP($L$8,Configuração!$S$7:$U$16,3)=\"D\",Configuração!F523,\"\")))","v":""},null,null,null,null,null,null,3112013,41581]
[null,null,null,null,{"$f":"IF(Configuração!C522=\"\",\"\",Configuração!B522)","v":""},null,null,null,null,null,null,null,null,null,{"$f":"IF(Configuração!H524=\"\",\"\",IF($L$8=\"\",\"\",IF(VLOOKUP($L$8,Configuração!$S$7:$U$16,3)=\"D\",Configuração!F524,\"\")))","v":""},null,null,null,null,null,null,3112014,41946]
[null,null,null,null,{"$f":"IF(Configuração!C523=\"\",\"\",Configuração!B523)","v":""},null,null,null,null,null,null,null,null,null,{"$f":"IF(Configuração!H525=\"\",\"\",IF($L$8=\"\",\"\",IF(VLOOKUP($L$8,Configuração!$S$7:$U$16,3)=\"D\",Configuração!F525,\"\")))","v":""},null,null,null,null,null,null,3112015,42311]
[null,null,null,null,{"$f":"IF(Configuração!C524=\"\",\"\",Configuração!B524)","v":""},null,null,null,null,null,null,null,null,null,{"$f":"IF(Configuração!H526=\"\",\"\",IF($L$8=\"\",\"\",IF(VLOOKUP($L$8,Configuração!$S$7:$U$16,3)=\"D\",Configuração!F526,\"\")))","v":""},null,null,null,null,null,null,3112016,42677]
[null,null,null,null,{"$f":"IF(Configuração!C525=\"\",\"\",Configuração!B525)","v":""},null,null,null,null,null,null,null,null,null,{"$f":"IF(Configuração!H527=\"\",\"\",IF($L$8=\"\",\"\",IF(VLOOKUP($L$8,Configuração!$S$7:$U$16,3)=\"D\",Configuração!F527,\"\")))","v":""},null,null,null,null,null,null,3112017,43042]
[null,null,null,null,{"$f":"IF(Configuração!C526=\"\",\"\",Configuração!B526)","v":""},null,null,null,null,null,null,null,null,null,{"$f":"IF(Configuração!H528=\"\",\"\",IF($L$8=\"\",\"\",IF(VLOOKUP($L$8,Configuração!$S$7:$U$16,3)=\"D\",Configuração!F528,\"\")))","v":""},null,null,null,null,null,null,3112018,43407]
[null,null,null,null,{"$f":"IF(Configuração!C527=\"\",\"\",Configuração!B527)","v":""},null,null,null,null,null,null,null,null,null,{"$f":"IF(Configuração!H529=\"\",\"\",IF($L$8=\"\",\"\",IF(VLOOKUP($L$8,Configuração!$S$7:$U$16,3)=\"D\",Configuração!F529,\"\")))","v":""},null,null,null,null,null,null,3112019,43772]
[null,null,null,null,{"$f":"IF(Configuração!C528=\"\",\"\",Configuração!B528)","v":""},null,null,null,null,null,null,null,null,null,{"$f":"IF(Configuração!H530=\"\",\"\",IF($L$8=\"\",\"\",IF(VLOOKUP($L$8,Configuração!$S$7:$U$16,3)=\"D\",Configuração!F530,\"\")))","v":""},null,null,null,null,null,null,3112020,44138]
[null,null,null,null,{"$f":"IF(Configuração!C529=\"\",\"\",Configuração!B529)","v":""},null,null,null,null,null,null,null,null,null,{"$f":"IF(Configuração!H531=\"\",\"\",IF($L$8=\"\",\"\",IF(VLOOKUP($L$8,Configuração!$S$7:$U$16,3)=\"D\",Configuração!F531,\"\")))","v":""},null,null,null,null,null,null,3112021,44503]
[null,null,null,null,{"$f":"IF(Configuração!C530=\"\",\"\",Configuração!B530)","v":""},null,null,null,null,null,null,null,null,null,{"$f":"IF(Configuração!H532=\"\",\"\",IF($L$8=\"\",\"\",IF(VLOOKUP($L$8,Configuração!$S$7:$U$16,3)=\"D\",Configuração!F532,\"\")))","v":""},null,null,null,null,null,null,3112022,44868]
[null,null,null,null,{"$f":"IF(Configuração!C531=\"\",\"\",Configuração!B531)","v":""},null,null,null,null,null,null,null,null,null,{"$f":"IF(Configuração!H533=\"\",\"\",IF($L$8=\"\",\"\",IF(VLOOKUP($L$8,Configuração!$S$7:$U$16,3)=\"D\",Configuração!F533,\"\")))","v":""},null,null,null,null,null,null,3112023,45233]
[null,null,null,null,{"$f":"IF(Configuração!C532=\"\",\"\",Configuração!B532)","v":""},null,null,null,null,null,null,null,null,null,{"$f":"IF(Configuração!H534=\"\",\"\",IF($L$8=\"\",\"\",IF(VLOOKUP($L$8,Configuração!$S$7:$U$16,3)=\"D\",Configuração!F534,\"\")))","v":""},null,null,null,null,null,null,3122009,40150]
[null,null,null,null,{"$f":"IF(Configuração!C533=\"\",\"\",Configuração!B533)","v":""},null,null,null,null,null,null,null,null,null,{"$f":"IF(Configuração!H535=\"\",\"\",IF($L$8=\"\",\"\",IF(VLOOKUP($L$8,Configuração!$S$7:$U$16,3)=\"D\",Configuração!F535,\"\")))","v":""},null,null,null,null,null,null,3122010,40515]
[null,null,null,null,{"$f":"IF(Configuração!C534=\"\",\"\",Configuração!B534)","v":""},null,null,null,null,null,null,null,null,null,{"$f":"IF(Configuração!H536=\"\",\"\",IF($L$8=\"\",\"\",IF(VLOOKUP($L$8,Configuração!$S$7:$U$16,3)=\"D\",Configuração!F536,\"\")))","v":""},null,null,null,null,null,null,3122011,40880]
[null,null,null,null,{"$f":"IF(Configuração!C535=\"\",\"\",Configuração!B535)","v":""},null,null,null,null,null,null,null,null,null,{"$f":"IF(Configuração!H537=\"\",\"\",IF($L$8=\"\",\"\",IF(VLOOKUP($L$8,Configuração!$S$7:$U$16,3)=\"D\",Configuração!F537,\"\")))","v":""},null,null,null,null,null,null,3122012,41246]
[null,null,null,null,{"$f":"IF(Configuração!C536=\"\",\"\",Configuração!B536)","v":""},null,null,null,null,null,null,null,null,null,{"$f":"IF(Configuração!H538=\"\",\"\",IF($L$8=\"\",\"\",IF(VLOOKUP($L$8,Configuração!$S$7:$U$16,3)=\"D\",Configuração!F538,\"\")))","v":""},null,null,null,null,null,null,3122013,41611]
[null,null,null,null,{"$f":"IF(Configuração!C537=\"\",\"\",Configuração!B537)","v":""},null,null,null,null,null,null,null,null,null,{"$f":"IF(Configuração!H539=\"\",\"\",IF($L$8=\"\",\"\",IF(VLOOKUP($L$8,Configuração!$S$7:$U$16,3)=\"D\",Configuração!F539,\"\")))","v":""},null,null,null,null,null,null,3122014,41976]
[null,null,null,null,{"$f":"IF(Configuração!C538=\"\",\"\",Configuração!B538)","v":""},null,null,null,null,null,null,null,null,null,{"$f":"IF(Configuração!H540=\"\",\"\",IF($L$8=\"\",\"\",IF(VLOOKUP($L$8,Configuração!$S$7:$U$16,3)=\"D\",Configuração!F540,\"\")))","v":""},null,null,null,null,null,null,3122015,42341]
[null,null,null,null,{"$f":"IF(Configuração!C539=\"\",\"\",Configuração!B539)","v":""},null,null,null,null,null,null,null,null,null,{"$f":"IF(Configuração!H541=\"\",\"\",IF($L$8=\"\",\"\",IF(VLOOKUP($L$8,Configuração!$S$7:$U$16,3)=\"D\",Configuração!F541,\"\")))","v":""},null,null,null,null,null,null,3122016,42707]
[null,null,null,null,{"$f":"IF(Configuração!C540=\"\",\"\",Configuração!B540)","v":""},null,null,null,null,null,null,null,null,null,{"$f":"IF(Configuração!H542=\"\",\"\",IF($L$8=\"\",\"\",IF(VLOOKUP($L$8,Configuração!$S$7:$U$16,3)=\"D\",Configuração!F542,\"\")))","v":""},null,null,null,null,null,null,3122017,43072]
[null,null,null,null,{"$f":"IF(Configuração!C541=\"\",\"\",Configuração!B541)","v":""},null,null,null,null,null,null,null,null,null,{"$f":"IF(Configuração!H543=\"\",\"\",IF($L$8=\"\",\"\",IF(VLOOKUP($L$8,Configuração!$S$7:$U$16,3)=\"D\",Configuração!F543,\"\")))","v":""},null,null,null,null,null,null,3122018,43437]
[null,null,null,null,{"$f":"IF(Configuração!C542=\"\",\"\",Configuração!B542)","v":""},null,null,null,null,null,null,null,null,null,{"$f":"IF(Configuração!H544=\"\",\"\",IF($L$8=\"\",\"\",IF(VLOOKUP($L$8,Configuração!$S$7:$U$16,3)=\"D\",Configuração!F544,\"\")))","v":""},null,null,null,null,null,null,3122019,43802]
[null,null,null,null,{"$f":"IF(Configuração!C543=\"\",\"\",Configuração!B543)","v":""},null,null,null,null,null,null,null,null,null,{"$f":"IF(Configuração!H545=\"\",\"\",IF($L$8=\"\",\"\",IF(VLOOKUP($L$8,Configuração!$S$7:$U$16,3)=\"D\",Configuração!F545,\"\")))","v":""},null,null,null,null,null,null,3122020,44168]
[null,null,null,null,{"$f":"IF(Configuração!C544=\"\",\"\",Configuração!B544)","v":""},null,null,null,null,null,null,null,null,null,{"$f":"IF(Configuração!H546=\"\",\"\",IF($L$8=\"\",\"\",IF(VLOOKUP($L$8,Configuração!$S$7:$U$16,3)=\"D\",Configuração!F546,\"\")))","v":""},null,null,null,null,null,null,3122021,44533]
[null,null,null,null,{"$f":"IF(Configuração!C545=\"\",\"\",Configuração!B545)","v":""},null,null,null,null,null,null,null,null,null,{"$f":"IF(Configuração!H547=\"\",\"\",IF($L$8=\"\",\"\",IF(VLOOKUP($L$8,Configuração!$S$7:$U$16,3)=\"D\",Configuração!F547,\"\")))","v":""},null,null,null,null,null,null,3122022,44898]
[null,null,null,null,{"$f":"IF(Configuração!C546=\"\",\"\",Configuração!B546)","v":""},null,null,null,null,null,null,null,null,null,{"$f":"IF(Configuração!H548=\"\",\"\",IF($L$8=\"\",\"\",IF(VLOOKUP($L$8,Configuração!$S$7:$U$16,3)=\"D\",Configuração!F548,\"\")))","v":""},null,null,null,null,null,null,3122023,45263]
[null,null,null,null,{"$f":"IF(Configuração!C547=\"\",\"\",Configuração!B547)","v":""},null,null,null,null,null,null,null,null,null,{"$f":"IF(Configuração!H549=\"\",\"\",IF($L$8=\"\",\"\",IF(VLOOKUP($L$8,Configuração!$S$7:$U$16,3)=\"D\",Configuração!F549,\"\")))","v":""},null,null,null,null,null,null,4012009,39817]
[null,null,null,null,{"$f":"IF(Configuração!C548=\"\",\"\",Configuração!B548)","v":""},null,null,null,null,null,null,null,null,null,{"$f":"IF(Configuração!H550=\"\",\"\",IF($L$8=\"\",\"\",IF(VLOOKUP($L$8,Configuração!$S$7:$U$16,3)=\"D\",Configuração!F550,\"\")))","v":""},null,null,null,null,null,null,4012010,40182]
[null,null,null,null,{"$f":"IF(Configuração!C549=\"\",\"\",Configuração!B549)","v":""},null,null,null,null,null,null,null,null,null,{"$f":"IF(Configuração!H551=\"\",\"\",IF($L$8=\"\",\"\",IF(VLOOKUP($L$8,Configuração!$S$7:$U$16,3)=\"D\",Configuração!F551,\"\")))","v":""},null,null,null,null,null,null,4012011,40547]
[null,null,null,null,{"$f":"IF(Configuração!C550=\"\",\"\",Configuração!B550)","v":""},null,null,null,null,null,null,null,null,null,{"$f":"IF(Configuração!H552=\"\",\"\",IF($L$8=\"\",\"\",IF(VLOOKUP($L$8,Configuração!$S$7:$U$16,3)=\"D\",Configuração!F552,\"\")))","v":""},null,null,null,null,null,null,4012012,40912]
[null,null,null,null,{"$f":"IF(Configuração!C551=\"\",\"\",Configuração!B551)","v":""},null,null,null,null,null,null,null,null,null,{"$f":"IF(Configuração!H553=\"\",\"\",IF($L$8=\"\",\"\",IF(VLOOKUP($L$8,Configuração!$S$7:$U$16,3)=\"D\",Configuração!F553,\"\")))","v":""},null,null,null,null,null,null,4012013,41278]
[null,null,null,null,{"$f":"IF(Configuração!C552=\"\",\"\",Configuração!B552)","v":""},null,null,null,null,null,null,null,null,null,{"$f":"IF(Configuração!H554=\"\",\"\",IF($L$8=\"\",\"\",IF(VLOOKUP($L$8,Configuração!$S$7:$U$16,3)=\"D\",Configuração!F554,\"\")))","v":""},null,null,null,null,null,null,4012014,41643]
[null,null,null,null,{"$f":"IF(Configuração!C553=\"\",\"\",Configuração!B553)","v":""},null,null,null,null,null,null,null,null,null,{"$f":"IF(Configuração!H555=\"\",\"\",IF($L$8=\"\",\"\",IF(VLOOKUP($L$8,Configuração!$S$7:$U$16,3)=\"D\",Configuração!F555,\"\")))","v":""},null,null,null,null,null,null,4012015,42008]
[null,null,null,null,{"$f":"IF(Configuração!C554=\"\",\"\",Configuração!B554)","v":""},null,null,null,null,null,null,null,null,null,{"$f":"IF(Configuração!H556=\"\",\"\",IF($L$8=\"\",\"\",IF(VLOOKUP($L$8,Configuração!$S$7:$U$16,3)=\"D\",Configuração!F556,\"\")))","v":""},null,null,null,null,null,null,4012016,42373]
[null,null,null,null,{"$f":"IF(Configuração!C555=\"\",\"\",Configuração!B555)","v":""},null,null,null,null,null,null,null,null,null,{"$f":"IF(Configuração!H557=\"\",\"\",IF($L$8=\"\",\"\",IF(VLOOKUP($L$8,Configuração!$S$7:$U$16,3)=\"D\",Configuração!F557,\"\")))","v":""},null,null,null,null,null,null,4012017,42739]
[null,null,null,null,{"$f":"IF(Configuração!C556=\"\",\"\",Configuração!B556)","v":""},null,null,null,null,null,null,null,null,null,{"$f":"IF(Configuração!H558=\"\",\"\",IF($L$8=\"\",\"\",IF(VLOOKUP($L$8,Configuração!$S$7:$U$16,3)=\"D\",Configuração!F558,\"\")))","v":""},null,null,null,null,null,null,4012018,43104]
[null,null,null,null,{"$f":"IF(Configuração!C557=\"\",\"\",Configuração!B557)","v":""},null,null,null,null,null,null,null,null,null,{"$f":"IF(Configuração!H559=\"\",\"\",IF($L$8=\"\",\"\",IF(VLOOKUP($L$8,Configuração!$S$7:$U$16,3)=\"D\",Configuração!F559,\"\")))","v":""},null,null,null,null,null,null,4012019,43469]
[null,null,null,null,{"$f":"IF(Configuração!C558=\"\",\"\",Configuração!B558)","v":""},null,null,null,null,null,null,null,null,null,{"$f":"IF(Configuração!H560=\"\",\"\",IF($L$8=\"\",\"\",IF(VLOOKUP($L$8,Configuração!$S$7:$U$16,3)=\"D\",Configuração!F560,\"\")))","v":""},null,null,null,null,null,null,4012020,43834]
[null,null,null,null,{"$f":"IF(Configuração!C559=\"\",\"\",Configuração!B559)","v":""},null,null,null,null,null,null,null,null,null,{"$f":"IF(Configuração!H561=\"\",\"\",IF($L$8=\"\",\"\",IF(VLOOKUP($L$8,Configuração!$S$7:$U$16,3)=\"D\",Configuração!F561,\"\")))","v":""},null,null,null,null,null,null,4012021,44200]
[null,null,null,null,{"$f":"IF(Configuração!C560=\"\",\"\",Configuração!B560)","v":""},null,null,null,null,null,null,null,null,null,{"$f":"IF(Configuração!H562=\"\",\"\",IF($L$8=\"\",\"\",IF(VLOOKUP($L$8,Configuração!$S$7:$U$16,3)=\"D\",Configuração!F562,\"\")))","v":""},null,null,null,null,null,null,4012022,44565]
[null,null,null,null,{"$f":"IF(Configuração!C561=\"\",\"\",Configuração!B561)","v":""},null,null,null,null,null,null,null,null,null,{"$f":"IF(Configuração!H563=\"\",\"\",IF($L$8=\"\",\"\",IF(VLOOKUP($L$8,Configuração!$S$7:$U$16,3)=\"D\",Configuração!F563,\"\")))","v":""},null,null,null,null,null,null,4012023,44930]
[null,null,null,null,{"$f":"IF(Configuração!C562=\"\",\"\",Configuração!B562)","v":""},null,null,null,null,null,null,null,null,null,{"$f":"IF(Configuração!H564=\"\",\"\",IF($L$8=\"\",\"\",IF(VLOOKUP($L$8,Configuração!$S$7:$U$16,3)=\"D\",Configuração!F564,\"\")))","v":""},null,null,null,null,null,null,4022009,39848]
[null,null,null,null,{"$f":"IF(Configuração!C563=\"\",\"\",Configuração!B563)","v":""},null,null,null,null,null,null,null,null,null,{"$f":"IF(Configuração!H565=\"\",\"\",IF($L$8=\"\",\"\",IF(VLOOKUP($L$8,Configuração!$S$7:$U$16,3)=\"D\",Configuração!F565,\"\")))","v":""},null,null,null,null,null,null,4022010,40213]
[null,null,null,null,{"$f":"IF(Configuração!C564=\"\",\"\",Configuração!B564)","v":""},null,null,null,null,null,null,null,null,null,{"$f":"IF(Configuração!H566=\"\",\"\",IF($L$8=\"\",\"\",IF(VLOOKUP($L$8,Configuração!$S$7:$U$16,3)=\"D\",Configuração!F566,\"\")))","v":""},null,null,null,null,null,null,4022011,40578]
[null,null,null,null,{"$f":"IF(Configuração!C565=\"\",\"\",Configuração!B565)","v":""},null,null,null,null,null,null,null,null,null,{"$f":"IF(Configuração!H567=\"\",\"\",IF($L$8=\"\",\"\",IF(VLOOKUP($L$8,Configuração!$S$7:$U$16,3)=\"D\",Configuração!F567,\"\")))","v":""},null,null,null,null,null,null,4022012,40943]
[null,null,null,null,{"$f":"IF(Configuração!C566=\"\",\"\",Configuração!B566)","v":""},null,null,null,null,null,null,null,null,null,{"$f":"IF(Configuração!H568=\"\",\"\",IF($L$8=\"\",\"\",IF(VLOOKUP($L$8,Configuração!$S$7:$U$16,3)=\"D\",Configuração!F568,\"\")))","v":""},null,null,null,null,null,null,4022013,41309]
[null,null,null,null,{"$f":"IF(Configuração!C567=\"\",\"\",Configuração!B567)","v":""},null,null,null,null,null,null,null,null,null,{"$f":"IF(Configuração!H569=\"\",\"\",IF($L$8=\"\",\"\",IF(VLOOKUP($L$8,Configuração!$S$7:$U$16,3)=\"D\",Configuração!F569,\"\")))","v":""},null,null,null,null,null,null,4022014,41674]
[null,null,null,null,{"$f":"IF(Configuração!C568=\"\",\"\",Configuração!B568)","v":""},null,null,null,null,null,null,null,null,null,null,null,null,null,null,null,null,4022015,42039]
[null,null,null,null,{"$f":"IF(Configuração!C569=\"\",\"\",Configuração!B569)","v":""},null,null,null,null,null,null,null,null,null,{"$f":"IF(Configuração!H571=\"\",\"\",IF($L$8=\"\",\"\",IF(VLOOKUP($L$8,Configuração!$S$7:$U$16,3)=\"D\",Configuração!F571,\"\")))","v":""},null,null,null,null,null,null,4022016,42404]
[null,null,null,null,{"$f":"IF(Configuração!C570=\"\",\"\",Configuração!B570)","v":""},null,null,null,null,null,null,null,null,null,{"$f":"IF(Configuração!H572=\"\",\"\",IF($L$8=\"\",\"\",IF(VLOOKUP($L$8,Configuração!$S$7:$U$16,3)=\"D\",Configuração!F572,\"\")))","v":""},null,null,null,null,null,null,4022017,42770]
[null,null,null,null,{"$f":"IF(Configuração!C571=\"\",\"\",Configuração!B571)","v":""},null,null,null,null,null,null,null,null,null,{"$f":"IF(Configuração!H573=\"\",\"\",IF($L$8=\"\",\"\",IF(VLOOKUP($L$8,Configuração!$S$7:$U$16,3)=\"D\",Configuração!F573,\"\")))","v":""},null,null,null,null,null,null,4022018,43135]
[null,null,null,null,{"$f":"IF(Configuração!C572=\"\",\"\",Configuração!B572)","v":""},null,null,null,null,null,null,null,null,null,{"$f":"IF(Configuração!H574=\"\",\"\",IF($L$8=\"\",\"\",IF(VLOOKUP($L$8,Configuração!$S$7:$U$16,3)=\"D\",Configuração!F574,\"\")))","v":""},null,null,null,null,null,null,4022019,43500]
[null,null,null,null,{"$f":"IF(Configuração!C573=\"\",\"\",Configuração!B573)","v":""},null,null,null,null,null,null,null,null,null,{"$f":"IF(Configuração!H575=\"\",\"\",IF($L$8=\"\",\"\",IF(VLOOKUP($L$8,Configuração!$S$7:$U$16,3)=\"D\",Configuração!F575,\"\")))","v":""},null,null,null,null,null,null,4022020,43865]
[null,null,null,null,{"$f":"IF(Configuração!C574=\"\",\"\",Configuração!B574)","v":""},null,null,null,null,null,null,null,null,null,{"$f":"IF(Configuração!H576=\"\",\"\",IF($L$8=\"\",\"\",IF(VLOOKUP($L$8,Configuração!$S$7:$U$16,3)=\"D\",Configuração!F576,\"\")))","v":""},null,null,null,null,null,null,4022021,44231]
[null,null,null,null,{"$f":"IF(Configuração!C575=\"\",\"\",Configuração!B575)","v":""},null,null,null,null,null,null,null,null,null,{"$f":"IF(Configuração!H577=\"\",\"\",IF($L$8=\"\",\"\",IF(VLOOKUP($L$8,Configuração!$S$7:$U$16,3)=\"D\",Configuração!F577,\"\")))","v":""},null,null,null,null,null,null,4022022,44596]
[null,null,null,null,{"$f":"IF(Configuração!C576=\"\",\"\",Configuração!B576)","v":""},null,null,null,null,null,null,null,null,null,{"$f":"IF(Configuração!H578=\"\",\"\",IF($L$8=\"\",\"\",IF(VLOOKUP($L$8,Configuração!$S$7:$U$16,3)=\"D\",Configuração!F578,\"\")))","v":""},null,null,null,null,null,null,4022023,44961]
[null,null,null,null,{"$f":"IF(Configuração!C577=\"\",\"\",Configuração!B577)","v":""},null,null,null,null,null,null,null,null,null,{"$f":"IF(Configuração!H579=\"\",\"\",IF($L$8=\"\",\"\",IF(VLOOKUP($L$8,Configuração!$S$7:$U$16,3)=\"D\",Configuração!F579,\"\")))","v":""},null,null,null,null,null,null,4032009,39876]
[null,null,null,null,{"$f":"IF(Configuração!C578=\"\",\"\",Configuração!B578)","v":""},null,null,null,null,null,null,null,null,null,{"$f":"IF(Configuração!H580=\"\",\"\",IF($L$8=\"\",\"\",IF(VLOOKUP($L$8,Configuração!$S$7:$U$16,3)=\"D\",Configuração!F580,\"\")))","v":""},null,null,null,null,null,null,4032010,40241]
[null,null,null,null,{"$f":"IF(Configuração!C579=\"\",\"\",Configuração!B579)","v":""},null,null,null,null,null,null,null,null,null,{"$f":"IF(Configuração!H581=\"\",\"\",IF($L$8=\"\",\"\",IF(VLOOKUP($L$8,Configuração!$S$7:$U$16,3)=\"D\",Configuração!F581,\"\")))","v":""},null,null,null,null,null,null,4032011,40606]
[null,null,null,null,{"$f":"IF(Configuração!C580=\"\",\"\",Configuração!B580)","v":""},null,null,null,null,null,null,null,null,null,{"$f":"IF(Configuração!H582=\"\",\"\",IF($L$8=\"\",\"\",IF(VLOOKUP($L$8,Configuração!$S$7:$U$16,3)=\"D\",Configuração!F582,\"\")))","v":""},null,null,null,null,null,null,4032012,40972]
[null,null,null,null,{"$f":"IF(Configuração!C581=\"\",\"\",Configuração!B581)","v":""},null,null,null,null,null,null,null,null,null,{"$f":"IF(Configuração!H583=\"\",\"\",IF($L$8=\"\",\"\",IF(VLOOKUP($L$8,Configuração!$S$7:$U$16,3)=\"D\",Configuração!F583,\"\")))","v":""},null,null,null,null,null,null,4032013,41337]
[null,null,null,null,{"$f":"IF(Configuração!C582=\"\",\"\",Configuração!B582)","v":""},null,null,null,null,null,null,null,null,null,{"$f":"IF(Configuração!H584=\"\",\"\",IF($L$8=\"\",\"\",IF(VLOOKUP($L$8,Configuração!$S$7:$U$16,3)=\"D\",Configuração!F584,\"\")))","v":""},null,null,null,null,null,null,4032014,41702]
[null,null,null,null,{"$f":"IF(Configuração!C583=\"\",\"\",Configuração!B583)","v":""},null,null,null,null,null,null,null,null,null,{"$f":"IF(Configuração!H585=\"\",\"\",IF($L$8=\"\",\"\",IF(VLOOKUP($L$8,Configuração!$S$7:$U$16,3)=\"D\",Configuração!F585,\"\")))","v":""},null,null,null,null,null,null,4032015,42067]
[null,null,null,null,{"$f":"IF(Configuração!C584=\"\",\"\",Configuração!B584)","v":""},null,null,null,null,null,null,null,null,null,{"$f":"IF(Configuração!H586=\"\",\"\",IF($L$8=\"\",\"\",IF(VLOOKUP($L$8,Configuração!$S$7:$U$16,3)=\"D\",Configuração!F586,\"\")))","v":""},null,null,null,null,null,null,4032016,42433]
[null,null,null,null,{"$f":"IF(Configuração!C585=\"\",\"\",Configuração!B585)","v":""},null,null,null,null,null,null,null,null,null,{"$f":"IF(Configuração!H587=\"\",\"\",IF($L$8=\"\",\"\",IF(VLOOKUP($L$8,Configuração!$S$7:$U$16,3)=\"D\",Configuração!F587,\"\")))","v":""},null,null,null,null,null,null,4032017,42798]
[null,null,null,null,{"$f":"IF(Configuração!C586=\"\",\"\",Configuração!B586)","v":""},null,null,null,null,null,null,null,null,null,{"$f":"IF(Configuração!H588=\"\",\"\",IF($L$8=\"\",\"\",IF(VLOOKUP($L$8,Configuração!$S$7:$U$16,3)=\"D\",Configuração!F588,\"\")))","v":""},null,null,null,null,null,null,4032018,43163]
[null,null,null,null,{"$f":"IF(Configuração!C587=\"\",\"\",Configuração!B587)","v":""},null,null,null,null,null,null,null,null,null,{"$f":"IF(Configuração!H589=\"\",\"\",IF($L$8=\"\",\"\",IF(VLOOKUP($L$8,Configuração!$S$7:$U$16,3)=\"D\",Configuração!F589,\"\")))","v":""},null,null,null,null,null,null,4032019,43528]
[null,null,null,null,{"$f":"IF(Configuração!C588=\"\",\"\",Configuração!B588)","v":""},null,null,null,null,null,null,null,null,null,{"$f":"IF(Configuração!H590=\"\",\"\",IF($L$8=\"\",\"\",IF(VLOOKUP($L$8,Configuração!$S$7:$U$16,3)=\"D\",Configuração!F590,\"\")))","v":""},null,null,null,null,null,null,4032020,43894]
[null,null,null,null,{"$f":"IF(Configuração!C589=\"\",\"\",Configuração!B589)","v":""},null,null,null,null,null,null,null,null,null,{"$f":"IF(Configuração!H591=\"\",\"\",IF($L$8=\"\",\"\",IF(VLOOKUP($L$8,Configuração!$S$7:$U$16,3)=\"D\",Configuração!F591,\"\")))","v":""},null,null,null,null,null,null,4032021,44259]
[null,null,null,null,{"$f":"IF(Configuração!C590=\"\",\"\",Configuração!B590)","v":""},null,null,null,null,null,null,null,null,null,{"$f":"IF(Configuração!H592=\"\",\"\",IF($L$8=\"\",\"\",IF(VLOOKUP($L$8,Configuração!$S$7:$U$16,3)=\"D\",Configuração!F592,\"\")))","v":""},null,null,null,null,null,null,4032022,44624]
[null,null,null,null,{"$f":"IF(Configuração!C591=\"\",\"\",Configuração!B591)","v":""},null,null,null,null,null,null,null,null,null,{"$f":"IF(Configuração!H593=\"\",\"\",IF($L$8=\"\",\"\",IF(VLOOKUP($L$8,Configuração!$S$7:$U$16,3)=\"D\",Configuração!F593,\"\")))","v":""},null,null,null,null,null,null,4032023,44989]
[null,null,null,null,{"$f":"IF(Configuração!C592=\"\",\"\",Configuração!B592)","v":""},null,null,null,null,null,null,null,null,null,{"$f":"IF(Configuração!H594=\"\",\"\",IF($L$8=\"\",\"\",IF(VLOOKUP($L$8,Configuração!$S$7:$U$16,3)=\"D\",Configuração!F594,\"\")))","v":""},null,null,null,null,null,null,4042009,39907]
[null,null,null,null,{"$f":"IF(Configuração!C593=\"\",\"\",Configuração!B593)","v":""},null,null,null,null,null,null,null,null,null,{"$f":"IF(Configuração!H595=\"\",\"\",IF($L$8=\"\",\"\",IF(VLOOKUP($L$8,Configuração!$S$7:$U$16,3)=\"D\",Configuração!F595,\"\")))","v":""},null,null,null,null,null,null,4042010,40272]
[null,null,null,null,{"$f":"IF(Configuração!C594=\"\",\"\",Configuração!B594)","v":""},null,null,null,null,null,null,null,null,null,{"$f":"IF(Configuração!H596=\"\",\"\",IF($L$8=\"\",\"\",IF(VLOOKUP($L$8,Configuração!$S$7:$U$16,3)=\"D\",Configuração!F596,\"\")))","v":""},null,null,null,null,null,null,4042011,40637]
[null,null,null,null,{"$f":"IF(Configuração!C595=\"\",\"\",Configuração!B595)","v":""},null,null,null,null,null,null,null,null,null,{"$f":"IF(Configuração!H597=\"\",\"\",IF($L$8=\"\",\"\",IF(VLOOKUP($L$8,Configuração!$S$7:$U$16,3)=\"D\",Configuração!F597,\"\")))","v":""},null,null,null,null,null,null,4042012,41003]
[null,null,null,null,{"$f":"IF(Configuração!C596=\"\",\"\",Configuração!B596)","v":""},null,null,null,null,null,null,null,null,null,{"$f":"IF(Configuração!H598=\"\",\"\",IF($L$8=\"\",\"\",IF(VLOOKUP($L$8,Configuração!$S$7:$U$16,3)=\"D\",Configuração!F598,\"\")))","v":""},null,null,null,null,null,null,4042013,41368]
[null,null,null,null,{"$f":"IF(Configuração!C597=\"\",\"\",Configuração!B597)","v":""},null,null,null,null,null,null,null,null,null,{"$f":"IF(Configuração!H599=\"\",\"\",IF($L$8=\"\",\"\",IF(VLOOKUP($L$8,Configuração!$S$7:$U$16,3)=\"D\",Configuração!F599,\"\")))","v":""},null,null,null,null,null,null,4042014,41733]
[null,null,null,null,{"$f":"IF(Configuração!C598=\"\",\"\",Configuração!B598)","v":""},null,null,null,null,null,null,null,null,null,{"$f":"IF(Configuração!H600=\"\",\"\",IF($L$8=\"\",\"\",IF(VLOOKUP($L$8,Configuração!$S$7:$U$16,3)=\"D\",Configuração!F600,\"\")))","v":""},null,null,null,null,null,null,4042015,42098]
[null,null,null,null,{"$f":"IF(Configuração!C599=\"\",\"\",Configuração!B599)","v":""},null,null,null,null,null,null,null,null,null,{"$f":"IF(Configuração!H601=\"\",\"\",IF($L$8=\"\",\"\",IF(VLOOKUP($L$8,Configuração!$S$7:$U$16,3)=\"D\",Configuração!F601,\"\")))","v":""},null,null,null,null,null,null,4042016,42464]
[null,null,null,null,{"$f":"IF(Configuração!C600=\"\",\"\",Configuração!B600)","v":""},null,null,null,null,null,null,null,null,null,{"$f":"IF(Configuração!H602=\"\",\"\",IF($L$8=\"\",\"\",IF(VLOOKUP($L$8,Configuração!$S$7:$U$16,3)=\"D\",Configuração!F602,\"\")))","v":""},null,null,null,null,null,null,4042017,42829]
[null,null,null,null,{"$f":"IF(Configuração!C601=\"\",\"\",Configuração!B601)","v":""},null,null,null,null,null,null,null,null,null,{"$f":"IF(Configuração!H603=\"\",\"\",IF($L$8=\"\",\"\",IF(VLOOKUP($L$8,Configuração!$S$7:$U$16,3)=\"D\",Configuração!F603,\"\")))","v":""},null,null,null,null,null,null,4042018,43194]
[null,null,null,null,{"$f":"IF(Configuração!C602=\"\",\"\",Configuração!B602)","v":""},null,null,null,null,null,null,null,null,null,{"$f":"IF(Configuração!H604=\"\",\"\",IF($L$8=\"\",\"\",IF(VLOOKUP($L$8,Configuração!$S$7:$U$16,3)=\"D\",Configuração!F604,\"\")))","v":""},null,null,null,null,null,null,4042019,43559]
[null,null,null,null,{"$f":"IF(Configuração!C603=\"\",\"\",Configuração!B603)","v":""},null,null,null,null,null,null,null,null,null,{"$f":"IF(Configuração!H605=\"\",\"\",IF($L$8=\"\",\"\",IF(VLOOKUP($L$8,Configuração!$S$7:$U$16,3)=\"D\",Configuração!F605,\"\")))","v":""},null,null,null,null,null,null,4042020,43925]
[null,null,null,null,{"$f":"IF(Configuração!C604=\"\",\"\",Configuração!B604)","v":""},null,null,null,null,null,null,null,null,null,{"$f":"IF(Configuração!H606=\"\",\"\",IF($L$8=\"\",\"\",IF(VLOOKUP($L$8,Configuração!$S$7:$U$16,3)=\"D\",Configuração!F606,\"\")))","v":""},null,null,null,null,null,null,4042021,44290]
[null,null,null,null,{"$f":"IF(Configuração!C605=\"\",\"\",Configuração!B605)","v":""},null,null,null,null,null,null,null,null,null,{"$f":"IF(Configuração!H607=\"\",\"\",IF($L$8=\"\",\"\",IF(VLOOKUP($L$8,Configuração!$S$7:$U$16,3)=\"D\",Configuração!F607,\"\")))","v":""},null,null,null,null,null,null,4042022,44655]
[null,null,null,null,{"$f":"IF(Configuração!C606=\"\",\"\",Configuração!B606)","v":""},null,null,null,null,null,null,null,null,null,{"$f":"IF(Configuração!H608=\"\",\"\",IF($L$8=\"\",\"\",IF(VLOOKUP($L$8,Configuração!$S$7:$U$16,3)=\"D\",Configuração!F608,\"\")))","v":""},null,null,null,null,null,null,4042023,45020]
[null,null,null,null,{"$f":"IF(Configuração!C607=\"\",\"\",Configuração!B607)","v":""},null,null,null,null,null,null,null,null,null,{"$f":"IF(Configuração!H609=\"\",\"\",IF($L$8=\"\",\"\",IF(VLOOKUP($L$8,Configuração!$S$7:$U$16,3)=\"D\",Configuração!F609,\"\")))","v":""},null,null,null,null,null,null,4052009,39937]
[null,null,null,null,{"$f":"IF(Configuração!C608=\"\",\"\",Configuração!B608)","v":""},null,null,null,null,null,null,null,null,null,{"$f":"IF(Configuração!H610=\"\",\"\",IF($L$8=\"\",\"\",IF(VLOOKUP($L$8,Configuração!$S$7:$U$16,3)=\"D\",Configuração!F610,\"\")))","v":""},null,null,null,null,null,null,4052010,40302]
[null,null,null,null,{"$f":"IF(Configuração!C609=\"\",\"\",Configuração!B609)","v":""},null,null,null,null,null,null,null,null,null,{"$f":"IF(Configuração!H611=\"\",\"\",IF($L$8=\"\",\"\",IF(VLOOKUP($L$8,Configuração!$S$7:$U$16,3)=\"D\",Configuração!F611,\"\")))","v":""},null,null,null,null,null,null,4052011,40667]
[null,null,null,null,{"$f":"IF(Configuração!C610=\"\",\"\",Configuração!B610)","v":""},null,null,null,null,null,null,null,null,null,{"$f":"IF(Configuração!H612=\"\",\"\",IF($L$8=\"\",\"\",IF(VLOOKUP($L$8,Configuração!$S$7:$U$16,3)=\"D\",Configuração!F612,\"\")))","v":""},null,null,null,null,null,null,4052012,41033]
[null,null,null,null,{"$f":"IF(Configuração!C611=\"\",\"\",Configuração!B611)","v":""},null,null,null,null,null,null,null,null,null,{"$f":"IF(Configuração!H613=\"\",\"\",IF($L$8=\"\",\"\",IF(VLOOKUP($L$8,Configuração!$S$7:$U$16,3)=\"D\",Configuração!F613,\"\")))","v":""},null,null,null,null,null,null,4052013,41398]
[null,null,null,null,{"$f":"IF(Configuração!C612=\"\",\"\",Configuração!B612)","v":""},null,null,null,null,null,null,null,null,null,{"$f":"IF(Configuração!H614=\"\",\"\",IF($L$8=\"\",\"\",IF(VLOOKUP($L$8,Configuração!$S$7:$U$16,3)=\"D\",Configuração!F614,\"\")))","v":""},null,null,null,null,null,null,4052014,41763]
[null,null,null,null,{"$f":"IF(Configuração!C613=\"\",\"\",Configuração!B613)","v":""},null,null,null,null,null,null,null,null,null,{"$f":"IF(Configuração!H615=\"\",\"\",IF($L$8=\"\",\"\",IF(VLOOKUP($L$8,Configuração!$S$7:$U$16,3)=\"D\",Configuração!F615,\"\")))","v":""},null,null,null,null,null,null,4052015,42128]
[null,null,null,null,{"$f":"IF(Configuração!C614=\"\",\"\",Configuração!B614)","v":""},null,null,null,null,null,null,null,null,null,{"$f":"IF(Configuração!H616=\"\",\"\",IF($L$8=\"\",\"\",IF(VLOOKUP($L$8,Configuração!$S$7:$U$16,3)=\"D\",Configuração!F616,\"\")))","v":""},null,null,null,null,null,null,4052016,42494]
[null,null,null,null,{"$f":"IF(Configuração!C615=\"\",\"\",Configuração!B615)","v":""},null,null,null,null,null,null,null,null,null,{"$f":"IF(Configuração!H617=\"\",\"\",IF($L$8=\"\",\"\",IF(VLOOKUP($L$8,Configuração!$S$7:$U$16,3)=\"D\",Configuração!F617,\"\")))","v":""},null,null,null,null,null,null,4052017,42859]
[null,null,null,null,{"$f":"IF(Configuração!C616=\"\",\"\",Configuração!B616)","v":""},null,null,null,null,null,null,null,null,null,{"$f":"IF(Configuração!H618=\"\",\"\",IF($L$8=\"\",\"\",IF(VLOOKUP($L$8,Configuração!$S$7:$U$16,3)=\"D\",Configuração!F618,\"\")))","v":""},null,null,null,null,null,null,4052018,43224]
[null,null,null,null,{"$f":"IF(Configuração!C617=\"\",\"\",Configuração!B617)","v":""},null,null,null,null,null,null,null,null,null,{"$f":"IF(Configuração!H619=\"\",\"\",IF($L$8=\"\",\"\",IF(VLOOKUP($L$8,Configuração!$S$7:$U$16,3)=\"D\",Configuração!F619,\"\")))","v":""},null,null,null,null,null,null,4052019,43589]
[null,null,null,null,{"$f":"IF(Configuração!C618=\"\",\"\",Configuração!B618)","v":""},null,null,null,null,null,null,null,null,null,{"$f":"IF(Configuração!H620=\"\",\"\",IF($L$8=\"\",\"\",IF(VLOOKUP($L$8,Configuração!$S$7:$U$16,3)=\"D\",Configuração!F620,\"\")))","v":""},null,null,null,null,null,null,4052020,43955]
[null,null,null,null,{"$f":"IF(Configuração!C619=\"\",\"\",Configuração!B619)","v":""},null,null,null,null,null,null,null,null,null,null,null,null,null,null,null,null,4052021,44320]
[null,null,null,null,{"$f":"IF(Configuração!C620=\"\",\"\",Configuração!B620)","v":""},null,null,null,null,null,null,null,null,null,{"$f":"IF(Configuração!H622=\"\",\"\",IF($L$8=\"\",\"\",IF(VLOOKUP($L$8,Configuração!$S$7:$U$16,3)=\"D\",Configuração!F622,\"\")))","v":""},null,null,null,null,null,null,4052022,44685]
[null,null,null,null,{"$f":"IF(Configuração!C621=\"\",\"\",Configuração!B621)","v":""},null,null,null,null,null,null,null,null,null,{"$f":"IF(Configuração!H623=\"\",\"\",IF($L$8=\"\",\"\",IF(VLOOKUP($L$8,Configuração!$S$7:$U$16,3)=\"D\",Configuração!F623,\"\")))","v":""},null,null,null,null,null,null,4052023,45050]
[null,null,null,null,{"$f":"IF(Configuração!C622=\"\",\"\",Configuração!B622)","v":""},null,null,null,null,null,null,null,null,null,{"$f":"IF(Configuração!H624=\"\",\"\",IF($L$8=\"\",\"\",IF(VLOOKUP($L$8,Configuração!$S$7:$U$16,3)=\"D\",Configuração!F624,\"\")))","v":""},null,null,null,null,null,null,4062009,39968]
[null,null,null,null,{"$f":"IF(Configuração!C623=\"\",\"\",Configuração!B623)","v":""},null,null,null,null,null,null,null,null,null,{"$f":"IF(Configuração!H625=\"\",\"\",IF($L$8=\"\",\"\",IF(VLOOKUP($L$8,Configuração!$S$7:$U$16,3)=\"D\",Configuração!F625,\"\")))","v":""},null,null,null,null,null,null,4062010,40333]
[null,null,null,null,{"$f":"IF(Configuração!C624=\"\",\"\",Configuração!B624)","v":""},null,null,null,null,null,null,null,null,null,{"$f":"IF(Configuração!H626=\"\",\"\",IF($L$8=\"\",\"\",IF(VLOOKUP($L$8,Configuração!$S$7:$U$16,3)=\"D\",Configuração!F626,\"\")))","v":""},null,null,null,null,null,null,4062011,40698]
[null,null,null,null,{"$f":"IF(Configuração!C625=\"\",\"\",Configuração!B625)","v":""},null,null,null,null,null,null,null,null,null,{"$f":"IF(Configuração!H627=\"\",\"\",IF($L$8=\"\",\"\",IF(VLOOKUP($L$8,Configuração!$S$7:$U$16,3)=\"D\",Configuração!F627,\"\")))","v":""},null,null,null,null,null,null,4062012,41064]
[null,null,null,null,{"$f":"IF(Configuração!C626=\"\",\"\",Configuração!B626)","v":""},null,null,null,null,null,null,null,null,null,{"$f":"IF(Configuração!H628=\"\",\"\",IF($L$8=\"\",\"\",IF(VLOOKUP($L$8,Configuração!$S$7:$U$16,3)=\"D\",Configuração!F628,\"\")))","v":""},null,null,null,null,null,null,4062013,41429]
[null,null,null,null,{"$f":"IF(Configuração!C627=\"\",\"\",Configuração!B627)","v":""},null,null,null,null,null,null,null,null,null,{"$f":"IF(Configuração!H629=\"\",\"\",IF($L$8=\"\",\"\",IF(VLOOKUP($L$8,Configuração!$S$7:$U$16,3)=\"D\",Configuração!F629,\"\")))","v":""},null,null,null,null,null,null,4062014,41794]
[null,null,null,null,{"$f":"IF(Configuração!C628=\"\",\"\",Configuração!B628)","v":""},null,null,null,null,null,null,null,null,null,{"$f":"IF(Configuração!H630=\"\",\"\",IF($L$8=\"\",\"\",IF(VLOOKUP($L$8,Configuração!$S$7:$U$16,3)=\"D\",Configuração!F630,\"\")))","v":""},null,null,null,null,null,null,4062015,42159]
[null,null,null,null,{"$f":"IF(Configuração!C629=\"\",\"\",Configuração!B629)","v":""},null,null,null,null,null,null,null,null,null,{"$f":"IF(Configuração!H631=\"\",\"\",IF($L$8=\"\",\"\",IF(VLOOKUP($L$8,Configuração!$S$7:$U$16,3)=\"D\",Configuração!F631,\"\")))","v":""},null,null,null,null,null,null,4062016,42525]
[null,null,null,null,{"$f":"IF(Configuração!C630=\"\",\"\",Configuração!B630)","v":""},null,null,null,null,null,null,null,null,null,{"$f":"IF(Configuração!H632=\"\",\"\",IF($L$8=\"\",\"\",IF(VLOOKUP($L$8,Configuração!$S$7:$U$16,3)=\"D\",Configuração!F632,\"\")))","v":""},null,null,null,null,null,null,4062017,42890]
[null,null,null,null,{"$f":"IF(Configuração!C631=\"\",\"\",Configuração!B631)","v":""},null,null,null,null,null,null,null,null,null,{"$f":"IF(Configuração!H633=\"\",\"\",IF($L$8=\"\",\"\",IF(VLOOKUP($L$8,Configuração!$S$7:$U$16,3)=\"D\",Configuração!F633,\"\")))","v":""},null,null,null,null,null,null,4062018,43255]
[null,null,null,null,{"$f":"IF(Configuração!C632=\"\",\"\",Configuração!B632)","v":""},null,null,null,null,null,null,null,null,null,{"$f":"IF(Configuração!H634=\"\",\"\",IF($L$8=\"\",\"\",IF(VLOOKUP($L$8,Configuração!$S$7:$U$16,3)=\"D\",Configuração!F634,\"\")))","v":""},null,null,null,null,null,null,4062019,43620]
[null,null,null,null,{"$f":"IF(Configuração!C633=\"\",\"\",Configuração!B633)","v":""},null,null,null,null,null,null,null,null,null,{"$f":"IF(Configuração!H635=\"\",\"\",IF($L$8=\"\",\"\",IF(VLOOKUP($L$8,Configuração!$S$7:$U$16,3)=\"D\",Configuração!F635,\"\")))","v":""},null,null,null,null,null,null,4062020,43986]
[null,null,null,null,{"$f":"IF(Configuração!C634=\"\",\"\",Configuração!B634)","v":""},null,null,null,null,null,null,null,null,null,{"$f":"IF(Configuração!H636=\"\",\"\",IF($L$8=\"\",\"\",IF(VLOOKUP($L$8,Configuração!$S$7:$U$16,3)=\"D\",Configuração!F636,\"\")))","v":""},null,null,null,null,null,null,4062021,44351]
[null,null,null,null,{"$f":"IF(Configuração!C635=\"\",\"\",Configuração!B635)","v":""},null,null,null,null,null,null,null,null,null,{"$f":"IF(Configuração!H637=\"\",\"\",IF($L$8=\"\",\"\",IF(VLOOKUP($L$8,Configuração!$S$7:$U$16,3)=\"D\",Configuração!F637,\"\")))","v":""},null,null,null,null,null,null,4062022,44716]
[null,null,null,null,{"$f":"IF(Configuração!C636=\"\",\"\",Configuração!B636)","v":""},null,null,null,null,null,null,null,null,null,{"$f":"IF(Configuração!H638=\"\",\"\",IF($L$8=\"\",\"\",IF(VLOOKUP($L$8,Configuração!$S$7:$U$16,3)=\"D\",Configuração!F638,\"\")))","v":""},null,null,null,null,null,null,4062023,45081]
[null,null,null,null,{"$f":"IF(Configuração!C637=\"\",\"\",Configuração!B637)","v":""},null,null,null,null,null,null,null,null,null,{"$f":"IF(Configuração!H639=\"\",\"\",IF($L$8=\"\",\"\",IF(VLOOKUP($L$8,Configuração!$S$7:$U$16,3)=\"D\",Configuração!F639,\"\")))","v":""},null,null,null,null,null,null,4072009,39998]
[null,null,null,null,{"$f":"IF(Configuração!C638=\"\",\"\",Configuração!B638)","v":""},null,null,null,null,null,null,null,null,null,{"$f":"IF(Configuração!H640=\"\",\"\",IF($L$8=\"\",\"\",IF(VLOOKUP($L$8,Configuração!$S$7:$U$16,3)=\"D\",Configuração!F640,\"\")))","v":""},null,null,null,null,null,null,4072010,40363]
[null,null,null,null,{"$f":"IF(Configuração!C639=\"\",\"\",Configuração!B639)","v":""},null,null,null,null,null,null,null,null,null,{"$f":"IF(Configuração!H641=\"\",\"\",IF($L$8=\"\",\"\",IF(VLOOKUP($L$8,Configuração!$S$7:$U$16,3)=\"D\",Configuração!F641,\"\")))","v":""},null,null,null,null,null,null,4072011,40728]
[null,null,null,null,{"$f":"IF(Configuração!C640=\"\",\"\",Configuração!B640)","v":""},null,null,null,null,null,null,null,null,null,{"$f":"IF(Configuração!H642=\"\",\"\",IF($L$8=\"\",\"\",IF(VLOOKUP($L$8,Configuração!$S$7:$U$16,3)=\"D\",Configuração!F642,\"\")))","v":""},null,null,null,null,null,null,4072012,41094]
[null,null,null,null,{"$f":"IF(Configuração!C641=\"\",\"\",Configuração!B641)","v":""},null,null,null,null,null,null,null,null,null,{"$f":"IF(Configuração!H643=\"\",\"\",IF($L$8=\"\",\"\",IF(VLOOKUP($L$8,Configuração!$S$7:$U$16,3)=\"D\",Configuração!F643,\"\")))","v":""},null,null,null,null,null,null,4072013,41459]
[null,null,null,null,{"$f":"IF(Configuração!C642=\"\",\"\",Configuração!B642)","v":""},null,null,null,null,null,null,null,null,null,{"$f":"IF(Configuração!H644=\"\",\"\",IF($L$8=\"\",\"\",IF(VLOOKUP($L$8,Configuração!$S$7:$U$16,3)=\"D\",Configuração!F644,\"\")))","v":""},null,null,null,null,null,null,4072014,41824]
[null,null,null,null,{"$f":"IF(Configuração!C643=\"\",\"\",Configuração!B643)","v":""},null,null,null,null,null,null,null,null,null,{"$f":"IF(Configuração!H645=\"\",\"\",IF($L$8=\"\",\"\",IF(VLOOKUP($L$8,Configuração!$S$7:$U$16,3)=\"D\",Configuração!F645,\"\")))","v":""},null,null,null,null,null,null,4072015,42189]
[null,null,null,null,{"$f":"IF(Configuração!C644=\"\",\"\",Configuração!B644)","v":""},null,null,null,null,null,null,null,null,null,{"$f":"IF(Configuração!H646=\"\",\"\",IF($L$8=\"\",\"\",IF(VLOOKUP($L$8,Configuração!$S$7:$U$16,3)=\"D\",Configuração!F646,\"\")))","v":""},null,null,null,null,null,null,4072016,42555]
[null,null,null,null,{"$f":"IF(Configuração!C645=\"\",\"\",Configuração!B645)","v":""},null,null,null,null,null,null,null,null,null,{"$f":"IF(Configuração!H647=\"\",\"\",IF($L$8=\"\",\"\",IF(VLOOKUP($L$8,Configuração!$S$7:$U$16,3)=\"D\",Configuração!F647,\"\")))","v":""},null,null,null,null,null,null,4072017,42920]
[null,null,null,null,{"$f":"IF(Configuração!C646=\"\",\"\",Configuração!B646)","v":""},null,null,null,null,null,null,null,null,null,{"$f":"IF(Configuração!H648=\"\",\"\",IF($L$8=\"\",\"\",IF(VLOOKUP($L$8,Configuração!$S$7:$U$16,3)=\"D\",Configuração!F648,\"\")))","v":""},null,null,null,null,null,null,4072018,43285]
[null,null,null,null,{"$f":"IF(Configuração!C647=\"\",\"\",Configuração!B647)","v":""},null,null,null,null,null,null,null,null,null,{"$f":"IF(Configuração!H649=\"\",\"\",IF($L$8=\"\",\"\",IF(VLOOKUP($L$8,Configuração!$S$7:$U$16,3)=\"D\",Configuração!F649,\"\")))","v":""},null,null,null,null,null,null,4072019,43650]
[null,null,null,null,{"$f":"IF(Configuração!C648=\"\",\"\",Configuração!B648)","v":""},null,null,null,null,null,null,null,null,null,{"$f":"IF(Configuração!H650=\"\",\"\",IF($L$8=\"\",\"\",IF(VLOOKUP($L$8,Configuração!$S$7:$U$16,3)=\"D\",Configuração!F650,\"\")))","v":""},null,null,null,null,null,null,4072020,44016]
[null,null,null,null,{"$f":"IF(Configuração!C649=\"\",\"\",Configuração!B649)","v":""},null,null,null,null,null,null,null,null,null,{"$f":"IF(Configuração!H651=\"\",\"\",IF($L$8=\"\",\"\",IF(VLOOKUP($L$8,Configuração!$S$7:$U$16,3)=\"D\",Configuração!F651,\"\")))","v":""},null,null,null,null,null,null,4072021,44381]
[null,null,null,null,{"$f":"IF(Configuração!C650=\"\",\"\",Configuração!B650)","v":""},null,null,null,null,null,null,null,null,null,{"$f":"IF(Configuração!H652=\"\",\"\",IF($L$8=\"\",\"\",IF(VLOOKUP($L$8,Configuração!$S$7:$U$16,3)=\"D\",Configuração!F652,\"\")))","v":""},null,null,null,null,null,null,4072022,44746]
[null,null,null,null,{"$f":"IF(Configuração!C651=\"\",\"\",Configuração!B651)","v":""},null,null,null,null,null,null,null,null,null,{"$f":"IF(Configuração!H653=\"\",\"\",IF($L$8=\"\",\"\",IF(VLOOKUP($L$8,Configuração!$S$7:$U$16,3)=\"D\",Configuração!F653,\"\")))","v":""},null,null,null,null,null,null,4072023,45111]
[null,null,null,null,{"$f":"IF(Configuração!C652=\"\",\"\",Configuração!B652)","v":""},null,null,null,null,null,null,null,null,null,{"$f":"IF(Configuração!H654=\"\",\"\",IF($L$8=\"\",\"\",IF(VLOOKUP($L$8,Configuração!$S$7:$U$16,3)=\"D\",Configuração!F654,\"\")))","v":""},null,null,null,null,null,null,4082009,40029]
[null,null,null,null,{"$f":"IF(Configuração!C653=\"\",\"\",Configuração!B653)","v":""},null,null,null,null,null,null,null,null,null,{"$f":"IF(Configuração!H655=\"\",\"\",IF($L$8=\"\",\"\",IF(VLOOKUP($L$8,Configuração!$S$7:$U$16,3)=\"D\",Configuração!F655,\"\")))","v":""},null,null,null,null,null,null,4082010,40394]
[null,null,null,null,{"$f":"IF(Configuração!C654=\"\",\"\",Configuração!B654)","v":""},null,null,null,null,null,null,null,null,null,{"$f":"IF(Configuração!H656=\"\",\"\",IF($L$8=\"\",\"\",IF(VLOOKUP($L$8,Configuração!$S$7:$U$16,3)=\"D\",Configuração!F656,\"\")))","v":""},null,null,null,null,null,null,4082011,40759]
[null,null,null,null,{"$f":"IF(Configuração!C655=\"\",\"\",Configuração!B655)","v":""},null,null,null,null,null,null,null,null,null,{"$f":"IF(Configuração!H657=\"\",\"\",IF($L$8=\"\",\"\",IF(VLOOKUP($L$8,Configuração!$S$7:$U$16,3)=\"D\",Configuração!F657,\"\")))","v":""},null,null,null,null,null,null,4082012,41125]
[null,null,null,null,{"$f":"IF(Configuração!C656=\"\",\"\",Configuração!B656)","v":""},null,null,null,null,null,null,null,null,null,{"$f":"IF(Configuração!H658=\"\",\"\",IF($L$8=\"\",\"\",IF(VLOOKUP($L$8,Configuração!$S$7:$U$16,3)=\"D\",Configuração!F658,\"\")))","v":""},null,null,null,null,null,null,4082013,41490]
[null,null,null,null,{"$f":"IF(Configuração!C657=\"\",\"\",Configuração!B657)","v":""},null,null,null,null,null,null,null,null,null,{"$f":"IF(Configuração!H659=\"\",\"\",IF($L$8=\"\",\"\",IF(VLOOKUP($L$8,Configuração!$S$7:$U$16,3)=\"D\",Configuração!F659,\"\")))","v":""},null,null,null,null,null,null,4082014,41855]
[null,null,null,null,{"$f":"IF(Configuração!C658=\"\",\"\",Configuração!B658)","v":""},null,null,null,null,null,null,null,null,null,{"$f":"IF(Configuração!H660=\"\",\"\",IF($L$8=\"\",\"\",IF(VLOOKUP($L$8,Configuração!$S$7:$U$16,3)=\"D\",Configuração!F660,\"\")))","v":""},null,null,null,null,null,null,4082015,42220]
[null,null,null,null,{"$f":"IF(Configuração!C659=\"\",\"\",Configuração!B659)","v":""},null,null,null,null,null,null,null,null,null,{"$f":"IF(Configuração!H661=\"\",\"\",IF($L$8=\"\",\"\",IF(VLOOKUP($L$8,Configuração!$S$7:$U$16,3)=\"D\",Configuração!F661,\"\")))","v":""},null,null,null,null,null,null,4082016,42586]
[null,null,null,null,{"$f":"IF(Configuração!C660=\"\",\"\",Configuração!B660)","v":""},null,null,null,null,null,null,null,null,null,{"$f":"IF(Configuração!H662=\"\",\"\",IF($L$8=\"\",\"\",IF(VLOOKUP($L$8,Configuração!$S$7:$U$16,3)=\"D\",Configuração!F662,\"\")))","v":""},null,null,null,null,null,null,4082017,42951]
[null,null,null,null,{"$f":"IF(Configuração!C661=\"\",\"\",Configuração!B661)","v":""},null,null,null,null,null,null,null,null,null,{"$f":"IF(Configuração!H663=\"\",\"\",IF($L$8=\"\",\"\",IF(VLOOKUP($L$8,Configuração!$S$7:$U$16,3)=\"D\",Configuração!F663,\"\")))","v":""},null,null,null,null,null,null,4082018,43316]
[null,null,null,null,{"$f":"IF(Configuração!C662=\"\",\"\",Configuração!B662)","v":""},null,null,null,null,null,null,null,null,null,{"$f":"IF(Configuração!H664=\"\",\"\",IF($L$8=\"\",\"\",IF(VLOOKUP($L$8,Configuração!$S$7:$U$16,3)=\"D\",Configuração!F664,\"\")))","v":""},null,null,null,null,null,null,4082019,43681]
[null,null,null,null,{"$f":"IF(Configuração!C663=\"\",\"\",Configuração!B663)","v":""},null,null,null,null,null,null,null,null,null,{"$f":"IF(Configuração!H665=\"\",\"\",IF($L$8=\"\",\"\",IF(VLOOKUP($L$8,Configuração!$S$7:$U$16,3)=\"D\",Configuração!F665,\"\")))","v":""},null,null,null,null,null,null,4082020,44047]
[null,null,null,null,{"$f":"IF(Configuração!C664=\"\",\"\",Configuração!B664)","v":""},null,null,null,null,null,null,null,null,null,{"$f":"IF(Configuração!H666=\"\",\"\",IF($L$8=\"\",\"\",IF(VLOOKUP($L$8,Configuração!$S$7:$U$16,3)=\"D\",Configuração!F666,\"\")))","v":""},null,null,null,null,null,null,4082021,44412]
[null,null,null,null,{"$f":"IF(Configuração!C665=\"\",\"\",Configuração!B665)","v":""},null,null,null,null,null,null,null,null,null,{"$f":"IF(Configuração!H667=\"\",\"\",IF($L$8=\"\",\"\",IF(VLOOKUP($L$8,Configuração!$S$7:$U$16,3)=\"D\",Configuração!F667,\"\")))","v":""},null,null,null,null,null,null,4082022,44777]
[null,null,null,null,{"$f":"IF(Configuração!C666=\"\",\"\",Configuração!B666)","v":""},null,null,null,null,null,null,null,null,null,{"$f":"IF(Configuração!H668=\"\",\"\",IF($L$8=\"\",\"\",IF(VLOOKUP($L$8,Configuração!$S$7:$U$16,3)=\"D\",Configuração!F668,\"\")))","v":""},null,null,null,null,null,null,4082023,45142]
[null,null,null,null,{"$f":"IF(Configuração!C667=\"\",\"\",Configuração!B667)","v":""},null,null,null,null,null,null,null,null,null,{"$f":"IF(Configuração!H669=\"\",\"\",IF($L$8=\"\",\"\",IF(VLOOKUP($L$8,Configuração!$S$7:$U$16,3)=\"D\",Configuração!F669,\"\")))","v":""},null,null,null,null,null,null,4092009,40060]
[null,null,null,null,{"$f":"IF(Configuração!C668=\"\",\"\",Configuração!B668)","v":""},null,null,null,null,null,null,null,null,null,{"$f":"IF(Configuração!H670=\"\",\"\",IF($L$8=\"\",\"\",IF(VLOOKUP($L$8,Configuração!$S$7:$U$16,3)=\"D\",Configuração!F670,\"\")))","v":""},null,null,null,null,null,null,4092010,40425]
[null,null,null,null,{"$f":"IF(Configuração!C669=\"\",\"\",Configuração!B669)","v":""},null,null,null,null,null,null,null,null,null,{"$f":"IF(Configuração!H671=\"\",\"\",IF($L$8=\"\",\"\",IF(VLOOKUP($L$8,Configuração!$S$7:$U$16,3)=\"D\",Configuração!F671,\"\")))","v":""},null,null,null,null,null,null,4092011,40790]
[null,null,null,null,{"$f":"IF(Configuração!C670=\"\",\"\",Configuração!B670)","v":""},null,null,null,null,null,null,null,null,null,null,null,null,null,null,null,null,4092012,41156]
[null,null,null,null,{"$f":"IF(Configuração!C671=\"\",\"\",Configuração!B671)","v":""},null,null,null,null,null,null,null,null,null,{"$f":"IF(Configuração!H673=\"\",\"\",IF($L$8=\"\",\"\",IF(VLOOKUP($L$8,Configuração!$S$7:$U$16,3)=\"D\",Configuração!F673,\"\")))","v":""},null,null,null,null,null,null,4092013,41521]
[null,null,null,null,{"$f":"IF(Configuração!C672=\"\",\"\",Configuração!B672)","v":""},null,null,null,null,null,null,null,null,null,{"$f":"IF(Configuração!H674=\"\",\"\",IF($L$8=\"\",\"\",IF(VLOOKUP($L$8,Configuração!$S$7:$U$16,3)=\"D\",Configuração!F674,\"\")))","v":""},null,null,null,null,null,null,4092014,41886]
[null,null,null,null,{"$f":"IF(Configuração!C673=\"\",\"\",Configuração!B673)","v":""},null,null,null,null,null,null,null,null,null,{"$f":"IF(Configuração!H675=\"\",\"\",IF($L$8=\"\",\"\",IF(VLOOKUP($L$8,Configuração!$S$7:$U$16,3)=\"D\",Configuração!F675,\"\")))","v":""},null,null,null,null,null,null,4092015,42251]
[null,null,null,null,{"$f":"IF(Configuração!C674=\"\",\"\",Configuração!B674)","v":""},null,null,null,null,null,null,null,null,null,{"$f":"IF(Configuração!H676=\"\",\"\",IF($L$8=\"\",\"\",IF(VLOOKUP($L$8,Configuração!$S$7:$U$16,3)=\"D\",Configuração!F676,\"\")))","v":""},null,null,null,null,null,null,4092016,42617]
[null,null,null,null,{"$f":"IF(Configuração!C675=\"\",\"\",Configuração!B675)","v":""},null,null,null,null,null,null,null,null,null,{"$f":"IF(Configuração!H677=\"\",\"\",IF($L$8=\"\",\"\",IF(VLOOKUP($L$8,Configuração!$S$7:$U$16,3)=\"D\",Configuração!F677,\"\")))","v":""},null,null,null,null,null,null,4092017,42982]
[null,null,null,null,{"$f":"IF(Configuração!C676=\"\",\"\",Configuração!B676)","v":""},null,null,null,null,null,null,null,null,null,{"$f":"IF(Configuração!H678=\"\",\"\",IF($L$8=\"\",\"\",IF(VLOOKUP($L$8,Configuração!$S$7:$U$16,3)=\"D\",Configuração!F678,\"\")))","v":""},null,null,null,null,null,null,4092018,43347]
[null,null,null,null,{"$f":"IF(Configuração!C677=\"\",\"\",Configuração!B677)","v":""},null,null,null,null,null,null,null,null,null,{"$f":"IF(Configuração!H679=\"\",\"\",IF($L$8=\"\",\"\",IF(VLOOKUP($L$8,Configuração!$S$7:$U$16,3)=\"D\",Configuração!F679,\"\")))","v":""},null,null,null,null,null,null,4092019,43712]
[null,null,null,null,{"$f":"IF(Configuração!C678=\"\",\"\",Configuração!B678)","v":""},null,null,null,null,null,null,null,null,null,{"$f":"IF(Configuração!H680=\"\",\"\",IF($L$8=\"\",\"\",IF(VLOOKUP($L$8,Configuração!$S$7:$U$16,3)=\"D\",Configuração!F680,\"\")))","v":""},null,null,null,null,null,null,4092020,44078]
[null,null,null,null,{"$f":"IF(Configuração!C679=\"\",\"\",Configuração!B679)","v":""},null,null,null,null,null,null,null,null,null,{"$f":"IF(Configuração!H681=\"\",\"\",IF($L$8=\"\",\"\",IF(VLOOKUP($L$8,Configuração!$S$7:$U$16,3)=\"D\",Configuração!F681,\"\")))","v":""},null,null,null,null,null,null,4092021,44443]
[null,null,null,null,{"$f":"IF(Configuração!C680=\"\",\"\",Configuração!B680)","v":""},null,null,null,null,null,null,null,null,null,{"$f":"IF(Configuração!H682=\"\",\"\",IF($L$8=\"\",\"\",IF(VLOOKUP($L$8,Configuração!$S$7:$U$16,3)=\"D\",Configuração!F682,\"\")))","v":""},null,null,null,null,null,null,4092022,44808]
[null,null,null,null,{"$f":"IF(Configuração!C681=\"\",\"\",Configuração!B681)","v":""},null,null,null,null,null,null,null,null,null,{"$f":"IF(Configuração!H683=\"\",\"\",IF($L$8=\"\",\"\",IF(VLOOKUP($L$8,Configuração!$S$7:$U$16,3)=\"D\",Configuração!F683,\"\")))","v":""},null,null,null,null,null,null,4092023,45173]
[null,null,null,null,{"$f":"IF(Configuração!C682=\"\",\"\",Configuração!B682)","v":""},null,null,null,null,null,null,null,null,null,{"$f":"IF(Configuração!H684=\"\",\"\",IF($L$8=\"\",\"\",IF(VLOOKUP($L$8,Configuração!$S$7:$U$16,3)=\"D\",Configuração!F684,\"\")))","v":""},null,null,null,null,null,null,4102009,40090]
[null,null,null,null,{"$f":"IF(Configuração!C683=\"\",\"\",Configuração!B683)","v":""},null,null,null,null,null,null,null,null,null,{"$f":"IF(Configuração!H685=\"\",\"\",IF($L$8=\"\",\"\",IF(VLOOKUP($L$8,Configuração!$S$7:$U$16,3)=\"D\",Configuração!F685,\"\")))","v":""},null,null,null,null,null,null,4102010,40455]
[null,null,null,null,{"$f":"IF(Configuração!C684=\"\",\"\",Configuração!B684)","v":""},null,null,null,null,null,null,null,null,null,{"$f":"IF(Configuração!H686=\"\",\"\",IF($L$8=\"\",\"\",IF(VLOOKUP($L$8,Configuração!$S$7:$U$16,3)=\"D\",Configuração!F686,\"\")))","v":""},null,null,null,null,null,null,4102011,40820]
[null,null,null,null,{"$f":"IF(Configuração!C685=\"\",\"\",Configuração!B685)","v":""},null,null,null,null,null,null,null,null,null,{"$f":"IF(Configuração!H687=\"\",\"\",IF($L$8=\"\",\"\",IF(VLOOKUP($L$8,Configuração!$S$7:$U$16,3)=\"D\",Configuração!F687,\"\")))","v":""},null,null,null,null,null,null,4102012,41186]
[null,null,null,null,{"$f":"IF(Configuração!C686=\"\",\"\",Configuração!B686)","v":""},null,null,null,null,null,null,null,null,null,{"$f":"IF(Configuração!H688=\"\",\"\",IF($L$8=\"\",\"\",IF(VLOOKUP($L$8,Configuração!$S$7:$U$16,3)=\"D\",Configuração!F688,\"\")))","v":""},null,null,null,null,null,null,4102013,41551]
[null,null,null,null,{"$f":"IF(Configuração!C687=\"\",\"\",Configuração!B687)","v":""},null,null,null,null,null,null,null,null,null,{"$f":"IF(Configuração!H689=\"\",\"\",IF($L$8=\"\",\"\",IF(VLOOKUP($L$8,Configuração!$S$7:$U$16,3)=\"D\",Configuração!F689,\"\")))","v":""},null,null,null,null,null,null,4102014,41916]
[null,null,null,null,{"$f":"IF(Configuração!C688=\"\",\"\",Configuração!B688)","v":""},null,null,null,null,null,null,null,null,null,{"$f":"IF(Configuração!H690=\"\",\"\",IF($L$8=\"\",\"\",IF(VLOOKUP($L$8,Configuração!$S$7:$U$16,3)=\"D\",Configuração!F690,\"\")))","v":""},null,null,null,null,null,null,4102015,42281]
[null,null,null,null,{"$f":"IF(Configuração!C689=\"\",\"\",Configuração!B689)","v":""},null,null,null,null,null,null,null,null,null,{"$f":"IF(Configuração!H691=\"\",\"\",IF($L$8=\"\",\"\",IF(VLOOKUP($L$8,Configuração!$S$7:$U$16,3)=\"D\",Configuração!F691,\"\")))","v":""},null,null,null,null,null,null,4102016,42647]
[null,null,null,null,{"$f":"IF(Configuração!C690=\"\",\"\",Configuração!B690)","v":""},null,null,null,null,null,null,null,null,null,{"$f":"IF(Configuração!H692=\"\",\"\",IF($L$8=\"\",\"\",IF(VLOOKUP($L$8,Configuração!$S$7:$U$16,3)=\"D\",Configuração!F692,\"\")))","v":""},null,null,null,null,null,null,4102017,43012]
[null,null,null,null,{"$f":"IF(Configuração!C691=\"\",\"\",Configuração!B691)","v":""},null,null,null,null,null,null,null,null,null,{"$f":"IF(Configuração!H693=\"\",\"\",IF($L$8=\"\",\"\",IF(VLOOKUP($L$8,Configuração!$S$7:$U$16,3)=\"D\",Configuração!F693,\"\")))","v":""},null,null,null,null,null,null,4102018,43377]
[null,null,null,null,{"$f":"IF(Configuração!C692=\"\",\"\",Configuração!B692)","v":""},null,null,null,null,null,null,null,null,null,{"$f":"IF(Configuração!H694=\"\",\"\",IF($L$8=\"\",\"\",IF(VLOOKUP($L$8,Configuração!$S$7:$U$16,3)=\"D\",Configuração!F694,\"\")))","v":""},null,null,null,null,null,null,4102019,43742]
[null,null,null,null,{"$f":"IF(Configuração!C693=\"\",\"\",Configuração!B693)","v":""},null,null,null,null,null,null,null,null,null,{"$f":"IF(Configuração!H695=\"\",\"\",IF($L$8=\"\",\"\",IF(VLOOKUP($L$8,Configuração!$S$7:$U$16,3)=\"D\",Configuração!F695,\"\")))","v":""},null,null,null,null,null,null,4102020,44108]
[null,null,null,null,{"$f":"IF(Configuração!C694=\"\",\"\",Configuração!B694)","v":""},null,null,null,null,null,null,null,null,null,{"$f":"IF(Configuração!H696=\"\",\"\",IF($L$8=\"\",\"\",IF(VLOOKUP($L$8,Configuração!$S$7:$U$16,3)=\"D\",Configuração!F696,\"\")))","v":""},null,null,null,null,null,null,4102021,44473]
[null,null,null,null,{"$f":"IF(Configuração!C695=\"\",\"\",Configuração!B695)","v":""},null,null,null,null,null,null,null,null,null,{"$f":"IF(Configuração!H697=\"\",\"\",IF($L$8=\"\",\"\",IF(VLOOKUP($L$8,Configuração!$S$7:$U$16,3)=\"D\",Configuração!F697,\"\")))","v":""},null,null,null,null,null,null,4102022,44838]
[null,null,null,null,{"$f":"IF(Configuração!C696=\"\",\"\",Configuração!B696)","v":""},null,null,null,null,null,null,null,null,null,{"$f":"IF(Configuração!H698=\"\",\"\",IF($L$8=\"\",\"\",IF(VLOOKUP($L$8,Configuração!$S$7:$U$16,3)=\"D\",Configuração!F698,\"\")))","v":""},null,null,null,null,null,null,4102023,45203]
[null,null,null,null,{"$f":"IF(Configuração!C697=\"\",\"\",Configuração!B697)","v":""},null,null,null,null,null,null,null,null,null,{"$f":"IF(Configuração!H699=\"\",\"\",IF($L$8=\"\",\"\",IF(VLOOKUP($L$8,Configuração!$S$7:$U$16,3)=\"D\",Configuração!F699,\"\")))","v":""},null,null,null,null,null,null,4112009,40121]
[null,null,null,null,{"$f":"IF(Configuração!C698=\"\",\"\",Configuração!B698)","v":""},null,null,null,null,null,null,null,null,null,{"$f":"IF(Configuração!H700=\"\",\"\",IF($L$8=\"\",\"\",IF(VLOOKUP($L$8,Configuração!$S$7:$U$16,3)=\"D\",Configuração!F700,\"\")))","v":""},null,null,null,null,null,null,4112010,40486]
[null,null,null,null,{"$f":"IF(Configuração!C699=\"\",\"\",Configuração!B699)","v":""},null,null,null,null,null,null,null,null,null,{"$f":"IF(Configuração!H701=\"\",\"\",IF($L$8=\"\",\"\",IF(VLOOKUP($L$8,Configuração!$S$7:$U$16,3)=\"D\",Configuração!F701,\"\")))","v":""},null,null,null,null,null,null,4112011,40851]
[null,null,null,null,{"$f":"IF(Configuração!C700=\"\",\"\",Configuração!B700)","v":""},null,null,null,null,null,null,null,null,null,{"$f":"IF(Configuração!H702=\"\",\"\",IF($L$8=\"\",\"\",IF(VLOOKUP($L$8,Configuração!$S$7:$U$16,3)=\"D\",Configuração!F702,\"\")))","v":""},null,null,null,null,null,null,4112012,41217]
[null,null,null,null,{"$f":"IF(Configuração!C701=\"\",\"\",Configuração!B701)","v":""},null,null,null,null,null,null,null,null,null,{"$f":"IF(Configuração!H703=\"\",\"\",IF($L$8=\"\",\"\",IF(VLOOKUP($L$8,Configuração!$S$7:$U$16,3)=\"D\",Configuração!F703,\"\")))","v":""},null,null,null,null,null,null,4112013,41582]
[null,null,null,null,{"$f":"IF(Configuração!C702=\"\",\"\",Configuração!B702)","v":""},null,null,null,null,null,null,null,null,null,{"$f":"IF(Configuração!H704=\"\",\"\",IF($L$8=\"\",\"\",IF(VLOOKUP($L$8,Configuração!$S$7:$U$16,3)=\"D\",Configuração!F704,\"\")))","v":""},null,null,null,null,null,null,4112014,41947]
[null,null,null,null,{"$f":"IF(Configuração!C703=\"\",\"\",Configuração!B703)","v":""},null,null,null,null,null,null,null,null,null,{"$f":"IF(Configuração!H705=\"\",\"\",IF($L$8=\"\",\"\",IF(VLOOKUP($L$8,Configuração!$S$7:$U$16,3)=\"D\",Configuração!F705,\"\")))","v":""},null,null,null,null,null,null,4112015,42312]
[null,null,null,null,{"$f":"IF(Configuração!C704=\"\",\"\",Configuração!B704)","v":""},null,null,null,null,null,null,null,null,null,{"$f":"IF(Configuração!H706=\"\",\"\",IF($L$8=\"\",\"\",IF(VLOOKUP($L$8,Configuração!$S$7:$U$16,3)=\"D\",Configuração!F706,\"\")))","v":""},null,null,null,null,null,null,4112016,42678]
[null,null,null,null,{"$f":"IF(Configuração!C705=\"\",\"\",Configuração!B705)","v":""},null,null,null,null,null,null,null,null,null,{"$f":"IF(Configuração!H707=\"\",\"\",IF($L$8=\"\",\"\",IF(VLOOKUP($L$8,Configuração!$S$7:$U$16,3)=\"D\",Configuração!F707,\"\")))","v":""},null,null,null,null,null,null,4112017,43043]
[null,null,null,null,{"$f":"IF(Configuração!C706=\"\",\"\",Configuração!B706)","v":""},null,null,null,null,null,null,null,null,null,{"$f":"IF(Configuração!H708=\"\",\"\",IF($L$8=\"\",\"\",IF(VLOOKUP($L$8,Configuração!$S$7:$U$16,3)=\"D\",Configuração!F708,\"\")))","v":""},null,null,null,null,null,null,4112018,43408]
[null,null,null,null,{"$f":"IF(Configuração!C707=\"\",\"\",Configuração!B707)","v":""},null,null,null,null,null,null,null,null,null,{"$f":"IF(Configuração!H709=\"\",\"\",IF($L$8=\"\",\"\",IF(VLOOKUP($L$8,Configuração!$S$7:$U$16,3)=\"D\",Configuração!F709,\"\")))","v":""},null,null,null,null,null,null,4112019,43773]
[null,null,null,null,{"$f":"IF(Configuração!C708=\"\",\"\",Configuração!B708)","v":""},null,null,null,null,null,null,null,null,null,{"$f":"IF(Configuração!H710=\"\",\"\",IF($L$8=\"\",\"\",IF(VLOOKUP($L$8,Configuração!$S$7:$U$16,3)=\"D\",Configuração!F710,\"\")))","v":""},null,null,null,null,null,null,4112020,44139]
[null,null,null,null,{"$f":"IF(Configuração!C709=\"\",\"\",Configuração!B709)","v":""},null,null,null,null,null,null,null,null,null,{"$f":"IF(Configuração!H711=\"\",\"\",IF($L$8=\"\",\"\",IF(VLOOKUP($L$8,Configuração!$S$7:$U$16,3)=\"D\",Configuração!F711,\"\")))","v":""},null,null,null,null,null,null,4112021,44504]
[null,null,null,null,{"$f":"IF(Configuração!C710=\"\",\"\",Configuração!B710)","v":""},null,null,null,null,null,null,null,null,null,{"$f":"IF(Configuração!H712=\"\",\"\",IF($L$8=\"\",\"\",IF(VLOOKUP($L$8,Configuração!$S$7:$U$16,3)=\"D\",Configuração!F712,\"\")))","v":""},null,null,null,null,null,null,4112022,44869]
[null,null,null,null,{"$f":"IF(Configuração!C711=\"\",\"\",Configuração!B711)","v":""},null,null,null,null,null,null,null,null,null,{"$f":"IF(Configuração!H713=\"\",\"\",IF($L$8=\"\",\"\",IF(VLOOKUP($L$8,Configuração!$S$7:$U$16,3)=\"D\",Configuração!F713,\"\")))","v":""},null,null,null,null,null,null,4112023,45234]
[null,null,null,null,{"$f":"IF(Configuração!C712=\"\",\"\",Configuração!B712)","v":""},null,null,null,null,null,null,null,null,null,{"$f":"IF(Configuração!H714=\"\",\"\",IF($L$8=\"\",\"\",IF(VLOOKUP($L$8,Configuração!$S$7:$U$16,3)=\"D\",Configuração!F714,\"\")))","v":""},null,null,null,null,null,null,4122009,40151]
[null,null,null,null,{"$f":"IF(Configuração!C713=\"\",\"\",Configuração!B713)","v":""},null,null,null,null,null,null,null,null,null,{"$f":"IF(Configuração!H715=\"\",\"\",IF($L$8=\"\",\"\",IF(VLOOKUP($L$8,Configuração!$S$7:$U$16,3)=\"D\",Configuração!F715,\"\")))","v":""},null,null,null,null,null,null,4122010,40516]
[null,null,null,null,{"$f":"IF(Configuração!C714=\"\",\"\",Configuração!B714)","v":""},null,null,null,null,null,null,null,null,null,{"$f":"IF(Configuração!H716=\"\",\"\",IF($L$8=\"\",\"\",IF(VLOOKUP($L$8,Configuração!$S$7:$U$16,3)=\"D\",Configuração!F716,\"\")))","v":""},null,null,null,null,null,null,4122011,40881]
[null,null,null,null,{"$f":"IF(Configuração!C715=\"\",\"\",Configuração!B715)","v":""},null,null,null,null,null,null,null,null,null,{"$f":"IF(Configuração!H717=\"\",\"\",IF($L$8=\"\",\"\",IF(VLOOKUP($L$8,Configuração!$S$7:$U$16,3)=\"D\",Configuração!F717,\"\")))","v":""},null,null,null,null,null,null,4122012,41247]
[null,null,null,null,{"$f":"IF(Configuração!C716=\"\",\"\",Configuração!B716)","v":""},null,null,null,null,null,null,null,null,null,{"$f":"IF(Configuração!H718=\"\",\"\",IF($L$8=\"\",\"\",IF(VLOOKUP($L$8,Configuração!$S$7:$U$16,3)=\"D\",Configuração!F718,\"\")))","v":""},null,null,null,null,null,null,4122013,41612]
[null,null,null,null,{"$f":"IF(Configuração!C717=\"\",\"\",Configuração!B717)","v":""},null,null,null,null,null,null,null,null,null,{"$f":"IF(Configuração!H719=\"\",\"\",IF($L$8=\"\",\"\",IF(VLOOKUP($L$8,Configuração!$S$7:$U$16,3)=\"D\",Configuração!F719,\"\")))","v":""},null,null,null,null,null,null,4122014,41977]
[null,null,null,null,{"$f":"IF(Configuração!C718=\"\",\"\",Configuração!B718)","v":""},null,null,null,null,null,null,null,null,null,{"$f":"IF(Configuração!H720=\"\",\"\",IF($L$8=\"\",\"\",IF(VLOOKUP($L$8,Configuração!$S$7:$U$16,3)=\"D\",Configuração!F720,\"\")))","v":""},null,null,null,null,null,null,4122015,42342]
[null,null,null,null,{"$f":"IF(Configuração!C719=\"\",\"\",Configuração!B719)","v":""},null,null,null,null,null,null,null,null,null,{"$f":"IF(Configuração!H721=\"\",\"\",IF($L$8=\"\",\"\",IF(VLOOKUP($L$8,Configuração!$S$7:$U$16,3)=\"D\",Configuração!F721,\"\")))","v":""},null,null,null,null,null,null,4122016,42708]
[null,null,null,null,{"$f":"IF(Configuração!C720=\"\",\"\",Configuração!B720)","v":""},null,null,null,null,null,null,null,null,null,{"$f":"IF(Configuração!H722=\"\",\"\",IF($L$8=\"\",\"\",IF(VLOOKUP($L$8,Configuração!$S$7:$U$16,3)=\"D\",Configuração!F722,\"\")))","v":""},null,null,null,null,null,null,4122017,43073]
[null,null,null,null,{"$f":"IF(Configuração!C721=\"\",\"\",Configuração!B721)","v":""},null,null,null,null,null,null,null,null,null,null,null,null,null,null,null,null,4122018,43438]
[null,null,null,null,{"$f":"IF(Configuração!C722=\"\",\"\",Configuração!B722)","v":""},null,null,null,null,null,null,null,null,null,{"$f":"IF(Configuração!H724=\"\",\"\",IF($L$8=\"\",\"\",IF(VLOOKUP($L$8,Configuração!$S$7:$U$16,3)=\"D\",Configuração!F724,\"\")))","v":""},null,null,null,null,null,null,4122019,43803]
[null,null,null,null,{"$f":"IF(Configuração!C723=\"\",\"\",Configuração!B723)","v":""},null,null,null,null,null,null,null,null,null,{"$f":"IF(Configuração!H725=\"\",\"\",IF($L$8=\"\",\"\",IF(VLOOKUP($L$8,Configuração!$S$7:$U$16,3)=\"D\",Configuração!F725,\"\")))","v":""},null,null,null,null,null,null,4122020,44169]
[null,null,null,null,{"$f":"IF(Configuração!C724=\"\",\"\",Configuração!B724)","v":""},null,null,null,null,null,null,null,null,null,{"$f":"IF(Configuração!H726=\"\",\"\",IF($L$8=\"\",\"\",IF(VLOOKUP($L$8,Configuração!$S$7:$U$16,3)=\"D\",Configuração!F726,\"\")))","v":""},null,null,null,null,null,null,4122021,44534]
[null,null,null,null,{"$f":"IF(Configuração!C725=\"\",\"\",Configuração!B725)","v":""},null,null,null,null,null,null,null,null,null,{"$f":"IF(Configuração!H727=\"\",\"\",IF($L$8=\"\",\"\",IF(VLOOKUP($L$8,Configuração!$S$7:$U$16,3)=\"D\",Configuração!F727,\"\")))","v":""},null,null,null,null,null,null,4122022,44899]
[null,null,null,null,{"$f":"IF(Configuração!C726=\"\",\"\",Configuração!B726)","v":""},null,null,null,null,null,null,null,null,null,{"$f":"IF(Configuração!H728=\"\",\"\",IF($L$8=\"\",\"\",IF(VLOOKUP($L$8,Configuração!$S$7:$U$16,3)=\"D\",Configuração!F728,\"\")))","v":""},null,null,null,null,null,null,4122023,45264]
[null,null,null,null,{"$f":"IF(Configuração!C727=\"\",\"\",Configuração!B727)","v":""},null,null,null,null,null,null,null,null,null,{"$f":"IF(Configuração!H729=\"\",\"\",IF($L$8=\"\",\"\",IF(VLOOKUP($L$8,Configuração!$S$7:$U$16,3)=\"D\",Configuração!F729,\"\")))","v":""},null,null,null,null,null,null,5012009,39818]
[null,null,null,null,{"$f":"IF(Configuração!C728=\"\",\"\",Configuração!B728)","v":""},null,null,null,null,null,null,null,null,null,{"$f":"IF(Configuração!H730=\"\",\"\",IF($L$8=\"\",\"\",IF(VLOOKUP($L$8,Configuração!$S$7:$U$16,3)=\"D\",Configuração!F730,\"\")))","v":""},null,null,null,null,null,null,5012010,40183]
[null,null,null,null,{"$f":"IF(Configuração!C729=\"\",\"\",Configuração!B729)","v":""},null,null,null,null,null,null,null,null,null,{"$f":"IF(Configuração!H731=\"\",\"\",IF($L$8=\"\",\"\",IF(VLOOKUP($L$8,Configuração!$S$7:$U$16,3)=\"D\",Configuração!F731,\"\")))","v":""},null,null,null,null,null,null,5012011,40548]
[null,null,null,null,{"$f":"IF(Configuração!C730=\"\",\"\",Configuração!B730)","v":""},null,null,null,null,null,null,null,null,null,{"$f":"IF(Configuração!H732=\"\",\"\",IF($L$8=\"\",\"\",IF(VLOOKUP($L$8,Configuração!$S$7:$U$16,3)=\"D\",Configuração!F732,\"\")))","v":""},null,null,null,null,null,null,5012012,40913]
[null,null,null,null,{"$f":"IF(Configuração!C731=\"\",\"\",Configuração!B731)","v":""},null,null,null,null,null,null,null,null,null,{"$f":"IF(Configuração!H733=\"\",\"\",IF($L$8=\"\",\"\",IF(VLOOKUP($L$8,Configuração!$S$7:$U$16,3)=\"D\",Configuração!F733,\"\")))","v":""},null,null,null,null,null,null,5012013,41279]
[null,null,null,null,{"$f":"IF(Configuração!C732=\"\",\"\",Configuração!B732)","v":""},null,null,null,null,null,null,null,null,null,{"$f":"IF(Configuração!H734=\"\",\"\",IF($L$8=\"\",\"\",IF(VLOOKUP($L$8,Configuração!$S$7:$U$16,3)=\"D\",Configuração!F734,\"\")))","v":""},null,null,null,null,null,null,5012014,41644]
[null,null,null,null,{"$f":"IF(Configuração!C733=\"\",\"\",Configuração!B733)","v":""},null,null,null,null,null,null,null,null,null,{"$f":"IF(Configuração!H735=\"\",\"\",IF($L$8=\"\",\"\",IF(VLOOKUP($L$8,Configuração!$S$7:$U$16,3)=\"D\",Configuração!F735,\"\")))","v":""},null,null,null,null,null,null,5012015,42009]
[null,null,null,null,{"$f":"IF(Configuração!C734=\"\",\"\",Configuração!B734)","v":""},null,null,null,null,null,null,null,null,null,{"$f":"IF(Configuração!H736=\"\",\"\",IF($L$8=\"\",\"\",IF(VLOOKUP($L$8,Configuração!$S$7:$U$16,3)=\"D\",Configuração!F736,\"\")))","v":""},null,null,null,null,null,null,5012016,42374]
[null,null,null,null,{"$f":"IF(Configuração!C735=\"\",\"\",Configuração!B735)","v":""},null,null,null,null,null,null,null,null,null,{"$f":"IF(Configuração!H737=\"\",\"\",IF($L$8=\"\",\"\",IF(VLOOKUP($L$8,Configuração!$S$7:$U$16,3)=\"D\",Configuração!F737,\"\")))","v":""},null,null,null,null,null,null,5012017,42740]
[null,null,null,null,{"$f":"IF(Configuração!C736=\"\",\"\",Configuração!B736)","v":""},null,null,null,null,null,null,null,null,null,{"$f":"IF(Configuração!H738=\"\",\"\",IF($L$8=\"\",\"\",IF(VLOOKUP($L$8,Configuração!$S$7:$U$16,3)=\"D\",Configuração!F738,\"\")))","v":""},null,null,null,null,null,null,5012018,43105]
[null,null,null,null,{"$f":"IF(Configuração!C737=\"\",\"\",Configuração!B737)","v":""},null,null,null,null,null,null,null,null,null,{"$f":"IF(Configuração!H739=\"\",\"\",IF($L$8=\"\",\"\",IF(VLOOKUP($L$8,Configuração!$S$7:$U$16,3)=\"D\",Configuração!F739,\"\")))","v":""},null,null,null,null,null,null,5012019,43470]
[null,null,null,null,{"$f":"IF(Configuração!C738=\"\",\"\",Configuração!B738)","v":""},null,null,null,null,null,null,null,null,null,{"$f":"IF(Configuração!H740=\"\",\"\",IF($L$8=\"\",\"\",IF(VLOOKUP($L$8,Configuração!$S$7:$U$16,3)=\"D\",Configuração!F740,\"\")))","v":""},null,null,null,null,null,null,5012020,43835]
[null,null,null,null,{"$f":"IF(Configuração!C739=\"\",\"\",Configuração!B739)","v":""},null,null,null,null,null,null,null,null,null,{"$f":"IF(Configuração!H741=\"\",\"\",IF($L$8=\"\",\"\",IF(VLOOKUP($L$8,Configuração!$S$7:$U$16,3)=\"D\",Configuração!F741,\"\")))","v":""},null,null,null,null,null,null,5012021,44201]
[null,null,null,null,{"$f":"IF(Configuração!C740=\"\",\"\",Configuração!B740)","v":""},null,null,null,null,null,null,null,null,null,{"$f":"IF(Configuração!H742=\"\",\"\",IF($L$8=\"\",\"\",IF(VLOOKUP($L$8,Configuração!$S$7:$U$16,3)=\"D\",Configuração!F742,\"\")))","v":""},null,null,null,null,null,null,5012022,44566]
[null,null,null,null,{"$f":"IF(Configuração!C741=\"\",\"\",Configuração!B741)","v":""},null,null,null,null,null,null,null,null,null,{"$f":"IF(Configuração!H743=\"\",\"\",IF($L$8=\"\",\"\",IF(VLOOKUP($L$8,Configuração!$S$7:$U$16,3)=\"D\",Configuração!F743,\"\")))","v":""},null,null,null,null,null,null,5012023,44931]
[null,null,null,null,{"$f":"IF(Configuração!C742=\"\",\"\",Configuração!B742)","v":""},null,null,null,null,null,null,null,null,null,{"$f":"IF(Configuração!H744=\"\",\"\",IF($L$8=\"\",\"\",IF(VLOOKUP($L$8,Configuração!$S$7:$U$16,3)=\"D\",Configuração!F744,\"\")))","v":""},null,null,null,null,null,null,5022009,39849]
[null,null,null,null,{"$f":"IF(Configuração!C743=\"\",\"\",Configuração!B743)","v":""},null,null,null,null,null,null,null,null,null,{"$f":"IF(Configuração!H745=\"\",\"\",IF($L$8=\"\",\"\",IF(VLOOKUP($L$8,Configuração!$S$7:$U$16,3)=\"D\",Configuração!F745,\"\")))","v":""},null,null,null,null,null,null,5022010,40214]
[null,null,null,null,{"$f":"IF(Configuração!C744=\"\",\"\",Configuração!B744)","v":""},null,null,null,null,null,null,null,null,null,{"$f":"IF(Configuração!H746=\"\",\"\",IF($L$8=\"\",\"\",IF(VLOOKUP($L$8,Configuração!$S$7:$U$16,3)=\"D\",Configuração!F746,\"\")))","v":""},null,null,null,null,null,null,5022011,40579]
[null,null,null,null,{"$f":"IF(Configuração!C745=\"\",\"\",Configuração!B745)","v":""},null,null,null,null,null,null,null,null,null,{"$f":"IF(Configuração!H747=\"\",\"\",IF($L$8=\"\",\"\",IF(VLOOKUP($L$8,Configuração!$S$7:$U$16,3)=\"D\",Configuração!F747,\"\")))","v":""},null,null,null,null,null,null,5022012,40944]
[null,null,null,null,{"$f":"IF(Configuração!C746=\"\",\"\",Configuração!B746)","v":""},null,null,null,null,null,null,null,null,null,{"$f":"IF(Configuração!H748=\"\",\"\",IF($L$8=\"\",\"\",IF(VLOOKUP($L$8,Configuração!$S$7:$U$16,3)=\"D\",Configuração!F748,\"\")))","v":""},null,null,null,null,null,null,5022013,41310]
[null,null,null,null,{"$f":"IF(Configuração!C747=\"\",\"\",Configuração!B747)","v":""},null,null,null,null,null,null,null,null,null,{"$f":"IF(Configuração!H749=\"\",\"\",IF($L$8=\"\",\"\",IF(VLOOKUP($L$8,Configuração!$S$7:$U$16,3)=\"D\",Configuração!F749,\"\")))","v":""},null,null,null,null,null,null,5022014,41675]
[null,null,null,null,{"$f":"IF(Configuração!C748=\"\",\"\",Configuração!B748)","v":""},null,null,null,null,null,null,null,null,null,{"$f":"IF(Configuração!H750=\"\",\"\",IF($L$8=\"\",\"\",IF(VLOOKUP($L$8,Configuração!$S$7:$U$16,3)=\"D\",Configuração!F750,\"\")))","v":""},null,null,null,null,null,null,5022015,42040]
[null,null,null,null,{"$f":"IF(Configuração!C749=\"\",\"\",Configuração!B749)","v":""},null,null,null,null,null,null,null,null,null,{"$f":"IF(Configuração!H751=\"\",\"\",IF($L$8=\"\",\"\",IF(VLOOKUP($L$8,Configuração!$S$7:$U$16,3)=\"D\",Configuração!F751,\"\")))","v":""},null,null,null,null,null,null,5022016,42405]
[null,null,null,null,{"$f":"IF(Configuração!C750=\"\",\"\",Configuração!B750)","v":""},null,null,null,null,null,null,null,null,null,{"$f":"IF(Configuração!H752=\"\",\"\",IF($L$8=\"\",\"\",IF(VLOOKUP($L$8,Configuração!$S$7:$U$16,3)=\"D\",Configuração!F752,\"\")))","v":""},null,null,null,null,null,null,5022017,42771]
[null,null,null,null,{"$f":"IF(Configuração!C751=\"\",\"\",Configuração!B751)","v":""},null,null,null,null,null,null,null,null,null,{"$f":"IF(Configuração!H753=\"\",\"\",IF($L$8=\"\",\"\",IF(VLOOKUP($L$8,Configuração!$S$7:$U$16,3)=\"D\",Configuração!F753,\"\")))","v":""},null,null,null,null,null,null,5022018,43136]
[null,null,null,null,{"$f":"IF(Configuração!C752=\"\",\"\",Configuração!B752)","v":""},null,null,null,null,null,null,null,null,null,{"$f":"IF(Configuração!H754=\"\",\"\",IF($L$8=\"\",\"\",IF(VLOOKUP($L$8,Configuração!$S$7:$U$16,3)=\"D\",Configuração!F754,\"\")))","v":""},null,null,null,null,null,null,5022019,43501]
[null,null,null,null,{"$f":"IF(Configuração!C753=\"\",\"\",Configuração!B753)","v":""},null,null,null,null,null,null,null,null,null,{"$f":"IF(Configuração!H755=\"\",\"\",IF($L$8=\"\",\"\",IF(VLOOKUP($L$8,Configuração!$S$7:$U$16,3)=\"D\",Configuração!F755,\"\")))","v":""},null,null,null,null,null,null,5022020,43866]
[null,null,null,null,{"$f":"IF(Configuração!C754=\"\",\"\",Configuração!B754)","v":""},null,null,null,null,null,null,null,null,null,{"$f":"IF(Configuração!H756=\"\",\"\",IF($L$8=\"\",\"\",IF(VLOOKUP($L$8,Configuração!$S$7:$U$16,3)=\"D\",Configuração!F756,\"\")))","v":""},null,null,null,null,null,null,5022021,44232]
[null,null,null,null,{"$f":"IF(Configuração!C755=\"\",\"\",Configuração!B755)","v":""},null,null,null,null,null,null,null,null,null,{"$f":"IF(Configuração!H757=\"\",\"\",IF($L$8=\"\",\"\",IF(VLOOKUP($L$8,Configuração!$S$7:$U$16,3)=\"D\",Configuração!F757,\"\")))","v":""},null,null,null,null,null,null,5022022,44597]
[null,null,null,null,{"$f":"IF(Configuração!C756=\"\",\"\",Configuração!B756)","v":""},null,null,null,null,null,null,null,null,null,{"$f":"IF(Configuração!H758=\"\",\"\",IF($L$8=\"\",\"\",IF(VLOOKUP($L$8,Configuração!$S$7:$U$16,3)=\"D\",Configuração!F758,\"\")))","v":""},null,null,null,null,null,null,5022023,44962]
[null,null,null,null,{"$f":"IF(Configuração!C757=\"\",\"\",Configuração!B757)","v":""},null,null,null,null,null,null,null,null,null,{"$f":"IF(Configuração!H759=\"\",\"\",IF($L$8=\"\",\"\",IF(VLOOKUP($L$8,Configuração!$S$7:$U$16,3)=\"D\",Configuração!F759,\"\")))","v":""},null,null,null,null,null,null,5032009,39877]
[null,null,null,null,{"$f":"IF(Configuração!C758=\"\",\"\",Configuração!B758)","v":""},null,null,null,null,null,null,null,null,null,{"$f":"IF(Configuração!H760=\"\",\"\",IF($L$8=\"\",\"\",IF(VLOOKUP($L$8,Configuração!$S$7:$U$16,3)=\"D\",Configuração!F760,\"\")))","v":""},null,null,null,null,null,null,5032010,40242]
[null,null,null,null,{"$f":"IF(Configuração!C759=\"\",\"\",Configuração!B759)","v":""},null,null,null,null,null,null,null,null,null,{"$f":"IF(Configuração!H761=\"\",\"\",IF($L$8=\"\",\"\",IF(VLOOKUP($L$8,Configuração!$S$7:$U$16,3)=\"D\",Configuração!F761,\"\")))","v":""},null,null,null,null,null,null,5032011,40607]
[null,null,null,null,{"$f":"IF(Configuração!C760=\"\",\"\",Configuração!B760)","v":""},null,null,null,null,null,null,null,null,null,{"$f":"IF(Configuração!H762=\"\",\"\",IF($L$8=\"\",\"\",IF(VLOOKUP($L$8,Configuração!$S$7:$U$16,3)=\"D\",Configuração!F762,\"\")))","v":""},null,null,null,null,null,null,5032012,40973]
[null,null,null,null,{"$f":"IF(Configuração!C761=\"\",\"\",Configuração!B761)","v":""},null,null,null,null,null,null,null,null,null,{"$f":"IF(Configuração!H763=\"\",\"\",IF($L$8=\"\",\"\",IF(VLOOKUP($L$8,Configuração!$S$7:$U$16,3)=\"D\",Configuração!F763,\"\")))","v":""},null,null,null,null,null,null,5032013,41338]
[null,null,null,null,{"$f":"IF(Configuração!C762=\"\",\"\",Configuração!B762)","v":""},null,null,null,null,null,null,null,null,null,{"$f":"IF(Configuração!H764=\"\",\"\",IF($L$8=\"\",\"\",IF(VLOOKUP($L$8,Configuração!$S$7:$U$16,3)=\"D\",Configuração!F764,\"\")))","v":""},null,null,null,null,null,null,5032014,41703]
[null,null,null,null,{"$f":"IF(Configuração!C763=\"\",\"\",Configuração!B763)","v":""},null,null,null,null,null,null,null,null,null,{"$f":"IF(Configuração!H765=\"\",\"\",IF($L$8=\"\",\"\",IF(VLOOKUP($L$8,Configuração!$S$7:$U$16,3)=\"D\",Configuração!F765,\"\")))","v":""},null,null,null,null,null,null,5032015,42068]
[null,null,null,null,{"$f":"IF(Configuração!C764=\"\",\"\",Configuração!B764)","v":""},null,null,null,null,null,null,null,null,null,{"$f":"IF(Configuração!H766=\"\",\"\",IF($L$8=\"\",\"\",IF(VLOOKUP($L$8,Configuração!$S$7:$U$16,3)=\"D\",Configuração!F766,\"\")))","v":""},null,null,null,null,null,null,5032016,42434]
[null,null,null,null,{"$f":"IF(Configuração!C765=\"\",\"\",Configuração!B765)","v":""},null,null,null,null,null,null,null,null,null,{"$f":"IF(Configuração!H767=\"\",\"\",IF($L$8=\"\",\"\",IF(VLOOKUP($L$8,Configuração!$S$7:$U$16,3)=\"D\",Configuração!F767,\"\")))","v":""},null,null,null,null,null,null,5032017,42799]
[null,null,null,null,{"$f":"IF(Configuração!C766=\"\",\"\",Configuração!B766)","v":""},null,null,null,null,null,null,null,null,null,{"$f":"IF(Configuração!H768=\"\",\"\",IF($L$8=\"\",\"\",IF(VLOOKUP($L$8,Configuração!$S$7:$U$16,3)=\"D\",Configuração!F768,\"\")))","v":""},null,null,null,null,null,null,5032018,43164]
[null,null,null,null,{"$f":"IF(Configuração!C767=\"\",\"\",Configuração!B767)","v":""},null,null,null,null,null,null,null,null,null,{"$f":"IF(Configuração!H769=\"\",\"\",IF($L$8=\"\",\"\",IF(VLOOKUP($L$8,Configuração!$S$7:$U$16,3)=\"D\",Configuração!F769,\"\")))","v":""},null,null,null,null,null,null,5032019,43529]
[null,null,null,null,{"$f":"IF(Configuração!C768=\"\",\"\",Configuração!B768)","v":""},null,null,null,null,null,null,null,null,null,{"$f":"IF(Configuração!H770=\"\",\"\",IF($L$8=\"\",\"\",IF(VLOOKUP($L$8,Configuração!$S$7:$U$16,3)=\"D\",Configuração!F770,\"\")))","v":""},null,null,null,null,null,null,5032020,43895]
[null,null,null,null,{"$f":"IF(Configuração!C769=\"\",\"\",Configuração!B769)","v":""},null,null,null,null,null,null,null,null,null,{"$f":"IF(Configuração!H771=\"\",\"\",IF($L$8=\"\",\"\",IF(VLOOKUP($L$8,Configuração!$S$7:$U$16,3)=\"D\",Configuração!F771,\"\")))","v":""},null,null,null,null,null,null,5032021,44260]
[null,null,null,null,{"$f":"IF(Configuração!C770=\"\",\"\",Configuração!B770)","v":""},null,null,null,null,null,null,null,null,null,{"$f":"IF(Configuração!H772=\"\",\"\",IF($L$8=\"\",\"\",IF(VLOOKUP($L$8,Configuração!$S$7:$U$16,3)=\"D\",Configuração!F772,\"\")))","v":""},null,null,null,null,null,null,5032022,44625]
[null,null,null,null,{"$f":"IF(Configuração!C771=\"\",\"\",Configuração!B771)","v":""},null,null,null,null,null,null,null,null,null,{"$f":"IF(Configuração!H773=\"\",\"\",IF($L$8=\"\",\"\",IF(VLOOKUP($L$8,Configuração!$S$7:$U$16,3)=\"D\",Configuração!F773,\"\")))","v":""},null,null,null,null,null,null,5032023,44990]
[null,null,null,null,{"$f":"IF(Configuração!C772=\"\",\"\",Configuração!B772)","v":""},null,null,null,null,null,null,null,null,null,null,null,null,null,null,null,null,5042009,39908]
[null,null,null,null,{"$f":"IF(Configuração!C773=\"\",\"\",Configuração!B773)","v":""},null,null,null,null,null,null,null,null,null,{"$f":"IF(Configuração!H775=\"\",\"\",IF($L$8=\"\",\"\",IF(VLOOKUP($L$8,Configuração!$S$7:$U$16,3)=\"D\",Configuração!F775,\"\")))","v":""},null,null,null,null,null,null,5042010,40273]
[null,null,null,null,{"$f":"IF(Configuração!C774=\"\",\"\",Configuração!B774)","v":""},null,null,null,null,null,null,null,null,null,{"$f":"IF(Configuração!H776=\"\",\"\",IF($L$8=\"\",\"\",IF(VLOOKUP($L$8,Configuração!$S$7:$U$16,3)=\"D\",Configuração!F776,\"\")))","v":""},null,null,null,null,null,null,5042011,40638]
[null,null,null,null,{"$f":"IF(Configuração!C775=\"\",\"\",Configuração!B775)","v":""},null,null,null,null,null,null,null,null,null,{"$f":"IF(Configuração!H777=\"\",\"\",IF($L$8=\"\",\"\",IF(VLOOKUP($L$8,Configuração!$S$7:$U$16,3)=\"D\",Configuração!F777,\"\")))","v":""},null,null,null,null,null,null,5042012,41004]
[null,null,null,null,{"$f":"IF(Configuração!C776=\"\",\"\",Configuração!B776)","v":""},null,null,null,null,null,null,null,null,null,{"$f":"IF(Configuração!H778=\"\",\"\",IF($L$8=\"\",\"\",IF(VLOOKUP($L$8,Configuração!$S$7:$U$16,3)=\"D\",Configuração!F778,\"\")))","v":""},null,null,null,null,null,null,5042013,41369]
[null,null,null,null,{"$f":"IF(Configuração!C777=\"\",\"\",Configuração!B777)","v":""},null,null,null,null,null,null,null,null,null,{"$f":"IF(Configuração!H779=\"\",\"\",IF($L$8=\"\",\"\",IF(VLOOKUP($L$8,Configuração!$S$7:$U$16,3)=\"D\",Configuração!F779,\"\")))","v":""},null,null,null,null,null,null,5042014,41734]
[null,null,null,null,{"$f":"IF(Configuração!C778=\"\",\"\",Configuração!B778)","v":""},null,null,null,null,null,null,null,null,null,{"$f":"IF(Configuração!H780=\"\",\"\",IF($L$8=\"\",\"\",IF(VLOOKUP($L$8,Configuração!$S$7:$U$16,3)=\"D\",Configuração!F780,\"\")))","v":""},null,null,null,null,null,null,5042015,42099]
[null,null,null,null,{"$f":"IF(Configuração!C779=\"\",\"\",Configuração!B779)","v":""},null,null,null,null,null,null,null,null,null,{"$f":"IF(Configuração!H781=\"\",\"\",IF($L$8=\"\",\"\",IF(VLOOKUP($L$8,Configuração!$S$7:$U$16,3)=\"D\",Configuração!F781,\"\")))","v":""},null,null,null,null,null,null,5042016,42465]
[null,null,null,null,{"$f":"IF(Configuração!C780=\"\",\"\",Configuração!B780)","v":""},null,null,null,null,null,null,null,null,null,{"$f":"IF(Configuração!H782=\"\",\"\",IF($L$8=\"\",\"\",IF(VLOOKUP($L$8,Configuração!$S$7:$U$16,3)=\"D\",Configuração!F782,\"\")))","v":""},null,null,null,null,null,null,5042017,42830]
[null,null,null,null,{"$f":"IF(Configuração!C781=\"\",\"\",Configuração!B781)","v":""},null,null,null,null,null,null,null,null,null,{"$f":"IF(Configuração!H783=\"\",\"\",IF($L$8=\"\",\"\",IF(VLOOKUP($L$8,Configuração!$S$7:$U$16,3)=\"D\",Configuração!F783,\"\")))","v":""},null,null,null,null,null,null,5042018,43195]
[null,null,null,null,{"$f":"IF(Configuração!C782=\"\",\"\",Configuração!B782)","v":""},null,null,null,null,null,null,null,null,null,{"$f":"IF(Configuração!H784=\"\",\"\",IF($L$8=\"\",\"\",IF(VLOOKUP($L$8,Configuração!$S$7:$U$16,3)=\"D\",Configuração!F784,\"\")))","v":""},null,null,null,null,null,null,5042019,43560]
[null,null,null,null,{"$f":"IF(Configuração!C783=\"\",\"\",Configuração!B783)","v":""},null,null,null,null,null,null,null,null,null,{"$f":"IF(Configuração!H785=\"\",\"\",IF($L$8=\"\",\"\",IF(VLOOKUP($L$8,Configuração!$S$7:$U$16,3)=\"D\",Configuração!F785,\"\")))","v":""},null,null,null,null,null,null,5042020,43926]
[null,null,null,null,{"$f":"IF(Configuração!C784=\"\",\"\",Configuração!B784)","v":""},null,null,null,null,null,null,null,null,null,{"$f":"IF(Configuração!H786=\"\",\"\",IF($L$8=\"\",\"\",IF(VLOOKUP($L$8,Configuração!$S$7:$U$16,3)=\"D\",Configuração!F786,\"\")))","v":""},null,null,null,null,null,null,5042021,44291]
[null,null,null,null,{"$f":"IF(Configuração!C785=\"\",\"\",Configuração!B785)","v":""},null,null,null,null,null,null,null,null,null,{"$f":"IF(Configuração!H787=\"\",\"\",IF($L$8=\"\",\"\",IF(VLOOKUP($L$8,Configuração!$S$7:$U$16,3)=\"D\",Configuração!F787,\"\")))","v":""},null,null,null,null,null,null,5042022,44656]
[null,null,null,null,{"$f":"IF(Configuração!C786=\"\",\"\",Configuração!B786)","v":""},null,null,null,null,null,null,null,null,null,{"$f":"IF(Configuração!H788=\"\",\"\",IF($L$8=\"\",\"\",IF(VLOOKUP($L$8,Configuração!$S$7:$U$16,3)=\"D\",Configuração!F788,\"\")))","v":""},null,null,null,null,null,null,5042023,45021]
[null,null,null,null,{"$f":"IF(Configuração!C787=\"\",\"\",Configuração!B787)","v":""},null,null,null,null,null,null,null,null,null,{"$f":"IF(Configuração!H789=\"\",\"\",IF($L$8=\"\",\"\",IF(VLOOKUP($L$8,Configuração!$S$7:$U$16,3)=\"D\",Configuração!F789,\"\")))","v":""},null,null,null,null,null,null,5052009,39938]
[null,null,null,null,{"$f":"IF(Configuração!C788=\"\",\"\",Configuração!B788)","v":""},null,null,null,null,null,null,null,null,null,{"$f":"IF(Configuração!H790=\"\",\"\",IF($L$8=\"\",\"\",IF(VLOOKUP($L$8,Configuração!$S$7:$U$16,3)=\"D\",Configuração!F790,\"\")))","v":""},null,null,null,null,null,null,5052010,40303]
[null,null,null,null,{"$f":"IF(Configuração!C789=\"\",\"\",Configuração!B789)","v":""},null,null,null,null,null,null,null,null,null,{"$f":"IF(Configuração!H791=\"\",\"\",IF($L$8=\"\",\"\",IF(VLOOKUP($L$8,Configuração!$S$7:$U$16,3)=\"D\",Configuração!F791,\"\")))","v":""},null,null,null,null,null,null,5052011,40668]
[null,null,null,null,{"$f":"IF(Configuração!C790=\"\",\"\",Configuração!B790)","v":""},null,null,null,null,null,null,null,null,null,{"$f":"IF(Configuração!H792=\"\",\"\",IF($L$8=\"\",\"\",IF(VLOOKUP($L$8,Configuração!$S$7:$U$16,3)=\"D\",Configuração!F792,\"\")))","v":""},null,null,null,null,null,null,5052012,41034]
[null,null,null,null,{"$f":"IF(Configuração!C791=\"\",\"\",Configuração!B791)","v":""},null,null,null,null,null,null,null,null,null,{"$f":"IF(Configuração!H793=\"\",\"\",IF($L$8=\"\",\"\",IF(VLOOKUP($L$8,Configuração!$S$7:$U$16,3)=\"D\",Configuração!F793,\"\")))","v":""},null,null,null,null,null,null,5052013,41399]
[null,null,null,null,{"$f":"IF(Configuração!C792=\"\",\"\",Configuração!B792)","v":""},null,null,null,null,null,null,null,null,null,{"$f":"IF(Configuração!H794=\"\",\"\",IF($L$8=\"\",\"\",IF(VLOOKUP($L$8,Configuração!$S$7:$U$16,3)=\"D\",Configuração!F794,\"\")))","v":""},null,null,null,null,null,null,5052014,41764]
[null,null,null,null,{"$f":"IF(Configuração!C793=\"\",\"\",Configuração!B793)","v":""},null,null,null,null,null,null,null,null,null,{"$f":"IF(Configuração!H795=\"\",\"\",IF($L$8=\"\",\"\",IF(VLOOKUP($L$8,Configuração!$S$7:$U$16,3)=\"D\",Configuração!F795,\"\")))","v":""},null,null,null,null,null,null,5052015,42129]
[null,null,null,null,{"$f":"IF(Configuração!C794=\"\",\"\",Configuração!B794)","v":""},null,null,null,null,null,null,null,null,null,{"$f":"IF(Configuração!H796=\"\",\"\",IF($L$8=\"\",\"\",IF(VLOOKUP($L$8,Configuração!$S$7:$U$16,3)=\"D\",Configuração!F796,\"\")))","v":""},null,null,null,null,null,null,5052016,42495]
[null,null,null,null,{"$f":"IF(Configuração!C795=\"\",\"\",Configuração!B795)","v":""},null,null,null,null,null,null,null,null,null,{"$f":"IF(Configuração!H797=\"\",\"\",IF($L$8=\"\",\"\",IF(VLOOKUP($L$8,Configuração!$S$7:$U$16,3)=\"D\",Configuração!F797,\"\")))","v":""},null,null,null,null,null,null,5052017,42860]
[null,null,null,null,{"$f":"IF(Configuração!C796=\"\",\"\",Configuração!B796)","v":""},null,null,null,null,null,null,null,null,null,{"$f":"IF(Configuração!H798=\"\",\"\",IF($L$8=\"\",\"\",IF(VLOOKUP($L$8,Configuração!$S$7:$U$16,3)=\"D\",Configuração!F798,\"\")))","v":""},null,null,null,null,null,null,5052018,43225]
[null,null,null,null,{"$f":"IF(Configuração!C797=\"\",\"\",Configuração!B797)","v":""},null,null,null,null,null,null,null,null,null,{"$f":"IF(Configuração!H799=\"\",\"\",IF($L$8=\"\",\"\",IF(VLOOKUP($L$8,Configuração!$S$7:$U$16,3)=\"D\",Configuração!F799,\"\")))","v":""},null,null,null,null,null,null,5052019,43590]
[null,null,null,null,{"$f":"IF(Configuração!C798=\"\",\"\",Configuração!B798)","v":""},null,null,null,null,null,null,null,null,null,{"$f":"IF(Configuração!H800=\"\",\"\",IF($L$8=\"\",\"\",IF(VLOOKUP($L$8,Configuração!$S$7:$U$16,3)=\"D\",Configuração!F800,\"\")))","v":""},null,null,null,null,null,null,5052020,43956]
[null,null,null,null,{"$f":"IF(Configuração!C799=\"\",\"\",Configuração!B799)","v":""},null,null,null,null,null,null,null,null,null,{"$f":"IF(Configuração!H801=\"\",\"\",IF($L$8=\"\",\"\",IF(VLOOKUP($L$8,Configuração!$S$7:$U$16,3)=\"D\",Configuração!F801,\"\")))","v":""},null,null,null,null,null,null,5052021,44321]
[null,null,null,null,{"$f":"IF(Configuração!C800=\"\",\"\",Configuração!B800)","v":""},null,null,null,null,null,null,null,null,null,{"$f":"IF(Configuração!H802=\"\",\"\",IF($L$8=\"\",\"\",IF(VLOOKUP($L$8,Configuração!$S$7:$U$16,3)=\"D\",Configuração!F802,\"\")))","v":""},null,null,null,null,null,null,5052022,44686]
[null,null,null,null,{"$f":"IF(Configuração!C801=\"\",\"\",Configuração!B801)","v":""},null,null,null,null,null,null,null,null,null,{"$f":"IF(Configuração!H803=\"\",\"\",IF($L$8=\"\",\"\",IF(VLOOKUP($L$8,Configuração!$S$7:$U$16,3)=\"D\",Configuração!F803,\"\")))","v":""},null,null,null,null,null,null,5052023,45051]
[null,null,null,null,{"$f":"IF(Configuração!C802=\"\",\"\",Configuração!B802)","v":""},null,null,null,null,null,null,null,null,null,{"$f":"IF(Configuração!H804=\"\",\"\",IF($L$8=\"\",\"\",IF(VLOOKUP($L$8,Configuração!$S$7:$U$16,3)=\"D\",Configuração!F804,\"\")))","v":""},null,null,null,null,null,null,5062009,39969]
[null,null,null,null,{"$f":"IF(Configuração!C803=\"\",\"\",Configuração!B803)","v":""},null,null,null,null,null,null,null,null,null,{"$f":"IF(Configuração!H805=\"\",\"\",IF($L$8=\"\",\"\",IF(VLOOKUP($L$8,Configuração!$S$7:$U$16,3)=\"D\",Configuração!F805,\"\")))","v":""},null,null,null,null,null,null,5062010,40334]
[null,null,null,null,{"$f":"IF(Configuração!C804=\"\",\"\",Configuração!B804)","v":""},null,null,null,null,null,null,null,null,null,{"$f":"IF(Configuração!H806=\"\",\"\",IF($L$8=\"\",\"\",IF(VLOOKUP($L$8,Configuração!$S$7:$U$16,3)=\"D\",Configuração!F806,\"\")))","v":""},null,null,null,null,null,null,5062011,40699]
[null,null,null,null,{"$f":"IF(Configuração!C805=\"\",\"\",Configuração!B805)","v":""},null,null,null,null,null,null,null,null,null,{"$f":"IF(Configuração!H807=\"\",\"\",IF($L$8=\"\",\"\",IF(VLOOKUP($L$8,Configuração!$S$7:$U$16,3)=\"D\",Configuração!F807,\"\")))","v":""},null,null,null,null,null,null,5062012,41065]
[null,null,null,null,{"$f":"IF(Configuração!C806=\"\",\"\",Configuração!B806)","v":""},null,null,null,null,null,null,null,null,null,{"$f":"IF(Configuração!H808=\"\",\"\",IF($L$8=\"\",\"\",IF(VLOOKUP($L$8,Configuração!$S$7:$U$16,3)=\"D\",Configuração!F808,\"\")))","v":""},null,null,null,null,null,null,5062013,41430]
[null,null,null,null,{"$f":"IF(Configuração!C807=\"\",\"\",Configuração!B807)","v":""},null,null,null,null,null,null,null,null,null,{"$f":"IF(Configuração!H809=\"\",\"\",IF($L$8=\"\",\"\",IF(VLOOKUP($L$8,Configuração!$S$7:$U$16,3)=\"D\",Configuração!F809,\"\")))","v":""},null,null,null,null,null,null,5062014,41795]
[null,null,null,null,{"$f":"IF(Configuração!C808=\"\",\"\",Configuração!B808)","v":""},null,null,null,null,null,null,null,null,null,{"$f":"IF(Configuração!H810=\"\",\"\",IF($L$8=\"\",\"\",IF(VLOOKUP($L$8,Configuração!$S$7:$U$16,3)=\"D\",Configuração!F810,\"\")))","v":""},null,null,null,null,null,null,5062015,42160]
[null,null,null,null,{"$f":"IF(Configuração!C809=\"\",\"\",Configuração!B809)","v":""},null,null,null,null,null,null,null,null,null,{"$f":"IF(Configuração!H811=\"\",\"\",IF($L$8=\"\",\"\",IF(VLOOKUP($L$8,Configuração!$S$7:$U$16,3)=\"D\",Configuração!F811,\"\")))","v":""},null,null,null,null,null,null,5062016,42526]
[null,null,null,null,{"$f":"IF(Configuração!C810=\"\",\"\",Configuração!B810)","v":""},null,null,null,null,null,null,null,null,null,{"$f":"IF(Configuração!H812=\"\",\"\",IF($L$8=\"\",\"\",IF(VLOOKUP($L$8,Configuração!$S$7:$U$16,3)=\"D\",Configuração!F812,\"\")))","v":""},null,null,null,null,null,null,5062017,42891]
[null,null,null,null,{"$f":"IF(Configuração!C811=\"\",\"\",Configuração!B811)","v":""},null,null,null,null,null,null,null,null,null,{"$f":"IF(Configuração!H813=\"\",\"\",IF($L$8=\"\",\"\",IF(VLOOKUP($L$8,Configuração!$S$7:$U$16,3)=\"D\",Configuração!F813,\"\")))","v":""},null,null,null,null,null,null,5062018,43256]
[null,null,null,null,{"$f":"IF(Configuração!C812=\"\",\"\",Configuração!B812)","v":""},null,null,null,null,null,null,null,null,null,{"$f":"IF(Configuração!H814=\"\",\"\",IF($L$8=\"\",\"\",IF(VLOOKUP($L$8,Configuração!$S$7:$U$16,3)=\"D\",Configuração!F814,\"\")))","v":""},null,null,null,null,null,null,5062019,43621]
[null,null,null,null,{"$f":"IF(Configuração!C813=\"\",\"\",Configuração!B813)","v":""},null,null,null,null,null,null,null,null,null,{"$f":"IF(Configuração!H815=\"\",\"\",IF($L$8=\"\",\"\",IF(VLOOKUP($L$8,Configuração!$S$7:$U$16,3)=\"D\",Configuração!F815,\"\")))","v":""},null,null,null,null,null,null,5062020,43987]
[null,null,null,null,{"$f":"IF(Configuração!C814=\"\",\"\",Configuração!B814)","v":""},null,null,null,null,null,null,null,null,null,{"$f":"IF(Configuração!H816=\"\",\"\",IF($L$8=\"\",\"\",IF(VLOOKUP($L$8,Configuração!$S$7:$U$16,3)=\"D\",Configuração!F816,\"\")))","v":""},null,null,null,null,null,null,5062021,44352]
[null,null,null,null,{"$f":"IF(Configuração!C815=\"\",\"\",Configuração!B815)","v":""},null,null,null,null,null,null,null,null,null,{"$f":"IF(Configuração!H817=\"\",\"\",IF($L$8=\"\",\"\",IF(VLOOKUP($L$8,Configuração!$S$7:$U$16,3)=\"D\",Configuração!F817,\"\")))","v":""},null,null,null,null,null,null,5062022,44717]
[null,null,null,null,{"$f":"IF(Configuração!C816=\"\",\"\",Configuração!B816)","v":""},null,null,null,null,null,null,null,null,null,{"$f":"IF(Configuração!H818=\"\",\"\",IF($L$8=\"\",\"\",IF(VLOOKUP($L$8,Configuração!$S$7:$U$16,3)=\"D\",Configuração!F818,\"\")))","v":""},null,null,null,null,null,null,5062023,45082]
[null,null,null,null,{"$f":"IF(Configuração!C817=\"\",\"\",Configuração!B817)","v":""},null,null,null,null,null,null,null,null,null,{"$f":"IF(Configuração!H819=\"\",\"\",IF($L$8=\"\",\"\",IF(VLOOKUP($L$8,Configuração!$S$7:$U$16,3)=\"D\",Configuração!F819,\"\")))","v":""},null,null,null,null,null,null,5072009,39999]
[null,null,null,null,{"$f":"IF(Configuração!C818=\"\",\"\",Configuração!B818)","v":""},null,null,null,null,null,null,null,null,null,{"$f":"IF(Configuração!H820=\"\",\"\",IF($L$8=\"\",\"\",IF(VLOOKUP($L$8,Configuração!$S$7:$U$16,3)=\"D\",Configuração!F820,\"\")))","v":""},null,null,null,null,null,null,5072010,40364]
[null,null,null,null,{"$f":"IF(Configuração!C819=\"\",\"\",Configuração!B819)","v":""},null,null,null,null,null,null,null,null,null,{"$f":"IF(Configuração!H821=\"\",\"\",IF($L$8=\"\",\"\",IF(VLOOKUP($L$8,Configuração!$S$7:$U$16,3)=\"D\",Configuração!F821,\"\")))","v":""},null,null,null,null,null,null,5072011,40729]
[null,null,null,null,{"$f":"IF(Configuração!C820=\"\",\"\",Configuração!B820)","v":""},null,null,null,null,null,null,null,null,null,{"$f":"IF(Configuração!H822=\"\",\"\",IF($L$8=\"\",\"\",IF(VLOOKUP($L$8,Configuração!$S$7:$U$16,3)=\"D\",Configuração!F822,\"\")))","v":""},null,null,null,null,null,null,5072012,41095]
[null,null,null,null,{"$f":"IF(Configuração!C821=\"\",\"\",Configuração!B821)","v":""},null,null,null,null,null,null,null,null,null,{"$f":"IF(Configuração!H823=\"\",\"\",IF($L$8=\"\",\"\",IF(VLOOKUP($L$8,Configuração!$S$7:$U$16,3)=\"D\",Configuração!F823,\"\")))","v":""},null,null,null,null,null,null,5072013,41460]
[null,null,null,null,{"$f":"IF(Configuração!C822=\"\",\"\",Configuração!B822)","v":""},null,null,null,null,null,null,null,null,null,{"$f":"IF(Configuração!H824=\"\",\"\",IF($L$8=\"\",\"\",IF(VLOOKUP($L$8,Configuração!$S$7:$U$16,3)=\"D\",Configuração!F824,\"\")))","v":""},null,null,null,null,null,null,5072014,41825]
[null,null,null,null,{"$f":"IF(Configuração!C823=\"\",\"\",Configuração!B823)","v":""},null,null,null,null,null,null,null,null,null,null,null,null,null,null,null,null,5072015,42190]
[null,null,null,null,{"$f":"IF(Configuração!C824=\"\",\"\",Configuração!B824)","v":""},null,null,null,null,null,null,null,null,null,{"$f":"IF(Configuração!H826=\"\",\"\",IF($L$8=\"\",\"\",IF(VLOOKUP($L$8,Configuração!$S$7:$U$16,3)=\"D\",Configuração!F826,\"\")))","v":""},null,null,null,null,null,null,5072016,42556]
[null,null,null,null,{"$f":"IF(Configuração!C825=\"\",\"\",Configuração!B825)","v":""},null,null,null,null,null,null,null,null,null,{"$f":"IF(Configuração!H827=\"\",\"\",IF($L$8=\"\",\"\",IF(VLOOKUP($L$8,Configuração!$S$7:$U$16,3)=\"D\",Configuração!F827,\"\")))","v":""},null,null,null,null,null,null,5072017,42921]
[null,null,null,null,{"$f":"IF(Configuração!C826=\"\",\"\",Configuração!B826)","v":""},null,null,null,null,null,null,null,null,null,{"$f":"IF(Configuração!H828=\"\",\"\",IF($L$8=\"\",\"\",IF(VLOOKUP($L$8,Configuração!$S$7:$U$16,3)=\"D\",Configuração!F828,\"\")))","v":""},null,null,null,null,null,null,5072018,43286]
[null,null,null,null,{"$f":"IF(Configuração!C827=\"\",\"\",Configuração!B827)","v":""},null,null,null,null,null,null,null,null,null,{"$f":"IF(Configuração!H829=\"\",\"\",IF($L$8=\"\",\"\",IF(VLOOKUP($L$8,Configuração!$S$7:$U$16,3)=\"D\",Configuração!F829,\"\")))","v":""},null,null,null,null,null,null,5072019,43651]
[null,null,null,null,{"$f":"IF(Configuração!C828=\"\",\"\",Configuração!B828)","v":""},null,null,null,null,null,null,null,null,null,{"$f":"IF(Configuração!H830=\"\",\"\",IF($L$8=\"\",\"\",IF(VLOOKUP($L$8,Configuração!$S$7:$U$16,3)=\"D\",Configuração!F830,\"\")))","v":""},null,null,null,null,null,null,5072020,44017]
[null,null,null,null,{"$f":"IF(Configuração!C829=\"\",\"\",Configuração!B829)","v":""},null,null,null,null,null,null,null,null,null,{"$f":"IF(Configuração!H831=\"\",\"\",IF($L$8=\"\",\"\",IF(VLOOKUP($L$8,Configuração!$S$7:$U$16,3)=\"D\",Configuração!F831,\"\")))","v":""},null,null,null,null,null,null,5072021,44382]
[null,null,null,null,{"$f":"IF(Configuração!C830=\"\",\"\",Configuração!B830)","v":""},null,null,null,null,null,null,null,null,null,{"$f":"IF(Configuração!H832=\"\",\"\",IF($L$8=\"\",\"\",IF(VLOOKUP($L$8,Configuração!$S$7:$U$16,3)=\"D\",Configuração!F832,\"\")))","v":""},null,null,null,null,null,null,5072022,44747]
[null,null,null,null,{"$f":"IF(Configuração!C831=\"\",\"\",Configuração!B831)","v":""},null,null,null,null,null,null,null,null,null,{"$f":"IF(Configuração!H833=\"\",\"\",IF($L$8=\"\",\"\",IF(VLOOKUP($L$8,Configuração!$S$7:$U$16,3)=\"D\",Configuração!F833,\"\")))","v":""},null,null,null,null,null,null,5072023,45112]
[null,null,null,null,{"$f":"IF(Configuração!C832=\"\",\"\",Configuração!B832)","v":""},null,null,null,null,null,null,null,null,null,{"$f":"IF(Configuração!H834=\"\",\"\",IF($L$8=\"\",\"\",IF(VLOOKUP($L$8,Configuração!$S$7:$U$16,3)=\"D\",Configuração!F834,\"\")))","v":""},null,null,null,null,null,null,5082009,40030]
[null,null,null,null,{"$f":"IF(Configuração!C833=\"\",\"\",Configuração!B833)","v":""},null,null,null,null,null,null,null,null,null,{"$f":"IF(Configuração!H835=\"\",\"\",IF($L$8=\"\",\"\",IF(VLOOKUP($L$8,Configuração!$S$7:$U$16,3)=\"D\",Configuração!F835,\"\")))","v":""},null,null,null,null,null,null,5082010,40395]
[null,null,null,null,{"$f":"IF(Configuração!C834=\"\",\"\",Configuração!B834)","v":""},null,null,null,null,null,null,null,null,null,{"$f":"IF(Configuração!H836=\"\",\"\",IF($L$8=\"\",\"\",IF(VLOOKUP($L$8,Configuração!$S$7:$U$16,3)=\"D\",Configuração!F836,\"\")))","v":""},null,null,null,null,null,null,5082011,40760]
[null,null,null,null,{"$f":"IF(Configuração!C835=\"\",\"\",Configuração!B835)","v":""},null,null,null,null,null,null,null,null,null,{"$f":"IF(Configuração!H837=\"\",\"\",IF($L$8=\"\",\"\",IF(VLOOKUP($L$8,Configuração!$S$7:$U$16,3)=\"D\",Configuração!F837,\"\")))","v":""},null,null,null,null,null,null,5082012,41126]
[null,null,null,null,{"$f":"IF(Configuração!C836=\"\",\"\",Configuração!B836)","v":""},null,null,null,null,null,null,null,null,null,{"$f":"IF(Configuração!H838=\"\",\"\",IF($L$8=\"\",\"\",IF(VLOOKUP($L$8,Configuração!$S$7:$U$16,3)=\"D\",Configuração!F838,\"\")))","v":""},null,null,null,null,null,null,5082013,41491]
[null,null,null,null,{"$f":"IF(Configuração!C837=\"\",\"\",Configuração!B837)","v":""},null,null,null,null,null,null,null,null,null,{"$f":"IF(Configuração!H839=\"\",\"\",IF($L$8=\"\",\"\",IF(VLOOKUP($L$8,Configuração!$S$7:$U$16,3)=\"D\",Configuração!F839,\"\")))","v":""},null,null,null,null,null,null,5082014,41856]
[null,null,null,null,{"$f":"IF(Configuração!C838=\"\",\"\",Configuração!B838)","v":""},null,null,null,null,null,null,null,null,null,{"$f":"IF(Configuração!H840=\"\",\"\",IF($L$8=\"\",\"\",IF(VLOOKUP($L$8,Configuração!$S$7:$U$16,3)=\"D\",Configuração!F840,\"\")))","v":""},null,null,null,null,null,null,5082015,42221]
[null,null,null,null,{"$f":"IF(Configuração!C839=\"\",\"\",Configuração!B839)","v":""},null,null,null,null,null,null,null,null,null,{"$f":"IF(Configuração!H841=\"\",\"\",IF($L$8=\"\",\"\",IF(VLOOKUP($L$8,Configuração!$S$7:$U$16,3)=\"D\",Configuração!F841,\"\")))","v":""},null,null,null,null,null,null,5082016,42587]
[null,null,null,null,{"$f":"IF(Configuração!C840=\"\",\"\",Configuração!B840)","v":""},null,null,null,null,null,null,null,null,null,{"$f":"IF(Configuração!H842=\"\",\"\",IF($L$8=\"\",\"\",IF(VLOOKUP($L$8,Configuração!$S$7:$U$16,3)=\"D\",Configuração!F842,\"\")))","v":""},null,null,null,null,null,null,5082017,42952]
[null,null,null,null,{"$f":"IF(Configuração!C841=\"\",\"\",Configuração!B841)","v":""},null,null,null,null,null,null,null,null,null,{"$f":"IF(Configuração!H843=\"\",\"\",IF($L$8=\"\",\"\",IF(VLOOKUP($L$8,Configuração!$S$7:$U$16,3)=\"D\",Configuração!F843,\"\")))","v":""},null,null,null,null,null,null,5082018,43317]
[null,null,null,null,{"$f":"IF(Configuração!C842=\"\",\"\",Configuração!B842)","v":""},null,null,null,null,null,null,null,null,null,{"$f":"IF(Configuração!H844=\"\",\"\",IF($L$8=\"\",\"\",IF(VLOOKUP($L$8,Configuração!$S$7:$U$16,3)=\"D\",Configuração!F844,\"\")))","v":""},null,null,null,null,null,null,5082019,43682]
[null,null,null,null,{"$f":"IF(Configuração!C843=\"\",\"\",Configuração!B843)","v":""},null,null,null,null,null,null,null,null,null,{"$f":"IF(Configuração!H845=\"\",\"\",IF($L$8=\"\",\"\",IF(VLOOKUP($L$8,Configuração!$S$7:$U$16,3)=\"D\",Configuração!F845,\"\")))","v":""},null,null,null,null,null,null,5082020,44048]
[null,null,null,null,{"$f":"IF(Configuração!C844=\"\",\"\",Configuração!B844)","v":""},null,null,null,null,null,null,null,null,null,{"$f":"IF(Configuração!H846=\"\",\"\",IF($L$8=\"\",\"\",IF(VLOOKUP($L$8,Configuração!$S$7:$U$16,3)=\"D\",Configuração!F846,\"\")))","v":""},null,null,null,null,null,null,5082021,44413]
[null,null,null,null,{"$f":"IF(Configuração!C845=\"\",\"\",Configuração!B845)","v":""},null,null,null,null,null,null,null,null,null,{"$f":"IF(Configuração!H847=\"\",\"\",IF($L$8=\"\",\"\",IF(VLOOKUP($L$8,Configuração!$S$7:$U$16,3)=\"D\",Configuração!F847,\"\")))","v":""},null,null,null,null,null,null,5082022,44778]
[null,null,null,null,{"$f":"IF(Configuração!C846=\"\",\"\",Configuração!B846)","v":""},null,null,null,null,null,null,null,null,null,{"$f":"IF(Configuração!H848=\"\",\"\",IF($L$8=\"\",\"\",IF(VLOOKUP($L$8,Configuração!$S$7:$U$16,3)=\"D\",Configuração!F848,\"\")))","v":""},null,null,null,null,null,null,5082023,45143]
[null,null,null,null,{"$f":"IF(Configuração!C847=\"\",\"\",Configuração!B847)","v":""},null,null,null,null,null,null,null,null,null,{"$f":"IF(Configuração!H849=\"\",\"\",IF($L$8=\"\",\"\",IF(VLOOKUP($L$8,Configuração!$S$7:$U$16,3)=\"D\",Configuração!F849,\"\")))","v":""},null,null,null,null,null,null,5092009,40061]
[null,null,null,null,{"$f":"IF(Configuração!C848=\"\",\"\",Configuração!B848)","v":""},null,null,null,null,null,null,null,null,null,{"$f":"IF(Configuração!H850=\"\",\"\",IF($L$8=\"\",\"\",IF(VLOOKUP($L$8,Configuração!$S$7:$U$16,3)=\"D\",Configuração!F850,\"\")))","v":""},null,null,null,null,null,null,5092010,40426]
[null,null,null,null,{"$f":"IF(Configuração!C849=\"\",\"\",Configuração!B849)","v":""},null,null,null,null,null,null,null,null,null,{"$f":"IF(Configuração!H851=\"\",\"\",IF($L$8=\"\",\"\",IF(VLOOKUP($L$8,Configuração!$S$7:$U$16,3)=\"D\",Configuração!F851,\"\")))","v":""},null,null,null,null,null,null,5092011,40791]
[null,null,null,null,{"$f":"IF(Configuração!C850=\"\",\"\",Configuração!B850)","v":""},null,null,null,null,null,null,null,null,null,{"$f":"IF(Configuração!H852=\"\",\"\",IF($L$8=\"\",\"\",IF(VLOOKUP($L$8,Configuração!$S$7:$U$16,3)=\"D\",Configuração!F852,\"\")))","v":""},null,null,null,null,null,null,5092012,41157]
[null,null,null,null,{"$f":"IF(Configuração!C851=\"\",\"\",Configuração!B851)","v":""},null,null,null,null,null,null,null,null,null,{"$f":"IF(Configuração!H853=\"\",\"\",IF($L$8=\"\",\"\",IF(VLOOKUP($L$8,Configuração!$S$7:$U$16,3)=\"D\",Configuração!F853,\"\")))","v":""},null,null,null,null,null,null,5092013,41522]
[null,null,null,null,{"$f":"IF(Configuração!C852=\"\",\"\",Configuração!B852)","v":""},null,null,null,null,null,null,null,null,null,{"$f":"IF(Configuração!H854=\"\",\"\",IF($L$8=\"\",\"\",IF(VLOOKUP($L$8,Configuração!$S$7:$U$16,3)=\"D\",Configuração!F854,\"\")))","v":""},null,null,null,null,null,null,5092014,41887]
[null,null,null,null,{"$f":"IF(Configuração!C853=\"\",\"\",Configuração!B853)","v":""},null,null,null,null,null,null,null,null,null,{"$f":"IF(Configuração!H855=\"\",\"\",IF($L$8=\"\",\"\",IF(VLOOKUP($L$8,Configuração!$S$7:$U$16,3)=\"D\",Configuração!F855,\"\")))","v":""},null,null,null,null,null,null,5092015,42252]
[null,null,null,null,{"$f":"IF(Configuração!C854=\"\",\"\",Configuração!B854)","v":""},null,null,null,null,null,null,null,null,null,{"$f":"IF(Configuração!H856=\"\",\"\",IF($L$8=\"\",\"\",IF(VLOOKUP($L$8,Configuração!$S$7:$U$16,3)=\"D\",Configuração!F856,\"\")))","v":""},null,null,null,null,null,null,5092016,42618]
[null,null,null,null,{"$f":"IF(Configuração!C855=\"\",\"\",Configuração!B855)","v":""},null,null,null,null,null,null,null,null,null,{"$f":"IF(Configuração!H857=\"\",\"\",IF($L$8=\"\",\"\",IF(VLOOKUP($L$8,Configuração!$S$7:$U$16,3)=\"D\",Configuração!F857,\"\")))","v":""},null,null,null,null,null,null,5092017,42983]
[null,null,null,null,{"$f":"IF(Configuração!C856=\"\",\"\",Configuração!B856)","v":""},null,null,null,null,null,null,null,null,null,{"$f":"IF(Configuração!H858=\"\",\"\",IF($L$8=\"\",\"\",IF(VLOOKUP($L$8,Configuração!$S$7:$U$16,3)=\"D\",Configuração!F858,\"\")))","v":""},null,null,null,null,null,null,5092018,43348]
[null,null,null,null,{"$f":"IF(Configuração!C857=\"\",\"\",Configuração!B857)","v":""},null,null,null,null,null,null,null,null,null,{"$f":"IF(Configuração!H859=\"\",\"\",IF($L$8=\"\",\"\",IF(VLOOKUP($L$8,Configuração!$S$7:$U$16,3)=\"D\",Configuração!F859,\"\")))","v":""},null,null,null,null,null,null,5092019,43713]
[null,null,null,null,{"$f":"IF(Configuração!C858=\"\",\"\",Configuração!B858)","v":""},null,null,null,null,null,null,null,null,null,{"$f":"IF(Configuração!H860=\"\",\"\",IF($L$8=\"\",\"\",IF(VLOOKUP($L$8,Configuração!$S$7:$U$16,3)=\"D\",Configuração!F860,\"\")))","v":""},null,null,null,null,null,null,5092020,44079]
[null,null,null,null,{"$f":"IF(Configuração!C859=\"\",\"\",Configuração!B859)","v":""},null,null,null,null,null,null,null,null,null,{"$f":"IF(Configuração!H861=\"\",\"\",IF($L$8=\"\",\"\",IF(VLOOKUP($L$8,Configuração!$S$7:$U$16,3)=\"D\",Configuração!F861,\"\")))","v":""},null,null,null,null,null,null,5092021,44444]
[null,null,null,null,{"$f":"IF(Configuração!C860=\"\",\"\",Configuração!B860)","v":""},null,null,null,null,null,null,null,null,null,{"$f":"IF(Configuração!H862=\"\",\"\",IF($L$8=\"\",\"\",IF(VLOOKUP($L$8,Configuração!$S$7:$U$16,3)=\"D\",Configuração!F862,\"\")))","v":""},null,null,null,null,null,null,5092022,44809]
[null,null,null,null,{"$f":"IF(Configuração!C861=\"\",\"\",Configuração!B861)","v":""},null,null,null,null,null,null,null,null,null,{"$f":"IF(Configuração!H863=\"\",\"\",IF($L$8=\"\",\"\",IF(VLOOKUP($L$8,Configuração!$S$7:$U$16,3)=\"D\",Configuração!F863,\"\")))","v":""},null,null,null,null,null,null,5092023,45174]
[null,null,null,null,{"$f":"IF(Configuração!C862=\"\",\"\",Configuração!B862)","v":""},null,null,null,null,null,null,null,null,null,{"$f":"IF(Configuração!H864=\"\",\"\",IF($L$8=\"\",\"\",IF(VLOOKUP($L$8,Configuração!$S$7:$U$16,3)=\"D\",Configuração!F864,\"\")))","v":""},null,null,null,null,null,null,5102009,40091]
[null,null,null,null,{"$f":"IF(Configuração!C863=\"\",\"\",Configuração!B863)","v":""},null,null,null,null,null,null,null,null,null,{"$f":"IF(Configuração!H865=\"\",\"\",IF($L$8=\"\",\"\",IF(VLOOKUP($L$8,Configuração!$S$7:$U$16,3)=\"D\",Configuração!F865,\"\")))","v":""},null,null,null,null,null,null,5102010,40456]
[null,null,null,null,{"$f":"IF(Configuração!C864=\"\",\"\",Configuração!B864)","v":""},null,null,null,null,null,null,null,null,null,{"$f":"IF(Configuração!H866=\"\",\"\",IF($L$8=\"\",\"\",IF(VLOOKUP($L$8,Configuração!$S$7:$U$16,3)=\"D\",Configuração!F866,\"\")))","v":""},null,null,null,null,null,null,5102011,40821]
[null,null,null,null,{"$f":"IF(Configuração!C865=\"\",\"\",Configuração!B865)","v":""},null,null,null,null,null,null,null,null,null,{"$f":"IF(Configuração!H867=\"\",\"\",IF($L$8=\"\",\"\",IF(VLOOKUP($L$8,Configuração!$S$7:$U$16,3)=\"D\",Configuração!F867,\"\")))","v":""},null,null,null,null,null,null,5102012,41187]
[null,null,null,null,{"$f":"IF(Configuração!C866=\"\",\"\",Configuração!B866)","v":""},null,null,null,null,null,null,null,null,null,{"$f":"IF(Configuração!H868=\"\",\"\",IF($L$8=\"\",\"\",IF(VLOOKUP($L$8,Configuração!$S$7:$U$16,3)=\"D\",Configuração!F868,\"\")))","v":""},null,null,null,null,null,null,5102013,41552]
[null,null,null,null,{"$f":"IF(Configuração!C867=\"\",\"\",Configuração!B867)","v":""},null,null,null,null,null,null,null,null,null,{"$f":"IF(Configuração!H869=\"\",\"\",IF($L$8=\"\",\"\",IF(VLOOKUP($L$8,Configuração!$S$7:$U$16,3)=\"D\",Configuração!F869,\"\")))","v":""},null,null,null,null,null,null,5102014,41917]
[null,null,null,null,{"$f":"IF(Configuração!C868=\"\",\"\",Configuração!B868)","v":""},null,null,null,null,null,null,null,null,null,{"$f":"IF(Configuração!H870=\"\",\"\",IF($L$8=\"\",\"\",IF(VLOOKUP($L$8,Configuração!$S$7:$U$16,3)=\"D\",Configuração!F870,\"\")))","v":""},null,null,null,null,null,null,5102015,42282]
[null,null,null,null,{"$f":"IF(Configuração!C869=\"\",\"\",Configuração!B869)","v":""},null,null,null,null,null,null,null,null,null,{"$f":"IF(Configuração!H871=\"\",\"\",IF($L$8=\"\",\"\",IF(VLOOKUP($L$8,Configuração!$S$7:$U$16,3)=\"D\",Configuração!F871,\"\")))","v":""},null,null,null,null,null,null,5102016,42648]
[null,null,null,null,{"$f":"IF(Configuração!C870=\"\",\"\",Configuração!B870)","v":""},null,null,null,null,null,null,null,null,null,{"$f":"IF(Configuração!H872=\"\",\"\",IF($L$8=\"\",\"\",IF(VLOOKUP($L$8,Configuração!$S$7:$U$16,3)=\"D\",Configuração!F872,\"\")))","v":""},null,null,null,null,null,null,5102017,43013]
[null,null,null,null,{"$f":"IF(Configuração!C871=\"\",\"\",Configuração!B871)","v":""},null,null,null,null,null,null,null,null,null,{"$f":"IF(Configuração!H873=\"\",\"\",IF($L$8=\"\",\"\",IF(VLOOKUP($L$8,Configuração!$S$7:$U$16,3)=\"D\",Configuração!F873,\"\")))","v":""},null,null,null,null,null,null,5102018,43378]
[null,null,null,null,{"$f":"IF(Configuração!C872=\"\",\"\",Configuração!B872)","v":""},null,null,null,null,null,null,null,null,null,{"$f":"IF(Configuração!H874=\"\",\"\",IF($L$8=\"\",\"\",IF(VLOOKUP($L$8,Configuração!$S$7:$U$16,3)=\"D\",Configuração!F874,\"\")))","v":""},null,null,null,null,null,null,5102019,43743]
[null,null,null,null,{"$f":"IF(Configuração!C873=\"\",\"\",Configuração!B873)","v":""},null,null,null,null,null,null,null,null,null,{"$f":"IF(Configuração!H875=\"\",\"\",IF($L$8=\"\",\"\",IF(VLOOKUP($L$8,Configuração!$S$7:$U$16,3)=\"D\",Configuração!F875,\"\")))","v":""},null,null,null,null,null,null,5102020,44109]
[null,null,null,null,{"$f":"IF(Configuração!C874=\"\",\"\",Configuração!B874)","v":""},null,null,null,null,null,null,null,null,null,null,null,null,null,null,null,null,5102021,44474]
[null,null,null,null,{"$f":"IF(Configuração!C875=\"\",\"\",Configuração!B875)","v":""},null,null,null,null,null,null,null,null,null,null,null,null,null,null,null,null,5102022,44839]
[null,null,null,null,{"$f":"IF(Configuração!C876=\"\",\"\",Configuração!B876)","v":""},null,null,null,null,null,null,null,null,null,{"$f":"IF(Configuração!H878=\"\",\"\",IF($L$8=\"\",\"\", IF(VLOOKUP($L$8,Configuração!$S$7:$U$16,3)=\"D (T)\",Configuração!F878,IF(VLOOKUP($L$8,Configuração!$S$7:$U$16,3)=\"C (T)\",Configuração!F878,\"\"))))","v":""},null,null,null,null,null,null,5102023,45204]
[null,null,null,null,{"$f":"IF(Configuração!C877=\"\",\"\",Configuração!B877)","v":""},null,null,null,null,null,null,null,null,null,{"$f":"IF(Configuração!H879=\"\",\"\",IF($L$8=\"\",\"\", IF(VLOOKUP($L$8,Configuração!$S$7:$U$16,3)=\"D (T)\",Configuração!F879,IF(VLOOKUP($L$8,Configuração!$S$7:$U$16,3)=\"C (T)\",Configuração!F879,\"\"))))","v":""},null,null,null,null,null,null,5112009,40122]
[null,null,null,null,{"$f":"IF(Configuração!C878=\"\",\"\",Configuração!B878)","v":""},null,null,null,null,null,null,null,null,null,{"$f":"IF(Configuração!H880=\"\",\"\",IF($L$8=\"\",\"\", IF(VLOOKUP($L$8,Configuração!$S$7:$U$16,3)=\"D (T)\",Configuração!F880,IF(VLOOKUP($L$8,Configuração!$S$7:$U$16,3)=\"C (T)\",Configuração!F880,\"\"))))","v":""},null,null,null,null,null,null,5112010,40487]
[null,null,null,null,{"$f":"IF(Configuração!C879=\"\",\"\",Configuração!B879)","v":""},null,null,null,null,null,null,null,null,null,{"$f":"IF(Configuração!H881=\"\",\"\",IF($L$8=\"\",\"\", IF(VLOOKUP($L$8,Configuração!$S$7:$U$16,3)=\"D (T)\",Configuração!F881,IF(VLOOKUP($L$8,Configuração!$S$7:$U$16,3)=\"C (T)\",Configuração!F881,\"\"))))","v":""},null,null,null,null,null,null,5112011,40852]
[null,null,null,null,{"$f":"IF(Configuração!C880=\"\",\"\",Configuração!B880)","v":""},null,null,null,null,null,null,null,null,null,{"$f":"IF(Configuração!H882=\"\",\"\",IF($L$8=\"\",\"\", IF(VLOOKUP($L$8,Configuração!$S$7:$U$16,3)=\"D (T)\",Configuração!F882,IF(VLOOKUP($L$8,Configuração!$S$7:$U$16,3)=\"C (T)\",Configuração!F882,\"\"))))","v":""},null,null,null,null,null,null,5112012,41218]
[null,null,null,null,{"$f":"IF(Configuração!C881=\"\",\"\",Configuração!B881)","v":""},null,null,null,null,null,null,null,null,null,{"$f":"IF(Configuração!H883=\"\",\"\",IF($L$8=\"\",\"\", IF(VLOOKUP($L$8,Configuração!$S$7:$U$16,3)=\"D (T)\",Configuração!F883,IF(VLOOKUP($L$8,Configuração!$S$7:$U$16,3)=\"C (T)\",Configuração!F883,\"\"))))","v":""},null,null,null,null,null,null,5112013,41583]
[null,null,null,null,{"$f":"IF(Configuração!C882=\"\",\"\",Configuração!B882)","v":""},null,null,null,null,null,null,null,null,null,{"$f":"IF(Configuração!H884=\"\",\"\",IF($L$8=\"\",\"\", IF(VLOOKUP($L$8,Configuração!$S$7:$U$16,3)=\"D (T)\",Configuração!F884,IF(VLOOKUP($L$8,Configuração!$S$7:$U$16,3)=\"C (T)\",Configuração!F884,\"\"))))","v":""},null,null,null,null,null,null,5112014,41948]
[null,null,null,null,{"$f":"IF(Configuração!C883=\"\",\"\",Configuração!B883)","v":""},null,null,null,null,null,null,null,null,null,{"$f":"IF(Configuração!H885=\"\",\"\",IF($L$8=\"\",\"\", IF(VLOOKUP($L$8,Configuração!$S$7:$U$16,3)=\"D (T)\",Configuração!F885,IF(VLOOKUP($L$8,Configuração!$S$7:$U$16,3)=\"C (T)\",Configuração!F885,\"\"))))","v":""},null,null,null,null,null,null,5112015,42313]
[null,null,null,null,{"$f":"IF(Configuração!C884=\"\",\"\",Configuração!B884)","v":""},null,null,null,null,null,null,null,null,null,{"$f":"IF(Configuração!H886=\"\",\"\",IF($L$8=\"\",\"\", IF(VLOOKUP($L$8,Configuração!$S$7:$U$16,3)=\"D (T)\",Configuração!F886,IF(VLOOKUP($L$8,Configuração!$S$7:$U$16,3)=\"C (T)\",Configuração!F886,\"\"))))","v":""},null,null,null,null,null,null,5112016,42679]
[null,null,null,null,{"$f":"IF(Configuração!C885=\"\",\"\",Configuração!B885)","v":""},null,null,null,null,null,null,null,null,null,{"$f":"IF(Configuração!H887=\"\",\"\",IF($L$8=\"\",\"\", IF(VLOOKUP($L$8,Configuração!$S$7:$U$16,3)=\"D (T)\",Configuração!F887,IF(VLOOKUP($L$8,Configuração!$S$7:$U$16,3)=\"C (T)\",Configuração!F887,\"\"))))","v":""},null,null,null,null,null,null,5112017,43044]
[null,null,null,null,{"$f":"IF(Configuração!C886=\"\",\"\",Configuração!B886)","v":""},null,null,null,null,null,null,null,null,null,{"$f":"IF(Configuração!H888=\"\",\"\",IF($L$8=\"\",\"\", IF(VLOOKUP($L$8,Configuração!$S$7:$U$16,3)=\"D (T)\",Configuração!F888,IF(VLOOKUP($L$8,Configuração!$S$7:$U$16,3)=\"C (T)\",Configuração!F888,\"\"))))","v":""},null,null,null,null,null,null,5112018,43409]
[null,null,null,null,{"$f":"IF(Configuração!C887=\"\",\"\",Configuração!B887)","v":""},null,null,null,null,null,null,null,null,null,{"$f":"IF(Configuração!H889=\"\",\"\",IF($L$8=\"\",\"\", IF(VLOOKUP($L$8,Configuração!$S$7:$U$16,3)=\"D (T)\",Configuração!F889,IF(VLOOKUP($L$8,Configuração!$S$7:$U$16,3)=\"C (T)\",Configuração!F889,\"\"))))","v":""},null,null,null,null,null,null,5112019,43774]
[null,null,null,null,{"$f":"IF(Configuração!C888=\"\",\"\",Configuração!B888)","v":""},null,null,null,null,null,null,null,null,null,{"$f":"IF(Configuração!H890=\"\",\"\",IF($L$8=\"\",\"\", IF(VLOOKUP($L$8,Configuração!$S$7:$U$16,3)=\"D (T)\",Configuração!F890,IF(VLOOKUP($L$8,Configuração!$S$7:$U$16,3)=\"C (T)\",Configuração!F890,\"\"))))","v":""},null,null,null,null,null,null,5112020,44140]
[null,null,null,null,{"$f":"IF(Configuração!C889=\"\",\"\",Configuração!B889)","v":""},null,null,null,null,null,null,null,null,null,{"$f":"IF(Configuração!H891=\"\",\"\",IF($L$8=\"\",\"\", IF(VLOOKUP($L$8,Configuração!$S$7:$U$16,3)=\"D (T)\",Configuração!F891,IF(VLOOKUP($L$8,Configuração!$S$7:$U$16,3)=\"C (T)\",Configuração!F891,\"\"))))","v":""},null,null,null,null,null,null,5112021,44505]
[null,null,null,null,{"$f":"IF(Configuração!C890=\"\",\"\",Configuração!B890)","v":""},null,null,null,null,null,null,null,null,null,{"$f":"IF(Configuração!H892=\"\",\"\",IF($L$8=\"\",\"\", IF(VLOOKUP($L$8,Configuração!$S$7:$U$16,3)=\"D (T)\",Configuração!F892,IF(VLOOKUP($L$8,Configuração!$S$7:$U$16,3)=\"C (T)\",Configuração!F892,\"\"))))","v":""},null,null,null,null,null,null,5112022,44870]
[null,null,null,null,{"$f":"IF(Configuração!C891=\"\",\"\",Configuração!B891)","v":""},null,null,null,null,null,null,null,null,null,{"$f":"IF(Configuração!H893=\"\",\"\",IF($L$8=\"\",\"\", IF(VLOOKUP($L$8,Configuração!$S$7:$U$16,3)=\"D (T)\",Configuração!F893,IF(VLOOKUP($L$8,Configuração!$S$7:$U$16,3)=\"C (T)\",Configuração!F893,\"\"))))","v":""},null,null,null,null,null,null,5112023,45235]
[null,null,null,null,{"$f":"IF(Configuração!C892=\"\",\"\",Configuração!B892)","v":""},null,null,null,null,null,null,null,null,null,{"$f":"IF(Configuração!H894=\"\",\"\",IF($L$8=\"\",\"\", IF(VLOOKUP($L$8,Configuração!$S$7:$U$16,3)=\"D (T)\",Configuração!F894,IF(VLOOKUP($L$8,Configuração!$S$7:$U$16,3)=\"C (T)\",Configuração!F894,\"\"))))","v":""},null,null,null,null,null,null,5122009,40152]
[null,null,null,null,{"$f":"IF(Configuração!C893=\"\",\"\",Configuração!B893)","v":""},null,null,null,null,null,null,null,null,null,{"$f":"IF(Configuração!H895=\"\",\"\",IF($L$8=\"\",\"\", IF(VLOOKUP($L$8,Configuração!$S$7:$U$16,3)=\"D (T)\",Configuração!F895,IF(VLOOKUP($L$8,Configuração!$S$7:$U$16,3)=\"C (T)\",Configuração!F895,\"\"))))","v":""},null,null,null,null,null,null,5122010,40517]
[null,null,null,null,{"$f":"IF(Configuração!C894=\"\",\"\",Configuração!B894)","v":""},null,null,null,null,null,null,null,null,null,{"$f":"IF(Configuração!H896=\"\",\"\",IF($L$8=\"\",\"\", IF(VLOOKUP($L$8,Configuração!$S$7:$U$16,3)=\"D (T)\",Configuração!F896,IF(VLOOKUP($L$8,Configuração!$S$7:$U$16,3)=\"C (T)\",Configuração!F896,\"\"))))","v":""},null,null,null,null,null,null,5122011,40882]
[null,null,null,null,{"$f":"IF(Configuração!C895=\"\",\"\",Configuração!B895)","v":""},null,null,null,null,null,null,null,null,null,{"$f":"IF(Configuração!H897=\"\",\"\",IF($L$8=\"\",\"\", IF(VLOOKUP($L$8,Configuração!$S$7:$U$16,3)=\"D (T)\",Configuração!F897,IF(VLOOKUP($L$8,Configuração!$S$7:$U$16,3)=\"C (T)\",Configuração!F897,\"\"))))","v":""},null,null,null,null,null,null,5122012,41248]
[null,null,null,null,{"$f":"IF(Configuração!C896=\"\",\"\",Configuração!B896)","v":""},null,null,null,null,null,null,null,null,null,{"$f":"IF(Configuração!H898=\"\",\"\",IF($L$8=\"\",\"\", IF(VLOOKUP($L$8,Configuração!$S$7:$U$16,3)=\"D (T)\",Configuração!F898,IF(VLOOKUP($L$8,Configuração!$S$7:$U$16,3)=\"C (T)\",Configuração!F898,\"\"))))","v":""},null,null,null,null,null,null,5122013,41613]
[null,null,null,null,{"$f":"IF(Configuração!C897=\"\",\"\",Configuração!B897)","v":""},null,null,null,null,null,null,null,null,null,{"$f":"IF(Configuração!H899=\"\",\"\",IF($L$8=\"\",\"\", IF(VLOOKUP($L$8,Configuração!$S$7:$U$16,3)=\"D (T)\",Configuração!F899,IF(VLOOKUP($L$8,Configuração!$S$7:$U$16,3)=\"C (T)\",Configuração!F899,\"\"))))","v":""},null,null,null,null,null,null,5122014,41978]
[null,null,null,null,{"$f":"IF(Configuração!C898=\"\",\"\",Configuração!B898)","v":""},null,null,null,null,null,null,null,null,null,{"$f":"IF(Configuração!H900=\"\",\"\",IF($L$8=\"\",\"\", IF(VLOOKUP($L$8,Configuração!$S$7:$U$16,3)=\"D (T)\",Configuração!F900,IF(VLOOKUP($L$8,Configuração!$S$7:$U$16,3)=\"C (T)\",Configuração!F900,\"\"))))","v":""},null,null,null,null,null,null,5122015,42343]
[null,null,null,null,{"$f":"IF(Configuração!C899=\"\",\"\",Configuração!B899)","v":""},null,null,null,null,null,null,null,null,null,{"$f":"IF(Configuração!H901=\"\",\"\",IF($L$8=\"\",\"\", IF(VLOOKUP($L$8,Configuração!$S$7:$U$16,3)=\"D (T)\",Configuração!F901,IF(VLOOKUP($L$8,Configuração!$S$7:$U$16,3)=\"C (T)\",Configuração!F901,\"\"))))","v":""},null,null,null,null,null,null,5122016,42709]
[null,null,null,null,{"$f":"IF(Configuração!C900=\"\",\"\",Configuração!B900)","v":""},null,null,null,null,null,null,null,null,null,{"$f":"IF(Configuração!H902=\"\",\"\",IF($L$8=\"\",\"\", IF(VLOOKUP($L$8,Configuração!$S$7:$U$16,3)=\"D (T)\",Configuração!F902,IF(VLOOKUP($L$8,Configuração!$S$7:$U$16,3)=\"C (T)\",Configuração!F902,\"\"))))","v":""},null,null,null,null,null,null,5122017,43074]
[null,null,null,null,{"$f":"IF(Configuração!C901=\"\",\"\",Configuração!B901)","v":""},null,null,null,null,null,null,null,null,null,{"$f":"IF(Configuração!H903=\"\",\"\",IF($L$8=\"\",\"\", IF(VLOOKUP($L$8,Configuração!$S$7:$U$16,3)=\"D (T)\",Configuração!F903,IF(VLOOKUP($L$8,Configuração!$S$7:$U$16,3)=\"C (T)\",Configuração!F903,\"\"))))","v":""},null,null,null,null,null,null,5122018,43439]
[null,null,null,null,{"$f":"IF(Configuração!C902=\"\",\"\",Configuração!B902)","v":""},null,null,null,null,null,null,null,null,null,{"$f":"IF(Configuração!H904=\"\",\"\",IF($L$8=\"\",\"\", IF(VLOOKUP($L$8,Configuração!$S$7:$U$16,3)=\"D (T)\",Configuração!F904,IF(VLOOKUP($L$8,Configuração!$S$7:$U$16,3)=\"C (T)\",Configuração!F904,\"\"))))","v":""},null,null,null,null,null,null,5122019,43804]
[null,null,null,null,{"$f":"IF(Configuração!C903=\"\",\"\",Configuração!B903)","v":""},null,null,null,null,null,null,null,null,null,{"$f":"IF(Configuração!H905=\"\",\"\",IF($L$8=\"\",\"\", IF(VLOOKUP($L$8,Configuração!$S$7:$U$16,3)=\"D (T)\",Configuração!F905,IF(VLOOKUP($L$8,Configuração!$S$7:$U$16,3)=\"C (T)\",Configuração!F905,\"\"))))","v":""},null,null,null,null,null,null,5122020,44170]
[null,null,null,null,{"$f":"IF(Configuração!C904=\"\",\"\",Configuração!B904)","v":""},null,null,null,null,null,null,null,null,null,{"$f":"IF(Configuração!H906=\"\",\"\",IF($L$8=\"\",\"\", IF(VLOOKUP($L$8,Configuração!$S$7:$U$16,3)=\"D (T)\",Configuração!F906,IF(VLOOKUP($L$8,Configuração!$S$7:$U$16,3)=\"C (T)\",Configuração!F906,\"\"))))","v":""},null,null,null,null,null,null,5122021,44535]
[null,null,null,null,{"$f":"IF(Configuração!C905=\"\",\"\",Configuração!B905)","v":""},null,null,null,null,null,null,null,null,null,{"$f":"IF(Configuração!H907=\"\",\"\",IF($L$8=\"\",\"\", IF(VLOOKUP($L$8,Configuração!$S$7:$U$16,3)=\"D (T)\",Configuração!F907,IF(VLOOKUP($L$8,Configuração!$S$7:$U$16,3)=\"C (T)\",Configuração!F907,\"\"))))","v":""},null,null,null,null,null,null,5122022,44900]
[null,null,null,null,{"$f":"IF(Configuração!C906=\"\",\"\",Configuração!B906)","v":""},null,null,null,null,null,null,null,null,null,{"$f":"IF(Configuração!H908=\"\",\"\",IF($L$8=\"\",\"\", IF(VLOOKUP($L$8,Configuração!$S$7:$U$16,3)=\"D (T)\",Configuração!F908,IF(VLOOKUP($L$8,Configuração!$S$7:$U$16,3)=\"C (T)\",Configuração!F908,\"\"))))","v":""},null,null,null,null,null,null,5122023,45265]
[null,null,null,null,{"$f":"IF(Configuração!C907=\"\",\"\",Configuração!B907)","v":""},null,null,null,null,null,null,null,null,null,{"$f":"IF(Configuração!H909=\"\",\"\",IF($L$8=\"\",\"\", IF(VLOOKUP($L$8,Configuração!$S$7:$U$16,3)=\"D (T)\",Configuração!F909,IF(VLOOKUP($L$8,Configuração!$S$7:$U$16,3)=\"C (T)\",Configuração!F909,\"\"))))","v":""},null,null,null,null,null,null,6012009,39819]
[null,null,null,null,{"$f":"IF(Configuração!C908=\"\",\"\",Configuração!B908)","v":""},null,null,null,null,null,null,null,null,null,{"$f":"IF(Configuração!H910=\"\",\"\",IF($L$8=\"\",\"\", IF(VLOOKUP($L$8,Configuração!$S$7:$U$16,3)=\"D (T)\",Configuração!F910,IF(VLOOKUP($L$8,Configuração!$S$7:$U$16,3)=\"C (T)\",Configuração!F910,\"\"))))","v":""},null,null,null,null,null,null,6012010,40184]
[null,null,null,null,{"$f":"IF(Configuração!C909=\"\",\"\",Configuração!B909)","v":""},null,null,null,null,null,null,null,null,null,{"$f":"IF(Configuração!H911=\"\",\"\",IF($L$8=\"\",\"\", IF(VLOOKUP($L$8,Configuração!$S$7:$U$16,3)=\"D (T)\",Configuração!F911,IF(VLOOKUP($L$8,Configuração!$S$7:$U$16,3)=\"C (T)\",Configuração!F911,\"\"))))","v":""},null,null,null,null,null,null,6012011,40549]
[null,null,null,null,{"$f":"IF(Configuração!C910=\"\",\"\",Configuração!B910)","v":""},null,null,null,null,null,null,null,null,null,{"$f":"IF(Configuração!H912=\"\",\"\",IF($L$8=\"\",\"\", IF(VLOOKUP($L$8,Configuração!$S$7:$U$16,3)=\"D (T)\",Configuração!F912,IF(VLOOKUP($L$8,Configuração!$S$7:$U$16,3)=\"C (T)\",Configuração!F912,\"\"))))","v":""},null,null,null,null,null,null,6012012,40914]
[null,null,null,null,{"$f":"IF(Configuração!C911=\"\",\"\",Configuração!B911)","v":""},null,null,null,null,null,null,null,null,null,{"$f":"IF(Configuração!H913=\"\",\"\",IF($L$8=\"\",\"\", IF(VLOOKUP($L$8,Configuração!$S$7:$U$16,3)=\"D (T)\",Configuração!F913,IF(VLOOKUP($L$8,Configuração!$S$7:$U$16,3)=\"C (T)\",Configuração!F913,\"\"))))","v":""},null,null,null,null,null,null,6012013,41280]
[null,null,null,null,{"$f":"IF(Configuração!C912=\"\",\"\",Configuração!B912)","v":""},null,null,null,null,null,null,null,null,null,{"$f":"IF(Configuração!H914=\"\",\"\",IF($L$8=\"\",\"\", IF(VLOOKUP($L$8,Configuração!$S$7:$U$16,3)=\"D (T)\",Configuração!F914,IF(VLOOKUP($L$8,Configuração!$S$7:$U$16,3)=\"C (T)\",Configuração!F914,\"\"))))","v":""},null,null,null,null,null,null,6012014,41645]
[null,null,null,null,{"$f":"IF(Configuração!C913=\"\",\"\",Configuração!B913)","v":""},null,null,null,null,null,null,null,null,null,{"$f":"IF(Configuração!H915=\"\",\"\",IF($L$8=\"\",\"\", IF(VLOOKUP($L$8,Configuração!$S$7:$U$16,3)=\"D (T)\",Configuração!F915,IF(VLOOKUP($L$8,Configuração!$S$7:$U$16,3)=\"C (T)\",Configuração!F915,\"\"))))","v":""},null,null,null,null,null,null,6012015,42010]
[null,null,null,null,{"$f":"IF(Configuração!C914=\"\",\"\",Configuração!B914)","v":""},null,null,null,null,null,null,null,null,null,{"$f":"IF(Configuração!H916=\"\",\"\",IF($L$8=\"\",\"\", IF(VLOOKUP($L$8,Configuração!$S$7:$U$16,3)=\"D (T)\",Configuração!F916,IF(VLOOKUP($L$8,Configuração!$S$7:$U$16,3)=\"C (T)\",Configuração!F916,\"\"))))","v":""},null,null,null,null,null,null,6012016,42375]
[null,null,null,null,{"$f":"IF(Configuração!C915=\"\",\"\",Configuração!B915)","v":""},null,null,null,null,null,null,null,null,null,{"$f":"IF(Configuração!H917=\"\",\"\",IF($L$8=\"\",\"\", IF(VLOOKUP($L$8,Configuração!$S$7:$U$16,3)=\"D (T)\",Configuração!F917,IF(VLOOKUP($L$8,Configuração!$S$7:$U$16,3)=\"C (T)\",Configuração!F917,\"\"))))","v":""},null,null,null,null,null,null,6012017,42741]
[null,null,null,null,{"$f":"IF(Configuração!C916=\"\",\"\",Configuração!B916)","v":""},null,null,null,null,null,null,null,null,null,{"$f":"IF(Configuração!H918=\"\",\"\",IF($L$8=\"\",\"\", IF(VLOOKUP($L$8,Configuração!$S$7:$U$16,3)=\"D (T)\",Configuração!F918,IF(VLOOKUP($L$8,Configuração!$S$7:$U$16,3)=\"C (T)\",Configuração!F918,\"\"))))","v":""},null,null,null,null,null,null,6012018,43106]
[null,null,null,null,{"$f":"IF(Configuração!C917=\"\",\"\",Configuração!B917)","v":""},null,null,null,null,null,null,null,null,null,{"$f":"IF(Configuração!H919=\"\",\"\",IF($L$8=\"\",\"\", IF(VLOOKUP($L$8,Configuração!$S$7:$U$16,3)=\"D (T)\",Configuração!F919,IF(VLOOKUP($L$8,Configuração!$S$7:$U$16,3)=\"C (T)\",Configuração!F919,\"\"))))","v":""},null,null,null,null,null,null,6012019,43471]
[null,null,null,null,{"$f":"IF(Configuração!C918=\"\",\"\",Configuração!B918)","v":""},null,null,null,null,null,null,null,null,null,{"$f":"IF(Configuração!H920=\"\",\"\",IF($L$8=\"\",\"\", IF(VLOOKUP($L$8,Configuração!$S$7:$U$16,3)=\"D (T)\",Configuração!F920,IF(VLOOKUP($L$8,Configuração!$S$7:$U$16,3)=\"C (T)\",Configuração!F920,\"\"))))","v":""},null,null,null,null,null,null,6012020,43836]
[null,null,null,null,{"$f":"IF(Configuração!C919=\"\",\"\",Configuração!B919)","v":""},null,null,null,null,null,null,null,null,null,{"$f":"IF(Configuração!H921=\"\",\"\",IF($L$8=\"\",\"\", IF(VLOOKUP($L$8,Configuração!$S$7:$U$16,3)=\"D (T)\",Configuração!F921,IF(VLOOKUP($L$8,Configuração!$S$7:$U$16,3)=\"C (T)\",Configuração!F921,\"\"))))","v":""},null,null,null,null,null,null,6012021,44202]
[null,null,null,null,{"$f":"IF(Configuração!C920=\"\",\"\",Configuração!B920)","v":""},null,null,null,null,null,null,null,null,null,{"$f":"IF(Configuração!H922=\"\",\"\",IF($L$8=\"\",\"\", IF(VLOOKUP($L$8,Configuração!$S$7:$U$16,3)=\"D (T)\",Configuração!F922,IF(VLOOKUP($L$8,Configuração!$S$7:$U$16,3)=\"C (T)\",Configuração!F922,\"\"))))","v":""},null,null,null,null,null,null,6012022,44567]
[null,null,null,null,{"$f":"IF(Configuração!C921=\"\",\"\",Configuração!B921)","v":""},null,null,null,null,null,null,null,null,null,{"$f":"IF(Configuração!H923=\"\",\"\",IF($L$8=\"\",\"\", IF(VLOOKUP($L$8,Configuração!$S$7:$U$16,3)=\"D (T)\",Configuração!F923,IF(VLOOKUP($L$8,Configuração!$S$7:$U$16,3)=\"C (T)\",Configuração!F923,\"\"))))","v":""},null,null,null,null,null,null,6012023,44932]
[null,null,null,null,{"$f":"IF(Configuração!C922=\"\",\"\",Configuração!B922)","v":""},null,null,null,null,null,null,null,null,null,{"$f":"IF(Configuração!H924=\"\",\"\",IF($L$8=\"\",\"\", IF(VLOOKUP($L$8,Configuração!$S$7:$U$16,3)=\"D (T)\",Configuração!F924,IF(VLOOKUP($L$8,Configuração!$S$7:$U$16,3)=\"C (T)\",Configuração!F924,\"\"))))","v":""},null,null,null,null,null,null,6022009,39850]
[null,null,null,null,{"$f":"IF(Configuração!C923=\"\",\"\",Configuração!B923)","v":""},null,null,null,null,null,null,null,null,null,{"$f":"IF(Configuração!H925=\"\",\"\",IF($L$8=\"\",\"\", IF(VLOOKUP($L$8,Configuração!$S$7:$U$16,3)=\"D (T)\",Configuração!F925,IF(VLOOKUP($L$8,Configuração!$S$7:$U$16,3)=\"C (T)\",Configuração!F925,\"\"))))","v":""},null,null,null,null,null,null,6022010,40215]
[null,null,null,null,{"$f":"IF(Configuração!C924=\"\",\"\",Configuração!B924)","v":""},null,null,null,null,null,null,null,null,null,{"$f":"IF(Configuração!H926=\"\",\"\",IF($L$8=\"\",\"\", IF(VLOOKUP($L$8,Configuração!$S$7:$U$16,3)=\"D (T)\",Configuração!F926,IF(VLOOKUP($L$8,Configuração!$S$7:$U$16,3)=\"C (T)\",Configuração!F926,\"\"))))","v":""},null,null,null,null,null,null,6022011,40580]
[null,null,null,null,{"$f":"IF(Configuração!C925=\"\",\"\",Configuração!B925)","v":""},null,null,null,null,null,null,null,null,null,{"$f":"IF(Configuração!H927=\"\",\"\",IF($L$8=\"\",\"\", IF(VLOOKUP($L$8,Configuração!$S$7:$U$16,3)=\"D (T)\",Configuração!F927,IF(VLOOKUP($L$8,Configuração!$S$7:$U$16,3)=\"C (T)\",Configuração!F927,\"\"))))","v":""},null,null,null,null,null,null,6022012,40945]
[null,null,null,null,{"$f":"IF(Configuração!C926=\"\",\"\",Configuração!B926)","v":""},null,null,null,null,null,null,null,null,null,null,null,null,null,null,null,null,6022013,41311]
[null,null,null,null,{"$f":"IF(Configuração!C927=\"\",\"\",Configuração!B927)","v":""},null,null,null,null,null,null,null,null,null,null,null,null,null,null,null,null,6022014,41676]
[null,null,null,null,{"$f":"IF(Configuração!C928=\"\",\"\",Configuração!B928)","v":""},null,null,null,null,null,null,null,null,null,null,null,null,null,null,null,null,6022015,42041]
[null,null,null,null,{"$f":"IF(Configuração!C929=\"\",\"\",Configuração!B929)","v":""},null,null,null,null,null,null,null,null,null,null,null,null,null,null,null,null,6022016,42406]
[null,null,null,null,{"$f":"IF(Configuração!C930=\"\",\"\",Configuração!B930)","v":""},null,null,null,null,null,null,null,null,null,null,null,null,null,null,null,null,6022017,42772]
[null,null,null,null,{"$f":"IF(Configuração!C931=\"\",\"\",Configuração!B931)","v":""},null,null,null,null,null,null,null,null,null,null,null,null,null,null,null,null,6022018,43137]
[null,null,null,null,{"$f":"IF(Configuração!C932=\"\",\"\",Configuração!B932)","v":""},null,null,null,null,null,null,null,null,null,null,null,null,null,null,null,null,6022019,43502]
[null,null,null,null,{"$f":"IF(Configuração!C933=\"\",\"\",Configuração!B933)","v":""},null,null,null,null,null,null,null,null,null,null,null,null,null,null,null,null,6022020,43867]
[null,null,null,null,{"$f":"IF(Configuração!C934=\"\",\"\",Configuração!B934)","v":""},null,null,null,null,null,null,null,null,null,null,null,null,null,null,null,null,6022021,44233]
[null,null,null,null,{"$f":"IF(Configuração!C935=\"\",\"\",Configuração!B935)","v":""},null,null,null,null,null,null,null,null,null,null,null,null,null,null,null,null,6022022,44598]
[null,null,null,null,{"$f":"IF(Configuração!C936=\"\",\"\",Configuração!B936)","v":""},null,null,null,null,null,null,null,null,null,null,null,null,null,null,null,null,6022023,44963]
[null,null,null,null,{"$f":"IF(Configuração!C937=\"\",\"\",Configuração!B937)","v":""},null,null,null,null,null,null,null,null,null,null,null,null,null,null,null,null,6032009,39878]
[null,null,null,null,{"$f":"IF(Configuração!C938=\"\",\"\",Configuração!B938)","v":""},null,null,null,null,null,null,null,null,null,null,null,null,null,null,null,null,6032010,40243]
[null,null,null,null,{"$f":"IF(Configuração!C939=\"\",\"\",Configuração!B939)","v":""},null,null,null,null,null,null,null,null,null,null,null,null,null,null,null,null,6032011,40608]
[null,null,null,null,{"$f":"IF(Configuração!C940=\"\",\"\",Configuração!B940)","v":""},null,null,null,null,null,null,null,null,null,null,null,null,null,null,null,null,6032012,40974]
[null,null,null,null,{"$f":"IF(Configuração!C941=\"\",\"\",Configuração!B941)","v":""},null,null,null,null,null,null,null,null,null,null,null,null,null,null,null,null,6032013,41339]
[null,null,null,null,{"$f":"IF(Configuração!C942=\"\",\"\",Configuração!B942)","v":""},null,null,null,null,null,null,null,null,null,null,null,null,null,null,null,null,6032014,41704]
[null,null,null,null,{"$f":"IF(Configuração!C943=\"\",\"\",Configuração!B943)","v":""},null,null,null,null,null,null,null,null,null,null,null,null,null,null,null,null,6032015,42069]
[null,null,null,null,{"$f":"IF(Configuração!C944=\"\",\"\",Configuração!B944)","v":""},null,null,null,null,null,null,null,null,null,null,null,null,null,null,null,null,6032016,42435]
[null,null,null,null,{"$f":"IF(Configuração!C945=\"\",\"\",Configuração!B945)","v":""},null,null,null,null,null,null,null,null,null,null,null,null,null,null,null,null,6032017,42800]
[null,null,null,null,{"$f":"IF(Configuração!C946=\"\",\"\",Configuração!B946)","v":""},null,null,null,null,null,null,null,null,null,null,null,null,null,null,null,null,6032018,43165]
[null,null,null,null,{"$f":"IF(Configuração!C947=\"\",\"\",Configuração!B947)","v":""},null,null,null,null,null,null,null,null,null,null,null,null,null,null,null,null,6032019,43530]
[null,null,null,null,{"$f":"IF(Configuração!C948=\"\",\"\",Configuração!B948)","v":""},null,null,null,null,null,null,null,null,null,null,null,null,null,null,null,null,6032020,43896]
[null,null,null,null,{"$f":"IF(Configuração!C949=\"\",\"\",Configuração!B949)","v":""},null,null,null,null,null,null,null,null,null,null,null,null,null,null,null,null,6032021,44261]
[null,null,null,null,{"$f":"IF(Configuração!C950=\"\",\"\",Configuração!B950)","v":""},null,null,null,null,null,null,null,null,null,null,null,null,null,null,null,null,6032022,44626]
[null,null,null,null,{"$f":"IF(Configuração!C951=\"\",\"\",Configuração!B951)","v":""},null,null,null,null,null,null,null,null,null,null,null,null,null,null,null,null,6032023,44991]
[null,null,null,null,{"$f":"IF(Configuração!C952=\"\",\"\",Configuração!B952)","v":""},null,null,null,null,null,null,null,null,null,null,null,null,null,null,null,null,6042009,39909]
[null,null,null,null,{"$f":"IF(Configuração!C953=\"\",\"\",Configuração!B953)","v":""},null,null,null,null,null,null,null,null,null,null,null,null,null,null,null,null,6042010,40274]
[null,null,null,null,{"$f":"IF(Configuração!C954=\"\",\"\",Configuração!B954)","v":""},null,null,null,null,null,null,null,null,null,null,null,null,null,null,null,null,6042011,40639]
[null,null,null,null,{"$f":"IF(Configuração!C955=\"\",\"\",Configuração!B955)","v":""},null,null,null,null,null,null,null,null,null,null,null,null,null,null,null,null,6042012,41005]
[null,null,null,null,{"$f":"IF(Configuração!C956=\"\",\"\",Configuração!B956)","v":""},null,null,null,null,null,null,null,null,null,null,null,null,null,null,null,null,6042013,41370]
[null,null,null,null,{"$f":"IF(Configuração!C957=\"\",\"\",Configuração!B957)","v":""},null,null,null,null,null,null,null,null,null,null,null,null,null,null,null,null,6042014,41735]
[null,null,null,null,{"$f":"IF(Configuração!C958=\"\",\"\",Configuração!B958)","v":""},null,null,null,null,null,null,null,null,null,null,null,null,null,null,null,null,6042015,42100]
[null,null,null,null,{"$f":"IF(Configuração!C959=\"\",\"\",Configuração!B959)","v":""},null,null,null,null,null,null,null,null,null,null,null,null,null,null,null,null,6042016,42466]
[null,null,null,null,{"$f":"IF(Configuração!C960=\"\",\"\",Configuração!B960)","v":""},null,null,null,null,null,null,null,null,null,null,null,null,null,null,null,null,6042017,42831]
[null,null,null,null,{"$f":"IF(Configuração!C961=\"\",\"\",Configuração!B961)","v":""},null,null,null,null,null,null,null,null,null,null,null,null,null,null,null,null,6042018,43196]
[null,null,null,null,{"$f":"IF(Configuração!C962=\"\",\"\",Configuração!B962)","v":""},null,null,null,null,null,null,null,null,null,null,null,null,null,null,null,null,6042019,43561]
[null,null,null,null,{"$f":"IF(Configuração!C963=\"\",\"\",Configuração!B963)","v":""},null,null,null,null,null,null,null,null,null,null,null,null,null,null,null,null,6042020,43927]
[null,null,null,null,{"$f":"IF(Configuração!C964=\"\",\"\",Configuração!B964)","v":""},null,null,null,null,null,null,null,null,null,null,null,null,null,null,null,null,6042021,44292]
[null,null,null,null,{"$f":"IF(Configuração!C965=\"\",\"\",Configuração!B965)","v":""},null,null,null,null,null,null,null,null,null,null,null,null,null,null,null,null,6042022,44657]
[null,null,null,null,{"$f":"IF(Configuração!C966=\"\",\"\",Configuração!B966)","v":""},null,null,null,null,null,null,null,null,null,null,null,null,null,null,null,null,6042023,45022]
[null,null,null,null,{"$f":"IF(Configuração!C967=\"\",\"\",Configuração!B967)","v":""},null,null,null,null,null,null,null,null,null,null,null,null,null,null,null,null,6052009,39939]
[null,null,null,null,{"$f":"IF(Configuração!C968=\"\",\"\",Configuração!B968)","v":""},null,null,null,null,null,null,null,null,null,null,null,null,null,null,null,null,6052010,40304]
[null,null,null,null,{"$f":"IF(Configuração!C969=\"\",\"\",Configuração!B969)","v":""},null,null,null,null,null,null,null,null,null,null,null,null,null,null,null,null,6052011,40669]
[null,null,null,null,{"$f":"IF(Configuração!C970=\"\",\"\",Configuração!B970)","v":""},null,null,null,null,null,null,null,null,null,null,null,null,null,null,null,null,6052012,41035]
[null,null,null,null,{"$f":"IF(Configuração!C971=\"\",\"\",Configuração!B971)","v":""},null,null,null,null,null,null,null,null,null,null,null,null,null,null,null,null,6052013,41400]
[null,null,null,null,{"$f":"IF(Configuração!C972=\"\",\"\",Configuração!B972)","v":""},null,null,null,null,null,null,null,null,null,null,null,null,null,null,null,null,6052014,41765]
[null,null,null,null,{"$f":"IF(Configuração!C973=\"\",\"\",Configuração!B973)","v":""},null,null,null,null,null,null,null,null,null,null,null,null,null,null,null,null,6052015,42130]
[null,null,null,null,{"$f":"IF(Configuração!C974=\"\",\"\",Configuração!B974)","v":""},null,null,null,null,null,null,null,null,null,null,null,null,null,null,null,null,6052016,42496]
[null,null,null,null,{"$f":"IF(Configuração!C975=\"\",\"\",Configuração!B975)","v":""},null,null,null,null,null,null,null,null,null,null,null,null,null,null,null,null,6052017,42861]
[null,null,null,null,{"$f":"IF(Configuração!C976=\"\",\"\",Configuração!B976)","v":""},null,null,null,null,null,null,null,null,null,null,null,null,null,null,null,null,6052018,43226]
[null,null,null,null,{"$f":"IF(Configuração!C977=\"\",\"\",Configuração!B977)","v":""},null,null,null,null,null,null,null,null,null,null,null,null,null,null,null,null,6052019,43591]
[null,null,null,null,{"$f":"IF(Configuração!C978=\"\",\"\",Configuração!B978)","v":""},null,null,null,null,null,null,null,null,null,null,null,null,null,null,null,null,6052020,43957]
[null,null,null,null,{"$f":"IF(Configuração!C979=\"\",\"\",Configuração!B979)","v":""},null,null,null,null,null,null,null,null,null,null,null,null,null,null,null,null,6052021,44322]
[null,null,null,null,{"$f":"IF(Configuração!C980=\"\",\"\",Configuração!B980)","v":""},null,null,null,null,null,null,null,null,null,null,null,null,null,null,null,null,6052022,44687]
[null,null,null,null,{"$f":"IF(Configuração!C981=\"\",\"\",Configuração!B981)","v":""},null,null,null,null,null,null,null,null,null,null,null,null,null,null,null,null,6052023,45052]
[null,null,null,null,{"$f":"IF(Configuração!C982=\"\",\"\",Configuração!B982)","v":""},null,null,null,null,null,null,null,null,null,null,null,null,null,null,null,null,6062009,39970]
[null,null,null,null,{"$f":"IF(Configuração!C983=\"\",\"\",Configuração!B983)","v":""},null,null,null,null,null,null,null,null,null,null,null,null,null,null,null,null,6062010,40335]
[null,null,null,null,{"$f":"IF(Configuração!C984=\"\",\"\",Configuração!B984)","v":""},null,null,null,null,null,null,null,null,null,null,null,null,null,null,null,null,6062011,40700]
[null,null,null,null,{"$f":"IF(Configuração!C985=\"\",\"\",Configuração!B985)","v":""},null,null,null,null,null,null,null,null,null,null,null,null,null,null,null,null,6062012,41066]
[null,null,null,null,{"$f":"IF(Configuração!C986=\"\",\"\",Configuração!B986)","v":""},null,null,null,null,null,null,null,null,null,null,null,null,null,null,null,null,6062013,41431]
[null,null,null,null,{"$f":"IF(Configuração!C987=\"\",\"\",Configuração!B987)","v":""},null,null,null,null,null,null,null,null,null,null,null,null,null,null,null,null,6062014,41796]
[null,null,null,null,{"$f":"IF(Configuração!C988=\"\",\"\",Configuração!B988)","v":""},null,null,null,null,null,null,null,null,null,null,null,null,null,null,null,null,6062015,42161]
[null,null,null,null,{"$f":"IF(Configuração!C989=\"\",\"\",Configuração!B989)","v":""},null,null,null,null,null,null,null,null,null,null,null,null,null,null,null,null,6062016,42527]
[null,null,null,null,{"$f":"IF(Configuração!C990=\"\",\"\",Configuração!B990)","v":""},null,null,null,null,null,null,null,null,null,null,null,null,null,null,null,null,6062017,42892]
[null,null,null,null,{"$f":"IF(Configuração!C991=\"\",\"\",Configuração!B991)","v":""},null,null,null,null,null,null,null,null,null,null,null,null,null,null,null,null,6062018,43257]
[null,null,null,null,{"$f":"IF(Configuração!C992=\"\",\"\",Configuração!B992)","v":""},null,null,null,null,null,null,null,null,null,null,null,null,null,null,null,null,6062019,43622]
[null,null,null,null,{"$f":"IF(Configuração!C993=\"\",\"\",Configuração!B993)","v":""},null,null,null,null,null,null,null,null,null,null,null,null,null,null,null,null,6062020,43988]
[null,null,null,null,{"$f":"IF(Configuração!C994=\"\",\"\",Configuração!B994)","v":""},null,null,null,null,null,null,null,null,null,null,null,null,null,null,null,null,6062021,44353]
[null,null,null,null,{"$f":"IF(Configuração!C995=\"\",\"\",Configuração!B995)","v":""},null,null,null,null,null,null,null,null,null,null,null,null,null,null,null,null,6062022,44718]
[null,null,null,null,{"$f":"IF(Configuração!C996=\"\",\"\",Configuração!B996)","v":""},null,null,null,null,null,null,null,null,null,null,null,null,null,null,null,null,6062023,45083]
[null,null,null,null,{"$f":"IF(Configuração!C997=\"\",\"\",Configuração!B997)","v":""},null,null,null,null,null,null,null,null,null,null,null,null,null,null,null,null,6072009,40000]
[null,null,null,null,{"$f":"IF(Configuração!C998=\"\",\"\",Configuração!B998)","v":""},null,null,null,null,null,null,null,null,null,null,null,null,null,null,null,null,6072010,40365]
[null,null,null,null,{"$f":"IF(Configuração!C999=\"\",\"\",Configuração!B999)","v":""},null,null,null,null,null,null,null,null,null,null,null,null,null,null,null,null,6072011,40730]
[null,null,null,null,{"$f":"IF(Configuração!C1000=\"\",\"\",Configuração!B1000)","v":""},null,null,null,null,null,null,null,null,null,null,null,null,null,null,null,null,6072012,41096]
[null,null,null,null,{"$f":"IF(Configuração!C1001=\"\",\"\",Configuração!B1001)","v":""},null,null,null,null,null,null,null,null,null,null,null,null,null,null,null,null,6072013,41461]
[null,null,null,null,{"$f":"IF(Configuração!C1002=\"\",\"\",Configuração!B1002)","v":""},null,null,null,null,null,null,null,null,null,null,null,null,null,null,null,null,6072014,41826]
[null,null,null,null,{"$f":"IF(Configuração!C1003=\"\",\"\",Configuração!B1003)","v":""},null,null,null,null,null,null,null,null,null,null,null,null,null,null,null,null,6072015,42191]
[null,null,null,null,{"$f":"IF(Configuração!C1004=\"\",\"\",Configuração!B1004)","v":""},null,null,null,null,null,null,null,null,null,null,null,null,null,null,null,null,6072016,42557]
[null,null,null,null,{"$f":"IF(Configuração!C1005=\"\",\"\",Configuração!B1005)","v":""},null,null,null,null,null,null,null,null,null,null,null,null,null,null,null,null,6072017,42922]
[null,null,null,null,{"$f":"IF(Configuração!C1006=\"\",\"\",Configuração!B1006)","v":""},null,null,null,null,null,null,null,null,null,null,null,null,null,null,null,null,6072018,43287]
[null,null,null,null,{"$f":"IF(Configuração!C1007=\"\",\"\",Configuração!B1007)","v":""},null,null,null,null,null,null,null,null,null,null,null,null,null,null,null,null,6072019,43652]
[null,null,null,null,{"$f":"IF(Configuração!C1008=\"\",\"\",Configuração!B1008)","v":""},null,null,null,null,null,null,null,null,null,null,null,null,null,null,null,null,6072020,44018]
[null,null,null,null,{"$f":"IF(Configuração!C1009=\"\",\"\",Configuração!B1009)","v":""},null,null,null,null,null,null,null,null,null,null,null,null,null,null,null,null,6072021,44383]
[null,null,null,null,{"$f":"IF(Configuração!C1010=\"\",\"\",Configuração!B1010)","v":""},null,null,null,null,null,null,null,null,null,null,null,null,null,null,null,null,6072022,44748]
[null,null,null,null,{"$f":"IF(Configuração!C1011=\"\",\"\",Configuração!B1011)","v":""},null,null,null,null,null,null,null,null,null,null,null,null,null,null,null,null,6072023,45113]
[null,null,null,null,{"$f":"IF(Configuração!C1012=\"\",\"\",Configuração!B1012)","v":""},null,null,null,null,null,null,null,null,null,null,null,null,null,null,null,null,6082009,40031]
[null,null,null,null,{"$f":"IF(Configuração!C1013=\"\",\"\",Configuração!B1013)","v":""},null,null,null,null,null,null,null,null,null,null,null,null,null,null,null,null,6082010,40396]
[null,null,null,null,{"$f":"IF(Configuração!C1014=\"\",\"\",Configuração!B1014)","v":""},null,null,null,null,null,null,null,null,null,null,null,null,null,null,null,null,6082011,40761]
[null,null,null,null,{"$f":"IF(Configuração!C1015=\"\",\"\",Configuração!B1015)","v":""},null,null,null,null,null,null,null,null,null,null,null,null,null,null,null,null,6082012,41127]
[null,null,null,null,{"$f":"IF(Configuração!C1016=\"\",\"\",Configuração!B1016)","v":""},null,null,null,null,null,null,null,null,null,null,null,null,null,null,null,null,6082013,41492]
[null,null,null,null,{"$f":"IF(Configuração!C1017=\"\",\"\",Configuração!B1017)","v":""},null,null,null,null,null,null,null,null,null,null,null,null,null,null,null,null,6082014,41857]
[null,null,null,null,{"$f":"IF(Configuração!C1018=\"\",\"\",Configuração!B1018)","v":""},null,null,null,null,null,null,null,null,null,null,null,null,null,null,null,null,6082015,42222]
[null,null,null,null,{"$f":"IF(Configuração!C1019=\"\",\"\",Configuração!B1019)","v":""},null,null,null,null,null,null,null,null,null,null,null,null,null,null,null,null,6082016,42588]
[null,null,null,null,{"$f":"IF(Configuração!C1020=\"\",\"\",Configuração!B1020)","v":""},null,null,null,null,null,null,null,null,null,null,null,null,null,null,null,null,6082017,42953]
[null,null,null,null,{"$f":"IF(Configuração!C1021=\"\",\"\",Configuração!B1021)","v":""},null,null,null,null,null,null,null,null,null,null,null,null,null,null,null,null,6082018,43318]
[null,null,null,null,{"$f":"IF(Configuração!C1022=\"\",\"\",Configuração!B1022)","v":""},null,null,null,null,null,null,null,null,null,null,null,null,null,null,null,null,6082019,43683]
[null,null,null,null,{"$f":"IF(Configuração!C1023=\"\",\"\",Configuração!B1023)","v":""},null,null,null,null,null,null,null,null,null,null,null,null,null,null,null,null,6082020,44049]
[null,null,null,null,{"$f":"IF(Configuração!C1024=\"\",\"\",Configuração!B1024)","v":""},null,null,null,null,null,null,null,null,null,null,null,null,null,null,null,null,6082021,44414]
[null,null,null,null,{"$f":"IF(Configuração!C1025=\"\",\"\",Configuração!B1025)","v":""},null,null,null,null,null,null,null,null,null,null,null,null,null,null,null,null,6082022,44779]
[null,null,null,null,{"$f":"IF(Configuração!C1026=\"\",\"\",Configuração!B1026)","v":""},null,null,null,null,null,null,null,null,null,null,null,null,null,null,null,null,6082023,45144]
[null,null,null,null,{"$f":"IF(Configuração!C1027=\"\",\"\",Configuração!B1027)","v":""},null,null,null,null,null,null,null,null,null,null,null,null,null,null,null,null,6092009,40062]
[null,null,null,null,{"$f":"IF(Configuração!C1028=\"\",\"\",Configuração!B1028)","v":""},null,null,null,null,null,null,null,null,null,null,null,null,null,null,null,null,6092010,40427]
[null,null,null,null,{"$f":"IF(Configuração!C1029=\"\",\"\",Configuração!B1029)","v":""},null,null,null,null,null,null,null,null,null,null,null,null,null,null,null,null,6092011,40792]
[null,null,null,null,{"$f":"IF(Configuração!C1030=\"\",\"\",Configuração!B1030)","v":""},null,null,null,null,null,null,null,null,null,null,null,null,null,null,null,null,6092012,41158]
[null,null,null,null,{"$f":"IF(Configuração!C1031=\"\",\"\",Configuração!B1031)","v":""},null,null,null,null,null,null,null,null,null,null,null,null,null,null,null,null,6092013,41523]
[null,null,null,null,{"$f":"IF(Configuração!C1032=\"\",\"\",Configuração!B1032)","v":""},null,null,null,null,null,null,null,null,null,null,null,null,null,null,null,null,6092014,41888]
[null,null,null,null,{"$f":"IF(Configuração!C1033=\"\",\"\",Configuração!B1033)","v":""},null,null,null,null,null,null,null,null,null,null,null,null,null,null,null,null,6092015,42253]
[null,null,null,null,{"$f":"IF(Configuração!C1034=\"\",\"\",Configuração!B1034)","v":""},null,null,null,null,null,null,null,null,null,null,null,null,null,null,null,null,6092016,42619]
[null,null,null,null,{"$f":"IF(Configuração!C1035=\"\",\"\",Configuração!B1035)","v":""},null,null,null,null,null,null,null,null,null,null,null,null,null,null,null,null,6092017,42984]
[null,null,null,null,{"$f":"IF(Configuração!C1036=\"\",\"\",Configuração!B1036)","v":""},null,null,null,null,null,null,null,null,null,null,null,null,null,null,null,null,6092018,43349]
[null,null,null,null,{"$f":"IF(Configuração!C1037=\"\",\"\",Configuração!B1037)","v":""},null,null,null,null,null,null,null,null,null,null,null,null,null,null,null,null,6092019,43714]
[null,null,null,null,{"$f":"IF(Configuração!C1038=\"\",\"\",Configuração!B1038)","v":""},null,null,null,null,null,null,null,null,null,null,null,null,null,null,null,null,6092020,44080]
[null,null,null,null,{"$f":"IF(Configuração!C1039=\"\",\"\",Configuração!B1039)","v":""},null,null,null,null,null,null,null,null,null,null,null,null,null,null,null,null,6092021,44445]
[null,null,null,null,{"$f":"IF(Configuração!C1040=\"\",\"\",Configuração!B1040)","v":""},null,null,null,null,null,null,null,null,null,null,null,null,null,null,null,null,6092022,44810]
[null,null,null,null,{"$f":"IF(Configuração!C1041=\"\",\"\",Configuração!B1041)","v":""},null,null,null,null,null,null,null,null,null,null,null,null,null,null,null,null,6092023,45175]
[null,null,null,null,{"$f":"IF(Configuração!C1042=\"\",\"\",Configuração!B1042)","v":""},null,null,null,null,null,null,null,null,null,null,null,null,null,null,null,null,6102009,40092]
[null,null,null,null,{"$f":"IF(Configuração!C1043=\"\",\"\",Configuração!B1043)","v":""},null,null,null,null,null,null,null,null,null,null,null,null,null,null,null,null,6102010,40457]
[null,null,null,null,{"$f":"IF(Configuração!C1044=\"\",\"\",Configuração!B1044)","v":""},null,null,null,null,null,null,null,null,null,null,null,null,null,null,null,null,6102011,40822]
[null,null,null,null,{"$f":"IF(Configuração!C1045=\"\",\"\",Configuração!B1045)","v":""},null,null,null,null,null,null,null,null,null,null,null,null,null,null,null,null,6102012,41188]
[null,null,null,null,{"$f":"IF(Configuração!C1046=\"\",\"\",Configuração!B1046)","v":""},null,null,null,null,null,null,null,null,null,null,null,null,null,null,null,null,6102013,41553]
[null,null,null,null,{"$f":"IF(Configuração!C1047=\"\",\"\",Configuração!B1047)","v":""},null,null,null,null,null,null,null,null,null,null,null,null,null,null,null,null,6102014,41918]
[null,null,null,null,{"$f":"IF(Configuração!C1048=\"\",\"\",Configuração!B1048)","v":""},null,null,null,null,null,null,null,null,null,null,null,null,null,null,null,null,6102015,42283]
[null,null,null,null,{"$f":"IF(Configuração!C1049=\"\",\"\",Configuração!B1049)","v":""},null,null,null,null,null,null,null,null,null,null,null,null,null,null,null,null,6102016,42649]
[null,null,null,null,{"$f":"IF(Configuração!C1050=\"\",\"\",Configuração!B1050)","v":""},null,null,null,null,null,null,null,null,null,null,null,null,null,null,null,null,6102017,43014]
[null,null,null,null,{"$f":"IF(Configuração!C1051=\"\",\"\",Configuração!B1051)","v":""},null,null,null,null,null,null,null,null,null,null,null,null,null,null,null,null,6102018,43379]
[null,null,null,null,{"$f":"IF(Configuração!C1052=\"\",\"\",Configuração!B1052)","v":""},null,null,null,null,null,null,null,null,null,null,null,null,null,null,null,null,6102019,43744]
[null,null,null,null,{"$f":"IF(Configuração!C1053=\"\",\"\",Configuração!B1053)","v":""},null,null,null,null,null,null,null,null,null,null,null,null,null,null,null,null,6102020,44110]
[null,null,null,null,{"$f":"IF(Configuração!C1054=\"\",\"\",Configuração!B1054)","v":""},null,null,null,null,null,null,null,null,null,null,null,null,null,null,null,null,6102021,44475]
[null,null,null,null,{"$f":"IF(Configuração!C1055=\"\",\"\",Configuração!B1055)","v":""},null,null,null,null,null,null,null,null,null,null,null,null,null,null,null,null,6102022,44840]
[null,null,null,null,{"$f":"IF(Configuração!C1056=\"\",\"\",Configuração!B1056)","v":""},null,null,null,null,null,null,null,null,null,null,null,null,null,null,null,null,6102023,45205]
[null,null,null,null,{"$f":"IF(Configuração!C1057=\"\",\"\",Configuração!B1057)","v":""},null,null,null,null,null,null,null,null,null,null,null,null,null,null,null,null,6112009,40123]
[null,null,null,null,{"$f":"IF(Configuração!C1058=\"\",\"\",Configuração!B1058)","v":""},null,null,null,null,null,null,null,null,null,null,null,null,null,null,null,null,6112010,40488]
[null,null,null,null,{"$f":"IF(Configuração!C1059=\"\",\"\",Configuração!B1059)","v":""},null,null,null,null,null,null,null,null,null,null,null,null,null,null,null,null,6112011,40853]
[null,null,null,null,{"$f":"IF(Configuração!C1060=\"\",\"\",Configuração!B1060)","v":""},null,null,null,null,null,null,null,null,null,null,null,null,null,null,null,null,6112012,41219]
[null,null,null,null,{"$f":"IF(Configuração!C1061=\"\",\"\",Configuração!B1061)","v":""},null,null,null,null,null,null,null,null,null,null,null,null,null,null,null,null,6112013,41584]
[null,null,null,null,{"$f":"IF(Configuração!C1062=\"\",\"\",Configuração!B1062)","v":""},null,null,null,null,null,null,null,null,null,null,null,null,null,null,null,null,6112014,41949]
[null,null,null,null,{"$f":"IF(Configuração!C1063=\"\",\"\",Configuração!B1063)","v":""},null,null,null,null,null,null,null,null,null,null,null,null,null,null,null,null,6112015,42314]
[null,null,null,null,{"$f":"IF(Configuração!C1064=\"\",\"\",Configuração!B1064)","v":""},null,null,null,null,null,null,null,null,null,null,null,null,null,null,null,null,6112016,42680]
[null,null,null,null,{"$f":"IF(Configuração!C1065=\"\",\"\",Configuração!B1065)","v":""},null,null,null,null,null,null,null,null,null,null,null,null,null,null,null,null,6112017,43045]
[null,null,null,null,{"$f":"IF(Configuração!C1066=\"\",\"\",Configuração!B1066)","v":""},null,null,null,null,null,null,null,null,null,null,null,null,null,null,null,null,6112018,43410]
[null,null,null,null,{"$f":"IF(Configuração!C1067=\"\",\"\",Configuração!B1067)","v":""},null,null,null,null,null,null,null,null,null,null,null,null,null,null,null,null,6112019,43775]
[null,null,null,null,{"$f":"IF(Configuração!C1068=\"\",\"\",Configuração!B1068)","v":""},null,null,null,null,null,null,null,null,null,null,null,null,null,null,null,null,6112020,44141]
[null,null,null,null,{"$f":"IF(Configuração!C1069=\"\",\"\",Configuração!B1069)","v":""},null,null,null,null,null,null,null,null,null,null,null,null,null,null,null,null,6112021,44506]
[null,null,null,null,{"$f":"IF(Configuração!C1070=\"\",\"\",Configuração!B1070)","v":""},null,null,null,null,null,null,null,null,null,null,null,null,null,null,null,null,6112022,44871]
[null,null,null,null,{"$f":"IF(Configuração!C1071=\"\",\"\",Configuração!B1071)","v":""},null,null,null,null,null,null,null,null,null,null,null,null,null,null,null,null,6112023,45236]
[null,null,null,null,{"$f":"IF(Configuração!C1072=\"\",\"\",Configuração!B1072)","v":""},null,null,null,null,null,null,null,null,null,null,null,null,null,null,null,null,6122009,40153]
[null,null,null,null,{"$f":"IF(Configuração!C1073=\"\",\"\",Configuração!B1073)","v":""},null,null,null,null,null,null,null,null,null,null,null,null,null,null,null,null,6122010,40518]
[null,null,null,null,{"$f":"IF(Configuração!C1074=\"\",\"\",Configuração!B1074)","v":""},null,null,null,null,null,null,null,null,null,null,null,null,null,null,null,null,6122011,40883]
[null,null,null,null,{"$f":"IF(Configuração!C1075=\"\",\"\",Configuração!B1075)","v":""},null,null,null,null,null,null,null,null,null,null,null,null,null,null,null,null,6122012,41249]
[null,null,null,null,{"$f":"IF(Configuração!C1076=\"\",\"\",Configuração!B1076)","v":""},null,null,null,null,null,null,null,null,null,null,null,null,null,null,null,null,6122013,41614]
[null,null,null,null,{"$f":"IF(Configuração!C1077=\"\",\"\",Configuração!B1077)","v":""},null,null,null,null,null,null,null,null,null,null,null,null,null,null,null,null,6122014,41979]
[null,null,null,null,{"$f":"IF(Configuração!C1078=\"\",\"\",Configuração!B1078)","v":""},null,null,null,null,null,null,null,null,null,null,null,null,null,null,null,null,6122015,42344]
[null,null,null,null,{"$f":"IF(Configuração!C1079=\"\",\"\",Configuração!B1079)","v":""},null,null,null,null,null,null,null,null,null,null,null,null,null,null,null,null,6122016,42710]
[null,null,null,null,{"$f":"IF(Configuração!C1080=\"\",\"\",Configuração!B1080)","v":""},null,null,null,null,null,null,null,null,null,null,null,null,null,null,null,null,6122017,43075]
[null,null,null,null,{"$f":"IF(Configuração!C1081=\"\",\"\",Configuração!B1081)","v":""},null,null,null,null,null,null,null,null,null,null,null,null,null,null,null,null,6122018,43440]
[null,null,null,null,{"$f":"IF(Configuração!C1082=\"\",\"\",Configuração!B1082)","v":""},null,null,null,null,null,null,null,null,null,null,null,null,null,null,null,null,6122019,43805]
[null,null,null,null,{"$f":"IF(Configuração!C1083=\"\",\"\",Configuração!B1083)","v":""},null,null,null,null,null,null,null,null,null,null,null,null,null,null,null,null,6122020,44171]
[null,null,null,null,{"$f":"IF(Configuração!C1084=\"\",\"\",Configuração!B1084)","v":""},null,null,null,null,null,null,null,null,null,null,null,null,null,null,null,null,6122021,44536]
[null,null,null,null,{"$f":"IF(Configuração!C1085=\"\",\"\",Configuração!B1085)","v":""},null,null,null,null,null,null,null,null,null,null,null,null,null,null,null,null,6122022,44901]
[null,null,null,null,{"$f":"IF(Configuração!C1086=\"\",\"\",Configuração!B1086)","v":""},null,null,null,null,null,null,null,null,null,null,null,null,null,null,null,null,6122023,45266]
[null,null,null,null,{"$f":"IF(Configuração!C1087=\"\",\"\",Configuração!B1087)","v":""},null,null,null,null,null,null,null,null,null,null,null,null,null,null,null,null,7012009,39820]
[null,null,null,null,{"$f":"IF(Configuração!C1088=\"\",\"\",Configuração!B1088)","v":""},null,null,null,null,null,null,null,null,null,null,null,null,null,null,null,null,7012010,40185]
[null,null,null,null,{"$f":"IF(Configuração!C1089=\"\",\"\",Configuração!B1089)","v":""},null,null,null,null,null,null,null,null,null,null,null,null,null,null,null,null,7012011,40550]
[null,null,null,null,{"$f":"IF(Configuração!C1090=\"\",\"\",Configuração!B1090)","v":""},null,null,null,null,null,null,null,null,null,null,null,null,null,null,null,null,7012012,40915]
[null,null,null,null,{"$f":"IF(Configuração!C1091=\"\",\"\",Configuração!B1091)","v":""},null,null,null,null,null,null,null,null,null,null,null,null,null,null,null,null,7012013,41281]
[null,null,null,null,{"$f":"IF(Configuração!C1092=\"\",\"\",Configuração!B1092)","v":""},null,null,null,null,null,null,null,null,null,null,null,null,null,null,null,null,7012014,41646]
[null,null,null,null,{"$f":"IF(Configuração!C1093=\"\",\"\",Configuração!B1093)","v":""},null,null,null,null,null,null,null,null,null,null,null,null,null,null,null,null,7012015,42011]
[null,null,null,null,{"$f":"IF(Configuração!C1094=\"\",\"\",Configuração!B1094)","v":""},null,null,null,null,null,null,null,null,null,null,null,null,null,null,null,null,7012016,42376]
[null,null,null,null,{"$f":"IF(Configuração!C1095=\"\",\"\",Configuração!B1095)","v":""},null,null,null,null,null,null,null,null,null,null,null,null,null,null,null,null,7012017,42742]
[null,null,null,null,{"$f":"IF(Configuração!C1096=\"\",\"\",Configuração!B1096)","v":""},null,null,null,null,null,null,null,null,null,null,null,null,null,null,null,null,7012018,43107]
[null,null,null,null,{"$f":"IF(Configuração!C1097=\"\",\"\",Configuração!B1097)","v":""},null,null,null,null,null,null,null,null,null,null,null,null,null,null,null,null,7012019,43472]
[null,null,null,null,{"$f":"IF(Configuração!C1098=\"\",\"\",Configuração!B1098)","v":""},null,null,null,null,null,null,null,null,null,null,null,null,null,null,null,null,7012020,43837]
[null,null,null,null,{"$f":"IF(Configuração!C1099=\"\",\"\",Configuração!B1099)","v":""},null,null,null,null,null,null,null,null,null,null,null,null,null,null,null,null,7012021,44203]
[null,null,null,null,{"$f":"IF(Configuração!C1100=\"\",\"\",Configuração!B1100)","v":""},null,null,null,null,null,null,null,null,null,null,null,null,null,null,null,null,7012022,44568]
[null,null,null,null,{"$f":"IF(Configuração!C1101=\"\",\"\",Configuração!B1101)","v":""},null,null,null,null,null,null,null,null,null,null,null,null,null,null,null,null,7012023,44933]
[null,null,null,null,{"$f":"IF(Configuração!C1102=\"\",\"\",Configuração!B1102)","v":""},null,null,null,null,null,null,null,null,null,null,null,null,null,null,null,null,7022009,39851]
[null,null,null,null,{"$f":"IF(Configuração!C1103=\"\",\"\",Configuração!B1103)","v":""},null,null,null,null,null,null,null,null,null,null,null,null,null,null,null,null,7022010,40216]
[null,null,null,null,{"$f":"IF(Configuração!C1104=\"\",\"\",Configuração!B1104)","v":""},null,null,null,null,null,null,null,null,null,null,null,null,null,null,null,null,7022011,40581]
[null,null,null,null,{"$f":"IF(Configuração!C1105=\"\",\"\",Configuração!B1105)","v":""},null,null,null,null,null,null,null,null,null,null,null,null,null,null,null,null,7022012,40946]
[null,null,null,null,{"$f":"IF(Configuração!C1106=\"\",\"\",Configuração!B1106)","v":""},null,null,null,null,null,null,null,null,null,null,null,null,null,null,null,null,7022013,41312]
[null,null,null,null,{"$f":"IF(Configuração!C1107=\"\",\"\",Configuração!B1107)","v":""},null,null,null,null,null,null,null,null,null,null,null,null,null,null,null,null,7022014,41677]
[null,null,null,null,{"$f":"IF(Configuração!C1108=\"\",\"\",Configuração!B1108)","v":""},null,null,null,null,null,null,null,null,null,null,null,null,null,null,null,null,7022015,42042]
[null,null,null,null,{"$f":"IF(Configuração!C1109=\"\",\"\",Configuração!B1109)","v":""},null,null,null,null,null,null,null,null,null,null,null,null,null,null,null,null,7022016,42407]
[null,null,null,null,{"$f":"IF(Configuração!C1110=\"\",\"\",Configuração!B1110)","v":""},null,null,null,null,null,null,null,null,null,null,null,null,null,null,null,null,7022017,42773]
[null,null,null,null,{"$f":"IF(Configuração!C1111=\"\",\"\",Configuração!B1111)","v":""},null,null,null,null,null,null,null,null,null,null,null,null,null,null,null,null,7022018,43138]
[null,null,null,null,{"$f":"IF(Configuração!C1112=\"\",\"\",Configuração!B1112)","v":""},null,null,null,null,null,null,null,null,null,null,null,null,null,null,null,null,7022019,43503]
[null,null,null,null,{"$f":"IF(Configuração!C1113=\"\",\"\",Configuração!B1113)","v":""},null,null,null,null,null,null,null,null,null,null,null,null,null,null,null,null,7022020,43868]
[null,null,null,null,{"$f":"IF(Configuração!C1114=\"\",\"\",Configuração!B1114)","v":""},null,null,null,null,null,null,null,null,null,null,null,null,null,null,null,null,7022021,44234]
[null,null,null,null,{"$f":"IF(Configuração!C1115=\"\",\"\",Configuração!B1115)","v":""},null,null,null,null,null,null,null,null,null,null,null,null,null,null,null,null,7022022,44599]
[null,null,null,null,{"$f":"IF(Configuração!C1116=\"\",\"\",Configuração!B1116)","v":""},null,null,null,null,null,null,null,null,null,null,null,null,null,null,null,null,7022023,44964]
[null,null,null,null,{"$f":"IF(Configuração!C1117=\"\",\"\",Configuração!B1117)","v":""},null,null,null,null,null,null,null,null,null,null,null,null,null,null,null,null,7032009,39879]
[null,null,null,null,{"$f":"IF(Configuração!C1118=\"\",\"\",Configuração!B1118)","v":""},null,null,null,null,null,null,null,null,null,null,null,null,null,null,null,null,7032010,40244]
[null,null,null,null,{"$f":"IF(Configuração!C1119=\"\",\"\",Configuração!B1119)","v":""},null,null,null,null,null,null,null,null,null,null,null,null,null,null,null,null,7032011,40609]
[null,null,null,null,{"$f":"IF(Configuração!C1120=\"\",\"\",Configuração!B1120)","v":""},null,null,null,null,null,null,null,null,null,null,null,null,null,null,null,null,7032012,40975]
[null,null,null,null,{"$f":"IF(Configuração!C1121=\"\",\"\",Configuração!B1121)","v":""},null,null,null,null,null,null,null,null,null,null,null,null,null,null,null,null,7032013,41340]
[null,null,null,null,{"$f":"IF(Configuração!C1122=\"\",\"\",Configuração!B1122)","v":""},null,null,null,null,null,null,null,null,null,null,null,null,null,null,null,null,7032014,41705]
[null,null,null,null,{"$f":"IF(Configuração!C1123=\"\",\"\",Configuração!B1123)","v":""},null,null,null,null,null,null,null,null,null,null,null,null,null,null,null,null,7032015,42070]
[null,null,null,null,{"$f":"IF(Configuração!C1124=\"\",\"\",Configuração!B1124)","v":""},null,null,null,null,null,null,null,null,null,null,null,null,null,null,null,null,7032016,42436]
[null,null,null,null,{"$f":"IF(Configuração!C1125=\"\",\"\",Configuração!B1125)","v":""},null,null,null,null,null,null,null,null,null,null,null,null,null,null,null,null,7032017,42801]
[null,null,null,null,{"$f":"IF(Configuração!C1126=\"\",\"\",Configuração!B1126)","v":""},null,null,null,null,null,null,null,null,null,null,null,null,null,null,null,null,7032018,43166]
[null,null,null,null,{"$f":"IF(Configuração!C1127=\"\",\"\",Configuração!B1127)","v":""},null,null,null,null,null,null,null,null,null,null,null,null,null,null,null,null,7032019,43531]
[null,null,null,null,{"$f":"IF(Configuração!C1128=\"\",\"\",Configuração!B1128)","v":""},null,null,null,null,null,null,null,null,null,null,null,null,null,null,null,null,7032020,43897]
[null,null,null,null,{"$f":"IF(Configuração!C1129=\"\",\"\",Configuração!B1129)","v":""},null,null,null,null,null,null,null,null,null,null,null,null,null,null,null,null,7032021,44262]
[null,null,null,null,{"$f":"IF(Configuração!C1130=\"\",\"\",Configuração!B1130)","v":""},null,null,null,null,null,null,null,null,null,null,null,null,null,null,null,null,7032022,44627]
[null,null,null,null,{"$f":"IF(Configuração!C1131=\"\",\"\",Configuração!B1131)","v":""},null,null,null,null,null,null,null,null,null,null,null,null,null,null,null,null,7032023,44992]
[null,null,null,null,{"$f":"IF(Configuração!C1132=\"\",\"\",Configuração!B1132)","v":""},null,null,null,null,null,null,null,null,null,null,null,null,null,null,null,null,7042009,39910]
[null,null,null,null,{"$f":"IF(Configuração!C1133=\"\",\"\",Configuração!B1133)","v":""},null,null,null,null,null,null,null,null,null,null,null,null,null,null,null,null,7042010,40275]
[null,null,null,null,{"$f":"IF(Configuração!C1134=\"\",\"\",Configuração!B1134)","v":""},null,null,null,null,null,null,null,null,null,null,null,null,null,null,null,null,7042011,40640]
[null,null,null,null,{"$f":"IF(Configuração!C1135=\"\",\"\",Configuração!B1135)","v":""},null,null,null,null,null,null,null,null,null,null,null,null,null,null,null,null,7042012,41006]
[null,null,null,null,{"$f":"IF(Configuração!C1136=\"\",\"\",Configuração!B1136)","v":""},null,null,null,null,null,null,null,null,null,null,null,null,null,null,null,null,7042013,41371]
[null,null,null,null,{"$f":"IF(Configuração!C1137=\"\",\"\",Configuração!B1137)","v":""},null,null,null,null,null,null,null,null,null,null,null,null,null,null,null,null,7042014,41736]
[null,null,null,null,{"$f":"IF(Configuração!C1138=\"\",\"\",Configuração!B1138)","v":""},null,null,null,null,null,null,null,null,null,null,null,null,null,null,null,null,7042015,42101]
[null,null,null,null,{"$f":"IF(Configuração!C1139=\"\",\"\",Configuração!B1139)","v":""},null,null,null,null,null,null,null,null,null,null,null,null,null,null,null,null,7042016,42467]
[null,null,null,null,{"$f":"IF(Configuração!C1140=\"\",\"\",Configuração!B1140)","v":""},null,null,null,null,null,null,null,null,null,null,null,null,null,null,null,null,7042017,42832]
[null,null,null,null,{"$f":"IF(Configuração!C1141=\"\",\"\",Configuração!B1141)","v":""},null,null,null,null,null,null,null,null,null,null,null,null,null,null,null,null,7042018,43197]
[null,null,null,null,{"$f":"IF(Configuração!C1142=\"\",\"\",Configuração!B1142)","v":""},null,null,null,null,null,null,null,null,null,null,null,null,null,null,null,null,7042019,43562]
[null,null,null,null,{"$f":"IF(Configuração!C1143=\"\",\"\",Configuração!B1143)","v":""},null,null,null,null,null,null,null,null,null,null,null,null,null,null,null,null,7042020,43928]
[null,null,null,null,{"$f":"IF(Configuração!C1144=\"\",\"\",Configuração!B1144)","v":""},null,null,null,null,null,null,null,null,null,null,null,null,null,null,null,null,7042021,44293]
[null,null,null,null,{"$f":"IF(Configuração!C1145=\"\",\"\",Configuração!B1145)","v":""},null,null,null,null,null,null,null,null,null,null,null,null,null,null,null,null,7042022,44658]
[null,null,null,null,{"$f":"IF(Configuração!C1146=\"\",\"\",Configuração!B1146)","v":""},null,null,null,null,null,null,null,null,null,null,null,null,null,null,null,null,7042023,45023]
[null,null,null,null,{"$f":"IF(Configuração!C1147=\"\",\"\",Configuração!B1147)","v":""},null,null,null,null,null,null,null,null,null,null,null,null,null,null,null,null,7052009,39940]
[null,null,null,null,{"$f":"IF(Configuração!C1148=\"\",\"\",Configuração!B1148)","v":""},null,null,null,null,null,null,null,null,null,null,null,null,null,null,null,null,7052010,40305]
[null,null,null,null,{"$f":"IF(Configuração!C1149=\"\",\"\",Configuração!B1149)","v":""},null,null,null,null,null,null,null,null,null,null,null,null,null,null,null,null,7052011,40670]
[null,null,null,null,{"$f":"IF(Configuração!C1150=\"\",\"\",Configuração!B1150)","v":""},null,null,null,null,null,null,null,null,null,null,null,null,null,null,null,null,7052012,41036]
[null,null,null,null,{"$f":"IF(Configuração!C1151=\"\",\"\",Configuração!B1151)","v":""},null,null,null,null,null,null,null,null,null,null,null,null,null,null,null,null,7052013,41401]
[null,null,null,null,{"$f":"IF(Configuração!C1152=\"\",\"\",Configuração!B1152)","v":""},null,null,null,null,null,null,null,null,null,null,null,null,null,null,null,null,7052014,41766]
[null,null,null,null,{"$f":"IF(Configuração!C1153=\"\",\"\",Configuração!B1153)","v":""},null,null,null,null,null,null,null,null,null,null,null,null,null,null,null,null,7052015,42131]
[null,null,null,null,{"$f":"IF(Configuração!C1154=\"\",\"\",Configuração!B1154)","v":""},null,null,null,null,null,null,null,null,null,null,null,null,null,null,null,null,7052016,42497]
[null,null,null,null,{"$f":"IF(Configuração!C1155=\"\",\"\",Configuração!B1155)","v":""},null,null,null,null,null,null,null,null,null,null,null,null,null,null,null,null,7052017,42862]
[null,null,null,null,{"$f":"IF(Configuração!C1156=\"\",\"\",Configuração!B1156)","v":""},null,null,null,null,null,null,null,null,null,null,null,null,null,null,null,null,7052018,43227]
[null,null,null,null,{"$f":"IF(Configuração!C1157=\"\",\"\",Configuração!B1157)","v":""},null,null,null,null,null,null,null,null,null,null,null,null,null,null,null,null,7052019,43592]
[null,null,null,null,{"$f":"IF(Configuração!C1158=\"\",\"\",Configuração!B1158)","v":""},null,null,null,null,null,null,null,null,null,null,null,null,null,null,null,null,7052020,43958]
[null,null,null,null,{"$f":"IF(Configuração!C1159=\"\",\"\",Configuração!B1159)","v":""},null,null,null,null,null,null,null,null,null,null,null,null,null,null,null,null,7052021,44323]
[null,null,null,null,{"$f":"IF(Configuração!C1160=\"\",\"\",Configuração!B1160)","v":""},null,null,null,null,null,null,null,null,null,null,null,null,null,null,null,null,7052022,44688]
[null,null,null,null,{"$f":"IF(Configuração!C1161=\"\",\"\",Configuração!B1161)","v":""},null,null,null,null,null,null,null,null,null,null,null,null,null,null,null,null,7052023,45053]
[null,null,null,null,{"$f":"IF(Configuração!C1162=\"\",\"\",Configuração!B1162)","v":""},null,null,null,null,null,null,null,null,null,null,null,null,null,null,null,null,7062009,39971]
[null,null,null,null,{"$f":"IF(Configuração!C1163=\"\",\"\",Configuração!B1163)","v":""},null,null,null,null,null,null,null,null,null,null,null,null,null,null,null,null,7062010,40336]
[null,null,null,null,{"$f":"IF(Configuração!C1164=\"\",\"\",Configuração!B1164)","v":""},null,null,null,null,null,null,null,null,null,null,null,null,null,null,null,null,7062011,40701]
[null,null,null,null,{"$f":"IF(Configuração!C1165=\"\",\"\",Configuração!B1165)","v":""},null,null,null,null,null,null,null,null,null,null,null,null,null,null,null,null,7062012,41067]
[null,null,null,null,{"$f":"IF(Configuração!C1166=\"\",\"\",Configuração!B1166)","v":""},null,null,null,null,null,null,null,null,null,null,null,null,null,null,null,null,7062013,41432]
[null,null,null,null,{"$f":"IF(Configuração!C1167=\"\",\"\",Configuração!B1167)","v":""},null,null,null,null,null,null,null,null,null,null,null,null,null,null,null,null,7062014,41797]
[null,null,null,null,{"$f":"IF(Configuração!C1168=\"\",\"\",Configuração!B1168)","v":""},null,null,null,null,null,null,null,null,null,null,null,null,null,null,null,null,7062015,42162]
[null,null,null,null,{"$f":"IF(Configuração!C1169=\"\",\"\",Configuração!B1169)","v":""},null,null,null,null,null,null,null,null,null,null,null,null,null,null,null,null,7062016,42528]
[null,null,null,null,{"$f":"IF(Configuração!C1170=\"\",\"\",Configuração!B1170)","v":""},null,null,null,null,null,null,null,null,null,null,null,null,null,null,null,null,7062017,42893]
[null,null,null,null,{"$f":"IF(Configuração!C1171=\"\",\"\",Configuração!B1171)","v":""},null,null,null,null,null,null,null,null,null,null,null,null,null,null,null,null,7062018,43258]
[null,null,null,null,{"$f":"IF(Configuração!C1172=\"\",\"\",Configuração!B1172)","v":""},null,null,null,null,null,null,null,null,null,null,null,null,null,null,null,null,7062019,43623]
[null,null,null,null,{"$f":"IF(Configuração!C1173=\"\",\"\",Configuração!B1173)","v":""},null,null,null,null,null,null,null,null,null,null,null,null,null,null,null,null,7062020,43989]
[null,null,null,null,{"$f":"IF(Configuração!C1174=\"\",\"\",Configuração!B1174)","v":""},null,null,null,null,null,null,null,null,null,null,null,null,null,null,null,null,7062021,44354]
[null,null,null,null,{"$f":"IF(Configuração!C1175=\"\",\"\",Configuração!B1175)","v":""},null,null,null,null,null,null,null,null,null,null,null,null,null,null,null,null,7062022,44719]
[null,null,null,null,{"$f":"IF(Configuração!C1176=\"\",\"\",Configuração!B1176)","v":""},null,null,null,null,null,null,null,null,null,null,null,null,null,null,null,null,7062023,45084]
[null,null,null,null,{"$f":"IF(Configuração!C1177=\"\",\"\",Configuração!B1177)","v":""},null,null,null,null,null,null,null,null,null,null,null,null,null,null,null,null,7072009,40001]
[null,null,null,null,{"$f":"IF(Configuração!C1178=\"\",\"\",Configuração!B1178)","v":""},null,null,null,null,null,null,null,null,null,null,null,null,null,null,null,null,7072010,40366]
[null,null,null,null,{"$f":"IF(Configuração!C1179=\"\",\"\",Configuração!B1179)","v":""},null,null,null,null,null,null,null,null,null,null,null,null,null,null,null,null,7072011,40731]
[null,null,null,null,{"$f":"IF(Configuração!C1180=\"\",\"\",Configuração!B1180)","v":""},null,null,null,null,null,null,null,null,null,null,null,null,null,null,null,null,7072012,41097]
[null,null,null,null,{"$f":"IF(Configuração!C1181=\"\",\"\",Configuração!B1181)","v":""},null,null,null,null,null,null,null,null,null,null,null,null,null,null,null,null,7072013,41462]
[null,null,null,null,{"$f":"IF(Configuração!C1182=\"\",\"\",Configuração!B1182)","v":""},null,null,null,null,null,null,null,null,null,null,null,null,null,null,null,null,7072014,41827]
[null,null,null,null,{"$f":"IF(Configuração!C1183=\"\",\"\",Configuração!B1183)","v":""},null,null,null,null,null,null,null,null,null,null,null,null,null,null,null,null,7072015,42192]
[null,null,null,null,{"$f":"IF(Configuração!C1184=\"\",\"\",Configuração!B1184)","v":""},null,null,null,null,null,null,null,null,null,null,null,null,null,null,null,null,7072016,42558]
[null,null,null,null,{"$f":"IF(Configuração!C1185=\"\",\"\",Configuração!B1185)","v":""},null,null,null,null,null,null,null,null,null,null,null,null,null,null,null,null,7072017,42923]
[null,null,null,null,{"$f":"IF(Configuração!C1186=\"\",\"\",Configuração!B1186)","v":""},null,null,null,null,null,null,null,null,null,null,null,null,null,null,null,null,7072018,43288]
[null,null,null,null,{"$f":"IF(Configuração!C1187=\"\",\"\",Configuração!B1187)","v":""},null,null,null,null,null,null,null,null,null,null,null,null,null,null,null,null,7072019,43653]
[null,null,null,null,{"$f":"IF(Configuração!C1188=\"\",\"\",Configuração!B1188)","v":""},null,null,null,null,null,null,null,null,null,null,null,null,null,null,null,null,7072020,44019]
[null,null,null,null,{"$f":"IF(Configuração!C1189=\"\",\"\",Configuração!B1189)","v":""},null,null,null,null,null,null,null,null,null,null,null,null,null,null,null,null,7072021,44384]
[null,null,null,null,{"$f":"IF(Configuração!C1190=\"\",\"\",Configuração!B1190)","v":""},null,null,null,null,null,null,null,null,null,null,null,null,null,null,null,null,7072022,44749]
[null,null,null,null,{"$f":"IF(Configuração!C1191=\"\",\"\",Configuração!B1191)","v":""},null,null,null,null,null,null,null,null,null,null,null,null,null,null,null,null,7072023,45114]
[null,null,null,null,{"$f":"IF(Configuração!C1192=\"\",\"\",Configuração!B1192)","v":""},null,null,null,null,null,null,null,null,null,null,null,null,null,null,null,null,7082009,40032]
[null,null,null,null,{"$f":"IF(Configuração!C1193=\"\",\"\",Configuração!B1193)","v":""},null,null,null,null,null,null,null,null,null,null,null,null,null,null,null,null,7082010,40397]
[null,null,null,null,{"$f":"IF(Configuração!C1194=\"\",\"\",Configuração!B1194)","v":""},null,null,null,null,null,null,null,null,null,null,null,null,null,null,null,null,7082011,40762]
[null,null,null,null,{"$f":"IF(Configuração!C1195=\"\",\"\",Configuração!B1195)","v":""},null,null,null,null,null,null,null,null,null,null,null,null,null,null,null,null,7082012,41128]
[null,null,null,null,{"$f":"IF(Configuração!C1196=\"\",\"\",Configuração!B1196)","v":""},null,null,null,null,null,null,null,null,null,null,null,null,null,null,null,null,7082013,41493]
[null,null,null,null,{"$f":"IF(Configuração!C1197=\"\",\"\",Configuração!B1197)","v":""},null,null,null,null,null,null,null,null,null,null,null,null,null,null,null,null,7082014,41858]
[null,null,null,null,{"$f":"IF(Configuração!C1198=\"\",\"\",Configuração!B1198)","v":""},null,null,null,null,null,null,null,null,null,null,null,null,null,null,null,null,7082015,42223]
[null,null,null,null,{"$f":"IF(Configuração!C1199=\"\",\"\",Configuração!B1199)","v":""},null,null,null,null,null,null,null,null,null,null,null,null,null,null,null,null,7082016,42589]
[null,null,null,null,{"$f":"IF(Configuração!C1200=\"\",\"\",Configuração!B1200)","v":""},null,null,null,null,null,null,null,null,null,null,null,null,null,null,null,null,7082017,42954]
[null,null,null,null,{"$f":"IF(Configuração!C1201=\"\",\"\",Configuração!B1201)","v":""},null,null,null,null,null,null,null,null,null,null,null,null,null,null,null,null,7082018,43319]
[null,null,null,null,{"$f":"IF(Configuração!C1202=\"\",\"\",Configuração!B1202)","v":""},null,null,null,null,null,null,null,null,null,null,null,null,null,null,null,null,7082019,43684]
[null,null,null,null,{"$f":"IF(Configuração!C1203=\"\",\"\",Configuração!B1203)","v":""},null,null,null,null,null,null,null,null,null,null,null,null,null,null,null,null,7082020,44050]
[null,null,null,null,{"$f":"IF(Configuração!C1204=\"\",\"\",Configuração!B1204)","v":""},null,null,null,null,null,null,null,null,null,null,null,null,null,null,null,null,7082021,44415]
[null,null,null,null,{"$f":"IF(Configuração!C1205=\"\",\"\",Configuração!B1205)","v":""},null,null,null,null,null,null,null,null,null,null,null,null,null,null,null,null,7082022,44780]
[null,null,null,null,{"$f":"IF(Configuração!C1206=\"\",\"\",Configuração!B1206)","v":""},null,null,null,null,null,null,null,null,null,null,null,null,null,null,null,null,7082023,45145]
[null,null,null,null,{"$f":"IF(Configuração!C1207=\"\",\"\",Configuração!B1207)","v":""},null,null,null,null,null,null,null,null,null,null,null,null,null,null,null,null,7092009,40063]
[null,null,null,null,{"$f":"IF(Configuração!C1208=\"\",\"\",Configuração!B1208)","v":""},null,null,null,null,null,null,null,null,null,null,null,null,null,null,null,null,7092010,40428]
[null,null,null,null,{"$f":"IF(Configuração!C1209=\"\",\"\",Configuração!B1209)","v":""},null,null,null,null,null,null,null,null,null,null,null,null,null,null,null,null,7092011,40793]
[null,null,null,null,{"$f":"IF(Configuração!C1210=\"\",\"\",Configuração!B1210)","v":""},null,null,null,null,null,null,null,null,null,null,null,null,null,null,null,null,7092012,41159]
[null,null,null,null,{"$f":"IF(Configuração!C1211=\"\",\"\",Configuração!B1211)","v":""},null,null,null,null,null,null,null,null,null,null,null,null,null,null,null,null,7092013,41524]
[null,null,null,null,{"$f":"IF(Configuração!C1212=\"\",\"\",Configuração!B1212)","v":""},null,null,null,null,null,null,null,null,null,null,null,null,null,null,null,null,7092014,41889]
[null,null,null,null,{"$f":"IF(Configuração!C1213=\"\",\"\",Configuração!B1213)","v":""},null,null,null,null,null,null,null,null,null,null,null,null,null,null,null,null,7092015,42254]
[null,null,null,null,{"$f":"IF(Configuração!C1214=\"\",\"\",Configuração!B1214)","v":""},null,null,null,null,null,null,null,null,null,null,null,null,null,null,null,null,7092016,42620]
[null,null,null,null,{"$f":"IF(Configuração!C1215=\"\",\"\",Configuração!B1215)","v":""},null,null,null,null,null,null,null,null,null,null,null,null,null,null,null,null,7092017,42985]
[null,null,null,null,{"$f":"IF(Configuração!C1216=\"\",\"\",Configuração!B1216)","v":""},null,null,null,null,null,null,null,null,null,null,null,null,null,null,null,null,7092018,43350]
[null,null,null,null,{"$f":"IF(Configuração!C1217=\"\",\"\",Configuração!B1217)","v":""},null,null,null,null,null,null,null,null,null,null,null,null,null,null,null,null,7092019,43715]
[null,null,null,null,{"$f":"IF(Configuração!C1218=\"\",\"\",Configuração!B1218)","v":""},null,null,null,null,null,null,null,null,null,null,null,null,null,null,null,null,7092020,44081]
[null,null,null,null,{"$f":"IF(Configuração!C1219=\"\",\"\",Configuração!B1219)","v":""},null,null,null,null,null,null,null,null,null,null,null,null,null,null,null,null,7092021,44446]
[null,null,null,null,{"$f":"IF(Configuração!C1220=\"\",\"\",Configuração!B1220)","v":""},null,null,null,null,null,null,null,null,null,null,null,null,null,null,null,null,7092022,44811]
[null,null,null,null,{"$f":"IF(Configuração!C1221=\"\",\"\",Configuração!B1221)","v":""},null,null,null,null,null,null,null,null,null,null,null,null,null,null,null,null,7092023,45176]
[null,null,null,null,{"$f":"IF(Configuração!C1222=\"\",\"\",Configuração!B1222)","v":""},null,null,null,null,null,null,null,null,null,null,null,null,null,null,null,null,7102009,40093]
[null,null,null,null,{"$f":"IF(Configuração!C1223=\"\",\"\",Configuração!B1223)","v":""},null,null,null,null,null,null,null,null,null,null,null,null,null,null,null,null,7102010,40458]
[null,null,null,null,{"$f":"IF(Configuração!C1224=\"\",\"\",Configuração!B1224)","v":""},null,null,null,null,null,null,null,null,null,null,null,null,null,null,null,null,7102011,40823]
[null,null,null,null,{"$f":"IF(Configuração!C1225=\"\",\"\",Configuração!B1225)","v":""},null,null,null,null,null,null,null,null,null,null,null,null,null,null,null,null,7102012,41189]
[null,null,null,null,{"$f":"IF(Configuração!C1226=\"\",\"\",Configuração!B1226)","v":""},null,null,null,null,null,null,null,null,null,null,null,null,null,null,null,null,7102013,41554]
[null,null,null,null,{"$f":"IF(Configuração!C1227=\"\",\"\",Configuração!B1227)","v":""},null,null,null,null,null,null,null,null,null,null,null,null,null,null,null,null,7102014,41919]
[null,null,null,null,{"$f":"IF(Configuração!C1228=\"\",\"\",Configuração!B1228)","v":""},null,null,null,null,null,null,null,null,null,null,null,null,null,null,null,null,7102015,42284]
[null,null,null,null,{"$f":"IF(Configuração!C1229=\"\",\"\",Configuração!B1229)","v":""},null,null,null,null,null,null,null,null,null,null,null,null,null,null,null,null,7102016,42650]
[null,null,null,null,{"$f":"IF(Configuração!C1230=\"\",\"\",Configuração!B1230)","v":""},null,null,null,null,null,null,null,null,null,null,null,null,null,null,null,null,7102017,43015]
[null,null,null,null,{"$f":"IF(Configuração!C1231=\"\",\"\",Configuração!B1231)","v":""},null,null,null,null,null,null,null,null,null,null,null,null,null,null,null,null,7102018,43380]
[null,null,null,null,{"$f":"IF(Configuração!C1232=\"\",\"\",Configuração!B1232)","v":""},null,null,null,null,null,null,null,null,null,null,null,null,null,null,null,null,7102019,43745]
[null,null,null,null,{"$f":"IF(Configuração!C1233=\"\",\"\",Configuração!B1233)","v":""},null,null,null,null,null,null,null,null,null,null,null,null,null,null,null,null,7102020,44111]
[null,null,null,null,{"$f":"IF(Configuração!C1234=\"\",\"\",Configuração!B1234)","v":""},null,null,null,null,null,null,null,null,null,null,null,null,null,null,null,null,7102021,44476]
[null,null,null,null,{"$f":"IF(Configuração!C1235=\"\",\"\",Configuração!B1235)","v":""},null,null,null,null,null,null,null,null,null,null,null,null,null,null,null,null,7102022,44841]
[null,null,null,null,{"$f":"IF(Configuração!C1236=\"\",\"\",Configuração!B1236)","v":""},null,null,null,null,null,null,null,null,null,null,null,null,null,null,null,null,7102023,45206]
[null,null,null,null,{"$f":"IF(Configuração!C1237=\"\",\"\",Configuração!B1237)","v":""},null,null,null,null,null,null,null,null,null,null,null,null,null,null,null,null,7112009,40124]
[null,null,null,null,{"$f":"IF(Configuração!C1238=\"\",\"\",Configuração!B1238)","v":""},null,null,null,null,null,null,null,null,null,null,null,null,null,null,null,null,7112010,40489]
[null,null,null,null,{"$f":"IF(Configuração!C1239=\"\",\"\",Configuração!B1239)","v":""},null,null,null,null,null,null,null,null,null,null,null,null,null,null,null,null,7112011,40854]
[null,null,null,null,{"$f":"IF(Configuração!C1240=\"\",\"\",Configuração!B1240)","v":""},null,null,null,null,null,null,null,null,null,null,null,null,null,null,null,null,7112012,41220]
[null,null,null,null,{"$f":"IF(Configuração!C1241=\"\",\"\",Configuração!B1241)","v":""},null,null,null,null,null,null,null,null,null,null,null,null,null,null,null,null,7112013,41585]
[null,null,null,null,{"$f":"IF(Configuração!C1242=\"\",\"\",Configuração!B1242)","v":""},null,null,null,null,null,null,null,null,null,null,null,null,null,null,null,null,7112014,41950]
[null,null,null,null,{"$f":"IF(Configuração!C1243=\"\",\"\",Configuração!B1243)","v":""},null,null,null,null,null,null,null,null,null,null,null,null,null,null,null,null,7112015,42315]
[null,null,null,null,{"$f":"IF(Configuração!C1244=\"\",\"\",Configuração!B1244)","v":""},null,null,null,null,null,null,null,null,null,null,null,null,null,null,null,null,7112016,42681]
[null,null,null,null,{"$f":"IF(Configuração!C1245=\"\",\"\",Configuração!B1245)","v":""},null,null,null,null,null,null,null,null,null,null,null,null,null,null,null,null,7112017,43046]
[null,null,null,null,{"$f":"IF(Configuração!C1246=\"\",\"\",Configuração!B1246)","v":""},null,null,null,null,null,null,null,null,null,null,null,null,null,null,null,null,7112018,43411]
[null,null,null,null,{"$f":"IF(Configuração!C1247=\"\",\"\",Configuração!B1247)","v":""},null,null,null,null,null,null,null,null,null,null,null,null,null,null,null,null,7112019,43776]
[null,null,null,null,{"$f":"IF(Configuração!C1248=\"\",\"\",Configuração!B1248)","v":""},null,null,null,null,null,null,null,null,null,null,null,null,null,null,null,null,7112020,44142]
[null,null,null,null,{"$f":"IF(Configuração!C1249=\"\",\"\",Configuração!B1249)","v":""},null,null,null,null,null,null,null,null,null,null,null,null,null,null,null,null,7112021,44507]
[null,null,null,null,{"$f":"IF(Configuração!C1250=\"\",\"\",Configuração!B1250)","v":""},null,null,null,null,null,null,null,null,null,null,null,null,null,null,null,null,7112022,44872]
[null,null,null,null,{"$f":"IF(Configuração!C1251=\"\",\"\",Configuração!B1251)","v":""},null,null,null,null,null,null,null,null,null,null,null,null,null,null,null,null,7112023,45237]
[null,null,null,null,{"$f":"IF(Configuração!C1252=\"\",\"\",Configuração!B1252)","v":""},null,null,null,null,null,null,null,null,null,null,null,null,null,null,null,null,7122009,40154]
[null,null,null,null,{"$f":"IF(Configuração!C1253=\"\",\"\",Configuração!B1253)","v":""},null,null,null,null,null,null,null,null,null,null,null,null,null,null,null,null,7122010,40519]
[null,null,null,null,{"$f":"IF(Configuração!C1254=\"\",\"\",Configuração!B1254)","v":""},null,null,null,null,null,null,null,null,null,null,null,null,null,null,null,null,7122011,40884]
[null,null,null,null,{"$f":"IF(Configuração!C1255=\"\",\"\",Configuração!B1255)","v":""},null,null,null,null,null,null,null,null,null,null,null,null,null,null,null,null,7122012,41250]
[null,null,null,null,{"$f":"IF(Configuração!C1256=\"\",\"\",Configuração!B1256)","v":""},null,null,null,null,null,null,null,null,null,null,null,null,null,null,null,null,7122013,41615]
[null,null,null,null,{"$f":"IF(Configuração!C1257=\"\",\"\",Configuração!B1257)","v":""},null,null,null,null,null,null,null,null,null,null,null,null,null,null,null,null,7122014,41980]
[null,null,null,null,{"$f":"IF(Configuração!C1258=\"\",\"\",Configuração!B1258)","v":""},null,null,null,null,null,null,null,null,null,null,null,null,null,null,null,null,7122015,42345]
[null,null,null,null,{"$f":"IF(Configuração!C1259=\"\",\"\",Configuração!B1259)","v":""},null,null,null,null,null,null,null,null,null,null,null,null,null,null,null,null,7122016,42711]
[null,null,null,null,{"$f":"IF(Configuração!C1260=\"\",\"\",Configuração!B1260)","v":""},null,null,null,null,null,null,null,null,null,null,null,null,null,null,null,null,7122017,43076]
[null,null,null,null,{"$f":"IF(Configuração!C1261=\"\",\"\",Configuração!B1261)","v":""},null,null,null,null,null,null,null,null,null,null,null,null,null,null,null,null,7122018,43441]
[null,null,null,null,{"$f":"IF(Configuração!C1262=\"\",\"\",Configuração!B1262)","v":""},null,null,null,null,null,null,null,null,null,null,null,null,null,null,null,null,7122019,43806]
[null,null,null,null,{"$f":"IF(Configuração!C1263=\"\",\"\",Configuração!B1263)","v":""},null,null,null,null,null,null,null,null,null,null,null,null,null,null,null,null,7122020,44172]
[null,null,null,null,{"$f":"IF(Configuração!C1264=\"\",\"\",Configuração!B1264)","v":""},null,null,null,null,null,null,null,null,null,null,null,null,null,null,null,null,7122021,44537]
[null,null,null,null,{"$f":"IF(Configuração!C1265=\"\",\"\",Configuração!B1265)","v":""},null,null,null,null,null,null,null,null,null,null,null,null,null,null,null,null,7122022,44902]
[null,null,null,null,{"$f":"IF(Configuração!C1266=\"\",\"\",Configuração!B1266)","v":""},null,null,null,null,null,null,null,null,null,null,null,null,null,null,null,null,7122023,45267]
[null,null,null,null,{"$f":"IF(Configuração!C1267=\"\",\"\",Configuração!B1267)","v":""},null,null,null,null,null,null,null,null,null,null,null,null,null,null,null,null,8012009,39821]
[null,null,null,null,{"$f":"IF(Configuração!C1268=\"\",\"\",Configuração!B1268)","v":""},null,null,null,null,null,null,null,null,null,null,null,null,null,null,null,null,8012010,40186]
[null,null,null,null,{"$f":"IF(Configuração!C1269=\"\",\"\",Configuração!B1269)","v":""},null,null,null,null,null,null,null,null,null,null,null,null,null,null,null,null,8012011,40551]
[null,null,null,null,{"$f":"IF(Configuração!C1270=\"\",\"\",Configuração!B1270)","v":""},null,null,null,null,null,null,null,null,null,null,null,null,null,null,null,null,8012012,40916]
[null,null,null,null,{"$f":"IF(Configuração!C1271=\"\",\"\",Configuração!B1271)","v":""},null,null,null,null,null,null,null,null,null,null,null,null,null,null,null,null,8012013,41282]
[null,null,null,null,{"$f":"IF(Configuração!C1272=\"\",\"\",Configuração!B1272)","v":""},null,null,null,null,null,null,null,null,null,null,null,null,null,null,null,null,8012014,41647]
[null,null,null,null,{"$f":"IF(Configuração!C1273=\"\",\"\",Configuração!B1273)","v":""},null,null,null,null,null,null,null,null,null,null,null,null,null,null,null,null,8012015,42012]
[null,null,null,null,{"$f":"IF(Configuração!C1274=\"\",\"\",Configuração!B1274)","v":""},null,null,null,null,null,null,null,null,null,null,null,null,null,null,null,null,8012016,42377]
[null,null,null,null,{"$f":"IF(Configuração!C1275=\"\",\"\",Configuração!B1275)","v":""},null,null,null,null,null,null,null,null,null,null,null,null,null,null,null,null,8012017,42743]
[null,null,null,null,{"$f":"IF(Configuração!C1276=\"\",\"\",Configuração!B1276)","v":""},null,null,null,null,null,null,null,null,null,null,null,null,null,null,null,null,8012018,43108]
[null,null,null,null,{"$f":"IF(Configuração!C1277=\"\",\"\",Configuração!B1277)","v":""},null,null,null,null,null,null,null,null,null,null,null,null,null,null,null,null,8012019,43473]
[null,null,null,null,{"$f":"IF(Configuração!C1278=\"\",\"\",Configuração!B1278)","v":""},null,null,null,null,null,null,null,null,null,null,null,null,null,null,null,null,8012020,43838]
[null,null,null,null,{"$f":"IF(Configuração!C1279=\"\",\"\",Configuração!B1279)","v":""},null,null,null,null,null,null,null,null,null,null,null,null,null,null,null,null,8012021,44204]
[null,null,null,null,{"$f":"IF(Configuração!C1280=\"\",\"\",Configuração!B1280)","v":""},null,null,null,null,null,null,null,null,null,null,null,null,null,null,null,null,8012022,44569]
[null,null,null,null,{"$f":"IF(Configuração!C1281=\"\",\"\",Configuração!B1281)","v":""},null,null,null,null,null,null,null,null,null,null,null,null,null,null,null,null,8012023,44934]
[null,null,null,null,{"$f":"IF(Configuração!C1282=\"\",\"\",Configuração!B1282)","v":""},null,null,null,null,null,null,null,null,null,null,null,null,null,null,null,null,8022009,39852]
[null,null,null,null,{"$f":"IF(Configuração!C1283=\"\",\"\",Configuração!B1283)","v":""},null,null,null,null,null,null,null,null,null,null,null,null,null,null,null,null,8022010,40217]
[null,null,null,null,{"$f":"IF(Configuração!C1284=\"\",\"\",Configuração!B1284)","v":""},null,null,null,null,null,null,null,null,null,null,null,null,null,null,null,null,8022011,40582]
[null,null,null,null,{"$f":"IF(Configuração!C1285=\"\",\"\",Configuração!B1285)","v":""},null,null,null,null,null,null,null,null,null,null,null,null,null,null,null,null,8022012,40947]
[null,null,null,null,{"$f":"IF(Configuração!C1286=\"\",\"\",Configuração!B1286)","v":""},null,null,null,null,null,null,null,null,null,null,null,null,null,null,null,null,8022013,41313]
[null,null,null,null,{"$f":"IF(Configuração!C1287=\"\",\"\",Configuração!B1287)","v":""},null,null,null,null,null,null,null,null,null,null,null,null,null,null,null,null,8022014,41678]
[null,null,null,null,{"$f":"IF(Configuração!C1288=\"\",\"\",Configuração!B1288)","v":""},null,null,null,null,null,null,null,null,null,null,null,null,null,null,null,null,8022015,42043]
[null,null,null,null,{"$f":"IF(Configuração!C1289=\"\",\"\",Configuração!B1289)","v":""},null,null,null,null,null,null,null,null,null,null,null,null,null,null,null,null,8022016,42408]
[null,null,null,null,{"$f":"IF(Configuração!C1290=\"\",\"\",Configuração!B1290)","v":""},null,null,null,null,null,null,null,null,null,null,null,null,null,null,null,null,8022017,42774]
[null,null,null,null,{"$f":"IF(Configuração!C1291=\"\",\"\",Configuração!B1291)","v":""},null,null,null,null,null,null,null,null,null,null,null,null,null,null,null,null,8022018,43139]
[null,null,null,null,{"$f":"IF(Configuração!C1292=\"\",\"\",Configuração!B1292)","v":""},null,null,null,null,null,null,null,null,null,null,null,null,null,null,null,null,8022019,43504]
[null,null,null,null,{"$f":"IF(Configuração!C1293=\"\",\"\",Configuração!B1293)","v":""},null,null,null,null,null,null,null,null,null,null,null,null,null,null,null,null,8022020,43869]
[null,null,null,null,{"$f":"IF(Configuração!C1294=\"\",\"\",Configuração!B1294)","v":""},null,null,null,null,null,null,null,null,null,null,null,null,null,null,null,null,8022021,44235]
[null,null,null,null,{"$f":"IF(Configuração!C1295=\"\",\"\",Configuração!B1295)","v":""},null,null,null,null,null,null,null,null,null,null,null,null,null,null,null,null,8022022,44600]
[null,null,null,null,{"$f":"IF(Configuração!C1296=\"\",\"\",Configuração!B1296)","v":""},null,null,null,null,null,null,null,null,null,null,null,null,null,null,null,null,8022023,44965]
[null,null,null,null,{"$f":"IF(Configuração!C1297=\"\",\"\",Configuração!B1297)","v":""},null,null,null,null,null,null,null,null,null,null,null,null,null,null,null,null,8032009,39880]
[null,null,null,null,{"$f":"IF(Configuração!C1298=\"\",\"\",Configuração!B1298)","v":""},null,null,null,null,null,null,null,null,null,null,null,null,null,null,null,null,8032010,40245]
[null,null,null,null,{"$f":"IF(Configuração!C1299=\"\",\"\",Configuração!B1299)","v":""},null,null,null,null,null,null,null,null,null,null,null,null,null,null,null,null,8032011,40610]
[null,null,null,null,{"$f":"IF(Configuração!C1300=\"\",\"\",Configuração!B1300)","v":""},null,null,null,null,null,null,null,null,null,null,null,null,null,null,null,null,8032012,40976]
[null,null,null,null,{"$f":"IF(Configuração!C1301=\"\",\"\",Configuração!B1301)","v":""},null,null,null,null,null,null,null,null,null,null,null,null,null,null,null,null,8032013,41341]
[null,null,null,null,{"$f":"IF(Configuração!C1302=\"\",\"\",Configuração!B1302)","v":""},null,null,null,null,null,null,null,null,null,null,null,null,null,null,null,null,8032014,41706]
[null,null,null,null,{"$f":"IF(Configuração!C1303=\"\",\"\",Configuração!B1303)","v":""},null,null,null,null,null,null,null,null,null,null,null,null,null,null,null,null,8032015,42071]
[null,null,null,null,{"$f":"IF(Configuração!C1304=\"\",\"\",Configuração!B1304)","v":""},null,null,null,null,null,null,null,null,null,null,null,null,null,null,null,null,8032016,42437]
[null,null,null,null,{"$f":"IF(Configuração!C1305=\"\",\"\",Configuração!B1305)","v":""},null,null,null,null,null,null,null,null,null,null,null,null,null,null,null,null,8032017,42802]
[null,null,null,null,{"$f":"IF(Configuração!C1306=\"\",\"\",Configuração!B1306)","v":""},null,null,null,null,null,null,null,null,null,null,null,null,null,null,null,null,8032018,43167]
[null,null,null,null,{"$f":"IF(Configuração!C1307=\"\",\"\",Configuração!B1307)","v":""},null,null,null,null,null,null,null,null,null,null,null,null,null,null,null,null,8032019,43532]
[null,null,null,null,{"$f":"IF(Configuração!C1308=\"\",\"\",Configuração!B1308)","v":""},null,null,null,null,null,null,null,null,null,null,null,null,null,null,null,null,8032020,43898]
[null,null,null,null,{"$f":"IF(Configuração!C1309=\"\",\"\",Configuração!B1309)","v":""},null,null,null,null,null,null,null,null,null,null,null,null,null,null,null,null,8032021,44263]
[null,null,null,null,{"$f":"IF(Configuração!C1310=\"\",\"\",Configuração!B1310)","v":""},null,null,null,null,null,null,null,null,null,null,null,null,null,null,null,null,8032022,44628]
[null,null,null,null,{"$f":"IF(Configuração!C1311=\"\",\"\",Configuração!B1311)","v":""},null,null,null,null,null,null,null,null,null,null,null,null,null,null,null,null,8032023,44993]
[null,null,null,null,{"$f":"IF(Configuração!C1312=\"\",\"\",Configuração!B1312)","v":""},null,null,null,null,null,null,null,null,null,null,null,null,null,null,null,null,8042009,39911]
[null,null,null,null,{"$f":"IF(Configuração!C1313=\"\",\"\",Configuração!B1313)","v":""},null,null,null,null,null,null,null,null,null,null,null,null,null,null,null,null,8042010,40276]
[null,null,null,null,{"$f":"IF(Configuração!C1314=\"\",\"\",Configuração!B1314)","v":""},null,null,null,null,null,null,null,null,null,null,null,null,null,null,null,null,8042011,40641]
[null,null,null,null,{"$f":"IF(Configuração!C1315=\"\",\"\",Configuração!B1315)","v":""},null,null,null,null,null,null,null,null,null,null,null,null,null,null,null,null,8042012,41007]
[null,null,null,null,{"$f":"IF(Configuração!C1316=\"\",\"\",Configuração!B1316)","v":""},null,null,null,null,null,null,null,null,null,null,null,null,null,null,null,null,8042013,41372]
[null,null,null,null,{"$f":"IF(Configuração!C1317=\"\",\"\",Configuração!B1317)","v":""},null,null,null,null,null,null,null,null,null,null,null,null,null,null,null,null,8042014,41737]
[null,null,null,null,{"$f":"IF(Configuração!C1318=\"\",\"\",Configuração!B1318)","v":""},null,null,null,null,null,null,null,null,null,null,null,null,null,null,null,null,8042015,42102]
[null,null,null,null,{"$f":"IF(Configuração!C1319=\"\",\"\",Configuração!B1319)","v":""},null,null,null,null,null,null,null,null,null,null,null,null,null,null,null,null,8042016,42468]
[null,null,null,null,{"$f":"IF(Configuração!C1320=\"\",\"\",Configuração!B1320)","v":""},null,null,null,null,null,null,null,null,null,null,null,null,null,null,null,null,8042017,42833]
[null,null,null,null,{"$f":"IF(Configuração!C1321=\"\",\"\",Configuração!B1321)","v":""},null,null,null,null,null,null,null,null,null,null,null,null,null,null,null,null,8042018,43198]
[null,null,null,null,{"$f":"IF(Configuração!C1322=\"\",\"\",Configuração!B1322)","v":""},null,null,null,null,null,null,null,null,null,null,null,null,null,null,null,null,8042019,43563]
[null,null,null,null,{"$f":"IF(Configuração!C1323=\"\",\"\",Configuração!B1323)","v":""},null,null,null,null,null,null,null,null,null,null,null,null,null,null,null,null,8042020,43929]
[null,null,null,null,{"$f":"IF(Configuração!C1324=\"\",\"\",Configuração!B1324)","v":""},null,null,null,null,null,null,null,null,null,null,null,null,null,null,null,null,8042021,44294]
[null,null,null,null,{"$f":"IF(Configuração!C1325=\"\",\"\",Configuração!B1325)","v":""},null,null,null,null,null,null,null,null,null,null,null,null,null,null,null,null,8042022,44659]
[null,null,null,null,{"$f":"IF(Configuração!C1326=\"\",\"\",Configuração!B1326)","v":""},null,null,null,null,null,null,null,null,null,null,null,null,null,null,null,null,8042023,45024]
[null,null,null,null,{"$f":"IF(Configuração!C1327=\"\",\"\",Configuração!B1327)","v":""},null,null,null,null,null,null,null,null,null,null,null,null,null,null,null,null,8052009,39941]
[null,null,null,null,{"$f":"IF(Configuração!C1328=\"\",\"\",Configuração!B1328)","v":""},null,null,null,null,null,null,null,null,null,null,null,null,null,null,null,null,8052010,40306]
[null,null,null,null,{"$f":"IF(Configuração!C1329=\"\",\"\",Configuração!B1329)","v":""},null,null,null,null,null,null,null,null,null,null,null,null,null,null,null,null,8052011,40671]
[null,null,null,null,{"$f":"IF(Configuração!C1330=\"\",\"\",Configuração!B1330)","v":""},null,null,null,null,null,null,null,null,null,null,null,null,null,null,null,null,8052012,41037]
[null,null,null,null,{"$f":"IF(Configuração!C1331=\"\",\"\",Configuração!B1331)","v":""},null,null,null,null,null,null,null,null,null,null,null,null,null,null,null,null,8052013,41402]
[null,null,null,null,{"$f":"IF(Configuração!C1332=\"\",\"\",Configuração!B1332)","v":""},null,null,null,null,null,null,null,null,null,null,null,null,null,null,null,null,8052014,41767]
[null,null,null,null,{"$f":"IF(Configuração!C1333=\"\",\"\",Configuração!B1333)","v":""},null,null,null,null,null,null,null,null,null,null,null,null,null,null,null,null,8052015,42132]
[null,null,null,null,{"$f":"IF(Configuração!C1334=\"\",\"\",Configuração!B1334)","v":""},null,null,null,null,null,null,null,null,null,null,null,null,null,null,null,null,8052016,42498]
[null,null,null,null,{"$f":"IF(Configuração!C1335=\"\",\"\",Configuração!B1335)","v":""},null,null,null,null,null,null,null,null,null,null,null,null,null,null,null,null,8052017,42863]
[null,null,null,null,{"$f":"IF(Configuração!C1336=\"\",\"\",Configuração!B1336)","v":""},null,null,null,null,null,null,null,null,null,null,null,null,null,null,null,null,8052018,43228]
[null,null,null,null,{"$f":"IF(Configuração!C1337=\"\",\"\",Configuração!B1337)","v":""},null,null,null,null,null,null,null,null,null,null,null,null,null,null,null,null,8052019,43593]
[null,null,null,null,{"$f":"IF(Configuração!C1338=\"\",\"\",Configuração!B1338)","v":""},null,null,null,null,null,null,null,null,null,null,null,null,null,null,null,null,8052020,43959]
[null,null,null,null,{"$f":"IF(Configuração!C1339=\"\",\"\",Configuração!B1339)","v":""},null,null,null,null,null,null,null,null,null,null,null,null,null,null,null,null,8052021,44324]
[null,null,null,null,{"$f":"IF(Configuração!C1340=\"\",\"\",Configuração!B1340)","v":""},null,null,null,null,null,null,null,null,null,null,null,null,null,null,null,null,8052022,44689]
[null,null,null,null,{"$f":"IF(Configuração!C1341=\"\",\"\",Configuração!B1341)","v":""},null,null,null,null,null,null,null,null,null,null,null,null,null,null,null,null,8052023,45054]
[null,null,null,null,{"$f":"IF(Configuração!C1342=\"\",\"\",Configuração!B1342)","v":""},null,null,null,null,null,null,null,null,null,null,null,null,null,null,null,null,8062009,39972]
[null,null,null,null,{"$f":"IF(Configuração!C1343=\"\",\"\",Configuração!B1343)","v":""},null,null,null,null,null,null,null,null,null,null,null,null,null,null,null,null,8062010,40337]
[null,null,null,null,{"$f":"IF(Configuração!C1344=\"\",\"\",Configuração!B1344)","v":""},null,null,null,null,null,null,null,null,null,null,null,null,null,null,null,null,8062011,40702]
[null,null,null,null,{"$f":"IF(Configuração!C1345=\"\",\"\",Configuração!B1345)","v":""},null,null,null,null,null,null,null,null,null,null,null,null,null,null,null,null,8062012,41068]
[null,null,null,null,{"$f":"IF(Configuração!C1346=\"\",\"\",Configuração!B1346)","v":""},null,null,null,null,null,null,null,null,null,null,null,null,null,null,null,null,8062013,41433]
[null,null,null,null,{"$f":"IF(Configuração!C1347=\"\",\"\",Configuração!B1347)","v":""},null,null,null,null,null,null,null,null,null,null,null,null,null,null,null,null,8062014,41798]
[null,null,null,null,{"$f":"IF(Configuração!C1348=\"\",\"\",Configuração!B1348)","v":""},null,null,null,null,null,null,null,null,null,null,null,null,null,null,null,null,8062015,42163]
[null,null,null,null,{"$f":"IF(Configuração!C1349=\"\",\"\",Configuração!B1349)","v":""},null,null,null,null,null,null,null,null,null,null,null,null,null,null,null,null,8062016,42529]
[null,null,null,null,{"$f":"IF(Configuração!C1350=\"\",\"\",Configuração!B1350)","v":""},null,null,null,null,null,null,null,null,null,null,null,null,null,null,null,null,8062017,42894]
[null,null,null,null,{"$f":"IF(Configuração!C1351=\"\",\"\",Configuração!B1351)","v":""},null,null,null,null,null,null,null,null,null,null,null,null,null,null,null,null,8062018,43259]
[null,null,null,null,{"$f":"IF(Configuração!C1352=\"\",\"\",Configuração!B1352)","v":""},null,null,null,null,null,null,null,null,null,null,null,null,null,null,null,null,8062019,43624]
[null,null,null,null,{"$f":"IF(Configuração!C1353=\"\",\"\",Configuração!B1353)","v":""},null,null,null,null,null,null,null,null,null,null,null,null,null,null,null,null,8062020,43990]
[null,null,null,null,{"$f":"IF(Configuração!C1354=\"\",\"\",Configuração!B1354)","v":""},null,null,null,null,null,null,null,null,null,null,null,null,null,null,null,null,8062021,44355]
[null,null,null,null,{"$f":"IF(Configuração!C1355=\"\",\"\",Configuração!B1355)","v":""},null,null,null,null,null,null,null,null,null,null,null,null,null,null,null,null,8062022,44720]
[null,null,null,null,{"$f":"IF(Configuração!C1356=\"\",\"\",Configuração!B1356)","v":""},null,null,null,null,null,null,null,null,null,null,null,null,null,null,null,null,8062023,45085]
[null,null,null,null,{"$f":"IF(Configuração!C1357=\"\",\"\",Configuração!B1357)","v":""},null,null,null,null,null,null,null,null,null,null,null,null,null,null,null,null,8072009,40002]
[null,null,null,null,{"$f":"IF(Configuração!C1358=\"\",\"\",Configuração!B1358)","v":""},null,null,null,null,null,null,null,null,null,null,null,null,null,null,null,null,8072010,40367]
[null,null,null,null,{"$f":"IF(Configuração!C1359=\"\",\"\",Configuração!B1359)","v":""},null,null,null,null,null,null,null,null,null,null,null,null,null,null,null,null,8072011,40732]
[null,null,null,null,{"$f":"IF(Configuração!C1360=\"\",\"\",Configuração!B1360)","v":""},null,null,null,null,null,null,null,null,null,null,null,null,null,null,null,null,8072012,41098]
[null,null,null,null,{"$f":"IF(Configuração!C1361=\"\",\"\",Configuração!B1361)","v":""},null,null,null,null,null,null,null,null,null,null,null,null,null,null,null,null,8072013,41463]
[null,null,null,null,{"$f":"IF(Configuração!C1362=\"\",\"\",Configuração!B1362)","v":""},null,null,null,null,null,null,null,null,null,null,null,null,null,null,null,null,8072014,41828]
[null,null,null,null,{"$f":"IF(Configuração!C1363=\"\",\"\",Configuração!B1363)","v":""},null,null,null,null,null,null,null,null,null,null,null,null,null,null,null,null,8072015,42193]
[null,null,null,null,{"$f":"IF(Configuração!C1364=\"\",\"\",Configuração!B1364)","v":""},null,null,null,null,null,null,null,null,null,null,null,null,null,null,null,null,8072016,42559]
[null,null,null,null,{"$f":"IF(Configuração!C1365=\"\",\"\",Configuração!B1365)","v":""},null,null,null,null,null,null,null,null,null,null,null,null,null,null,null,null,8072017,42924]
[null,null,null,null,{"$f":"IF(Configuração!C1366=\"\",\"\",Configuração!B1366)","v":""},null,null,null,null,null,null,null,null,null,null,null,null,null,null,null,null,8072018,43289]
[null,null,null,null,{"$f":"IF(Configuração!C1367=\"\",\"\",Configuração!B1367)","v":""},null,null,null,null,null,null,null,null,null,null,null,null,null,null,null,null,8072019,43654]
[null,null,null,null,{"$f":"IF(Configuração!C1368=\"\",\"\",Configuração!B1368)","v":""},null,null,null,null,null,null,null,null,null,null,null,null,null,null,null,null,8072020,44020]
[null,null,null,null,{"$f":"IF(Configuração!C1369=\"\",\"\",Configuração!B1369)","v":""},null,null,null,null,null,null,null,null,null,null,null,null,null,null,null,null,8072021,44385]
[null,null,null,null,{"$f":"IF(Configuração!C1370=\"\",\"\",Configuração!B1370)","v":""},null,null,null,null,null,null,null,null,null,null,null,null,null,null,null,null,8072022,44750]
[null,null,null,null,{"$f":"IF(Configuração!C1371=\"\",\"\",Configuração!B1371)","v":""},null,null,null,null,null,null,null,null,null,null,null,null,null,null,null,null,8072023,45115]
[null,null,null,null,{"$f":"IF(Configuração!C1372=\"\",\"\",Configuração!B1372)","v":""},null,null,null,null,null,null,null,null,null,null,null,null,null,null,null,null,8082009,40033]
[null,null,null,null,{"$f":"IF(Configuração!C1373=\"\",\"\",Configuração!B1373)","v":""},null,null,null,null,null,null,null,null,null,null,null,null,null,null,null,null,8082010,40398]
[null,null,null,null,{"$f":"IF(Configuração!C1374=\"\",\"\",Configuração!B1374)","v":""},null,null,null,null,null,null,null,null,null,null,null,null,null,null,null,null,8082011,40763]
[null,null,null,null,{"$f":"IF(Configuração!C1375=\"\",\"\",Configuração!B1375)","v":""},null,null,null,null,null,null,null,null,null,null,null,null,null,null,null,null,8082012,41129]
[null,null,null,null,{"$f":"IF(Configuração!C1376=\"\",\"\",Configuração!B1376)","v":""},null,null,null,null,null,null,null,null,null,null,null,null,null,null,null,null,8082013,41494]
[null,null,null,null,{"$f":"IF(Configuração!C1377=\"\",\"\",Configuração!B1377)","v":""},null,null,null,null,null,null,null,null,null,null,null,null,null,null,null,null,8082014,41859]
[null,null,null,null,{"$f":"IF(Configuração!C1378=\"\",\"\",Configuração!B1378)","v":""},null,null,null,null,null,null,null,null,null,null,null,null,null,null,null,null,8082015,42224]
[null,null,null,null,{"$f":"IF(Configuração!C1379=\"\",\"\",Configuração!B1379)","v":""},null,null,null,null,null,null,null,null,null,null,null,null,null,null,null,null,8082016,42590]
[null,null,null,null,{"$f":"IF(Configuração!C1380=\"\",\"\",Configuração!B1380)","v":""},null,null,null,null,null,null,null,null,null,null,null,null,null,null,null,null,8082017,42955]
[null,null,null,null,{"$f":"IF(Configuração!C1381=\"\",\"\",Configuração!B1381)","v":""},null,null,null,null,null,null,null,null,null,null,null,null,null,null,null,null,8082018,43320]
[null,null,null,null,{"$f":"IF(Configuração!C1382=\"\",\"\",Configuração!B1382)","v":""},null,null,null,null,null,null,null,null,null,null,null,null,null,null,null,null,8082019,43685]
[null,null,null,null,{"$f":"IF(Configuração!C1383=\"\",\"\",Configuração!B1383)","v":""},null,null,null,null,null,null,null,null,null,null,null,null,null,null,null,null,8082020,44051]
[null,null,null,null,{"$f":"IF(Configuração!C1384=\"\",\"\",Configuração!B1384)","v":""},null,null,null,null,null,null,null,null,null,null,null,null,null,null,null,null,8082021,44416]
[null,null,null,null,{"$f":"IF(Configuração!C1385=\"\",\"\",Configuração!B1385)","v":""},null,null,null,null,null,null,null,null,null,null,null,null,null,null,null,null,8082022,44781]
[null,null,null,null,{"$f":"IF(Configuração!C1386=\"\",\"\",Configuração!B1386)","v":""},null,null,null,null,null,null,null,null,null,null,null,null,null,null,null,null,8082023,45146]
[null,null,null,null,{"$f":"IF(Configuração!C1387=\"\",\"\",Configuração!B1387)","v":""},null,null,null,null,null,null,null,null,null,null,null,null,null,null,null,null,8092009,40064]
[null,null,null,null,{"$f":"IF(Configuração!C1388=\"\",\"\",Configuração!B1388)","v":""},null,null,null,null,null,null,null,null,null,null,null,null,null,null,null,null,8092010,40429]
[null,null,null,null,{"$f":"IF(Configuração!C1389=\"\",\"\",Configuração!B1389)","v":""},null,null,null,null,null,null,null,null,null,null,null,null,null,null,null,null,8092011,40794]
[null,null,null,null,{"$f":"IF(Configuração!C1390=\"\",\"\",Configuração!B1390)","v":""},null,null,null,null,null,null,null,null,null,null,null,null,null,null,null,null,8092012,41160]
[null,null,null,null,{"$f":"IF(Configuração!C1391=\"\",\"\",Configuração!B1391)","v":""},null,null,null,null,null,null,null,null,null,null,null,null,null,null,null,null,8092013,41525]
[null,null,null,null,{"$f":"IF(Configuração!C1392=\"\",\"\",Configuração!B1392)","v":""},null,null,null,null,null,null,null,null,null,null,null,null,null,null,null,null,8092014,41890]
[null,null,null,null,{"$f":"IF(Configuração!C1393=\"\",\"\",Configuração!B1393)","v":""},null,null,null,null,null,null,null,null,null,null,null,null,null,null,null,null,8092015,42255]
[null,null,null,null,{"$f":"IF(Configuração!C1394=\"\",\"\",Configuração!B1394)","v":""},null,null,null,null,null,null,null,null,null,null,null,null,null,null,null,null,8092016,42621]
[null,null,null,null,{"$f":"IF(Configuração!C1395=\"\",\"\",Configuração!B1395)","v":""},null,null,null,null,null,null,null,null,null,null,null,null,null,null,null,null,8092017,42986]
[null,null,null,null,{"$f":"IF(Configuração!C1396=\"\",\"\",Configuração!B1396)","v":""},null,null,null,null,null,null,null,null,null,null,null,null,null,null,null,null,8092018,43351]
[null,null,null,null,{"$f":"IF(Configuração!C1397=\"\",\"\",Configuração!B1397)","v":""},null,null,null,null,null,null,null,null,null,null,null,null,null,null,null,null,8092019,43716]
[null,null,null,null,{"$f":"IF(Configuração!C1398=\"\",\"\",Configuração!B1398)","v":""},null,null,null,null,null,null,null,null,null,null,null,null,null,null,null,null,8092020,44082]
[null,null,null,null,{"$f":"IF(Configuração!C1399=\"\",\"\",Configuração!B1399)","v":""},null,null,null,null,null,null,null,null,null,null,null,null,null,null,null,null,8092021,44447]
[null,null,null,null,{"$f":"IF(Configuração!C1400=\"\",\"\",Configuração!B1400)","v":""},null,null,null,null,null,null,null,null,null,null,null,null,null,null,null,null,8092022,44812]
[null,null,null,null,{"$f":"IF(Configuração!C1401=\"\",\"\",Configuração!B1401)","v":""},null,null,null,null,null,null,null,null,null,null,null,null,null,null,null,null,8092023,45177]
[null,null,null,null,{"$f":"IF(Configuração!C1402=\"\",\"\",Configuração!B1402)","v":""},null,null,null,null,null,null,null,null,null,null,null,null,null,null,null,null,8102009,40094]
[null,null,null,null,{"$f":"IF(Configuração!C1403=\"\",\"\",Configuração!B1403)","v":""},null,null,null,null,null,null,null,null,null,null,null,null,null,null,null,null,8102010,40459]
[null,null,null,null,{"$f":"IF(Configuração!C1404=\"\",\"\",Configuração!B1404)","v":""},null,null,null,null,null,null,null,null,null,null,null,null,null,null,null,null,8102011,40824]
[null,null,null,null,{"$f":"IF(Configuração!C1405=\"\",\"\",Configuração!B1405)","v":""},null,null,null,null,null,null,null,null,null,null,null,null,null,null,null,null,8102012,41190]
[null,null,null,null,{"$f":"IF(Configuração!C1406=\"\",\"\",Configuração!B1406)","v":""},null,null,null,null,null,null,null,null,null,null,null,null,null,null,null,null,8102013,41555]
[null,null,null,null,{"$f":"IF(Configuração!C1407=\"\",\"\",Configuração!B1407)","v":""},null,null,null,null,null,null,null,null,null,null,null,null,null,null,null,null,8102014,41920]
[null,null,null,null,{"$f":"IF(Configuração!C1408=\"\",\"\",Configuração!B1408)","v":""},null,null,null,null,null,null,null,null,null,null,null,null,null,null,null,null,8102015,42285]
[null,null,null,null,{"$f":"IF(Configuração!C1409=\"\",\"\",Configuração!B1409)","v":""},null,null,null,null,null,null,null,null,null,null,null,null,null,null,null,null,8102016,42651]
[null,null,null,null,{"$f":"IF(Configuração!C1410=\"\",\"\",Configuração!B1410)","v":""},null,null,null,null,null,null,null,null,null,null,null,null,null,null,null,null,8102017,43016]
[null,null,null,null,{"$f":"IF(Configuração!C1411=\"\",\"\",Configuração!B1411)","v":""},null,null,null,null,null,null,null,null,null,null,null,null,null,null,null,null,8102018,43381]
[null,null,null,null,{"$f":"IF(Configuração!C1412=\"\",\"\",Configuração!B1412)","v":""},null,null,null,null,null,null,null,null,null,null,null,null,null,null,null,null,8102019,43746]
[null,null,null,null,{"$f":"IF(Configuração!C1413=\"\",\"\",Configuração!B1413)","v":""},null,null,null,null,null,null,null,null,null,null,null,null,null,null,null,null,8102020,44112]
[null,null,null,null,{"$f":"IF(Configuração!C1414=\"\",\"\",Configuração!B1414)","v":""},null,null,null,null,null,null,null,null,null,null,null,null,null,null,null,null,8102021,44477]
[null,null,null,null,{"$f":"IF(Configuração!C1415=\"\",\"\",Configuração!B1415)","v":""},null,null,null,null,null,null,null,null,null,null,null,null,null,null,null,null,8102022,44842]
[null,null,null,null,{"$f":"IF(Configuração!C1416=\"\",\"\",Configuração!B1416)","v":""},null,null,null,null,null,null,null,null,null,null,null,null,null,null,null,null,8102023,45207]
[null,null,null,null,{"$f":"IF(Configuração!C1417=\"\",\"\",Configuração!B1417)","v":""},null,null,null,null,null,null,null,null,null,null,null,null,null,null,null,null,8112009,40125]
[null,null,null,null,{"$f":"IF(Configuração!C1418=\"\",\"\",Configuração!B1418)","v":""},null,null,null,null,null,null,null,null,null,null,null,null,null,null,null,null,8112010,40490]
[null,null,null,null,{"$f":"IF(Configuração!C1419=\"\",\"\",Configuração!B1419)","v":""},null,null,null,null,null,null,null,null,null,null,null,null,null,null,null,null,8112011,40855]
[null,null,null,null,{"$f":"IF(Configuração!C1420=\"\",\"\",Configuração!B1420)","v":""},null,null,null,null,null,null,null,null,null,null,null,null,null,null,null,null,8112012,41221]
[null,null,null,null,{"$f":"IF(Configuração!C1421=\"\",\"\",Configuração!B1421)","v":""},null,null,null,null,null,null,null,null,null,null,null,null,null,null,null,null,8112013,41586]
[null,null,null,null,{"$f":"IF(Configuração!C1422=\"\",\"\",Configuração!B1422)","v":""},null,null,null,null,null,null,null,null,null,null,null,null,null,null,null,null,8112014,41951]
[null,null,null,null,{"$f":"IF(Configuração!C1423=\"\",\"\",Configuração!B1423)","v":""},null,null,null,null,null,null,null,null,null,null,null,null,null,null,null,null,8112015,42316]
[null,null,null,null,{"$f":"IF(Configuração!C1424=\"\",\"\",Configuração!B1424)","v":""},null,null,null,null,null,null,null,null,null,null,null,null,null,null,null,null,8112016,42682]
[null,null,null,null,{"$f":"IF(Configuração!C1425=\"\",\"\",Configuração!B1425)","v":""},null,null,null,null,null,null,null,null,null,null,null,null,null,null,null,null,8112017,43047]
[null,null,null,null,{"$f":"IF(Configuração!C1426=\"\",\"\",Configuração!B1426)","v":""},null,null,null,null,null,null,null,null,null,null,null,null,null,null,null,null,8112018,43412]
[null,null,null,null,{"$f":"IF(Configuração!C1427=\"\",\"\",Configuração!B1427)","v":""},null,null,null,null,null,null,null,null,null,null,null,null,null,null,null,null,8112019,43777]
[null,null,null,null,{"$f":"IF(Configuração!C1428=\"\",\"\",Configuração!B1428)","v":""},null,null,null,null,null,null,null,null,null,null,null,null,null,null,null,null,8112020,44143]
[null,null,null,null,{"$f":"IF(Configuração!C1429=\"\",\"\",Configuração!B1429)","v":""},null,null,null,null,null,null,null,null,null,null,null,null,null,null,null,null,8112021,44508]
[null,null,null,null,{"$f":"IF(Configuração!C1430=\"\",\"\",Configuração!B1430)","v":""},null,null,null,null,null,null,null,null,null,null,null,null,null,null,null,null,8112022,44873]
[null,null,null,null,{"$f":"IF(Configuração!C1431=\"\",\"\",Configuração!B1431)","v":""},null,null,null,null,null,null,null,null,null,null,null,null,null,null,null,null,8112023,45238]
[null,null,null,null,{"$f":"IF(Configuração!C1432=\"\",\"\",Configuração!B1432)","v":""},null,null,null,null,null,null,null,null,null,null,null,null,null,null,null,null,8122009,40155]
[null,null,null,null,{"$f":"IF(Configuração!C1433=\"\",\"\",Configuração!B1433)","v":""},null,null,null,null,null,null,null,null,null,null,null,null,null,null,null,null,8122010,40520]
[null,null,null,null,{"$f":"IF(Configuração!C1434=\"\",\"\",Configuração!B1434)","v":""},null,null,null,null,null,null,null,null,null,null,null,null,null,null,null,null,8122011,40885]
[null,null,null,null,{"$f":"IF(Configuração!C1435=\"\",\"\",Configuração!B1435)","v":""},null,null,null,null,null,null,null,null,null,null,null,null,null,null,null,null,8122012,41251]
[null,null,null,null,{"$f":"IF(Configuração!C1436=\"\",\"\",Configuração!B1436)","v":""},null,null,null,null,null,null,null,null,null,null,null,null,null,null,null,null,8122013,41616]
[null,null,null,null,{"$f":"IF(Configuração!C1437=\"\",\"\",Configuração!B1437)","v":""},null,null,null,null,null,null,null,null,null,null,null,null,null,null,null,null,8122014,41981]
[null,null,null,null,{"$f":"IF(Configuração!C1438=\"\",\"\",Configuração!B1438)","v":""},null,null,null,null,null,null,null,null,null,null,null,null,null,null,null,null,8122015,42346]
[null,null,null,null,{"$f":"IF(Configuração!C1439=\"\",\"\",Configuração!B1439)","v":""},null,null,null,null,null,null,null,null,null,null,null,null,null,null,null,null,8122016,42712]
[null,null,null,null,{"$f":"IF(Configuração!C1440=\"\",\"\",Configuração!B1440)","v":""},null,null,null,null,null,null,null,null,null,null,null,null,null,null,null,null,8122017,43077]
[null,null,null,null,{"$f":"IF(Configuração!C1441=\"\",\"\",Configuração!B1441)","v":""},null,null,null,null,null,null,null,null,null,null,null,null,null,null,null,null,8122018,43442]
[null,null,null,null,{"$f":"IF(Configuração!C1442=\"\",\"\",Configuração!B1442)","v":""},null,null,null,null,null,null,null,null,null,null,null,null,null,null,null,null,8122019,43807]
[null,null,null,null,{"$f":"IF(Configuração!C1443=\"\",\"\",Configuração!B1443)","v":""},null,null,null,null,null,null,null,null,null,null,null,null,null,null,null,null,8122020,44173]
[null,null,null,null,{"$f":"IF(Configuração!C1444=\"\",\"\",Configuração!B1444)","v":""},null,null,null,null,null,null,null,null,null,null,null,null,null,null,null,null,8122021,44538]
[null,null,null,null,{"$f":"IF(Configuração!C1445=\"\",\"\",Configuração!B1445)","v":""},null,null,null,null,null,null,null,null,null,null,null,null,null,null,null,null,8122022,44903]
[null,null,null,null,{"$f":"IF(Configuração!C1446=\"\",\"\",Configuração!B1446)","v":""},null,null,null,null,null,null,null,null,null,null,null,null,null,null,null,null,8122023,45268]
[null,null,null,null,{"$f":"IF(Configuração!C1447=\"\",\"\",Configuração!B1447)","v":""},null,null,null,null,null,null,null,null,null,null,null,null,null,null,null,null,9012009,39822]
[null,null,null,null,{"$f":"IF(Configuração!C1448=\"\",\"\",Configuração!B1448)","v":""},null,null,null,null,null,null,null,null,null,null,null,null,null,null,null,null,9012010,40187]
[null,null,null,null,{"$f":"IF(Configuração!C1449=\"\",\"\",Configuração!B1449)","v":""},null,null,null,null,null,null,null,null,null,null,null,null,null,null,null,null,9012011,40552]
[null,null,null,null,{"$f":"IF(Configuração!C1450=\"\",\"\",Configuração!B1450)","v":""},null,null,null,null,null,null,null,null,null,null,null,null,null,null,null,null,9012012,40917]
[null,null,null,null,{"$f":"IF(Configuração!C1451=\"\",\"\",Configuração!B1451)","v":""},null,null,null,null,null,null,null,null,null,null,null,null,null,null,null,null,9012013,41283]
[null,null,null,null,{"$f":"IF(Configuração!C1452=\"\",\"\",Configuração!B1452)","v":""},null,null,null,null,null,null,null,null,null,null,null,null,null,null,null,null,9012014,41648]
[null,null,null,null,{"$f":"IF(Configuração!C1453=\"\",\"\",Configuração!B1453)","v":""},null,null,null,null,null,null,null,null,null,null,null,null,null,null,null,null,9012015,42013]
[null,null,null,null,{"$f":"IF(Configuração!C1454=\"\",\"\",Configuração!B1454)","v":""},null,null,null,null,null,null,null,null,null,null,null,null,null,null,null,null,9012016,42378]
[null,null,null,null,{"$f":"IF(Configuração!C1455=\"\",\"\",Configuração!B1455)","v":""},null,null,null,null,null,null,null,null,null,null,null,null,null,null,null,null,9012017,42744]
[null,null,null,null,{"$f":"IF(Configuração!C1456=\"\",\"\",Configuração!B1456)","v":""},null,null,null,null,null,null,null,null,null,null,null,null,null,null,null,null,9012018,43109]
[null,null,null,null,{"$f":"IF(Configuração!C1457=\"\",\"\",Configuração!B1457)","v":""},null,null,null,null,null,null,null,null,null,null,null,null,null,null,null,null,9012019,43474]
[null,null,null,null,{"$f":"IF(Configuração!C1458=\"\",\"\",Configuração!B1458)","v":""},null,null,null,null,null,null,null,null,null,null,null,null,null,null,null,null,9012020,43839]
[null,null,null,null,{"$f":"IF(Configuração!C1459=\"\",\"\",Configuração!B1459)","v":""},null,null,null,null,null,null,null,null,null,null,null,null,null,null,null,null,9012021,44205]
[null,null,null,null,{"$f":"IF(Configuração!C1460=\"\",\"\",Configuração!B1460)","v":""},null,null,null,null,null,null,null,null,null,null,null,null,null,null,null,null,9012022,44570]
[null,null,null,null,{"$f":"IF(Configuração!C1461=\"\",\"\",Configuração!B1461)","v":""},null,null,null,null,null,null,null,null,null,null,null,null,null,null,null,null,9012023,44935]
[null,null,null,null,{"$f":"IF(Configuração!C1462=\"\",\"\",Configuração!B1462)","v":""},null,null,null,null,null,null,null,null,null,null,null,null,null,null,null,null,9022009,39853]
[null,null,null,null,{"$f":"IF(Configuração!C1463=\"\",\"\",Configuração!B1463)","v":""},null,null,null,null,null,null,null,null,null,null,null,null,null,null,null,null,9022010,40218]
[null,null,null,null,{"$f":"IF(Configuração!C1464=\"\",\"\",Configuração!B1464)","v":""},null,null,null,null,null,null,null,null,null,null,null,null,null,null,null,null,9022011,40583]
[null,null,null,null,{"$f":"IF(Configuração!C1465=\"\",\"\",Configuração!B1465)","v":""},null,null,null,null,null,null,null,null,null,null,null,null,null,null,null,null,9022012,40948]
[null,null,null,null,{"$f":"IF(Configuração!C1466=\"\",\"\",Configuração!B1466)","v":""},null,null,null,null,null,null,null,null,null,null,null,null,null,null,null,null,9022013,41314]
[null,null,null,null,{"$f":"IF(Configuração!C1467=\"\",\"\",Configuração!B1467)","v":""},null,null,null,null,null,null,null,null,null,null,null,null,null,null,null,null,9022014,41679]
[null,null,null,null,{"$f":"IF(Configuração!C1468=\"\",\"\",Configuração!B1468)","v":""},null,null,null,null,null,null,null,null,null,null,null,null,null,null,null,null,9022015,42044]
[null,null,null,null,{"$f":"IF(Configuração!C1469=\"\",\"\",Configuração!B1469)","v":""},null,null,null,null,null,null,null,null,null,null,null,null,null,null,null,null,9022016,42409]
[null,null,null,null,{"$f":"IF(Configuração!C1470=\"\",\"\",Configuração!B1470)","v":""},null,null,null,null,null,null,null,null,null,null,null,null,null,null,null,null,9022017,42775]
[null,null,null,null,{"$f":"IF(Configuração!C1471=\"\",\"\",Configuração!B1471)","v":""},null,null,null,null,null,null,null,null,null,null,null,null,null,null,null,null,9022018,43140]
[null,null,null,null,{"$f":"IF(Configuração!C1472=\"\",\"\",Configuração!B1472)","v":""},null,null,null,null,null,null,null,null,null,null,null,null,null,null,null,null,9022019,43505]
[null,null,null,null,{"$f":"IF(Configuração!C1473=\"\",\"\",Configuração!B1473)","v":""},null,null,null,null,null,null,null,null,null,null,null,null,null,null,null,null,9022020,43870]
[null,null,null,null,{"$f":"IF(Configuração!C1474=\"\",\"\",Configuração!B1474)","v":""},null,null,null,null,null,null,null,null,null,null,null,null,null,null,null,null,9022021,44236]
[null,null,null,null,{"$f":"IF(Configuração!C1475=\"\",\"\",Configuração!B1475)","v":""},null,null,null,null,null,null,null,null,null,null,null,null,null,null,null,null,9022022,44601]
[null,null,null,null,{"$f":"IF(Configuração!C1476=\"\",\"\",Configuração!B1476)","v":""},null,null,null,null,null,null,null,null,null,null,null,null,null,null,null,null,9022023,44966]
[null,null,null,null,{"$f":"IF(Configuração!C1477=\"\",\"\",Configuração!B1477)","v":""},null,null,null,null,null,null,null,null,null,null,null,null,null,null,null,null,9032009,39881]
[null,null,null,null,{"$f":"IF(Configuração!C1478=\"\",\"\",Configuração!B1478)","v":""},null,null,null,null,null,null,null,null,null,null,null,null,null,null,null,null,9032010,40246]
[null,null,null,null,{"$f":"IF(Configuração!C1479=\"\",\"\",Configuração!B1479)","v":""},null,null,null,null,null,null,null,null,null,null,null,null,null,null,null,null,9032011,40611]
[null,null,null,null,{"$f":"IF(Configuração!C1480=\"\",\"\",Configuração!B1480)","v":""},null,null,null,null,null,null,null,null,null,null,null,null,null,null,null,null,9032012,40977]
[null,null,null,null,{"$f":"IF(Configuração!C1481=\"\",\"\",Configuração!B1481)","v":""},null,null,null,null,null,null,null,null,null,null,null,null,null,null,null,null,9032013,41342]
[null,null,null,null,{"$f":"IF(Configuração!C1482=\"\",\"\",Configuração!B1482)","v":""},null,null,null,null,null,null,null,null,null,null,null,null,null,null,null,null,9032014,41707]
[null,null,null,null,{"$f":"IF(Configuração!C1483=\"\",\"\",Configuração!B1483)","v":""},null,null,null,null,null,null,null,null,null,null,null,null,null,null,null,null,9032015,42072]
[null,null,null,null,{"$f":"IF(Configuração!C1484=\"\",\"\",Configuração!B1484)","v":""},null,null,null,null,null,null,null,null,null,null,null,null,null,null,null,null,9032016,42438]
[null,null,null,null,{"$f":"IF(Configuração!C1485=\"\",\"\",Configuração!B1485)","v":""},null,null,null,null,null,null,null,null,null,null,null,null,null,null,null,null,9032017,42803]
[null,null,null,null,{"$f":"IF(Configuração!C1486=\"\",\"\",Configuração!B1486)","v":""},null,null,null,null,null,null,null,null,null,null,null,null,null,null,null,null,9032018,43168]
[null,null,null,null,{"$f":"IF(Configuração!C1487=\"\",\"\",Configuração!B1487)","v":""},null,null,null,null,null,null,null,null,null,null,null,null,null,null,null,null,9032019,43533]
[null,null,null,null,{"$f":"IF(Configuração!C1488=\"\",\"\",Configuração!B1488)","v":""},null,null,null,null,null,null,null,null,null,null,null,null,null,null,null,null,9032020,43899]
[null,null,null,null,{"$f":"IF(Configuração!C1489=\"\",\"\",Configuração!B1489)","v":""},null,null,null,null,null,null,null,null,null,null,null,null,null,null,null,null,9032021,44264]
[null,null,null,null,{"$f":"IF(Configuração!C1490=\"\",\"\",Configuração!B1490)","v":""},null,null,null,null,null,null,null,null,null,null,null,null,null,null,null,null,9032022,44629]
[null,null,null,null,{"$f":"IF(Configuração!C1491=\"\",\"\",Configuração!B1491)","v":""},null,null,null,null,null,null,null,null,null,null,null,null,null,null,null,null,9032023,44994]
[null,null,null,null,{"$f":"IF(Configuração!C1492=\"\",\"\",Configuração!B1492)","v":""},null,null,null,null,null,null,null,null,null,null,null,null,null,null,null,null,9042009,39912]
[null,null,null,null,{"$f":"IF(Configuração!C1493=\"\",\"\",Configuração!B1493)","v":""},null,null,null,null,null,null,null,null,null,null,null,null,null,null,null,null,9042010,40277]
[null,null,null,null,{"$f":"IF(Configuração!C1494=\"\",\"\",Configuração!B1494)","v":""},null,null,null,null,null,null,null,null,null,null,null,null,null,null,null,null,9042011,40642]
[null,null,null,null,{"$f":"IF(Configuração!C1495=\"\",\"\",Configuração!B1495)","v":""},null,null,null,null,null,null,null,null,null,null,null,null,null,null,null,null,9042012,41008]
[null,null,null,null,{"$f":"IF(Configuração!C1496=\"\",\"\",Configuração!B1496)","v":""},null,null,null,null,null,null,null,null,null,null,null,null,null,null,null,null,9042013,41373]
[null,null,null,null,{"$f":"IF(Configuração!C1497=\"\",\"\",Configuração!B1497)","v":""},null,null,null,null,null,null,null,null,null,null,null,null,null,null,null,null,9042014,41738]
[null,null,null,null,{"$f":"IF(Configuração!C1498=\"\",\"\",Configuração!B1498)","v":""},null,null,null,null,null,null,null,null,null,null,null,null,null,null,null,null,9042015,42103]
[null,null,null,null,{"$f":"IF(Configuração!C1499=\"\",\"\",Configuração!B1499)","v":""},null,null,null,null,null,null,null,null,null,null,null,null,null,null,null,null,9042016,42469]
[null,null,null,null,{"$f":"IF(Configuração!C1500=\"\",\"\",Configuração!B1500)","v":""},null,null,null,null,null,null,null,null,null,null,null,null,null,null,null,null,9042017,42834]
[null,null,null,null,{"$f":"IF(Configuração!C1501=\"\",\"\",Configuração!B1501)","v":""},null,null,null,null,null,null,null,null,null,null,null,null,null,null,null,null,9042018,43199]
[null,null,null,null,{"$f":"IF(Configuração!C1502=\"\",\"\",Configuração!B1502)","v":""},null,null,null,null,null,null,null,null,null,null,null,null,null,null,null,null,9042019,43564]
[null,null,null,null,{"$f":"IF(Configuração!C1503=\"\",\"\",Configuração!B1503)","v":""},null,null,null,null,null,null,null,null,null,null,null,null,null,null,null,null,9042020,43930]
[null,null,null,null,{"$f":"IF(Configuração!C1504=\"\",\"\",Configuração!B1504)","v":""},null,null,null,null,null,null,null,null,null,null,null,null,null,null,null,null,9042021,44295]
[null,null,null,null,{"$f":"IF(Configuração!C1505=\"\",\"\",Configuração!B1505)","v":""},null,null,null,null,null,null,null,null,null,null,null,null,null,null,null,null,9042022,44660]
[null,null,null,null,{"$f":"IF(Configuração!C1506=\"\",\"\",Configuração!B1506)","v":""},null,null,null,null,null,null,null,null,null,null,null,null,null,null,null,null,9042023,45025]
[null,null,null,null,{"$f":"IF(Configuração!C1507=\"\",\"\",Configuração!B1507)","v":""},null,null,null,null,null,null,null,null,null,null,null,null,null,null,null,null,9052009,39942]
[null,null,null,null,{"$f":"IF(Configuração!C1508=\"\",\"\",Configuração!B1508)","v":""},null,null,null,null,null,null,null,null,null,null,null,null,null,null,null,null,9052010,40307]
[null,null,null,null,{"$f":"IF(Configuração!C1509=\"\",\"\",Configuração!B1509)","v":""},null,null,null,null,null,null,null,null,null,null,null,null,null,null,null,null,9052011,40672]
[null,null,null,null,{"$f":"IF(Configuração!C1510=\"\",\"\",Configuração!B1510)","v":""},null,null,null,null,null,null,null,null,null,null,null,null,null,null,null,null,9052012,41038]
[null,null,null,null,{"$f":"IF(Configuração!C1511=\"\",\"\",Configuração!B1511)","v":""},null,null,null,null,null,null,null,null,null,null,null,null,null,null,null,null,9052013,41403]
[null,null,null,null,{"$f":"IF(Configuração!C1512=\"\",\"\",Configuração!B1512)","v":""},null,null,null,null,null,null,null,null,null,null,null,null,null,null,null,null,9052014,41768]
[null,null,null,null,{"$f":"IF(Configuração!C1513=\"\",\"\",Configuração!B1513)","v":""},null,null,null,null,null,null,null,null,null,null,null,null,null,null,null,null,9052015,42133]
[null,null,null,null,{"$f":"IF(Configuração!C1514=\"\",\"\",Configuração!B1514)","v":""},null,null,null,null,null,null,null,null,null,null,null,null,null,null,null,null,9052016,42499]
[null,null,null,null,{"$f":"IF(Configuração!C1515=\"\",\"\",Configuração!B1515)","v":""},null,null,null,null,null,null,null,null,null,null,null,null,null,null,null,null,9052017,42864]
[null,null,null,null,{"$f":"IF(Configuração!C1516=\"\",\"\",Configuração!B1516)","v":""},null,null,null,null,null,null,null,null,null,null,null,null,null,null,null,null,9052018,43229]
[null,null,null,null,{"$f":"IF(Configuração!C1517=\"\",\"\",Configuração!B1517)","v":""},null,null,null,null,null,null,null,null,null,null,null,null,null,null,null,null,9052019,43594]
[null,null,null,null,{"$f":"IF(Configuração!C1518=\"\",\"\",Configuração!B1518)","v":""},null,null,null,null,null,null,null,null,null,null,null,null,null,null,null,null,9052020,43960]
[null,null,null,null,{"$f":"IF(Configuração!C1519=\"\",\"\",Configuração!B1519)","v":""},null,null,null,null,null,null,null,null,null,null,null,null,null,null,null,null,9052021,44325]
[null,null,null,null,{"$f":"IF(Configuração!C1520=\"\",\"\",Configuração!B1520)","v":""},null,null,null,null,null,null,null,null,null,null,null,null,null,null,null,null,9052022,44690]
[null,null,null,null,{"$f":"IF(Configuração!C1521=\"\",\"\",Configuração!B1521)","v":""},null,null,null,null,null,null,null,null,null,null,null,null,null,null,null,null,9052023,45055]
[null,null,null,null,{"$f":"IF(Configuração!C1522=\"\",\"\",Configuração!B1522)","v":""},null,null,null,null,null,null,null,null,null,null,null,null,null,null,null,null,9062009,39973]
[null,null,null,null,{"$f":"IF(Configuração!C1523=\"\",\"\",Configuração!B1523)","v":""},null,null,null,null,null,null,null,null,null,null,null,null,null,null,null,null,9062010,40338]
[null,null,null,null,{"$f":"IF(Configuração!C1524=\"\",\"\",Configuração!B1524)","v":""},null,null,null,null,null,null,null,null,null,null,null,null,null,null,null,null,9062011,40703]
[null,null,null,null,{"$f":"IF(Configuração!C1525=\"\",\"\",Configuração!B1525)","v":""},null,null,null,null,null,null,null,null,null,null,null,null,null,null,null,null,9062012,41069]
[null,null,null,null,{"$f":"IF(Configuração!C1526=\"\",\"\",Configuração!B1526)","v":""},null,null,null,null,null,null,null,null,null,null,null,null,null,null,null,null,9062013,41434]
[null,null,null,null,{"$f":"IF(Configuração!C1527=\"\",\"\",Configuração!B1527)","v":""},null,null,null,null,null,null,null,null,null,null,null,null,null,null,null,null,9062014,41799]
[null,null,null,null,{"$f":"IF(Configuração!C1528=\"\",\"\",Configuração!B1528)","v":""},null,null,null,null,null,null,null,null,null,null,null,null,null,null,null,null,9062015,42164]
[null,null,null,null,{"$f":"IF(Configuração!C1529=\"\",\"\",Configuração!B1529)","v":""},null,null,null,null,null,null,null,null,null,null,null,null,null,null,null,null,9062016,42530]
[null,null,null,null,{"$f":"IF(Configuração!C1530=\"\",\"\",Configuração!B1530)","v":""},null,null,null,null,null,null,null,null,null,null,null,null,null,null,null,null,9062017,42895]
[null,null,null,null,{"$f":"IF(Configuração!C1531=\"\",\"\",Configuração!B1531)","v":""},null,null,null,null,null,null,null,null,null,null,null,null,null,null,null,null,9062018,43260]
[null,null,null,null,{"$f":"IF(Configuração!C1532=\"\",\"\",Configuração!B1532)","v":""},null,null,null,null,null,null,null,null,null,null,null,null,null,null,null,null,9062019,43625]
[null,null,null,null,{"$f":"IF(Configuração!C1533=\"\",\"\",Configuração!B1533)","v":""},null,null,null,null,null,null,null,null,null,null,null,null,null,null,null,null,9062020,43991]
[null,null,null,null,{"$f":"IF(Configuração!C1534=\"\",\"\",Configuração!B1534)","v":""},null,null,null,null,null,null,null,null,null,null,null,null,null,null,null,null,9062021,44356]
[null,null,null,null,{"$f":"IF(Configuração!C1535=\"\",\"\",Configuração!B1535)","v":""},null,null,null,null,null,null,null,null,null,null,null,null,null,null,null,null,9062022,44721]
[null,null,null,null,{"$f":"IF(Configuração!C1536=\"\",\"\",Configuração!B1536)","v":""},null,null,null,null,null,null,null,null,null,null,null,null,null,null,null,null,9062023,45086]
[null,null,null,null,{"$f":"IF(Configuração!C1537=\"\",\"\",Configuração!B1537)","v":""},null,null,null,null,null,null,null,null,null,null,null,null,null,null,null,null,9072009,40003]
[null,null,null,null,{"$f":"IF(Configuração!C1538=\"\",\"\",Configuração!B1538)","v":""},null,null,null,null,null,null,null,null,null,null,null,null,null,null,null,null,9072010,40368]
[null,null,null,null,{"$f":"IF(Configuração!C1539=\"\",\"\",Configuração!B1539)","v":""},null,null,null,null,null,null,null,null,null,null,null,null,null,null,null,null,9072011,40733]
[null,null,null,null,{"$f":"IF(Configuração!C1540=\"\",\"\",Configuração!B1540)","v":""},null,null,null,null,null,null,null,null,null,null,null,null,null,null,null,null,9072012,41099]
[null,null,null,null,{"$f":"IF(Configuração!C1541=\"\",\"\",Configuração!B1541)","v":""},null,null,null,null,null,null,null,null,null,null,null,null,null,null,null,null,9072013,41464]
[null,null,null,null,{"$f":"IF(Configuração!C1542=\"\",\"\",Configuração!B1542)","v":""},null,null,null,null,null,null,null,null,null,null,null,null,null,null,null,null,9072014,41829]
[null,null,null,null,{"$f":"IF(Configuração!C1543=\"\",\"\",Configuração!B1543)","v":""},null,null,null,null,null,null,null,null,null,null,null,null,null,null,null,null,9072015,42194]
[null,null,null,null,{"$f":"IF(Configuração!C1544=\"\",\"\",Configuração!B1544)","v":""},null,null,null,null,null,null,null,null,null,null,null,null,null,null,null,null,9072016,42560]
[null,null,null,null,{"$f":"IF(Configuração!C1545=\"\",\"\",Configuração!B1545)","v":""},null,null,null,null,null,null,null,null,null,null,null,null,null,null,null,null,9072017,42925]
[null,null,null,null,{"$f":"IF(Configuração!C1546=\"\",\"\",Configuração!B1546)","v":""},null,null,null,null,null,null,null,null,null,null,null,null,null,null,null,null,9072018,43290]
[null,null,null,null,{"$f":"IF(Configuração!C1547=\"\",\"\",Configuração!B1547)","v":""},null,null,null,null,null,null,null,null,null,null,null,null,null,null,null,null,9072019,43655]
[null,null,null,null,{"$f":"IF(Configuração!C1548=\"\",\"\",Configuração!B1548)","v":""},null,null,null,null,null,null,null,null,null,null,null,null,null,null,null,null,9072020,44021]
[null,null,null,null,{"$f":"IF(Configuração!C1549=\"\",\"\",Configuração!B1549)","v":""},null,null,null,null,null,null,null,null,null,null,null,null,null,null,null,null,9072021,44386]
[null,null,null,null,{"$f":"IF(Configuração!C1550=\"\",\"\",Configuração!B1550)","v":""},null,null,null,null,null,null,null,null,null,null,null,null,null,null,null,null,9072022,44751]
[null,null,null,null,{"$f":"IF(Configuração!C1551=\"\",\"\",Configuração!B1551)","v":""},null,null,null,null,null,null,null,null,null,null,null,null,null,null,null,null,9072023,45116]
[null,null,null,null,{"$f":"IF(Configuração!C1552=\"\",\"\",Configuração!B1552)","v":""},null,null,null,null,null,null,null,null,null,null,null,null,null,null,null,null,9082009,40034]
[null,null,null,null,{"$f":"IF(Configuração!C1553=\"\",\"\",Configuração!B1553)","v":""},null,null,null,null,null,null,null,null,null,null,null,null,null,null,null,null,9082010,40399]
[null,null,null,null,{"$f":"IF(Configuração!C1554=\"\",\"\",Configuração!B1554)","v":""},null,null,null,null,null,null,null,null,null,null,null,null,null,null,null,null,9082011,40764]
[null,null,null,null,{"$f":"IF(Configuração!C1555=\"\",\"\",Configuração!B1555)","v":""},null,null,null,null,null,null,null,null,null,null,null,null,null,null,null,null,9082012,41130]
[null,null,null,null,{"$f":"IF(Configuração!C1556=\"\",\"\",Configuração!B1556)","v":""},null,null,null,null,null,null,null,null,null,null,null,null,null,null,null,null,9082013,41495]
[null,null,null,null,{"$f":"IF(Configuração!C1557=\"\",\"\",Configuração!B1557)","v":""},null,null,null,null,null,null,null,null,null,null,null,null,null,null,null,null,9082014,41860]
[null,null,null,null,{"$f":"IF(Configuração!C1558=\"\",\"\",Configuração!B1558)","v":""},null,null,null,null,null,null,null,null,null,null,null,null,null,null,null,null,9082015,42225]
[null,null,null,null,{"$f":"IF(Configuração!C1559=\"\",\"\",Configuração!B1559)","v":""},null,null,null,null,null,null,null,null,null,null,null,null,null,null,null,null,9082016,42591]
[null,null,null,null,{"$f":"IF(Configuração!C1560=\"\",\"\",Configuração!B1560)","v":""},null,null,null,null,null,null,null,null,null,null,null,null,null,null,null,null,9082017,42956]
[null,null,null,null,{"$f":"IF(Configuração!C1561=\"\",\"\",Configuração!B1561)","v":""},null,null,null,null,null,null,null,null,null,null,null,null,null,null,null,null,9082018,43321]
[null,null,null,null,{"$f":"IF(Configuração!C1562=\"\",\"\",Configuração!B1562)","v":""},null,null,null,null,null,null,null,null,null,null,null,null,null,null,null,null,9082019,43686]
[null,null,null,null,{"$f":"IF(Configuração!C1563=\"\",\"\",Configuração!B1563)","v":""},null,null,null,null,null,null,null,null,null,null,null,null,null,null,null,null,9082020,44052]
[null,null,null,null,{"$f":"IF(Configuração!C1564=\"\",\"\",Configuração!B1564)","v":""},null,null,null,null,null,null,null,null,null,null,null,null,null,null,null,null,9082021,44417]
[null,null,null,null,{"$f":"IF(Configuração!C1565=\"\",\"\",Configuração!B1565)","v":""},null,null,null,null,null,null,null,null,null,null,null,null,null,null,null,null,9082022,44782]
[null,null,null,null,{"$f":"IF(Configuração!C1566=\"\",\"\",Configuração!B1566)","v":""},null,null,null,null,null,null,null,null,null,null,null,null,null,null,null,null,9082023,45147]
[null,null,null,null,{"$f":"IF(Configuração!C1567=\"\",\"\",Configuração!B1567)","v":""},null,null,null,null,null,null,null,null,null,null,null,null,null,null,null,null,9092009,40065]
[null,null,null,null,{"$f":"IF(Configuração!C1568=\"\",\"\",Configuração!B1568)","v":""},null,null,null,null,null,null,null,null,null,null,null,null,null,null,null,null,9092010,40430]
[null,null,null,null,{"$f":"IF(Configuração!C1569=\"\",\"\",Configuração!B1569)","v":""},null,null,null,null,null,null,null,null,null,null,null,null,null,null,null,null,9092011,40795]
[null,null,null,null,{"$f":"IF(Configuração!C1570=\"\",\"\",Configuração!B1570)","v":""},null,null,null,null,null,null,null,null,null,null,null,null,null,null,null,null,9092012,41161]
[null,null,null,null,{"$f":"IF(Configuração!C1571=\"\",\"\",Configuração!B1571)","v":""},null,null,null,null,null,null,null,null,null,null,null,null,null,null,null,null,9092013,41526]
[null,null,null,null,{"$f":"IF(Configuração!C1572=\"\",\"\",Configuração!B1572)","v":""},null,null,null,null,null,null,null,null,null,null,null,null,null,null,null,null,9092014,41891]
[null,null,null,null,{"$f":"IF(Configuração!C1573=\"\",\"\",Configuração!B1573)","v":""},null,null,null,null,null,null,null,null,null,null,null,null,null,null,null,null,9092015,42256]
[null,null,null,null,{"$f":"IF(Configuração!C1574=\"\",\"\",Configuração!B1574)","v":""},null,null,null,null,null,null,null,null,null,null,null,null,null,null,null,null,9092016,42622]
[null,null,null,null,{"$f":"IF(Configuração!C1575=\"\",\"\",Configuração!B1575)","v":""},null,null,null,null,null,null,null,null,null,null,null,null,null,null,null,null,9092017,42987]
[null,null,null,null,{"$f":"IF(Configuração!C1576=\"\",\"\",Configuração!B1576)","v":""},null,null,null,null,null,null,null,null,null,null,null,null,null,null,null,null,9092018,43352]
[null,null,null,null,{"$f":"IF(Configuração!C1577=\"\",\"\",Configuração!B1577)","v":""},null,null,null,null,null,null,null,null,null,null,null,null,null,null,null,null,9092019,43717]
[null,null,null,null,{"$f":"IF(Configuração!C1578=\"\",\"\",Configuração!B1578)","v":""},null,null,null,null,null,null,null,null,null,null,null,null,null,null,null,null,9092020,44083]
[null,null,null,null,{"$f":"IF(Configuração!C1579=\"\",\"\",Configuração!B1579)","v":""},null,null,null,null,null,null,null,null,null,null,null,null,null,null,null,null,9092021,44448]
[null,null,null,null,{"$f":"IF(Configuração!C1580=\"\",\"\",Configuração!B1580)","v":""},null,null,null,null,null,null,null,null,null,null,null,null,null,null,null,null,9092022,44813]
[null,null,null,null,{"$f":"IF(Configuração!C1581=\"\",\"\",Configuração!B1581)","v":""},null,null,null,null,null,null,null,null,null,null,null,null,null,null,null,null,9092023,45178]
[null,null,null,null,{"$f":"IF(Configuração!C1582=\"\",\"\",Configuração!B1582)","v":""},null,null,null,null,null,null,null,null,null,null,null,null,null,null,null,null,9102009,40095]
[null,null,null,null,{"$f":"IF(Configuração!C1583=\"\",\"\",Configuração!B1583)","v":""},null,null,null,null,null,null,null,null,null,null,null,null,null,null,null,null,9102010,40460]
[null,null,null,null,{"$f":"IF(Configuração!C1584=\"\",\"\",Configuração!B1584)","v":""},null,null,null,null,null,null,null,null,null,null,null,null,null,null,null,null,9102011,40825]
[null,null,null,null,{"$f":"IF(Configuração!C1585=\"\",\"\",Configuração!B1585)","v":""},null,null,null,null,null,null,null,null,null,null,null,null,null,null,null,null,9102012,41191]
[null,null,null,null,{"$f":"IF(Configuração!C1586=\"\",\"\",Configuração!B1586)","v":""},null,null,null,null,null,null,null,null,null,null,null,null,null,null,null,null,9102013,41556]
[null,null,null,null,{"$f":"IF(Configuração!C1587=\"\",\"\",Configuração!B1587)","v":""},null,null,null,null,null,null,null,null,null,null,null,null,null,null,null,null,9102014,41921]
[null,null,null,null,{"$f":"IF(Configuração!C1588=\"\",\"\",Configuração!B1588)","v":""},null,null,null,null,null,null,null,null,null,null,null,null,null,null,null,null,9102015,42286]
[null,null,null,null,{"$f":"IF(Configuração!C1589=\"\",\"\",Configuração!B1589)","v":""},null,null,null,null,null,null,null,null,null,null,null,null,null,null,null,null,9102016,42652]
[null,null,null,null,{"$f":"IF(Configuração!C1590=\"\",\"\",Configuração!B1590)","v":""},null,null,null,null,null,null,null,null,null,null,null,null,null,null,null,null,9102017,43017]
[null,null,null,null,{"$f":"IF(Configuração!C1591=\"\",\"\",Configuração!B1591)","v":""},null,null,null,null,null,null,null,null,null,null,null,null,null,null,null,null,9102018,43382]
[null,null,null,null,{"$f":"IF(Configuração!C1592=\"\",\"\",Configuração!B1592)","v":""},null,null,null,null,null,null,null,null,null,null,null,null,null,null,null,null,9102019,43747]
[null,null,null,null,{"$f":"IF(Configuração!C1593=\"\",\"\",Configuração!B1593)","v":""},null,null,null,null,null,null,null,null,null,null,null,null,null,null,null,null,9102020,44113]
[null,null,null,null,{"$f":"IF(Configuração!C1594=\"\",\"\",Configuração!B1594)","v":""},null,null,null,null,null,null,null,null,null,null,null,null,null,null,null,null,9102021,44478]
[null,null,null,null,{"$f":"IF(Configuração!C1595=\"\",\"\",Configuração!B1595)","v":""},null,null,null,null,null,null,null,null,null,null,null,null,null,null,null,null,9102022,44843]
[null,null,null,null,{"$f":"IF(Configuração!C1596=\"\",\"\",Configuração!B1596)","v":""},null,null,null,null,null,null,null,null,null,null,null,null,null,null,null,null,9102023,45208]
[null,null,null,null,{"$f":"IF(Configuração!C1597=\"\",\"\",Configuração!B1597)","v":""},null,null,null,null,null,null,null,null,null,null,null,null,null,null,null,null,9112009,40126]
[null,null,null,null,{"$f":"IF(Configuração!C1598=\"\",\"\",Configuração!B1598)","v":""},null,null,null,null,null,null,null,null,null,null,null,null,null,null,null,null,9112010,40491]
[null,null,null,null,{"$f":"IF(Configuração!C1599=\"\",\"\",Configuração!B1599)","v":""},null,null,null,null,null,null,null,null,null,null,null,null,null,null,null,null,9112011,40856]
[null,null,null,null,{"$f":"IF(Configuração!C1600=\"\",\"\",Configuração!B1600)","v":""},null,null,null,null,null,null,null,null,null,null,null,null,null,null,null,null,9112012,41222]
[null,null,null,null,{"$f":"IF(Configuração!C1601=\"\",\"\",Configuração!B1601)","v":""},null,null,null,null,null,null,null,null,null,null,null,null,null,null,null,null,9112013,41587]
[null,null,null,null,{"$f":"IF(Configuração!C1602=\"\",\"\",Configuração!B1602)","v":""},null,null,null,null,null,null,null,null,null,null,null,null,null,null,null,null,9112014,41952]
[null,null,null,null,{"$f":"IF(Configuração!C1603=\"\",\"\",Configuração!B1603)","v":""},null,null,null,null,null,null,null,null,null,null,null,null,null,null,null,null,9112015,42317]
[null,null,null,null,{"$f":"IF(Configuração!C1604=\"\",\"\",Configuração!B1604)","v":""},null,null,null,null,null,null,null,null,null,null,null,null,null,null,null,null,9112016,42683]
[null,null,null,null,{"$f":"IF(Configuração!C1605=\"\",\"\",Configuração!B1605)","v":""},null,null,null,null,null,null,null,null,null,null,null,null,null,null,null,null,9112017,43048]
[null,null,null,null,{"$f":"IF(Configuração!C1606=\"\",\"\",Configuração!B1606)","v":""},null,null,null,null,null,null,null,null,null,null,null,null,null,null,null,null,9112018,43413]
[null,null,null,null,{"$f":"IF(Configuração!C1607=\"\",\"\",Configuração!B1607)","v":""},null,null,null,null,null,null,null,null,null,null,null,null,null,null,null,null,9112019,43778]
[null,null,null,null,{"$f":"IF(Configuração!C1608=\"\",\"\",Configuração!B1608)","v":""},null,null,null,null,null,null,null,null,null,null,null,null,null,null,null,null,9112020,44144]
[null,null,null,null,{"$f":"IF(Configuração!C1609=\"\",\"\",Configuração!B1609)","v":""},null,null,null,null,null,null,null,null,null,null,null,null,null,null,null,null,9112021,44509]
[null,null,null,null,{"$f":"IF(Configuração!C1610=\"\",\"\",Configuração!B1610)","v":""},null,null,null,null,null,null,null,null,null,null,null,null,null,null,null,null,9112022,44874]
[null,null,null,null,{"$f":"IF(Configuração!C1611=\"\",\"\",Configuração!B1611)","v":""},null,null,null,null,null,null,null,null,null,null,null,null,null,null,null,null,9112023,45239]
[null,null,null,null,{"$f":"IF(Configuração!C1612=\"\",\"\",Configuração!B1612)","v":""},null,null,null,null,null,null,null,null,null,null,null,null,null,null,null,null,9122009,40156]
[null,null,null,null,{"$f":"IF(Configuração!C1613=\"\",\"\",Configuração!B1613)","v":""},null,null,null,null,null,null,null,null,null,null,null,null,null,null,null,null,9122010,40521]
[null,null,null,null,{"$f":"IF(Configuração!C1614=\"\",\"\",Configuração!B1614)","v":""},null,null,null,null,null,null,null,null,null,null,null,null,null,null,null,null,9122011,40886]
[null,null,null,null,{"$f":"IF(Configuração!C1615=\"\",\"\",Configuração!B1615)","v":""},null,null,null,null,null,null,null,null,null,null,null,null,null,null,null,null,9122012,41252]
[null,null,null,null,{"$f":"IF(Configuração!C1616=\"\",\"\",Configuração!B1616)","v":""},null,null,null,null,null,null,null,null,null,null,null,null,null,null,null,null,9122013,41617]
[null,null,null,null,{"$f":"IF(Configuração!C1617=\"\",\"\",Configuração!B1617)","v":""},null,null,null,null,null,null,null,null,null,null,null,null,null,null,null,null,9122014,41982]
[null,null,null,null,{"$f":"IF(Configuração!C1618=\"\",\"\",Configuração!B1618)","v":""},null,null,null,null,null,null,null,null,null,null,null,null,null,null,null,null,9122015,42347]
[null,null,null,null,{"$f":"IF(Configuração!C1619=\"\",\"\",Configuração!B1619)","v":""},null,null,null,null,null,null,null,null,null,null,null,null,null,null,null,null,9122016,42713]
[null,null,null,null,{"$f":"IF(Configuração!C1620=\"\",\"\",Configuração!B1620)","v":""},null,null,null,null,null,null,null,null,null,null,null,null,null,null,null,null,9122017,43078]
[null,null,null,null,{"$f":"IF(Configuração!C1621=\"\",\"\",Configuração!B1621)","v":""},null,null,null,null,null,null,null,null,null,null,null,null,null,null,null,null,9122018,43443]
[null,null,null,null,{"$f":"IF(Configuração!C1622=\"\",\"\",Configuração!B1622)","v":""},null,null,null,null,null,null,null,null,null,null,null,null,null,null,null,null,9122019,43808]
[null,null,null,null,{"$f":"IF(Configuração!C1623=\"\",\"\",Configuração!B1623)","v":""},null,null,null,null,null,null,null,null,null,null,null,null,null,null,null,null,9122020,44174]
[null,null,null,null,{"$f":"IF(Configuração!C1624=\"\",\"\",Configuração!B1624)","v":""},null,null,null,null,null,null,null,null,null,null,null,null,null,null,null,null,9122021,44539]
[null,null,null,null,{"$f":"IF(Configuração!C1625=\"\",\"\",Configuração!B1625)","v":""},null,null,null,null,null,null,null,null,null,null,null,null,null,null,null,null,9122022,44904]
[null,null,null,null,{"$f":"IF(Configuração!C1626=\"\",\"\",Configuração!B1626)","v":""},null,null,null,null,null,null,null,null,null,null,null,null,null,null,null,null,9122023,45269]
[null,null,null,null,{"$f":"IF(Configuração!C1627=\"\",\"\",Configuração!B1627)","v":""},null,null,null,null,null,null,null,null,null,null,null,null,null,null,null,null,10012009,39823]
[null,null,null,null,{"$f":"IF(Configuração!C1628=\"\",\"\",Configuração!B1628)","v":""},null,null,null,null,null,null,null,null,null,null,null,null,null,null,null,null,10012010,40188]
[null,null,null,null,{"$f":"IF(Configuração!C1629=\"\",\"\",Configuração!B1629)","v":""},null,null,null,null,null,null,null,null,null,null,null,null,null,null,null,null,10012011,40553]
[null,null,null,null,{"$f":"IF(Configuração!C1630=\"\",\"\",Configuração!B1630)","v":""},null,null,null,null,null,null,null,null,null,null,null,null,null,null,null,null,10012012,40918]
[null,null,null,null,{"$f":"IF(Configuração!C1631=\"\",\"\",Configuração!B1631)","v":""},null,null,null,null,null,null,null,null,null,null,null,null,null,null,null,null,10012013,41284]
[null,null,null,null,{"$f":"IF(Configuração!C1632=\"\",\"\",Configuração!B1632)","v":""},null,null,null,null,null,null,null,null,null,null,null,null,null,null,null,null,10012014,41649]
[null,null,null,null,{"$f":"IF(Configuração!C1633=\"\",\"\",Configuração!B1633)","v":""},null,null,null,null,null,null,null,null,null,null,null,null,null,null,null,null,10012015,42014]
[null,null,null,null,{"$f":"IF(Configuração!C1634=\"\",\"\",Configuração!B1634)","v":""},null,null,null,null,null,null,null,null,null,null,null,null,null,null,null,null,10012016,42379]
[null,null,null,null,{"$f":"IF(Configuração!C1635=\"\",\"\",Configuração!B1635)","v":""},null,null,null,null,null,null,null,null,null,null,null,null,null,null,null,null,10012017,42745]
[null,null,null,null,{"$f":"IF(Configuração!C1636=\"\",\"\",Configuração!B1636)","v":""},null,null,null,null,null,null,null,null,null,null,null,null,null,null,null,null,10012018,43110]
[null,null,null,null,{"$f":"IF(Configuração!C1637=\"\",\"\",Configuração!B1637)","v":""},null,null,null,null,null,null,null,null,null,null,null,null,null,null,null,null,10012019,43475]
[null,null,null,null,{"$f":"IF(Configuração!C1638=\"\",\"\",Configuração!B1638)","v":""},null,null,null,null,null,null,null,null,null,null,null,null,null,null,null,null,10012020,43840]
[null,null,null,null,{"$f":"IF(Configuração!C1639=\"\",\"\",Configuração!B1639)","v":""},null,null,null,null,null,null,null,null,null,null,null,null,null,null,null,null,10012021,44206]
[null,null,null,null,{"$f":"IF(Configuração!C1640=\"\",\"\",Configuração!B1640)","v":""},null,null,null,null,null,null,null,null,null,null,null,null,null,null,null,null,10012022,44571]
[null,null,null,null,{"$f":"IF(Configuração!C1641=\"\",\"\",Configuração!B1641)","v":""},null,null,null,null,null,null,null,null,null,null,null,null,null,null,null,null,10012023,44936]
[null,null,null,null,{"$f":"IF(Configuração!C1642=\"\",\"\",Configuração!B1642)","v":""},null,null,null,null,null,null,null,null,null,null,null,null,null,null,null,null,10022009,39854]
[null,null,null,null,{"$f":"IF(Configuração!C1643=\"\",\"\",Configuração!B1643)","v":""},null,null,null,null,null,null,null,null,null,null,null,null,null,null,null,null,10022010,40219]
[null,null,null,null,{"$f":"IF(Configuração!C1644=\"\",\"\",Configuração!B1644)","v":""},null,null,null,null,null,null,null,null,null,null,null,null,null,null,null,null,10022011,40584]
[null,null,null,null,{"$f":"IF(Configuração!C1645=\"\",\"\",Configuração!B1645)","v":""},null,null,null,null,null,null,null,null,null,null,null,null,null,null,null,null,10022012,40949]
[null,null,null,null,{"$f":"IF(Configuração!C1646=\"\",\"\",Configuração!B1646)","v":""},null,null,null,null,null,null,null,null,null,null,null,null,null,null,null,null,10022013,41315]
[null,null,null,null,{"$f":"IF(Configuração!C1647=\"\",\"\",Configuração!B1647)","v":""},null,null,null,null,null,null,null,null,null,null,null,null,null,null,null,null,10022014,41680]
[null,null,null,null,{"$f":"IF(Configuração!C1648=\"\",\"\",Configuração!B1648)","v":""},null,null,null,null,null,null,null,null,null,null,null,null,null,null,null,null,10022015,42045]
[null,null,null,null,{"$f":"IF(Configuração!C1649=\"\",\"\",Configuração!B1649)","v":""},null,null,null,null,null,null,null,null,null,null,null,null,null,null,null,null,10022016,42410]
[null,null,null,null,{"$f":"IF(Configuração!C1650=\"\",\"\",Configuração!B1650)","v":""},null,null,null,null,null,null,null,null,null,null,null,null,null,null,null,null,10022017,42776]
[null,null,null,null,{"$f":"IF(Configuração!C1651=\"\",\"\",Configuração!B1651)","v":""},null,null,null,null,null,null,null,null,null,null,null,null,null,null,null,null,10022018,43141]
[null,null,null,null,{"$f":"IF(Configuração!C1652=\"\",\"\",Configuração!B1652)","v":""},null,null,null,null,null,null,null,null,null,null,null,null,null,null,null,null,10022019,43506]
[null,null,null,null,{"$f":"IF(Configuração!C1653=\"\",\"\",Configuração!B1653)","v":""},null,null,null,null,null,null,null,null,null,null,null,null,null,null,null,null,10022020,43871]
[null,null,null,null,{"$f":"IF(Configuração!C1654=\"\",\"\",Configuração!B1654)","v":""},null,null,null,null,null,null,null,null,null,null,null,null,null,null,null,null,10022021,44237]
[null,null,null,null,{"$f":"IF(Configuração!C1655=\"\",\"\",Configuração!B1655)","v":""},null,null,null,null,null,null,null,null,null,null,null,null,null,null,null,null,10022022,44602]
[null,null,null,null,{"$f":"IF(Configuração!C1656=\"\",\"\",Configuração!B1656)","v":""},null,null,null,null,null,null,null,null,null,null,null,null,null,null,null,null,10022023,44967]
[null,null,null,null,{"$f":"IF(Configuração!C1657=\"\",\"\",Configuração!B1657)","v":""},null,null,null,null,null,null,null,null,null,null,null,null,null,null,null,null,10032009,39882]
[null,null,null,null,{"$f":"IF(Configuração!C1658=\"\",\"\",Configuração!B1658)","v":""},null,null,null,null,null,null,null,null,null,null,null,null,null,null,null,null,10032010,40247]
[null,null,null,null,{"$f":"IF(Configuração!C1659=\"\",\"\",Configuração!B1659)","v":""},null,null,null,null,null,null,null,null,null,null,null,null,null,null,null,null,10032011,40612]
[null,null,null,null,{"$f":"IF(Configuração!C1660=\"\",\"\",Configuração!B1660)","v":""},null,null,null,null,null,null,null,null,null,null,null,null,null,null,null,null,10032012,40978]
[null,null,null,null,{"$f":"IF(Configuração!C1661=\"\",\"\",Configuração!B1661)","v":""},null,null,null,null,null,null,null,null,null,null,null,null,null,null,null,null,10032013,41343]
[null,null,null,null,{"$f":"IF(Configuração!C1662=\"\",\"\",Configuração!B1662)","v":""},null,null,null,null,null,null,null,null,null,null,null,null,null,null,null,null,10032014,41708]
[null,null,null,null,{"$f":"IF(Configuração!C1663=\"\",\"\",Configuração!B1663)","v":""},null,null,null,null,null,null,null,null,null,null,null,null,null,null,null,null,10032015,42073]
[null,null,null,null,{"$f":"IF(Configuração!C1664=\"\",\"\",Configuração!B1664)","v":""},null,null,null,null,null,null,null,null,null,null,null,null,null,null,null,null,10032016,42439]
[null,null,null,null,{"$f":"IF(Configuração!C1665=\"\",\"\",Configuração!B1665)","v":""},null,null,null,null,null,null,null,null,null,null,null,null,null,null,null,null,10032017,42804]
[null,null,null,null,{"$f":"IF(Configuração!C1666=\"\",\"\",Configuração!B1666)","v":""},null,null,null,null,null,null,null,null,null,null,null,null,null,null,null,null,10032018,43169]
[null,null,null,null,{"$f":"IF(Configuração!C1667=\"\",\"\",Configuração!B1667)","v":""},null,null,null,null,null,null,null,null,null,null,null,null,null,null,null,null,10032019,43534]
[null,null,null,null,{"$f":"IF(Configuração!C1668=\"\",\"\",Configuração!B1668)","v":""},null,null,null,null,null,null,null,null,null,null,null,null,null,null,null,null,10032020,43900]
[null,null,null,null,{"$f":"IF(Configuração!C1669=\"\",\"\",Configuração!B1669)","v":""},null,null,null,null,null,null,null,null,null,null,null,null,null,null,null,null,10032021,44265]
[null,null,null,null,{"$f":"IF(Configuração!C1670=\"\",\"\",Configuração!B1670)","v":""},null,null,null,null,null,null,null,null,null,null,null,null,null,null,null,null,10032022,44630]
[null,null,null,null,{"$f":"IF(Configuração!C1671=\"\",\"\",Configuração!B1671)","v":""},null,null,null,null,null,null,null,null,null,null,null,null,null,null,null,null,10032023,44995]
[null,null,null,null,{"$f":"IF(Configuração!C1672=\"\",\"\",Configuração!B1672)","v":""},null,null,null,null,null,null,null,null,null,null,null,null,null,null,null,null,10042009,39913]
[null,null,null,null,{"$f":"IF(Configuração!C1673=\"\",\"\",Configuração!B1673)","v":""},null,null,null,null,null,null,null,null,null,null,null,null,null,null,null,null,10042010,40278]
[null,null,null,null,{"$f":"IF(Configuração!C1674=\"\",\"\",Configuração!B1674)","v":""},null,null,null,null,null,null,null,null,null,null,null,null,null,null,null,null,10042011,40643]
[null,null,null,null,{"$f":"IF(Configuração!C1675=\"\",\"\",Configuração!B1675)","v":""},null,null,null,null,null,null,null,null,null,null,null,null,null,null,null,null,10042012,41009]
[null,null,null,null,{"$f":"IF(Configuração!C1676=\"\",\"\",Configuração!B1676)","v":""},null,null,null,null,null,null,null,null,null,null,null,null,null,null,null,null,10042013,41374]
[null,null,null,null,{"$f":"IF(Configuração!C1677=\"\",\"\",Configuração!B1677)","v":""},null,null,null,null,null,null,null,null,null,null,null,null,null,null,null,null,10042014,41739]
[null,null,null,null,{"$f":"IF(Configuração!C1678=\"\",\"\",Configuração!B1678)","v":""},null,null,null,null,null,null,null,null,null,null,null,null,null,null,null,null,10042015,42104]
[null,null,null,null,{"$f":"IF(Configuração!C1679=\"\",\"\",Configuração!B1679)","v":""},null,null,null,null,null,null,null,null,null,null,null,null,null,null,null,null,10042016,42470]
[null,null,null,null,{"$f":"IF(Configuração!C1680=\"\",\"\",Configuração!B1680)","v":""},null,null,null,null,null,null,null,null,null,null,null,null,null,null,null,null,10042017,42835]
[null,null,null,null,{"$f":"IF(Configuração!C1681=\"\",\"\",Configuração!B1681)","v":""},null,null,null,null,null,null,null,null,null,null,null,null,null,null,null,null,10042018,43200]
[null,null,null,null,{"$f":"IF(Configuração!C1682=\"\",\"\",Configuração!B1682)","v":""},null,null,null,null,null,null,null,null,null,null,null,null,null,null,null,null,10042019,43565]
[null,null,null,null,{"$f":"IF(Configuração!C1683=\"\",\"\",Configuração!B1683)","v":""},null,null,null,null,null,null,null,null,null,null,null,null,null,null,null,null,10042020,43931]
[null,null,null,null,{"$f":"IF(Configuração!C1684=\"\",\"\",Configuração!B1684)","v":""},null,null,null,null,null,null,null,null,null,null,null,null,null,null,null,null,10042021,44296]
[null,null,null,null,{"$f":"IF(Configuração!C1685=\"\",\"\",Configuração!B1685)","v":""},null,null,null,null,null,null,null,null,null,null,null,null,null,null,null,null,10042022,44661]
[null,null,null,null,{"$f":"IF(Configuração!C1686=\"\",\"\",Configuração!B1686)","v":""},null,null,null,null,null,null,null,null,null,null,null,null,null,null,null,null,10042023,45026]
[null,null,null,null,{"$f":"IF(Configuração!C1687=\"\",\"\",Configuração!B1687)","v":""},null,null,null,null,null,null,null,null,null,null,null,null,null,null,null,null,10052009,39943]
[null,null,null,null,{"$f":"IF(Configuração!C1688=\"\",\"\",Configuração!B1688)","v":""},null,null,null,null,null,null,null,null,null,null,null,null,null,null,null,null,10052010,40308]
[null,null,null,null,{"$f":"IF(Configuração!C1689=\"\",\"\",Configuração!B1689)","v":""},null,null,null,null,null,null,null,null,null,null,null,null,null,null,null,null,10052011,40673]
[null,null,null,null,{"$f":"IF(Configuração!C1690=\"\",\"\",Configuração!B1690)","v":""},null,null,null,null,null,null,null,null,null,null,null,null,null,null,null,null,10052012,41039]
[null,null,null,null,{"$f":"IF(Configuração!C1691=\"\",\"\",Configuração!B1691)","v":""},null,null,null,null,null,null,null,null,null,null,null,null,null,null,null,null,10052013,41404]
[null,null,null,null,{"$f":"IF(Configuração!C1692=\"\",\"\",Configuração!B1692)","v":""},null,null,null,null,null,null,null,null,null,null,null,null,null,null,null,null,10052014,41769]
[null,null,null,null,{"$f":"IF(Configuração!C1693=\"\",\"\",Configuração!B1693)","v":""},null,null,null,null,null,null,null,null,null,null,null,null,null,null,null,null,10052015,42134]
[null,null,null,null,{"$f":"IF(Configuração!C1694=\"\",\"\",Configuração!B1694)","v":""},null,null,null,null,null,null,null,null,null,null,null,null,null,null,null,null,10052016,42500]
[null,null,null,null,{"$f":"IF(Configuração!C1695=\"\",\"\",Configuração!B1695)","v":""},null,null,null,null,null,null,null,null,null,null,null,null,null,null,null,null,10052017,42865]
[null,null,null,null,{"$f":"IF(Configuração!C1696=\"\",\"\",Configuração!B1696)","v":""},null,null,null,null,null,null,null,null,null,null,null,null,null,null,null,null,10052018,43230]
[null,null,null,null,{"$f":"IF(Configuração!C1697=\"\",\"\",Configuração!B1697)","v":""},null,null,null,null,null,null,null,null,null,null,null,null,null,null,null,null,10052019,43595]
[null,null,null,null,{"$f":"IF(Configuração!C1698=\"\",\"\",Configuração!B1698)","v":""},null,null,null,null,null,null,null,null,null,null,null,null,null,null,null,null,10052020,43961]
[null,null,null,null,{"$f":"IF(Configuração!C1699=\"\",\"\",Configuração!B1699)","v":""},null,null,null,null,null,null,null,null,null,null,null,null,null,null,null,null,10052021,44326]
[null,null,null,null,{"$f":"IF(Configuração!C1700=\"\",\"\",Configuração!B1700)","v":""},null,null,null,null,null,null,null,null,null,null,null,null,null,null,null,null,10052022,44691]
[null,null,null,null,{"$f":"IF(Configuração!C1701=\"\",\"\",Configuração!B1701)","v":""},null,null,null,null,null,null,null,null,null,null,null,null,null,null,null,null,10052023,45056]
[null,null,null,null,{"$f":"IF(Configuração!C1702=\"\",\"\",Configuração!B1702)","v":""},null,null,null,null,null,null,null,null,null,null,null,null,null,null,null,null,10062009,39974]
[null,null,null,null,{"$f":"IF(Configuração!C1703=\"\",\"\",Configuração!B1703)","v":""},null,null,null,null,null,null,null,null,null,null,null,null,null,null,null,null,10062010,40339]
[null,null,null,null,{"$f":"IF(Configuração!C1704=\"\",\"\",Configuração!B1704)","v":""},null,null,null,null,null,null,null,null,null,null,null,null,null,null,null,null,10062011,40704]
[null,null,null,null,{"$f":"IF(Configuração!C1705=\"\",\"\",Configuração!B1705)","v":""},null,null,null,null,null,null,null,null,null,null,null,null,null,null,null,null,10062012,41070]
[null,null,null,null,{"$f":"IF(Configuração!C1706=\"\",\"\",Configuração!B1706)","v":""},null,null,null,null,null,null,null,null,null,null,null,null,null,null,null,null,10062013,41435]
[null,null,null,null,{"$f":"IF(Configuração!C1707=\"\",\"\",Configuração!B1707)","v":""},null,null,null,null,null,null,null,null,null,null,null,null,null,null,null,null,10062014,41800]
[null,null,null,null,{"$f":"IF(Configuração!C1708=\"\",\"\",Configuração!B1708)","v":""},null,null,null,null,null,null,null,null,null,null,null,null,null,null,null,null,10062015,42165]
[null,null,null,null,{"$f":"IF(Configuração!C1709=\"\",\"\",Configuração!B1709)","v":""},null,null,null,null,null,null,null,null,null,null,null,null,null,null,null,null,10062016,42531]
[null,null,null,null,{"$f":"IF(Configuração!C1710=\"\",\"\",Configuração!B1710)","v":""},null,null,null,null,null,null,null,null,null,null,null,null,null,null,null,null,10062017,42896]
[null,null,null,null,{"$f":"IF(Configuração!C1711=\"\",\"\",Configuração!B1711)","v":""},null,null,null,null,null,null,null,null,null,null,null,null,null,null,null,null,10062018,43261]
[null,null,null,null,{"$f":"IF(Configuração!C1712=\"\",\"\",Configuração!B1712)","v":""},null,null,null,null,null,null,null,null,null,null,null,null,null,null,null,null,10062019,43626]
[null,null,null,null,{"$f":"IF(Configuração!C1713=\"\",\"\",Configuração!B1713)","v":""},null,null,null,null,null,null,null,null,null,null,null,null,null,null,null,null,10062020,43992]
[null,null,null,null,{"$f":"IF(Configuração!C1714=\"\",\"\",Configuração!B1714)","v":""},null,null,null,null,null,null,null,null,null,null,null,null,null,null,null,null,10062021,44357]
[null,null,null,null,{"$f":"IF(Configuração!C1715=\"\",\"\",Configuração!B1715)","v":""},null,null,null,null,null,null,null,null,null,null,null,null,null,null,null,null,10062022,44722]
[null,null,null,null,{"$f":"IF(Configuração!C1716=\"\",\"\",Configuração!B1716)","v":""},null,null,null,null,null,null,null,null,null,null,null,null,null,null,null,null,10062023,45087]
[null,null,null,null,{"$f":"IF(Configuração!C1717=\"\",\"\",Configuração!B1717)","v":""},null,null,null,null,null,null,null,null,null,null,null,null,null,null,null,null,10072009,40004]
[null,null,null,null,{"$f":"IF(Configuração!C1718=\"\",\"\",Configuração!B1718)","v":""},null,null,null,null,null,null,null,null,null,null,null,null,null,null,null,null,10072010,40369]
[null,null,null,null,{"$f":"IF(Configuração!C1719=\"\",\"\",Configuração!B1719)","v":""},null,null,null,null,null,null,null,null,null,null,null,null,null,null,null,null,10072011,40734]
[null,null,null,null,{"$f":"IF(Configuração!C1720=\"\",\"\",Configuração!B1720)","v":""},null,null,null,null,null,null,null,null,null,null,null,null,null,null,null,null,10072012,41100]
[null,null,null,null,{"$f":"IF(Configuração!C1721=\"\",\"\",Configuração!B1721)","v":""},null,null,null,null,null,null,null,null,null,null,null,null,null,null,null,null,10072013,41465]
[null,null,null,null,{"$f":"IF(Configuração!C1722=\"\",\"\",Configuração!B1722)","v":""},null,null,null,null,null,null,null,null,null,null,null,null,null,null,null,null,10072014,41830]
[null,null,null,null,{"$f":"IF(Configuração!C1723=\"\",\"\",Configuração!B1723)","v":""},null,null,null,null,null,null,null,null,null,null,null,null,null,null,null,null,10072015,42195]
[null,null,null,null,{"$f":"IF(Configuração!C1724=\"\",\"\",Configuração!B1724)","v":""},null,null,null,null,null,null,null,null,null,null,null,null,null,null,null,null,10072016,42561]
[null,null,null,null,{"$f":"IF(Configuração!C1725=\"\",\"\",Configuração!B1725)","v":""},null,null,null,null,null,null,null,null,null,null,null,null,null,null,null,null,10072017,42926]
[null,null,null,null,{"$f":"IF(Configuração!C1726=\"\",\"\",Configuração!B1726)","v":""},null,null,null,null,null,null,null,null,null,null,null,null,null,null,null,null,10072018,43291]
[null,null,null,null,{"$f":"IF(Configuração!C1727=\"\",\"\",Configuração!B1727)","v":""},null,null,null,null,null,null,null,null,null,null,null,null,null,null,null,null,10072019,43656]
[null,null,null,null,{"$f":"IF(Configuração!C1728=\"\",\"\",Configuração!B1728)","v":""},null,null,null,null,null,null,null,null,null,null,null,null,null,null,null,null,10072020,44022]
[null,null,null,null,{"$f":"IF(Configuração!C1729=\"\",\"\",Configuração!B1729)","v":""},null,null,null,null,null,null,null,null,null,null,null,null,null,null,null,null,10072021,44387]
[null,null,null,null,{"$f":"IF(Configuração!C1730=\"\",\"\",Configuração!B1730)","v":""},null,null,null,null,null,null,null,null,null,null,null,null,null,null,null,null,10072022,44752]
[null,null,null,null,{"$f":"IF(Configuração!C1731=\"\",\"\",Configuração!B1731)","v":""},null,null,null,null,null,null,null,null,null,null,null,null,null,null,null,null,10072023,45117]
[null,null,null,null,{"$f":"IF(Configuração!C1732=\"\",\"\",Configuração!B1732)","v":""},null,null,null,null,null,null,null,null,null,null,null,null,null,null,null,null,10082009,40035]
[null,null,null,null,{"$f":"IF(Configuração!C1733=\"\",\"\",Configuração!B1733)","v":""},null,null,null,null,null,null,null,null,null,null,null,null,null,null,null,null,10082010,40400]
[null,null,null,null,{"$f":"IF(Configuração!C1734=\"\",\"\",Configuração!B1734)","v":""},null,null,null,null,null,null,null,null,null,null,null,null,null,null,null,null,10082011,40765]
[null,null,null,null,{"$f":"IF(Configuração!C1735=\"\",\"\",Configuração!B1735)","v":""},null,null,null,null,null,null,null,null,null,null,null,null,null,null,null,null,10082012,41131]
[null,null,null,null,{"$f":"IF(Configuração!C1736=\"\",\"\",Configuração!B1736)","v":""},null,null,null,null,null,null,null,null,null,null,null,null,null,null,null,null,10082013,41496]
[null,null,null,null,{"$f":"IF(Configuração!C1737=\"\",\"\",Configuração!B1737)","v":""},null,null,null,null,null,null,null,null,null,null,null,null,null,null,null,null,10082014,41861]
[null,null,null,null,{"$f":"IF(Configuração!C1738=\"\",\"\",Configuração!B1738)","v":""},null,null,null,null,null,null,null,null,null,null,null,null,null,null,null,null,10082015,42226]
[null,null,null,null,{"$f":"IF(Configuração!C1739=\"\",\"\",Configuração!B1739)","v":""},null,null,null,null,null,null,null,null,null,null,null,null,null,null,null,null,10082016,42592]
[null,null,null,null,{"$f":"IF(Configuração!C1740=\"\",\"\",Configuração!B1740)","v":""},null,null,null,null,null,null,null,null,null,null,null,null,null,null,null,null,10082017,42957]
[null,null,null,null,{"$f":"IF(Configuração!C1741=\"\",\"\",Configuração!B1741)","v":""},null,null,null,null,null,null,null,null,null,null,null,null,null,null,null,null,10082018,43322]
[null,null,null,null,{"$f":"IF(Configuração!C1742=\"\",\"\",Configuração!B1742)","v":""},null,null,null,null,null,null,null,null,null,null,null,null,null,null,null,null,10082019,43687]
[null,null,null,null,{"$f":"IF(Configuração!C1743=\"\",\"\",Configuração!B1743)","v":""},null,null,null,null,null,null,null,null,null,null,null,null,null,null,null,null,10082020,44053]
[null,null,null,null,{"$f":"IF(Configuração!C1744=\"\",\"\",Configuração!B1744)","v":""},null,null,null,null,null,null,null,null,null,null,null,null,null,null,null,null,10082021,44418]
[null,null,null,null,{"$f":"IF(Configuração!C1745=\"\",\"\",Configuração!B1745)","v":""},null,null,null,null,null,null,null,null,null,null,null,null,null,null,null,null,10082022,44783]
[null,null,null,null,{"$f":"IF(Configuração!C1746=\"\",\"\",Configuração!B1746)","v":""},null,null,null,null,null,null,null,null,null,null,null,null,null,null,null,null,10082023,45148]
[null,null,null,null,{"$f":"IF(Configuração!C1747=\"\",\"\",Configuração!B1747)","v":""},null,null,null,null,null,null,null,null,null,null,null,null,null,null,null,null,10092009,40066]
[null,null,null,null,{"$f":"IF(Configuração!C1748=\"\",\"\",Configuração!B1748)","v":""},null,null,null,null,null,null,null,null,null,null,null,null,null,null,null,null,10092010,40431]
[null,null,null,null,{"$f":"IF(Configuração!C1749=\"\",\"\",Configuração!B1749)","v":""},null,null,null,null,null,null,null,null,null,null,null,null,null,null,null,null,10092011,40796]
[null,null,null,null,{"$f":"IF(Configuração!C1750=\"\",\"\",Configuração!B1750)","v":""},null,null,null,null,null,null,null,null,null,null,null,null,null,null,null,null,10092012,41162]
[null,null,null,null,{"$f":"IF(Configuração!C1751=\"\",\"\",Configuração!B1751)","v":""},null,null,null,null,null,null,null,null,null,null,null,null,null,null,null,null,10092013,41527]
[null,null,null,null,{"$f":"IF(Configuração!C1752=\"\",\"\",Configuração!B1752)","v":""},null,null,null,null,null,null,null,null,null,null,null,null,null,null,null,null,10092014,41892]
[null,null,null,null,{"$f":"IF(Configuração!C1753=\"\",\"\",Configuração!B1753)","v":""},null,null,null,null,null,null,null,null,null,null,null,null,null,null,null,null,10092015,42257]
[null,null,null,null,{"$f":"IF(Configuração!C1754=\"\",\"\",Configuração!B1754)","v":""},null,null,null,null,null,null,null,null,null,null,null,null,null,null,null,null,10092016,42623]
[null,null,null,null,{"$f":"IF(Configuração!C1755=\"\",\"\",Configuração!B1755)","v":""},null,null,null,null,null,null,null,null,null,null,null,null,null,null,null,null,10092017,42988]
[null,null,null,null,{"$f":"IF(Configuração!C1756=\"\",\"\",Configuração!B1756)","v":""},null,null,null,null,null,null,null,null,null,null,null,null,null,null,null,null,10092018,43353]
[null,null,null,null,{"$f":"IF(Configuração!C1757=\"\",\"\",Configuração!B1757)","v":""},null,null,null,null,null,null,null,null,null,null,null,null,null,null,null,null,10092019,43718]
[null,null,null,null,{"$f":"IF(Configuração!C1758=\"\",\"\",Configuração!B1758)","v":""},null,null,null,null,null,null,null,null,null,null,null,null,null,null,null,null,10092020,44084]
[null,null,null,null,{"$f":"IF(Configuração!C1759=\"\",\"\",Configuração!B1759)","v":""},null,null,null,null,null,null,null,null,null,null,null,null,null,null,null,null,10092021,44449]
[null,null,null,null,{"$f":"IF(Configuração!C1760=\"\",\"\",Configuração!B1760)","v":""},null,null,null,null,null,null,null,null,null,null,null,null,null,null,null,null,10092022,44814]
[null,null,null,null,{"$f":"IF(Configuração!C1761=\"\",\"\",Configuração!B1761)","v":""},null,null,null,null,null,null,null,null,null,null,null,null,null,null,null,null,10092023,45179]
[null,null,null,null,{"$f":"IF(Configuração!C1762=\"\",\"\",Configuração!B1762)","v":""},null,null,null,null,null,null,null,null,null,null,null,null,null,null,null,null,10102009,40096]
[null,null,null,null,{"$f":"IF(Configuração!C1763=\"\",\"\",Configuração!B1763)","v":""},null,null,null,null,null,null,null,null,null,null,null,null,null,null,null,null,10102010,40461]
[null,null,null,null,{"$f":"IF(Configuração!C1764=\"\",\"\",Configuração!B1764)","v":""},null,null,null,null,null,null,null,null,null,null,null,null,null,null,null,null,10102011,40826]
[null,null,null,null,{"$f":"IF(Configuração!C1765=\"\",\"\",Configuração!B1765)","v":""},null,null,null,null,null,null,null,null,null,null,null,null,null,null,null,null,10102012,41192]
[null,null,null,null,{"$f":"IF(Configuração!C1766=\"\",\"\",Configuração!B1766)","v":""},null,null,null,null,null,null,null,null,null,null,null,null,null,null,null,null,10102013,41557]
[null,null,null,null,{"$f":"IF(Configuração!C1767=\"\",\"\",Configuração!B1767)","v":""},null,null,null,null,null,null,null,null,null,null,null,null,null,null,null,null,10102014,41922]
[null,null,null,null,{"$f":"IF(Configuração!C1768=\"\",\"\",Configuração!B1768)","v":""},null,null,null,null,null,null,null,null,null,null,null,null,null,null,null,null,10102015,42287]
[null,null,null,null,{"$f":"IF(Configuração!C1769=\"\",\"\",Configuração!B1769)","v":""},null,null,null,null,null,null,null,null,null,null,null,null,null,null,null,null,10102016,42653]
[null,null,null,null,{"$f":"IF(Configuração!C1770=\"\",\"\",Configuração!B1770)","v":""},null,null,null,null,null,null,null,null,null,null,null,null,null,null,null,null,10102017,43018]
[null,null,null,null,{"$f":"IF(Configuração!C1771=\"\",\"\",Configuração!B1771)","v":""},null,null,null,null,null,null,null,null,null,null,null,null,null,null,null,null,10102018,43383]
[null,null,null,null,{"$f":"IF(Configuração!C1772=\"\",\"\",Configuração!B1772)","v":""},null,null,null,null,null,null,null,null,null,null,null,null,null,null,null,null,10102019,43748]
[null,null,null,null,{"$f":"IF(Configuração!C1773=\"\",\"\",Configuração!B1773)","v":""},null,null,null,null,null,null,null,null,null,null,null,null,null,null,null,null,10102020,44114]
[null,null,null,null,{"$f":"IF(Configuração!C1774=\"\",\"\",Configuração!B1774)","v":""},null,null,null,null,null,null,null,null,null,null,null,null,null,null,null,null,10102021,44479]
[null,null,null,null,{"$f":"IF(Configuração!C1775=\"\",\"\",Configuração!B1775)","v":""},null,null,null,null,null,null,null,null,null,null,null,null,null,null,null,null,10102022,44844]
[null,null,null,null,{"$f":"IF(Configuração!C1776=\"\",\"\",Configuração!B1776)","v":""},null,null,null,null,null,null,null,null,null,null,null,null,null,null,null,null,10102023,45209]
[null,null,null,null,{"$f":"IF(Configuração!C1777=\"\",\"\",Configuração!B1777)","v":""},null,null,null,null,null,null,null,null,null,null,null,null,null,null,null,null,10112009,40127]
[null,null,null,null,{"$f":"IF(Configuração!C1778=\"\",\"\",Configuração!B1778)","v":""},null,null,null,null,null,null,null,null,null,null,null,null,null,null,null,null,10112010,40492]
[null,null,null,null,{"$f":"IF(Configuração!C1779=\"\",\"\",Configuração!B1779)","v":""},null,null,null,null,null,null,null,null,null,null,null,null,null,null,null,null,10112011,40857]
[null,null,null,null,{"$f":"IF(Configuração!C1780=\"\",\"\",Configuração!B1780)","v":""},null,null,null,null,null,null,null,null,null,null,null,null,null,null,null,null,10112012,41223]
[null,null,null,null,{"$f":"IF(Configuração!C1781=\"\",\"\",Configuração!B1781)","v":""},null,null,null,null,null,null,null,null,null,null,null,null,null,null,null,null,10112013,41588]
[null,null,null,null,{"$f":"IF(Configuração!C1782=\"\",\"\",Configuração!B1782)","v":""},null,null,null,null,null,null,null,null,null,null,null,null,null,null,null,null,10112014,41953]
[null,null,null,null,{"$f":"IF(Configuração!C1783=\"\",\"\",Configuração!B1783)","v":""},null,null,null,null,null,null,null,null,null,null,null,null,null,null,null,null,10112015,42318]
[null,null,null,null,{"$f":"IF(Configuração!C1788=\"\",\"\",Configuração!B1788)","v":""},null,null,null,null,null,null,null,null,null,null,null,null,null,null,null,null,10112020,44145]
[null,null,null,null,{"$f":"IF(Configuração!C1793=\"\",\"\",Configuração!B1793)","v":""},null,null,null,null,null,null,null,null,null,null,null,null,null,null,null,null,10122010,40522]
[null,null,null,null,{"$f":"IF(Configuração!C1794=\"\",\"\",Configuração!B1794)","v":""},null,null,null,null,null,null,null,null,null,null,null,null,null,null,null,null,10122011,40887]
[null,null,null,null,{"$f":"IF(Configuração!C1799=\"\",\"\",Configuração!B1799)","v":""},null,null,null,null,null,null,null,null,null,null,null,null,null,null,null,null,10122016,42714]
[null,null,null,null,{"$f":"IF(Configuração!C1804=\"\",\"\",Configuração!B1804)","v":""},null,null,null,null,null,null,null,null,null,null,null,null,null,null,null,null,10122021,44540]
[null,null,null,null,{"$f":"IF(Configuração!C1809=\"\",\"\",Configuração!B1809)","v":""},null,null,null,null,null,null,null,null,null,null,null,null,null,null,null,null,11012011,40554]
[null,null,null,null,{"$f":"IF(Configuração!C1810=\"\",\"\",Configuração!B1810)","v":""},null,null,null,null,null,null,null,null,null,null,null,null,null,null,null,null,11012012,40919]
[null,null,null,null,{"$f":"IF(Configuração!C1814=\"\",\"\",Configuração!B1814)","v":""},null,null,null,null,null,null,null,null,null,null,null,null,null,null,null,null,11012016,42380]
[null,null,null,null,{"$f":"IF(Configuração!C1819=\"\",\"\",Configuração!B1819)","v":""},null,null,null,null,null,null,null,null,null,null,null,null,null,null,null,null,11012021,44207]
[null,null,null,null,{"$f":"IF(Configuração!C1824=\"\",\"\",Configuração!B1824)","v":""},null,null,null,null,null,null,null,null,null,null,null,null,null,null,null,null,11022011,40585]
[null,null,null,null,{"$f":"IF(Configuração!C1825=\"\",\"\",Configuração!B1825)","v":""},null,null,null,null,null,null,null,null,null,null,null,null,null,null,null,null,11022012,40950]
[null,null,null,null,{"$f":"IF(Configuração!C1830=\"\",\"\",Configuração!B1830)","v":""},null,null,null,null,null,null,null,null,null,null,null,null,null,null,null,null,11022017,42777]
[null,null,null,null,{"$f":"IF(Configuração!C1835=\"\",\"\",Configuração!B1835)","v":""},null,null,null,null,null,null,null,null,null,null,null,null,null,null,null,null,11022022,44603]
[null,null,null,null,{"$f":"IF(Configuração!C1837=\"\",\"\",Configuração!B1837)","v":""},null,null,null,null,null,null,null,null,null,null,null,null,null,null,null,null,11032009,39883]
[null,null,null,null,{"$f":"IF(Configuração!C1840=\"\",\"\",Configuração!B1840)","v":""},null,null,null,null,null,null,null,null,null,null,null,null,null,null,null,null,11032012,40979]
[null,null,null,null,{"$f":"IF(Configuração!C1845=\"\",\"\",Configuração!B1845)","v":""},null,null,null,null,null,null,null,null,null,null,null,null,null,null,null,null,11032017,42805]
[null,null,null,null,{"$f":"IF(Configuração!C1850=\"\",\"\",Configuração!B1850)","v":""},null,null,null,null,null,null,null,null,null,null,null,null,null,null,null,null,11032022,44631]
[null,null,null,null,{"$f":"IF(Configuração!C1855=\"\",\"\",Configuração!B1855)","v":""},null,null,null,null,null,null,null,null,null,null,null,null,null,null,null,null,11042012,41010]
[null,null,null,null,{"$f":"IF(Configuração!C1856=\"\",\"\",Configuração!B1856)","v":""},null,null,null,null,null,null,null,null,null,null,null,null,null,null,null,null,11042013,41375]
[null,null,null,null,{"$f":"IF(Configuração!C1861=\"\",\"\",Configuração!B1861)","v":""},null,null,null,null,null,null,null,null,null,null,null,null,null,null,null,null,11042018,43201]
[null,null,null,null,{"$f":"IF(Configuração!C1864=\"\",\"\",Configuração!B1864)","v":""},null,null,null,null,null,null,null,null,null,null,null,null,null,null,null,null,11042021,44297]
[null,null,null,null,{"$f":"IF(Configuração!C1870=\"\",\"\",Configuração!B1870)","v":""},null,null,null,null,null,null,null,null,null,null,null,null,null,null,null,null,11052012,41040]
[null,null,null,null,{"$f":"IF(Configuração!C1871=\"\",\"\",Configuração!B1871)","v":""},null,null,null,null,null,null,null,null,null,null,null,null,null,null,null,null,11052013,41405]
[null,null,null,null,{"$f":"IF(Configuração!C1876=\"\",\"\",Configuração!B1876)","v":""},null,null,null,null,null,null,null,null,null,null,null,null,null,null,null,null,11052018,43231]
[null,null,null,null,{"$f":"IF(Configuração!C1881=\"\",\"\",Configuração!B1881)","v":""},null,null,null,null,null,null,null,null,null,null,null,null,null,null,null,null,11052023,45057]
[null,null,null,null,{"$f":"IF(Configuração!C1886=\"\",\"\",Configuração!B1886)","v":""},null,null,null,null,null,null,null,null,null,null,null,null,null,null,null,null,11062013,41436]
[null,null,null,null,{"$f":"IF(Configuração!C1887=\"\",\"\",Configuração!B1887)","v":""},null,null,null,null,null,null,null,null,null,null,null,null,null,null,null,null,11062014,41801]
[null,null,null,null,{"$f":"IF(Configuração!C1893=\"\",\"\",Configuração!B1893)","v":""},null,null,null,null,null,null,null,null,null,null,null,null,null,null,null,null,11062020,43993]
[null,null,null,null,{"$f":"IF(Configuração!C1896=\"\",\"\",Configuração!B1896)","v":""},null,null,null,null,null,null,null,null,null,null,null,null,null,null,null,null,11062023,45088]
[null,null,null,null,{"$f":"IF(Configuração!C1901=\"\",\"\",Configuração!B1901)","v":""},null,null,null,null,null,null,null,null,null,null,null,null,null,null,null,null,11072013,41466]
[null,null,null,null,{"$f":"IF(Configuração!C1902=\"\",\"\",Configuração!B1902)","v":""},null,null,null,null,null,null,null,null,null,null,null,null,null,null,null,null,11072014,41831]
[null,null,null,null,{"$f":"IF(Configuração!C1907=\"\",\"\",Configuração!B1907)","v":""},null,null,null,null,null,null,null,null,null,null,null,null,null,null,null,null,11072019,43657]
[null,null,null,null,{"$f":"IF(Configuração!C1912=\"\",\"\",Configuração!B1912)","v":""},null,null,null,null,null,null,null,null,null,null,null,null,null,null,null,null,11082009,40036]
[null,null,null,null,{"$f":"IF(Configuração!C1917=\"\",\"\",Configuração!B1917)","v":""},null,null,null,null,null,null,null,null,null,null,null,null,null,null,null,null,11082014,41862]
[null,null,null,null,{"$f":"IF(Configuração!C1918=\"\",\"\",Configuração!B1918)","v":""},null,null,null,null,null,null,null,null,null,null,null,null,null,null,null,null,11082015,42227]
[null,null,null,null,{"$f":"IF(Configuração!C1924=\"\",\"\",Configuração!B1924)","v":""},null,null,null,null,null,null,null,null,null,null,null,null,null,null,null,null,11082021,44419]
[null,null,null,null,{"$f":"IF(Configuração!C1927=\"\",\"\",Configuração!B1927)","v":""},null,null,null,null,null,null,null,null,null,null,null,null,null,null,null,null,11092009,40067]
[null,null,null,null,{"$f":"IF(Configuração!C1932=\"\",\"\",Configuração!B1932)","v":""},null,null,null,null,null,null,null,null,null,null,null,null,null,null,null,null,11092014,41893]
[null,null,null,null,{"$f":"IF(Configuração!C1933=\"\",\"\",Configuração!B1933)","v":""},null,null,null,null,null,null,null,null,null,null,null,null,null,null,null,null,11092015,42258]
[null,null,null,null,{"$f":"IF(Configuração!C1938=\"\",\"\",Configuração!B1938)","v":""},null,null,null,null,null,null,null,null,null,null,null,null,null,null,null,null,11092020,44085]
[null,null,null,null,{"$f":"IF(Configuração!C1943=\"\",\"\",Configuração!B1943)","v":""},null,null,null,null,null,null,null,null,null,null,null,null,null,null,null,null,11102010,40462]
[null,null,null,null,{"$f":"IF(Configuração!C1948=\"\",\"\",Configuração!B1948)","v":""},null,null,null,null,null,null,null,null,null,null,null,null,null,null,null,null,11102015,42288]
[null,null,null,null,{"$f":"IF(Configuração!C1951=\"\",\"\",Configuração!B1951)","v":""},null,null,null,null,null,null,null,null,null,null,null,null,null,null,null,null,11102018,43384]
[null,null,null,null,{"$f":"IF(Configuração!C1953=\"\",\"\",Configuração!B1953)","v":""},null,null,null,null,null,null,null,null,null,null,null,null,null,null,null,null,11102020,44115]
[null,null,null,null,{"$f":"IF(Configuração!C1958=\"\",\"\",Configuração!B1958)","v":""},null,null,null,null,null,null,null,null,null,null,null,null,null,null,null,null,11112010,40493]
[null,null,null,null,{"$f":"IF(Configuração!C1963=\"\",\"\",Configuração!B1963)","v":""},null,null,null,null,null,null,null,null,null,null,null,null,null,null,null,null,11112015,42319]
[null,null,null,null,{"$f":"IF(Configuração!C1964=\"\",\"\",Configuração!B1964)","v":""},null,null,null,null,null,null,null,null,null,null,null,null,null,null,null,null,11112016,42685]
[null,null,null,null,{"$f":"IF(Configuração!C1969=\"\",\"\",Configuração!B1969)","v":""},null,null,null,null,null,null,null,null,null,null,null,null,null,null,null,null,11112021,44511]
[null,null,null,null,{"$f":"IF(Configuração!C1974=\"\",\"\",Configuração!B1974)","v":""},null,null,null,null,null,null,null,null,null,null,null,null,null,null,null,null,11122011,40888]
[null,null,null,null,{"$f":"IF(Configuração!C1978=\"\",\"\",Configuração!B1978)","v":""},null,null,null,null,null,null,null,null,null,null,null,null,null,null,null,null,11122015,42349]
[null,null,null,null,{"$f":"IF(Configuração!C1979=\"\",\"\",Configuração!B1979)","v":""},null,null,null,null,null,null,null,null,null,null,null,null,null,null,null,null,11122016,42715]
[null,null,null,null,{"$f":"IF(Configuração!C1984=\"\",\"\",Configuração!B1984)","v":""},null,null,null,null,null,null,null,null,null,null,null,null,null,null,null,null,11122021,44541]
[null,null,null,null,{"$f":"IF(Configuração!C1989=\"\",\"\",Configuração!B1989)","v":""},null,null,null,null,null,null,null,null,null,null,null,null,null,null,null,null,12012011,40555]
[null,null,null,null,{"$f":"IF(Configuração!C1994=\"\",\"\",Configuração!B1994)","v":""},null,null,null,null,null,null,null,null,null,null,null,null,null,null,null,null,12012016,42381]
[null,null,null,null,{"$f":"IF(Configuração!C1995=\"\",\"\",Configuração!B1995)","v":""},null,null,null,null,null,null,null,null,null,null,null,null,null,null,null,null,12012017,42747]
[null,null,null,null,{"$f":"IF(Configuração!C2000=\"\",\"\",Configuração!B2000)","v":""},null,null,null,null,null,null,null,null,null,null,null,null,null,null,null,null,12012022,44573]
[null,null,null,null,{"$f":"IF(Configuração!C2004=\"\",\"\",Configuração!B2004)","v":""},null,null,null,null,null,null,null,null,null,null,null,null,null,null,null,null,12022011,40586]
[null,null,null,null,{"$f":"IF(Configuração!C2009=\"\",\"\",Configuração!B2009)","v":""},null,null,null,null,null,null,null,null,null,null,null,null,null,null,null,null,12022016,42412]
[null,null,null,null,{"$f":"IF(Configuração!C2010=\"\",\"\",Configuração!B2010)","v":""},null,null,null,null,null,null,null,null,null,null,null,null,null,null,null,null,12022017,42778]
[null,null,null,null,{"$f":"IF(Configuração!C2015=\"\",\"\",Configuração!B2015)","v":""},null,null,null,null,null,null,null,null,null,null,null,null,null,null,null,null,12022022,44604]
[null,null,null,null,{"$f":"IF(Configuração!C2020=\"\",\"\",Configuração!B2020)","v":""},null,null,null,null,null,null,null,null,null,null,null,null,null,null,null,null,12032012,40980]
[null,null,null,null,{"$f":"IF(Configuração!C2025=\"\",\"\",Configuração!B2025)","v":""},null,null,null,null,null,null,null,null,null,null,null,null,null,null,null,null,12032017,42806]
[null,null,null,null,{"$f":"IF(Configuração!C2026=\"\",\"\",Configuração!B2026)","v":""},null,null,null,null,null,null,null,null,null,null,null,null,null,null,null,null,12032018,43171]
[null,null,null,null,{"$f":"IF(Configuração!C2031=\"\",\"\",Configuração!B2031)","v":""},null,null,null,null,null,null,null,null,null,null,null,null,null,null,null,null,12032023,44997]
[null,null,null,null,{"$f":"IF(Configuração!C2035=\"\",\"\",Configuração!B2035)","v":""},null,null,null,null,null,null,null,null,null,null,null,null,null,null,null,null,12042012,41011]
[null,null,null,null,{"$f":"IF(Configuração!C2040=\"\",\"\",Configuração!B2040)","v":""},null,null,null,null,null,null,null,null,null,null,null,null,null,null,null,null,12042017,42837]
[null,null,null,null,{"$f":"IF(Configuração!C2041=\"\",\"\",Configuração!B2041)","v":""},null,null,null,null,null,null,null,null,null,null,null,null,null,null,null,null,12042018,43202]
[null,null,null,null,{"$f":"IF(Configuração!C2046=\"\",\"\",Configuração!B2046)","v":""},null,null,null,null,null,null,null,null,null,null,null,null,null,null,null,null,12042023,45028]
[null,null,null,null,{"$f":"IF(Configuração!C2051=\"\",\"\",Configuração!B2051)","v":""},null,null,null,null,null,null,null,null,null,null,null,null,null,null,null,null,12052013,41406]
[null,null,null,null,{"$f":"IF(Configuração!C2056=\"\",\"\",Configuração!B2056)","v":""},null,null,null,null,null,null,null,null,null,null,null,null,null,null,null,null,12052018,43232]
[null,null,null,null,{"$f":"IF(Configuração!C2057=\"\",\"\",Configuração!B2057)","v":""},null,null,null,null,null,null,null,null,null,null,null,null,null,null,null,null,12052019,43597]
[null,null,null,null,{"$f":"IF(Configuração!C2062=\"\",\"\",Configuração!B2062)","v":""},null,null,null,null,null,null,null,null,null,null,null,null,null,null,null,null,12062009,39976]
[null,null,null,null,{"$f":"IF(Configuração!C2066=\"\",\"\",Configuração!B2066)","v":""},null,null,null,null,null,null,null,null,null,null,null,null,null,null,null,null,12062013,41437]
[null,null,null,null,{"$f":"IF(Configuração!C2071=\"\",\"\",Configuração!B2071)","v":""},null,null,null,null,null,null,null,null,null,null,null,null,null,null,null,null,12062018,43263]
[null,null,null,null,{"$f":"IF(Configuração!C2072=\"\",\"\",Configuração!B2072)","v":""},null,null,null,null,null,null,null,null,null,null,null,null,null,null,null,null,12062019,43628]
[null,null,null,null,{"$f":"IF(Configuração!C2077=\"\",\"\",Configuração!B2077)","v":""},null,null,null,null,null,null,null,null,null,null,null,null,null,null,null,null,12072009,40006]
[null,null,null,null,{"$f":"IF(Configuração!C2082=\"\",\"\",Configuração!B2082)","v":""},null,null,null,null,null,null,null,null,null,null,null,null,null,null,null,null,12072014,41832]
[null,null,null,null,{"$f":"IF(Configuração!C2087=\"\",\"\",Configuração!B2087)","v":""},null,null,null,null,null,null,null,null,null,null,null,null,null,null,null,null,12072019,43658]
[null,null,null,null,{"$f":"IF(Configuração!C2089=\"\",\"\",Configuração!B2089)","v":""},null,null,null,null,null,null,null,null,null,null,null,null,null,null,null,null,12072021,44389]
[null,null,null,null,{"$f":"IF(Configuração!C2092=\"\",\"\",Configuração!B2092)","v":""},null,null,null,null,null,null,null,null,null,null,null,null,null,null,null,null,12082009,40037]
[null,null,null,null,{"$f":"IF(Configuração!C2097=\"\",\"\",Configuração!B2097)","v":""},null,null,null,null,null,null,null,null,null,null,null,null,null,null,null,null,12082014,41863]
[null,null,null,null,{"$f":"IF(Configuração!C2102=\"\",\"\",Configuração!B2102)","v":""},null,null,null,null,null,null,null,null,null,null,null,null,null,null,null,null,12082019,43689]
[null,null,null,null,{"$f":"IF(Configuração!C2103=\"\",\"\",Configuração!B2103)","v":""},null,null,null,null,null,null,null,null,null,null,null,null,null,null,null,null,12082020,44055]
[null,null,null,null,{"$f":"IF(Configuração!C2108=\"\",\"\",Configuração!B2108)","v":""},null,null,null,null,null,null,null,null,null,null,null,null,null,null,null,null,12092010,40433]
[null,null,null,null,{"$f":"IF(Configuração!C2113=\"\",\"\",Configuração!B2113)","v":""},null,null,null,null,null,null,null,null,null,null,null,null,null,null,null,null,12092015,42259]
[null,null,null,null,{"$f":"IF(Configuração!C2115=\"\",\"\",Configuração!B2115)","v":""},null,null,null,null,null,null,null,null,null,null,null,null,null,null,null,null,12092017,42990]
[null,null,null,null,{"$f":"IF(Configuração!C2118=\"\",\"\",Configuração!B2118)","v":""},null,null,null,null,null,null,null,null,null,null,null,null,null,null,null,null,12092020,44086]
[null,null,null,null,{"$f":"IF(Configuração!C2123=\"\",\"\",Configuração!B2123)","v":""},null,null,null,null,null,null,null,null,null,null,null,null,null,null,null,null,12102010,40463]
[null,null,null,null,{"$f":"IF(Configuração!C2128=\"\",\"\",Configuração!B2128)","v":""},null,null,null,null,null,null,null,null,null,null,null,null,null,null,null,null,12102015,42289]
[null,null,null,null,{"$f":"IF(Configuração!C2133=\"\",\"\",Configuração!B2133)","v":""},null,null,null,null,null,null,null,null,null,null,null,null,null,null,null,null,12102020,44116]
[null,null,null,null,{"$f":"IF(Configuração!C2134=\"\",\"\",Configuração!B2134)","v":""},null,null,null,null,null,null,null,null,null,null,null,null,null,null,null,null,12102021,44481]
[null,null,null,null,{"$f":"IF(Configuração!C2139=\"\",\"\",Configuração!B2139)","v":""},null,null,null,null,null,null,null,null,null,null,null,null,null,null,null,null,12112011,40859]
[null,null,null,null,{"$f":"IF(Configuração!C2144=\"\",\"\",Configuração!B2144)","v":""},null,null,null,null,null,null,null,null,null,null,null,null,null,null,null,null,12112016,42686]
[null,null,null,null,{"$f":"IF(Configuração!C2146=\"\",\"\",Configuração!B2146)","v":""},null,null,null,null,null,null,null,null,null,null,null,null,null,null,null,null,12112018,43416]
[null,null,null,null,{"$f":"IF(Configuração!C2149=\"\",\"\",Configuração!B2149)","v":""},null,null,null,null,null,null,null,null,null,null,null,null,null,null,null,null,12112021,44512]
[null,null,null,null,{"$f":"IF(Configuração!C2154=\"\",\"\",Configuração!B2154)","v":""},null,null,null,null,null,null,null,null,null,null,null,null,null,null,null,null,12122011,40889]
[null,null,null,null,{"$f":"IF(Configuração!C2159=\"\",\"\",Configuração!B2159)","v":""},null,null,null,null,null,null,null,null,null,null,null,null,null,null,null,null,12122016,42716]
[null,null,null,null,{"$f":"IF(Configuração!C2164=\"\",\"\",Configuração!B2164)","v":""},null,null,null,null,null,null,null,null,null,null,null,null,null,null,null,null,12122021,44542]
[null,null,null,null,{"$f":"IF(Configuração!C2165=\"\",\"\",Configuração!B2165)","v":""},null,null,null,null,null,null,null,null,null,null,null,null,null,null,null,null,12122022,44907]
[null,null,null,null,{"$f":"IF(Configuração!C2170=\"\",\"\",Configuração!B2170)","v":""},null,null,null,null,null,null,null,null,null,null,null,null,null,null,null,null,13012012,40921]
[null,null,null,null,{"$f":"IF(Configuração!C2173=\"\",\"\",Configuração!B2173)","v":""},null,null,null,null,null,null,null,null,null,null,null,null,null,null,null,null,13012015,42017]
[null,null,null,null,{"$f":"IF(Configuração!C2179=\"\",\"\",Configuração!B2179)","v":""},null,null,null,null,null,null,null,null,null,null,null,null,null,null,null,null,13012021,44209]
[null,null,null,null,{"$f":"IF(Configuração!C2180=\"\",\"\",Configuração!B2180)","v":""},null,null,null,null,null,null,null,null,null,null,null,null,null,null,null,null,13012022,44574]
[null,null,null,null,{"$f":"IF(Configuração!C2185=\"\",\"\",Configuração!B2185)","v":""},null,null,null,null,null,null,null,null,null,null,null,null,null,null,null,null,13022012,40952]
[null,null,null,null,{"$f":"IF(Configuração!C2190=\"\",\"\",Configuração!B2190)","v":""},null,null,null,null,null,null,null,null,null,null,null,null,null,null,null,null,13022017,42779]
[null,null,null,null,{"$f":"IF(Configuração!C2195=\"\",\"\",Configuração!B2195)","v":""},null,null,null,null,null,null,null,null,null,null,null,null,null,null,null,null,13022022,44605]
[null,null,null,null,{"$f":"IF(Configuração!C2196=\"\",\"\",Configuração!B2196)","v":""},null,null,null,null,null,null,null,null,null,null,null,null,null,null,null,null,13022023,44970]
[null,null,null,null,{"$f":"IF(Configuração!C2200=\"\",\"\",Configuração!B2200)","v":""},null,null,null,null,null,null,null,null,null,null,null,null,null,null,null,null,13032012,40981]
[null,null,null,null,{"$f":"IF(Configuração!C2205=\"\",\"\",Configuração!B2205)","v":""},null,null,null,null,null,null,null,null,null,null,null,null,null,null,null,null,13032017,42807]
[null,null,null,null,{"$f":"IF(Configuração!C2210=\"\",\"\",Configuração!B2210)","v":""},null,null,null,null,null,null,null,null,null,null,null,null,null,null,null,null,13032022,44633]
[null,null,null,null,{"$f":"IF(Configuração!C2211=\"\",\"\",Configuração!B2211)","v":""},null,null,null,null,null,null,null,null,null,null,null,null,null,null,null,null,13032023,44998]
[null,null,null,null,{"$f":"IF(Configuração!C2216=\"\",\"\",Configuração!B2216)","v":""},null,null,null,null,null,null,null,null,null,null,null,null,null,null,null,null,13042013,41377]
[null,null,null,null,{"$f":"IF(Configuração!C2221=\"\",\"\",Configuração!B2221)","v":""},null,null,null,null,null,null,null,null,null,null,null,null,null,null,null,null,13042018,43203]
[null,null,null,null,{"$f":"IF(Configuração!C2226=\"\",\"\",Configuração!B2226)","v":""},null,null,null,null,null,null,null,null,null,null,null,null,null,null,null,null,13042023,45029]
[null,null,null,null,{"$f":"IF(Configuração!C2229=\"\",\"\",Configuração!B2229)","v":""},null,null,null,null,null,null,null,null,null,null,null,null,null,null,null,null,13052011,40676]
[null,null,null,null,{"$f":"IF(Configuração!C2231=\"\",\"\",Configuração!B2231)","v":""},null,null,null,null,null,null,null,null,null,null,null,null,null,null,null,null,13052013,41407]
[null,null,null,null,{"$f":"IF(Configuração!C2236=\"\",\"\",Configuração!B2236)","v":""},null,null,null,null,null,null,null,null,null,null,null,null,null,null,null,null,13052018,43233]
[null,null,null,null,{"$f":"IF(Configuração!C2241=\"\",\"\",Configuração!B2241)","v":""},null,null,null,null,null,null,null,null,null,null,null,null,null,null,null,null,13052023,45059]
[null,null,null,null,{"$f":"IF(Configuração!C2242=\"\",\"\",Configuração!B2242)","v":""},null,null,null,null,null,null,null,null,null,null,null,null,null,null,null,null,13062009,39977]
[null,null,null,null,{"$f":"IF(Configuração!C2247=\"\",\"\",Configuração!B2247)","v":""},null,null,null,null,null,null,null,null,null,null,null,null,null,null,null,null,13062014,41803]
[null,null,null,null,{"$f":"IF(Configuração!C2252=\"\",\"\",Configuração!B2252)","v":""},null,null,null,null,null,null,null,null,null,null,null,null,null,null,null,null,13062019,43629]
[null,null,null,null,{"$f":"IF(Configuração!C2257=\"\",\"\",Configuração!B2257)","v":""},null,null,null,null,null,null,null,null,null,null,null,null,null,null,null,null,13072009,40007]
[null,null,null,null,{"$f":"IF(Configuração!C2260=\"\",\"\",Configuração!B2260)","v":""},null,null,null,null,null,null,null,null,null,null,null,null,null,null,null,null,13072012,41103]
[null,null,null,null,{"$f":"IF(Configuração!C2262=\"\",\"\",Configuração!B2262)","v":""},null,null,null,null,null,null,null,null,null,null,null,null,null,null,null,null,13072014,41833]
[null,null,null,null,{"$f":"IF(Configuração!C2267=\"\",\"\",Configuração!B2267)","v":""},null,null,null,null,null,null,null,null,null,null,null,null,null,null,null,null,13072019,43659]
[null,null,null,null,{"$f":"IF(Configuração!C2272=\"\",\"\",Configuração!B2272)","v":""},null,null,null,null,null,null,null,null,null,null,null,null,null,null,null,null,13082009,40038]
[null,null,null,null,{"$f":"IF(Configuração!C2273=\"\",\"\",Configuração!B2273)","v":""},null,null,null,null,null,null,null,null,null,null,null,null,null,null,null,null,13082010,40403]
[null,null,null,null,{"$f":"IF(Configuração!C2278=\"\",\"\",Configuração!B2278)","v":""},null,null,null,null,null,null,null,null,null,null,null,null,null,null,null,null,13082015,42229]
[null,null,null,null,{"$f":"IF(Configuração!C2283=\"\",\"\",Configuração!B2283)","v":""},null,null,null,null,null,null,null,null,null,null,null,null,null,null,null,null,13082020,44056]
[null,null,null,null,{"$f":"IF(Configuração!C2287=\"\",\"\",Configuração!B2287)","v":""},null,null,null,null,null,null,null,null,null,null,null,null,null,null,null,null,13092009,40069]
[null,null,null,null,{"$f":"IF(Configuração!C2288=\"\",\"\",Configuração!B2288)","v":""},null,null,null,null,null,null,null,null,null,null,null,null,null,null,null,null,13092010,40434]
[null,null,null,null,{"$f":"IF(Configuração!C2293=\"\",\"\",Configuração!B2293)","v":""},null,null,null,null,null,null,null,null,null,null,null,null,null,null,null,null,13092015,42260]
[null,null,null,null,{"$f":"IF(Configuração!C2298=\"\",\"\",Configuração!B2298)","v":""},null,null,null,null,null,null,null,null,null,null,null,null,null,null,null,null,13092020,44087]
[null,null,null,null,{"$f":"IF(Configuração!C2303=\"\",\"\",Configuração!B2303)","v":""},null,null,null,null,null,null,null,null,null,null,null,null,null,null,null,null,13102010,40464]
[null,null,null,null,{"$f":"IF(Configuração!C2304=\"\",\"\",Configuração!B2304)","v":""},null,null,null,null,null,null,null,null,null,null,null,null,null,null,null,null,13102011,40829]
[null,null,null,null,{"$f":"IF(Configuração!C2309=\"\",\"\",Configuração!B2309)","v":""},null,null,null,null,null,null,null,null,null,null,null,null,null,null,null,null,13102016,42656]
[null,null,null,null,{"$f":"IF(Configuração!C2314=\"\",\"\",Configuração!B2314)","v":""},null,null,null,null,null,null,null,null,null,null,null,null,null,null,null,null,13102021,44482]
[null,null,null,null,{"$f":"IF(Configuração!C2318=\"\",\"\",Configuração!B2318)","v":""},null,null,null,null,null,null,null,null,null,null,null,null,null,null,null,null,13112010,40495]
[null,null,null,null,{"$f":"IF(Configuração!C2319=\"\",\"\",Configuração!B2319)","v":""},null,null,null,null,null,null,null,null,null,null,null,null,null,null,null,null,13112011,40860]
[null,null,null,null,{"$f":"IF(Configuração!C2324=\"\",\"\",Configuração!B2324)","v":""},null,null,null,null,null,null,null,null,null,null,null,null,null,null,null,null,13112016,42687]
[null,null,null,null,{"$f":"IF(Configuração!C2329=\"\",\"\",Configuração!B2329)","v":""},null,null,null,null,null,null,null,null,null,null,null,null,null,null,null,null,13112021,44513]
[null,null,null,null,{"$f":"IF(Configuração!C2334=\"\",\"\",Configuração!B2334)","v":""},null,null,null,null,null,null,null,null,null,null,null,null,null,null,null,null,13122011,40890]
[null,null,null,null,{"$f":"IF(Configuração!C2335=\"\",\"\",Configuração!B2335)","v":""},null,null,null,null,null,null,null,null,null,null,null,null,null,null,null,null,13122012,41256]
[null,null,null,null,{"$f":"IF(Configuração!C2341=\"\",\"\",Configuração!B2341)","v":""},null,null,null,null,null,null,null,null,null,null,null,null,null,null,null,null,13122018,43447]
[null,null,null,null,{"$f":"IF(Configuração!C2344=\"\",\"\",Configuração!B2344)","v":""},null,null,null,null,null,null,null,null,null,null,null,null,null,null,null,null,13122021,44543]
[null,null,null,null,{"$f":"IF(Configuração!C2349=\"\",\"\",Configuração!B2349)","v":""},null,null,null,null,null,null,null,null,null,null,null,null,null,null,null,null,14012011,40557]
[null,null,null,null,{"$f":"IF(Configuração!C2350=\"\",\"\",Configuração!B2350)","v":""},null,null,null,null,null,null,null,null,null,null,null,null,null,null,null,null,14012012,40922]
[null,null,null,null,{"$f":"IF(Configuração!C2355=\"\",\"\",Configuração!B2355)","v":""},null,null,null,null,null,null,null,null,null,null,null,null,null,null,null,null,14012017,42749]
[null,null,null,null,{"$f":"IF(Configuração!C2360=\"\",\"\",Configuração!B2360)","v":""},null,null,null,null,null,null,null,null,null,null,null,null,null,null,null,null,14012022,44575]
[null,null,null,null,{"$f":"IF(Configuração!C2365=\"\",\"\",Configuração!B2365)","v":""},null,null,null,null,null,null,null,null,null,null,null,null,null,null,null,null,14022012,40953]
[null,null,null,null,{"$f":"IF(Configuração!C2366=\"\",\"\",Configuração!B2366)","v":""},null,null,null,null,null,null,null,null,null,null,null,null,null,null,null,null,14022013,41319]
[null,null,null,null,{"$f":"IF(Configuração!C2372=\"\",\"\",Configuração!B2372)","v":""},null,null,null,null,null,null,null,null,null,null,null,null,null,null,null,null,14022019,43510]
[null,null,null,null,{"$f":"IF(Configuração!C2375=\"\",\"\",Configuração!B2375)","v":""},null,null,null,null,null,null,null,null,null,null,null,null,null,null,null,null,14022022,44606]
[null,null,null,null,{"$f":"IF(Configuração!C2380=\"\",\"\",Configuração!B2380)","v":""},null,null,null,null,null,null,null,null,null,null,null,null,null,null,null,null,14032012,40982]
[null,null,null,null,{"$f":"IF(Configuração!C2381=\"\",\"\",Configuração!B2381)","v":""},null,null,null,null,null,null,null,null,null,null,null,null,null,null,null,null,14032013,41347]
[null,null,null,null,{"$f":"IF(Configuração!C2386=\"\",\"\",Configuração!B2386)","v":""},null,null,null,null,null,null,null,null,null,null,null,null,null,null,null,null,14032018,43173]
[null,null,null,null,{"$f":"IF(Configuração!C2391=\"\",\"\",Configuração!B2391)","v":""},null,null,null,null,null,null,null,null,null,null,null,null,null,null,null,null,14032023,44999]
[null,null,null,null,{"$f":"IF(Configuração!C2396=\"\",\"\",Configuração!B2396)","v":""},null,null,null,null,null,null,null,null,null,null,null,null,null,null,null,null,14042013,41378]
[null,null,null,null,{"$f":"IF(Configuração!C2398=\"\",\"\",Configuração!B2398)","v":""},null,null,null,null,null,null,null,null,null,null,null,null,null,null,null,null,14042015,42108]
[null,null,null,null,{"$f":"IF(Configuração!C2401=\"\",\"\",Configuração!B2401)","v":""},null,null,null,null,null,null,null,null,null,null,null,null,null,null,null,null,14042018,43204]
[null,null,null,null,{"$f":"IF(Configuração!C2406=\"\",\"\",Configuração!B2406)","v":""},null,null,null,null,null,null,null,null,null,null,null,null,null,null,null,null,14042023,45030]
[null,null,null,null,{"$f":"IF(Configuração!C2411=\"\",\"\",Configuração!B2411)","v":""},null,null,null,null,null,null,null,null,null,null,null,null,null,null,null,null,14052013,41408]
[null,null,null,null,{"$f":"IF(Configuração!C2412=\"\",\"\",Configuração!B2412)","v":""},null,null,null,null,null,null,null,null,null,null,null,null,null,null,null,null,14052014,41773]
[null,null,null,null,{"$f":"IF(Configuração!C2417=\"\",\"\",Configuração!B2417)","v":""},null,null,null,null,null,null,null,null,null,null,null,null,null,null,null,null,14052019,43599]
[null,null,null,null,{"$f":"IF(Configuração!C2422=\"\",\"\",Configuração!B2422)","v":""},null,null,null,null,null,null,null,null,null,null,null,null,null,null,null,null,14062009,39978]
[null,null,null,null,{"$f":"IF(Configuração!C2425=\"\",\"\",Configuração!B2425)","v":""},null,null,null,null,null,null,null,null,null,null,null,null,null,null,null,null,14062012,41074]
[null,null,null,null,{"$f":"IF(Configuração!C2427=\"\",\"\",Configuração!B2427)","v":""},null,null,null,null,null,null,null,null,null,null,null,null,null,null,null,null,14062014,41804]
[null,null,null,null,{"$f":"IF(Configuração!C2432=\"\",\"\",Configuração!B2432)","v":""},null,null,null,null,null,null,null,null,null,null,null,null,null,null,null,null,14062019,43630]
[null,null,null,null,{"$f":"IF(Configuração!C2437=\"\",\"\",Configuração!B2437)","v":""},null,null,null,null,null,null,null,null,null,null,null,null,null,null,null,null,14072009,40008]
[null,null,null,null,{"$f":"IF(Configuração!C2442=\"\",\"\",Configuração!B2442)","v":""},null,null,null,null,null,null,null,null,null,null,null,null,null,null,null,null,14072014,41834]
[null,null,null,null,{"$f":"IF(Configuração!C2443=\"\",\"\",Configuração!B2443)","v":""},null,null,null,null,null,null,null,null,null,null,null,null,null,null,null,null,14072015,42199]
[null,null,null,null,{"$f":"IF(Configuração!C2448=\"\",\"\",Configuração!B2448)","v":""},null,null,null,null,null,null,null,null,null,null,null,null,null,null,null,null,14072020,44026]
[null,null,null,null,{"$f":"IF(Configuração!C2452=\"\",\"\",Configuração!B2452)","v":""},null,null,null,null,null,null,null,null,null,null,null,null,null,null,null,null,14082009,40039]
[null,null,null,null,{"$f":"IF(Configuração!C2457=\"\",\"\",Configuração!B2457)","v":""},null,null,null,null,null,null,null,null,null,null,null,null,null,null,null,null,14082014,41865]
[null,null,null,null,{"$f":"IF(Configuração!C2458=\"\",\"\",Configuração!B2458)","v":""},null,null,null,null,null,null,null,null,null,null,null,null,null,null,null,null,14082015,42230]
[null,null,null,null,{"$f":"IF(Configuração!C2463=\"\",\"\",Configuração!B2463)","v":""},null,null,null,null,null,null,null,null,null,null,null,null,null,null,null,null,14082020,44057]
[null,null,null,null,{"$f":"IF(Configuração!C2468=\"\",\"\",Configuração!B2468)","v":""},null,null,null,null,null,null,null,null,null,null,null,null,null,null,null,null,14092010,40435]
[null,null,null,null,{"$f":"IF(Configuração!C2473=\"\",\"\",Configuração!B2473)","v":""},null,null,null,null,null,null,null,null,null,null,null,null,null,null,null,null,14092015,42261]
[null,null,null,null,{"$f":"IF(Configuração!C2474=\"\",\"\",Configuração!B2474)","v":""},null,null,null,null,null,null,null,null,null,null,null,null,null,null,null,null,14092016,42627]
[null,null,null,null,{"$f":"IF(Configuração!C2479=\"\",\"\",Configuração!B2479)","v":""},null,null,null,null,null,null,null,null,null,null,null,null,null,null,null,null,14092021,44453]
[null,null,null,null,{"$f":"IF(Configuração!C2483=\"\",\"\",Configuração!B2483)","v":""},null,null,null,null,null,null,null,null,null,null,null,null,null,null,null,null,14102010,40465]
[null,null,null,null,{"$f":"IF(Configuração!C2488=\"\",\"\",Configuração!B2488)","v":""},null,null,null,null,null,null,null,null,null,null,null,null,null,null,null,null,14102015,42291]
[null,null,null,null,{"$f":"IF(Configuração!C2489=\"\",\"\",Configuração!B2489)","v":""},null,null,null,null,null,null,null,null,null,null,null,null,null,null,null,null,14102016,42657]
[null,null,null,null,{"$f":"IF(Configuração!C2494=\"\",\"\",Configuração!B2494)","v":""},null,null,null,null,null,null,null,null,null,null,null,null,null,null,null,null,14102021,44483]
[null,null,null,null,{"$f":"IF(Configuração!C2499=\"\",\"\",Configuração!B2499)","v":""},null,null,null,null,null,null,null,null,null,null,null,null,null,null,null,null,14112011,40861]
[null,null,null,null,{"$f":"IF(Configuração!C2504=\"\",\"\",Configuração!B2504)","v":""},null,null,null,null,null,null,null,null,null,null,null,null,null,null,null,null,14112016,42688]
[null,null,null,null,{"$f":"IF(Configuração!C2505=\"\",\"\",Configuração!B2505)","v":""},null,null,null,null,null,null,null,null,null,null,null,null,null,null,null,null,14112017,43053]
[null,null,null,null,{"$f":"IF(Configuração!C2509=\"\",\"\",Configuração!B2509)","v":""},null,null,null,null,null,null,null,null,null,null,null,null,null,null,null,null,14112021,44514]
[null,null,null,null,{"$f":"IF(Configuração!C2514=\"\",\"\",Configuração!B2514)","v":""},null,null,null,null,null,null,null,null,null,null,null,null,null,null,null,null,14122011,40891]
[null,null,null,null,{"$f":"IF(Configuração!C2519=\"\",\"\",Configuração!B2519)","v":""},null,null,null,null,null,null,null,null,null,null,null,null,null,null,null,null,14122016,42718]
[null,null,null,null,{"$f":"IF(Configuração!C2520=\"\",\"\",Configuração!B2520)","v":""},null,null,null,null,null,null,null,null,null,null,null,null,null,null,null,null,14122017,43083]
[null,null,null,null,{"$f":"IF(Configuração!C2525=\"\",\"\",Configuração!B2525)","v":""},null,null,null,null,null,null,null,null,null,null,null,null,null,null,null,null,14122022,44909]
[null,null,null,null,{"$f":"IF(Configuração!C2530=\"\",\"\",Configuração!B2530)","v":""},null,null,null,null,null,null,null,null,null,null,null,null,null,null,null,null,15012012,40923]
[null,null,null,null,{"$f":"IF(Configuração!C2535=\"\",\"\",Configuração!B2535)","v":""},null,null,null,null,null,null,null,null,null,null,null,null,null,null,null,null,15012017,42750]
[null,null,null,null,{"$f":"IF(Configuração!C2536=\"\",\"\",Configuração!B2536)","v":""},null,null,null,null,null,null,null,null,null,null,null,null,null,null,null,null,15012018,43115]
[null,null,null,null,{"$f":"IF(Configuração!C2540=\"\",\"\",Configuração!B2540)","v":""},null,null,null,null,null,null,null,null,null,null,null,null,null,null,null,null,15012022,44576]
[null,null,null,null,{"$f":"IF(Configuração!C2545=\"\",\"\",Configuração!B2545)","v":""},null,null,null,null,null,null,null,null,null,null,null,null,null,null,null,null,15022012,40954]
[null,null,null,null,{"$f":"IF(Configuração!C2550=\"\",\"\",Configuração!B2550)","v":""},null,null,null,null,null,null,null,null,null,null,null,null,null,null,null,null,15022017,42781]
[null,null,null,null,{"$f":"IF(Configuração!C2551=\"\",\"\",Configuração!B2551)","v":""},null,null,null,null,null,null,null,null,null,null,null,null,null,null,null,null,15022018,43146]
[null,null,null,null,{"$f":"IF(Configuração!C2556=\"\",\"\",Configuração!B2556)","v":""},null,null,null,null,null,null,null,null,null,null,null,null,null,null,null,null,15022023,44972]
[null,null,null,null,{"$f":"IF(Configuração!C2561=\"\",\"\",Configuração!B2561)","v":""},null,null,null,null,null,null,null,null,null,null,null,null,null,null,null,null,15032013,41348]
[null,null,null,null,{"$f":"IF(Configuração!C2563=\"\",\"\",Configuração!B2563)","v":""},null,null,null,null,null,null,null,null,null,null,null,null,null,null,null,null,15032015,42078]
[null,null,null,null,{"$f":"IF(Configuração!C2566=\"\",\"\",Configuração!B2566)","v":""},null,null,null,null,null,null,null,null,null,null,null,null,null,null,null,null,15032018,43174]
[null,null,null,null,{"$f":"IF(Configuração!C2571=\"\",\"\",Configuração!B2571)","v":""},null,null,null,null,null,null,null,null,null,null,null,null,null,null,null,null,15032023,45000]
[null,null,null,null,{"$f":"IF(Configuração!C2576=\"\",\"\",Configuração!B2576)","v":""},null,null,null,null,null,null,null,null,null,null,null,null,null,null,null,null,15042013,41379]
[null,null,null,null,{"$f":"IF(Configuração!C2581=\"\",\"\",Configuração!B2581)","v":""},null,null,null,null,null,null,null,null,null,null,null,null,null,null,null,null,15042018,43205]
[null,null,null,null,{"$f":"IF(Configuração!C2582=\"\",\"\",Configuração!B2582)","v":""},null,null,null,null,null,null,null,null,null,null,null,null,null,null,null,null,15042019,43570]
[null,null,null,null,{"$f":"IF(Configuração!C2587=\"\",\"\",Configuração!B2587)","v":""},null,null,null,null,null,null,null,null,null,null,null,null,null,null,null,null,15052009,39948]
[null,null,null,null,{"$f":"IF(Configuração!C2592=\"\",\"\",Configuração!B2592)","v":""},null,null,null,null,null,null,null,null,null,null,null,null,null,null,null,null,15052014,41774]
[null,null,null,null,{"$f":"IF(Configuração!C2594=\"\",\"\",Configuração!B2594)","v":""},null,null,null,null,null,null,null,null,null,null,null,null,null,null,null,null,15052016,42505]
[null,null,null,null,{"$f":"IF(Configuração!C2597=\"\",\"\",Configuração!B2597)","v":""},null,null,null,null,null,null,null,null,null,null,null,null,null,null,null,null,15052019,43600]
[null,null,null,null,{"$f":"IF(Configuração!C2602=\"\",\"\",Configuração!B2602)","v":""},null,null,null,null,null,null,null,null,null,null,null,null,null,null,null,null,15062009,39979]
[null,null,null,null,{"$f":"IF(Configuração!C2607=\"\",\"\",Configuração!B2607)","v":""},null,null,null,null,null,null,null,null,null,null,null,null,null,null,null,null,15062014,41805]
[null,null,null,null,{"$f":"IF(Configuração!C2612=\"\",\"\",Configuração!B2612)","v":""},null,null,null,null,null,null,null,null,null,null,null,null,null,null,null,null,15062019,43631]
[null,null,null,null,{"$f":"IF(Configuração!C2613=\"\",\"\",Configuração!B2613)","v":""},null,null,null,null,null,null,null,null,null,null,null,null,null,null,null,null,15062020,43997]
[null,null,null,null,{"$f":"IF(Configuração!C2618=\"\",\"\",Configuração!B2618)","v":""},null,null,null,null,null,null,null,null,null,null,null,null,null,null,null,null,15072010,40374]
[null,null,null,null,{"$f":"IF(Configuração!C2623=\"\",\"\",Configuração!B2623)","v":""},null,null,null,null,null,null,null,null,null,null,null,null,null,null,null,null,15072015,42200]
[null,null,null,null,{"$f":"IF(Configuração!C2627=\"\",\"\",Configuração!B2627)","v":""},null,null,null,null,null,null,null,null,null,null,null,null,null,null,null,null,15072019,43661]
[null,null,null,null,{"$f":"IF(Configuração!C2628=\"\",\"\",Configuração!B2628)","v":""},null,null,null,null,null,null,null,null,null,null,null,null,null,null,null,null,15072020,44027]
[null,null,null,null,{"$f":"IF(Configuração!C2633=\"\",\"\",Configuração!B2633)","v":""},null,null,null,null,null,null,null,null,null,null,null,null,null,null,null,null,15082010,40405]
[null,null,null,null,{"$f":"IF(Configuração!C2638=\"\",\"\",Configuração!B2638)","v":""},null,null,null,null,null,null,null,null,null,null,null,null,null,null,null,null,15082015,42231]
[null,null,null,null,{"$f":"IF(Configuração!C2643=\"\",\"\",Configuração!B2643)","v":""},null,null,null,null,null,null,null,null,null,null,null,null,null,null,null,null,15082020,44058]
[null,null,null,null,{"$f":"IF(Configuração!C2644=\"\",\"\",Configuração!B2644)","v":""},null,null,null,null,null,null,null,null,null,null,null,null,null,null,null,null,15082021,44423]
[null,null,null,null,{"$f":"IF(Configuração!C2650=\"\",\"\",Configuração!B2650)","v":""},null,null,null,null,null,null,null,null,null,null,null,null,null,null,null,null,15092012,41167]
[null,null,null,null,{"$f":"IF(Configuração!C2653=\"\",\"\",Configuração!B2653)","v":""},null,null,null,null,null,null,null,null,null,null,null,null,null,null,null,null,15092015,42262]
[null,null,null,null,{"$f":"IF(Configuração!C2658=\"\",\"\",Configuração!B2658)","v":""},null,null,null,null,null,null,null,null,null,null,null,null,null,null,null,null,15092020,44089]
[null,null,null,null,{"$f":"IF(Configuração!C2659=\"\",\"\",Configuração!B2659)","v":""},null,null,null,null,null,null,null,null,null,null,null,null,null,null,null,null,15092021,44454]
[null,null,null,null,{"$f":"IF(Configuração!C2664=\"\",\"\",Configuração!B2664)","v":""},null,null,null,null,null,null,null,null,null,null,null,null,null,null,null,null,15102011,40831]
[null,null,null,null,{"$f":"IF(Configuração!C2669=\"\",\"\",Configuração!B2669)","v":""},null,null,null,null,null,null,null,null,null,null,null,null,null,null,null,null,15102016,42658]
[null,null,null,null,{"$f":"IF(Configuração!C2674=\"\",\"\",Configuração!B2674)","v":""},null,null,null,null,null,null,null,null,null,null,null,null,null,null,null,null,15102021,44484]
[null,null,null,null,{"$f":"IF(Configuração!C2677=\"\",\"\",Configuração!B2677)","v":""},null,null,null,null,null,null,null,null,null,null,null,null,null,null,null,null,15112009,40132]
[null,null,null,null,{"$f":"IF(Configuração!C2679=\"\",\"\",Configuração!B2679)","v":""},null,null,null,null,null,null,null,null,null,null,null,null,null,null,null,null,15112011,40862]
[null,null,null,null,{"$f":"IF(Configuração!C2684=\"\",\"\",Configuração!B2684)","v":""},null,null,null,null,null,null,null,null,null,null,null,null,null,null,null,null,15112016,42689]
[null,null,null,null,{"$f":"IF(Configuração!C2689=\"\",\"\",Configuração!B2689)","v":""},null,null,null,null,null,null,null,null,null,null,null,null,null,null,null,null,15112021,44515]
[null,null,null,null,{"$f":"IF(Configuração!C2690=\"\",\"\",Configuração!B2690)","v":""},null,null,null,null,null,null,null,null,null,null,null,null,null,null,null,null,15112022,44880]
[null,null,null,null,{"$f":"IF(Configuração!C2695=\"\",\"\",Configuração!B2695)","v":""},null,null,null,null,null,null,null,null,null,null,null,null,null,null,null,null,15122012,41258]
[null,null,null,null,{"$f":"IF(Configuração!C2700=\"\",\"\",Configuração!B2700)","v":""},null,null,null,null,null,null,null,null,null,null,null,null,null,null,null,null,15122017,43084]
[null,null,null,null,{"$f":"IF(Configuração!C2705=\"\",\"\",Configuração!B2705)","v":""},null,null,null,null,null,null,null,null,null,null,null,null,null,null,null,null,15122022,44910]
[null,null,null,null,{"$f":"IF(Configuração!C2708=\"\",\"\",Configuração!B2708)","v":""},null,null,null,null,null,null,null,null,null,null,null,null,null,null,null,null,16012010,40194]
[null,null,null,null,{"$f":"IF(Configuração!C2710=\"\",\"\",Configuração!B2710)","v":""},null,null,null,null,null,null,null,null,null,null,null,null,null,null,null,null,16012012,40924]
[null,null,null,null,{"$f":"IF(Configuração!C2715=\"\",\"\",Configuração!B2715)","v":""},null,null,null,null,null,null,null,null,null,null,null,null,null,null,null,null,16012017,42751]
[null,null,null,null,{"$f":"IF(Configuração!C2720=\"\",\"\",Configuração!B2720)","v":""},null,null,null,null,null,null,null,null,null,null,null,null,null,null,null,null,16012022,44577]
[null,null,null,null,{"$f":"IF(Configuração!C2721=\"\",\"\",Configuração!B2721)","v":""},null,null,null,null,null,null,null,null,null,null,null,null,null,null,null,null,16012023,44942]
[null,null,null,null,{"$f":"IF(Configuração!C2726=\"\",\"\",Configuração!B2726)","v":""},null,null,null,null,null,null,null,null,null,null,null,null,null,null,null,null,16022013,41321]
[null,null,null,null,{"$f":"IF(Configuração!C2731=\"\",\"\",Configuração!B2731)","v":""},null,null,null,null,null,null,null,null,null,null,null,null,null,null,null,null,16022018,43147]
[null,null,null,null,{"$f":"IF(Configuração!C2734=\"\",\"\",Configuração!B2734)","v":""},null,null,null,null,null,null,null,null,null,null,null,null,null,null,null,null,16022021,44243]
[null,null,null,null,{"$f":"IF(Configuração!C2736=\"\",\"\",Configuração!B2736)","v":""},null,null,null,null,null,null,null,null,null,null,null,null,null,null,null,null,16022023,44973]
[null,null,null,null,{"$f":"IF(Configuração!C2741=\"\",\"\",Configuração!B2741)","v":""},null,null,null,null,null,null,null,null,null,null,null,null,null,null,null,null,16032013,41349]
[null,null,null,null,{"$f":"IF(Configuração!C2746=\"\",\"\",Configuração!B2746)","v":""},null,null,null,null,null,null,null,null,null,null,null,null,null,null,null,null,16032018,43175]
[null,null,null,null,{"$f":"IF(Configuração!C2751=\"\",\"\",Configuração!B2751)","v":""},null,null,null,null,null,null,null,null,null,null,null,null,null,null,null,null,16032023,45001]
[null,null,null,null,{"$f":"IF(Configuração!C2752=\"\",\"\",Configuração!B2752)","v":""},null,null,null,null,null,null,null,null,null,null,null,null,null,null,null,null,16042009,39919]
[null,null,null,null,{"$f":"IF(Configuração!C2757=\"\",\"\",Configuração!B2757)","v":""},null,null,null,null,null,null,null,null,null,null,null,null,null,null,null,null,16042014,41745]
[null,null,null,null,{"$f":"IF(Configuração!C2761=\"\",\"\",Configuração!B2761)","v":""},null,null,null,null,null,null,null,null,null,null,null,null,null,null,null,null,16042018,43206]
[null,null,null,null,{"$f":"IF(Configuração!C2766=\"\",\"\",Configuração!B2766)","v":""},null,null,null,null,null,null,null,null,null,null,null,null,null,null,null,null,16042023,45032]
[null,null,null,null,{"$f":"IF(Configuração!C2767=\"\",\"\",Configuração!B2767)","v":""},null,null,null,null,null,null,null,null,null,null,null,null,null,null,null,null,16052009,39949]
[null,null,null,null,{"$f":"IF(Configuração!C2772=\"\",\"\",Configuração!B2772)","v":""},null,null,null,null,null,null,null,null,null,null,null,null,null,null,null,null,16052014,41775]
[null,null,null,null,{"$f":"IF(Configuração!C2777=\"\",\"\",Configuração!B2777)","v":""},null,null,null,null,null,null,null,null,null,null,null,null,null,null,null,null,16052019,43601]
[null,null,null,null,{"$f":"IF(Configuração!C2782=\"\",\"\",Configuração!B2782)","v":""},null,null,null,null,null,null,null,null,null,null,null,null,null,null,null,null,16062009,39980]
[null,null,null,null,{"$f":"IF(Configuração!C2783=\"\",\"\",Configuração!B2783)","v":""},null,null,null,null,null,null,null,null,null,null,null,null,null,null,null,null,16062010,40345]
[null,null,null,null,{"$f":"IF(Configuração!C2788=\"\",\"\",Configuração!B2788)","v":""},null,null,null,null,null,null,null,null,null,null,null,null,null,null,null,null,16062015,42171]
[null,null,null,null,{"$f":"IF(Configuração!C2792=\"\",\"\",Configuração!B2792)","v":""},null,null,null,null,null,null,null,null,null,null,null,null,null,null,null,null,16062019,43632]
[null,null,null,null,{"$f":"IF(Configuração!C2797=\"\",\"\",Configuração!B2797)","v":""},null,null,null,null,null,null,null,null,null,null,null,null,null,null,null,null,16072009,40010]
[null,null,null,null,{"$f":"IF(Configuração!C2798=\"\",\"\",Configuração!B2798)","v":""},null,null,null,null,null,null,null,null,null,null,null,null,null,null,null,null,16072010,40375]
[null,null,null,null,{"$f":"IF(Configuração!C2803=\"\",\"\",Configuração!B2803)","v":""},null,null,null,null,null,null,null,null,null,null,null,null,null,null,null,null,16072015,42201]
[null,null,null,null,{"$f":"IF(Configuração!C2808=\"\",\"\",Configuração!B2808)","v":""},null,null,null,null,null,null,null,null,null,null,null,null,null,null,null,null,16072020,44028]
[null,null,null,null,{"$f":"IF(Configuração!C2813=\"\",\"\",Configuração!B2813)","v":""},null,null,null,null,null,null,null,null,null,null,null,null,null,null,null,null,16082010,40406]
[null,null,null,null,{"$f":"IF(Configuração!C2814=\"\",\"\",Configuração!B2814)","v":""},null,null,null,null,null,null,null,null,null,null,null,null,null,null,null,null,16082011,40771]
[null,null,null,null,{"$f":"IF(Configuração!C2819=\"\",\"\",Configuração!B2819)","v":""},null,null,null,null,null,null,null,null,null,null,null,null,null,null,null,null,16082016,42598]
[null,null,null,null,{"$f":"IF(Configuração!C2823=\"\",\"\",Configuração!B2823)","v":""},null,null,null,null,null,null,null,null,null,null,null,null,null,null,null,null,16082020,44059]
[null,null,null,null,{"$f":"IF(Configuração!C2828=\"\",\"\",Configuração!B2828)","v":""},null,null,null,null,null,null,null,null,null,null,null,null,null,null,null,null,16092010,40437]
[null,null,null,null,{"$f":"IF(Configuração!C2829=\"\",\"\",Configuração!B2829)","v":""},null,null,null,null,null,null,null,null,null,null,null,null,null,null,null,null,16092011,40802]
[null,null,null,null,{"$f":"IF(Configuração!C2834=\"\",\"\",Configuração!B2834)","v":""},null,null,null,null,null,null,null,null,null,null,null,null,null,null,null,null,16092016,42629]
[null,null,null,null,{"$f":"IF(Configuração!C2839=\"\",\"\",Configuração!B2839)","v":""},null,null,null,null,null,null,null,null,null,null,null,null,null,null,null,null,16092021,44455]
[null,null,null,null,{"$f":"IF(Configuração!C2844=\"\",\"\",Configuração!B2844)","v":""},null,null,null,null,null,null,null,null,null,null,null,null,null,null,null,null,16102011,40832]
[null,null,null,null,{"$f":"IF(Configuração!C2846=\"\",\"\",Configuração!B2846)","v":""},null,null,null,null,null,null,null,null,null,null,null,null,null,null,null,null,16102013,41563]
[null,null,null,null,{"$f":"IF(Configuração!C2849=\"\",\"\",Configuração!B2849)","v":""},null,null,null,null,null,null,null,null,null,null,null,null,null,null,null,null,16102016,42659]
[null,null,null,null,{"$f":"IF(Configuração!C2854=\"\",\"\",Configuração!B2854)","v":""},null,null,null,null,null,null,null,null,null,null,null,null,null,null,null,null,16102021,44485]
[null,null,null,null,{"$f":"IF(Configuração!C2859=\"\",\"\",Configuração!B2859)","v":""},null,null,null,null,null,null,null,null,null,null,null,null,null,null,null,null,16112011,40863]
[null,null,null,null,{"$f":"IF(Configuração!C2860=\"\",\"\",Configuração!B2860)","v":""},null,null,null,null,null,null,null,null,null,null,null,null,null,null,null,null,16112012,41229]
[null,null,null,null,{"$f":"IF(Configuração!C2865=\"\",\"\",Configuração!B2865)","v":""},null,null,null,null,null,null,null,null,null,null,null,null,null,null,null,null,16112017,43055]
[null,null,null,null,{"$f":"IF(Configuração!C2870=\"\",\"\",Configuração!B2870)","v":""},null,null,null,null,null,null,null,null,null,null,null,null,null,null,null,null,16112022,44881]
[null,null,null,null,{"$f":"IF(Configuração!C2872=\"\",\"\",Configuração!B2872)","v":""},null,null,null,null,null,null,null,null,null,null,null,null,null,null,null,null,16122009,40163]
[null,null,null,null,{"$f":"IF(Configuração!C2875=\"\",\"\",Configuração!B2875)","v":""},null,null,null,null,null,null,null,null,null,null,null,null,null,null,null,null,16122012,41259]
[null,null,null,null,{"$f":"IF(Configuração!C2880=\"\",\"\",Configuração!B2880)","v":""},null,null,null,null,null,null,null,null,null,null,null,null,null,null,null,null,16122017,43085]
[null,null,null,null,{"$f":"IF(Configuração!C2885=\"\",\"\",Configuração!B2885)","v":""},null,null,null,null,null,null,null,null,null,null,null,null,null,null,null,null,16122022,44911]
[null,null,null,null,{"$f":"IF(Configuração!C2890=\"\",\"\",Configuração!B2890)","v":""},null,null,null,null,null,null,null,null,null,null,null,null,null,null,null,null,17012012,40925]
[null,null,null,null,{"$f":"IF(Configuração!C2891=\"\",\"\",Configuração!B2891)","v":""},null,null,null,null,null,null,null,null,null,null,null,null,null,null,null,null,17012013,41291]
[null,null,null,null,{"$f":"IF(Configuração!C2896=\"\",\"\",Configuração!B2896)","v":""},null,null,null,null,null,null,null,null,null,null,null,null,null,null,null,null,17012018,43117]
[null,null,null,null,{"$f":"IF(Configuração!C2899=\"\",\"\",Configuração!B2899)","v":""},null,null,null,null,null,null,null,null,null,null,null,null,null,null,null,null,17012021,44213]
[null,null,null,null,{"$f":"IF(Configuração!C2905=\"\",\"\",Configuração!B2905)","v":""},null,null,null,null,null,null,null,null,null,null,null,null,null,null,null,null,17022012,40956]
[null,null,null,null,{"$f":"IF(Configuração!C2906=\"\",\"\",Configuração!B2906)","v":""},null,null,null,null,null,null,null,null,null,null,null,null,null,null,null,null,17022013,41322]
[null,null,null,null,{"$f":"IF(Configuração!C2911=\"\",\"\",Configuração!B2911)","v":""},null,null,null,null,null,null,null,null,null,null,null,null,null,null,null,null,17022018,43148]
[null,null,null,null,{"$f":"IF(Configuração!C2916=\"\",\"\",Configuração!B2916)","v":""},null,null,null,null,null,null,null,null,null,null,null,null,null,null,null,null,17022023,44974]
[null,null,null,null,{"$f":"IF(Configuração!C2921=\"\",\"\",Configuração!B2921)","v":""},null,null,null,null,null,null,null,null,null,null,null,null,null,null,null,null,17032013,41350]
[null,null,null,null,{"$f":"IF(Configuração!C2922=\"\",\"\",Configuração!B2922)","v":""},null,null,null,null,null,null,null,null,null,null,null,null,null,null,null,null,17032014,41715]
[null,null,null,null,{"$f":"IF(Configuração!C2927=\"\",\"\",Configuração!B2927)","v":""},null,null,null,null,null,null,null,null,null,null,null,null,null,null,null,null,17032019,43541]
[null,null,null,null,{"$f":"IF(Configuração!C2930=\"\",\"\",Configuração!B2930)","v":""},null,null,null,null,null,null,null,null,null,null,null,null,null,null,null,null,17032022,44637]
[null,null,null,null,{"$f":"IF(Configuração!C2936=\"\",\"\",Configuração!B2936)","v":""},null,null,null,null,null,null,null,null,null,null,null,null,null,null,null,null,17042013,41381]
[null,null,null,null,{"$f":"IF(Configuração!C2937=\"\",\"\",Configuração!B2937)","v":""},null,null,null,null,null,null,null,null,null,null,null,null,null,null,null,null,17042014,41746]
[null,null,null,null,{"$f":"IF(Configuração!C2942=\"\",\"\",Configuração!B2942)","v":""},null,null,null,null,null,null,null,null,null,null,null,null,null,null,null,null,17042019,43572]
[null,null,null,null,{"$f":"IF(Configuração!C2947=\"\",\"\",Configuração!B2947)","v":""},null,null,null,null,null,null,null,null,null,null,null,null,null,null,null,null,17052009,39950]
[null,null,null,null,{"$f":"IF(Configuração!C2952=\"\",\"\",Configuração!B2952)","v":""},null,null,null,null,null,null,null,null,null,null,null,null,null,null,null,null,17052014,41776]
[null,null,null,null,{"$f":"IF(Configuração!C2953=\"\",\"\",Configuração!B2953)","v":""},null,null,null,null,null,null,null,null,null,null,null,null,null,null,null,null,17052015,42141]
[null,null,null,null,{"$f":"IF(Configuração!C2957=\"\",\"\",Configuração!B2957)","v":""},null,null,null,null,null,null,null,null,null,null,null,null,null,null,null,null,17052019,43602]
[null,null,null,null,{"$f":"IF(Configuração!C2962=\"\",\"\",Configuração!B2962)","v":""},null,null,null,null,null,null,null,null,null,null,null,null,null,null,null,null,17062009,39981]
[null,null,null,null,{"$f":"IF(Configuração!C2967=\"\",\"\",Configuração!B2967)","v":""},null,null,null,null,null,null,null,null,null,null,null,null,null,null,null,null,17062014,41807]
[null,null,null,null,{"$f":"IF(Configuração!C2968=\"\",\"\",Configuração!B2968)","v":""},null,null,null,null,null,null,null,null,null,null,null,null,null,null,null,null,17062015,42172]
[null,null,null,null,{"$f":"IF(Configuração!C2973=\"\",\"\",Configuração!B2973)","v":""},null,null,null,null,null,null,null,null,null,null,null,null,null,null,null,null,17062020,43999]
[null,null,null,null,{"$f":"IF(Configuração!C2978=\"\",\"\",Configuração!B2978)","v":""},null,null,null,null,null,null,null,null,null,null,null,null,null,null,null,null,17072010,40376]
[null,null,null,null,{"$f":"IF(Configuração!C2983=\"\",\"\",Configuração!B2983)","v":""},null,null,null,null,null,null,null,null,null,null,null,null,null,null,null,null,17072015,42202]
[null,null,null,null,{"$f":"IF(Configuração!C2986=\"\",\"\",Configuração!B2986)","v":""},null,null,null,null,null,null,null,null,null,null,null,null,null,null,null,null,17072018,43298]
[null,null,null,null,{"$f":"IF(Configuração!C2988=\"\",\"\",Configuração!B2988)","v":""},null,null,null,null,null,null,null,null,null,null,null,null,null,null,null,null,17072020,44029]
[null,null,null,null,{"$f":"IF(Configuração!C2993=\"\",\"\",Configuração!B2993)","v":""},null,null,null,null,null,null,null,null,null,null,null,null,null,null,null,null,17082010,40407]
[null,null,null,null,{"$f":"IF(Configuração!C2998=\"\",\"\",Configuração!B2998)","v":""},null,null,null,null,null,null,null,null,null,null,null,null,null,null,null,null,17082015,42233]
[null,null,null,null,{"$f":"IF(Configuração!C2999=\"\",\"\",Configuração!B2999)","v":""},null,null,null,null,null,null,null,null,null,null,null,null,null,null,null,null,17082016,42599]
[null,null,null,null,{"$f":"IF(Configuração!C3004=\"\",\"\",Configuração!B3004)","v":""},null,null,null,null,null,null,null,null,null,null,null,null,null,null,null,null,17082021,44425]
[null,null,null,null,{"$f":"IF(Configuração!C3009=\"\",\"\",Configuração!B3009)","v":""},null,null,null,null,null,null,null,null,null,null,null,null,null,null,null,null,17092011,40803]
[null,null,null,null,{"$f":"IF(Configuração!C3013=\"\",\"\",Configuração!B3013)","v":""},null,null,null,null,null,null,null,null,null,null,null,null,null,null,null,null,17092015,42264]
[null,null,null,null,{"$f":"IF(Configuração!C3014=\"\",\"\",Configuração!B3014)","v":""},null,null,null,null,null,null,null,null,null,null,null,null,null,null,null,null,17092016,42630]
[null,null,null,null,{"$f":"IF(Configuração!C3019=\"\",\"\",Configuração!B3019)","v":""},null,null,null,null,null,null,null,null,null,null,null,null,null,null,null,null,17092021,44456]
[null,null,null,null,{"$f":"IF(Configuração!C3024=\"\",\"\",Configuração!B3024)","v":""},null,null,null,null,null,null,null,null,null,null,null,null,null,null,null,null,17102011,40833]
[null,null,null,null,{"$f":"IF(Configuração!C3029=\"\",\"\",Configuração!B3029)","v":""},null,null,null,null,null,null,null,null,null,null,null,null,null,null,null,null,17102016,42660]
[null,null,null,null,{"$f":"IF(Configuração!C3030=\"\",\"\",Configuração!B3030)","v":""},null,null,null,null,null,null,null,null,null,null,null,null,null,null,null,null,17102017,43025]
[null,null,null,null,{"$f":"IF(Configuração!C3035=\"\",\"\",Configuração!B3035)","v":""},null,null,null,null,null,null,null,null,null,null,null,null,null,null,null,null,17102022,44851]
[null,null,null,null,{"$f":"IF(Configuração!C3040=\"\",\"\",Configuração!B3040)","v":""},null,null,null,null,null,null,null,null,null,null,null,null,null,null,null,null,17112012,41230]
[null,null,null,null,{"$f":"IF(Configuração!C3044=\"\",\"\",Configuração!B3044)","v":""},null,null,null,null,null,null,null,null,null,null,null,null,null,null,null,null,17112016,42691]
[null,null,null,null,{"$f":"IF(Configuração!C3045=\"\",\"\",Configuração!B3045)","v":""},null,null,null,null,null,null,null,null,null,null,null,null,null,null,null,null,17112017,43056]
[null,null,null,null,{"$f":"IF(Configuração!C3050=\"\",\"\",Configuração!B3050)","v":""},null,null,null,null,null,null,null,null,null,null,null,null,null,null,null,null,17112022,44882]
[null,null,null,null,{"$f":"IF(Configuração!C3055=\"\",\"\",Configuração!B3055)","v":""},null,null,null,null,null,null,null,null,null,null,null,null,null,null,null,null,17122012,41260]
[null,null,null,null,{"$f":"IF(Configuração!C3060=\"\",\"\",Configuração!B3060)","v":""},null,null,null,null,null,null,null,null,null,null,null,null,null,null,null,null,17122017,43086]
[null,null,null,null,{"$f":"IF(Configuração!C3061=\"\",\"\",Configuração!B3061)","v":""},null,null,null,null,null,null,null,null,null,null,null,null,null,null,null,null,17122018,43451]
[null,null,null,null,{"$f":"IF(Configuração!C3066=\"\",\"\",Configuração!B3066)","v":""},null,null,null,null,null,null,null,null,null,null,null,null,null,null,null,null,17122023,45277]
[null,null,null,null,{"$f":"IF(Configuração!C3071=\"\",\"\",Configuração!B3071)","v":""},null,null,null,null,null,null,null,null,null,null,null,null,null,null,null,null,18012013,41292]
[null,null,null,null,{"$f":"IF(Configuração!C3075=\"\",\"\",Configuração!B3075)","v":""},null,null,null,null,null,null,null,null,null,null,null,null,null,null,null,null,18012017,42753]
[null,null,null,null,{"$f":"IF(Configuração!C3076=\"\",\"\",Configuração!B3076)","v":""},null,null,null,null,null,null,null,null,null,null,null,null,null,null,null,null,18012018,43118]
[null,null,null,null,{"$f":"IF(Configuração!C3081=\"\",\"\",Configuração!B3081)","v":""},null,null,null,null,null,null,null,null,null,null,null,null,null,null,null,null,18012023,44944]
[null,null,null,null,{"$f":"IF(Configuração!C3086=\"\",\"\",Configuração!B3086)","v":""},null,null,null,null,null,null,null,null,null,null,null,null,null,null,null,null,18022013,41323]
[null,null,null,null,{"$f":"IF(Configuração!C3091=\"\",\"\",Configuração!B3091)","v":""},null,null,null,null,null,null,null,null,null,null,null,null,null,null,null,null,18022018,43149]
[null,null,null,null,{"$f":"IF(Configuração!C3092=\"\",\"\",Configuração!B3092)","v":""},null,null,null,null,null,null,null,null,null,null,null,null,null,null,null,null,18022019,43514]
[null,null,null,null,{"$f":"IF(Configuração!C3097=\"\",\"\",Configuração!B3097)","v":""},null,null,null,null,null,null,null,null,null,null,null,null,null,null,null,null,18032009,39890]
[null,null,null,null,{"$f":"IF(Configuração!C3101=\"\",\"\",Configuração!B3101)","v":""},null,null,null,null,null,null,null,null,null,null,null,null,null,null,null,null,18032013,41351]
[null,null,null,null,{"$f":"IF(Configuração!C3106=\"\",\"\",Configuração!B3106)","v":""},null,null,null,null,null,null,null,null,null,null,null,null,null,null,null,null,18032018,43177]
[null,null,null,null,{"$f":"IF(Configuração!C3107=\"\",\"\",Configuração!B3107)","v":""},null,null,null,null,null,null,null,null,null,null,null,null,null,null,null,null,18032019,43542]
[null,null,null,null,{"$f":"IF(Configuração!C3112=\"\",\"\",Configuração!B3112)","v":""},null,null,null,null,null,null,null,null,null,null,null,null,null,null,null,null,18042009,39921]
[null,null,null,null,{"$f":"IF(Configuração!C3117=\"\",\"\",Configuração!B3117)","v":""},null,null,null,null,null,null,null,null,null,null,null,null,null,null,null,null,18042014,41747]
[null,null,null,null,{"$f":"IF(Configuração!C3122=\"\",\"\",Configuração!B3122)","v":""},null,null,null,null,null,null,null,null,null,null,null,null,null,null,null,null,18042019,43573]
[null,null,null,null,{"$f":"IF(Configuração!C3124=\"\",\"\",Configuração!B3124)","v":""},null,null,null,null,null,null,null,null,null,null,null,null,null,null,null,null,18042021,44304]
[null,null,null,null,{"$f":"IF(Configuração!C3127=\"\",\"\",Configuração!B3127)","v":""},null,null,null,null,null,null,null,null,null,null,null,null,null,null,null,null,18052009,39951]
[null,null,null,null,{"$f":"IF(Configuração!C3132=\"\",\"\",Configuração!B3132)","v":""},null,null,null,null,null,null,null,null,null,null,null,null,null,null,null,null,18052014,41777]
[null,null,null,null,{"$f":"IF(Configuração!C3137=\"\",\"\",Configuração!B3137)","v":""},null,null,null,null,null,null,null,null,null,null,null,null,null,null,null,null,18052019,43603]
[null,null,null,null,{"$f":"IF(Configuração!C3138=\"\",\"\",Configuração!B3138)","v":""},null,null,null,null,null,null,null,null,null,null,null,null,null,null,null,null,18052020,43969]
[null,null,null,null,{"$f":"IF(Configuração!C3143=\"\",\"\",Configuração!B3143)","v":""},null,null,null,null,null,null,null,null,null,null,null,null,null,null,null,null,18062010,40347]
[null,null,null,null,{"$f":"IF(Configuração!C3148=\"\",\"\",Configuração!B3148)","v":""},null,null,null,null,null,null,null,null,null,null,null,null,null,null,null,null,18062015,42173]
[null,null,null,null,{"$f":"IF(Configuração!C3153=\"\",\"\",Configuração!B3153)","v":""},null,null,null,null,null,null,null,null,null,null,null,null,null,null,null,null,18062020,44000]
[null,null,null,null,{"$f":"IF(Configuração!C3155=\"\",\"\",Configuração!B3155)","v":""},null,null,null,null,null,null,null,null,null,null,null,null,null,null,null,null,18062022,44730]
[null,null,null,null,{"$f":"IF(Configuração!C3158=\"\",\"\",Configuração!B3158)","v":""},null,null,null,null,null,null,null,null,null,null,null,null,null,null,null,null,18072010,40377]
[null,null,null,null,{"$f":"IF(Configuração!C3163=\"\",\"\",Configuração!B3163)","v":""},null,null,null,null,null,null,null,null,null,null,null,null,null,null,null,null,18072015,42203]
[null,null,null,null,{"$f":"IF(Configuração!C3168=\"\",\"\",Configuração!B3168)","v":""},null,null,null,null,null,null,null,null,null,null,null,null,null,null,null,null,18072020,44030]
[null,null,null,null,{"$f":"IF(Configuração!C3169=\"\",\"\",Configuração!B3169)","v":""},null,null,null,null,null,null,null,null,null,null,null,null,null,null,null,null,18072021,44395]
[null,null,null,null,{"$f":"IF(Configuração!C3174=\"\",\"\",Configuração!B3174)","v":""},null,null,null,null,null,null,null,null,null,null,null,null,null,null,null,null,18082011,40773]
[null,null,null,null,{"$f":"IF(Configuração!C3179=\"\",\"\",Configuração!B3179)","v":""},null,null,null,null,null,null,null,null,null,null,null,null,null,null,null,null,18082016,42600]
[null,null,null,null,{"$f":"IF(Configuração!C3182=\"\",\"\",Configuração!B3182)","v":""},null,null,null,null,null,null,null,null,null,null,null,null,null,null,null,null,18082019,43695]
[null,null,null,null,{"$f":"IF(Configuração!C3184=\"\",\"\",Configuração!B3184)","v":""},null,null,null,null,null,null,null,null,null,null,null,null,null,null,null,null,18082021,44426]
[null,null,null,null,{"$f":"IF(Configuração!C3189=\"\",\"\",Configuração!B3189)","v":""},null,null,null,null,null,null,null,null,null,null,null,null,null,null,null,null,18092011,40804]
[null,null,null,null,{"$f":"IF(Configuração!C3194=\"\",\"\",Configuração!B3194)","v":""},null,null,null,null,null,null,null,null,null,null,null,null,null,null,null,null,18092016,42631]
[null,null,null,null,{"$f":"IF(Configuração!C3199=\"\",\"\",Configuração!B3199)","v":""},null,null,null,null,null,null,null,null,null,null,null,null,null,null,null,null,18092021,44457]
[null,null,null,null,{"$f":"IF(Configuração!C3200=\"\",\"\",Configuração!B3200)","v":""},null,null,null,null,null,null,null,null,null,null,null,null,null,null,null,null,18092022,44822]
[null,null,null,null,{"$f":"IF(Configuração!C3205=\"\",\"\",Configuração!B3205)","v":""},null,null,null,null,null,null,null,null,null,null,null,null,null,null,null,null,18102012,41200]
[null,null,null,null,{"$f":"IF(Configuração!C3208=\"\",\"\",Configuração!B3208)","v":""},null,null,null,null,null,null,null,null,null,null,null,null,null,null,null,null,18102015,42295]
[null,null,null,null,{"$f":"IF(Configuração!C3214=\"\",\"\",Configuração!B3214)","v":""},null,null,null,null,null,null,null,null,null,null,null,null,null,null,null,null,18102021,44487]
[null,null,null,null,{"$f":"IF(Configuração!C3215=\"\",\"\",Configuração!B3215)","v":""},null,null,null,null,null,null,null,null,null,null,null,null,null,null,null,null,18102022,44852]
[null,null,null,null,{"$f":"IF(Configuração!C3220=\"\",\"\",Configuração!B3220)","v":""},null,null,null,null,null,null,null,null,null,null,null,null,null,null,null,null,18112012,41231]
[null,null,null,null,{"$f":"IF(Configuração!C3225=\"\",\"\",Configuração!B3225)","v":""},null,null,null,null,null,null,null,null,null,null,null,null,null,null,null,null,18112017,43057]
[null,null,null,null,{"$f":"IF(Configuração!C3230=\"\",\"\",Configuração!B3230)","v":""},null,null,null,null,null,null,null,null,null,null,null,null,null,null,null,null,18112022,44883]
[null,null,null,null,{"$f":"IF(Configuração!C3231=\"\",\"\",Configuração!B3231)","v":""},null,null,null,null,null,null,null,null,null,null,null,null,null,null,null,null,18112023,45248]
[null,null,null,null,{"$f":"IF(Configuração!C3235=\"\",\"\",Configuração!B3235)","v":""},null,null,null,null,null,null,null,null,null,null,null,null,null,null,null,null,18122012,41261]
[null,null,null,null,{"$f":"IF(Configuração!C3240=\"\",\"\",Configuração!B3240)","v":""},null,null,null,null,null,null,null,null,null,null,null,null,null,null,null,null,18122017,43087]
[null,null,null,null,{"$f":"IF(Configuração!C3245=\"\",\"\",Configuração!B3245)","v":""},null,null,null,null,null,null,null,null,null,null,null,null,null,null,null,null,18122022,44913]
[null,null,null,null,{"$f":"IF(Configuração!C3246=\"\",\"\",Configuração!B3246)","v":""},null,null,null,null,null,null,null,null,null,null,null,null,null,null,null,null,18122023,45278]
[null,null,null,null,{"$f":"IF(Configuração!C3251=\"\",\"\",Configuração!B3251)","v":""},null,null,null,null,null,null,null,null,null,null,null,null,null,null,null,null,19012013,41293]
[null,null,null,null,{"$f":"IF(Configuração!C3256=\"\",\"\",Configuração!B3256)","v":""},null,null,null,null,null,null,null,null,null,null,null,null,null,null,null,null,19012018,43119]
[null,null,null,null,{"$f":"IF(Configuração!C3261=\"\",\"\",Configuração!B3261)","v":""},null,null,null,null,null,null,null,null,null,null,null,null,null,null,null,null,19012023,44945]
[null,null,null,null,{"$f":"IF(Configuração!C3262=\"\",\"\",Configuração!B3262)","v":""},null,null,null,null,null,null,null,null,null,null,null,null,null,null,null,null,19022009,39863]
[null,null,null,null,{"$f":"IF(Configuração!C3266=\"\",\"\",Configuração!B3266)","v":""},null,null,null,null,null,null,null,null,null,null,null,null,null,null,null,null,19022013,41324]
[null,null,null,null,{"$f":"IF(Configuração!C3271=\"\",\"\",Configuração!B3271)","v":""},null,null,null,null,null,null,null,null,null,null,null,null,null,null,null,null,19022018,43150]
[null,null,null,null,{"$f":"IF(Configuração!C3276=\"\",\"\",Configuração!B3276)","v":""},null,null,null,null,null,null,null,null,null,null,null,null,null,null,null,null,19022023,44976]
[null,null,null,null,{"$f":"IF(Configuração!C3277=\"\",\"\",Configuração!B3277)","v":""},null,null,null,null,null,null,null,null,null,null,null,null,null,null,null,null,19032009,39891]
[null,null,null,null,{"$f":"IF(Configuração!C3282=\"\",\"\",Configuração!B3282)","v":""},null,null,null,null,null,null,null,null,null,null,null,null,null,null,null,null,19032014,41717]
[null,null,null,null,{"$f":"IF(Configuração!C3287=\"\",\"\",Configuração!B3287)","v":""},null,null,null,null,null,null,null,null,null,null,null,null,null,null,null,null,19032019,43543]
[null,null,null,null,{"$f":"IF(Configuração!C3292=\"\",\"\",Configuração!B3292)","v":""},null,null,null,null,null,null,null,null,null,null,null,null,null,null,null,null,19042009,39922]
[null,null,null,null,{"$f":"IF(Configuração!C3293=\"\",\"\",Configuração!B3293)","v":""},null,null,null,null,null,null,null,null,null,null,null,null,null,null,null,null,19042010,40287]
[null,null,null,null,{"$f":"IF(Configuração!C3297=\"\",\"\",Configuração!B3297)","v":""},null,null,null,null,null,null,null,null,null,null,null,null,null,null,null,null,19042014,41748]
[null,null,null,null,{"$f":"IF(Configuração!C3302=\"\",\"\",Configuração!B3302)","v":""},null,null,null,null,null,null,null,null,null,null,null,null,null,null,null,null,19042019,43574]
[null,null,null,null,{"$f":"IF(Configuração!C3307=\"\",\"\",Configuração!B3307)","v":""},null,null,null,null,null,null,null,null,null,null,null,null,null,null,null,null,19052009,39952]
[null,null,null,null,{"$f":"IF(Configuração!C3308=\"\",\"\",Configuração!B3308)","v":""},null,null,null,null,null,null,null,null,null,null,null,null,null,null,null,null,19052010,40317]
[null,null,null,null,{"$f":"IF(Configuração!C3313=\"\",\"\",Configuração!B3313)","v":""},null,null,null,null,null,null,null,null,null,null,null,null,null,null,null,null,19052015,42143]
[null,null,null,null,{"$f":"IF(Configuração!C3318=\"\",\"\",Configuração!B3318)","v":""},null,null,null,null,null,null,null,null,null,null,null,null,null,null,null,null,19052020,43970]
[null,null,null,null,{"$f":"IF(Configuração!C3320=\"\",\"\",Configuração!B3320)","v":""},null,null,null,null,null,null,null,null,null,null,null,null,null,null,null,null,19052022,44700]
[null,null,null,null,{"$f":"IF(Configuração!C3323=\"\",\"\",Configuração!B3323)","v":""},null,null,null,null,null,null,null,null,null,null,null,null,null,null,null,null,19062010,40348]
[null,null,null,null,{"$f":"IF(Configuração!C3328=\"\",\"\",Configuração!B3328)","v":""},null,null,null,null,null,null,null,null,null,null,null,null,null,null,null,null,19062015,42174]
[null,null,null,null,{"$f":"IF(Configuração!C3333=\"\",\"\",Configuração!B3333)","v":""},null,null,null,null,null,null,null,null,null,null,null,null,null,null,null,null,19062020,44001]
[null,null,null,null,{"$f":"IF(Configuração!C3338=\"\",\"\",Configuração!B3338)","v":""},null,null,null,null,null,null,null,null,null,null,null,null,null,null,null,null,19072010,40378]
[null,null,null,null,{"$f":"IF(Configuração!C3339=\"\",\"\",Configuração!B3339)","v":""},null,null,null,null,null,null,null,null,null,null,null,null,null,null,null,null,19072011,40743]
[null,null,null,null,{"$f":"IF(Configuração!C3344=\"\",\"\",Configuração!B3344)","v":""},null,null,null,null,null,null,null,null,null,null,null,null,null,null,null,null,19072016,42570]
[null,null,null,null,{"$f":"IF(Configuração!C3349=\"\",\"\",Configuração!B3349)","v":""},null,null,null,null,null,null,null,null,null,null,null,null,null,null,null,null,19072021,44396]
[null,null,null,null,{"$f":"IF(Configuração!C3353=\"\",\"\",Configuração!B3353)","v":""},null,null,null,null,null,null,null,null,null,null,null,null,null,null,null,null,19082010,40409]
[null,null,null,null,{"$f":"IF(Configuração!C3354=\"\",\"\",Configuração!B3354)","v":""},null,null,null,null,null,null,null,null,null,null,null,null,null,null,null,null,19082011,40774]
[null,null,null,null,{"$f":"IF(Configuração!C3359=\"\",\"\",Configuração!B3359)","v":""},null,null,null,null,null,null,null,null,null,null,null,null,null,null,null,null,19082016,42601]
[null,null,null,null,{"$f":"IF(Configuração!C3364=\"\",\"\",Configuração!B3364)","v":""},null,null,null,null,null,null,null,null,null,null,null,null,null,null,null,null,19082021,44427]
[null,null,null,null,{"$f":"IF(Configuração!C3369=\"\",\"\",Configuração!B3369)","v":""},null,null,null,null,null,null,null,null,null,null,null,null,null,null,null,null,19092011,40805]
[null,null,null,null,{"$f":"IF(Configuração!C3370=\"\",\"\",Configuração!B3370)","v":""},null,null,null,null,null,null,null,null,null,null,null,null,null,null,null,null,19092012,41171]
[null,null,null,null,{"$f":"IF(Configuração!C3375=\"\",\"\",Configuração!B3375)","v":""},null,null,null,null,null,null,null,null,null,null,null,null,null,null,null,null,19092017,42997]
[null,null,null,null,{"$f":"IF(Configuração!C3380=\"\",\"\",Configuração!B3380)","v":""},null,null,null,null,null,null,null,null,null,null,null,null,null,null,null,null,19092022,44823]
[null,null,null,null,{"$f":"IF(Configuração!C3384=\"\",\"\",Configuração!B3384)","v":""},null,null,null,null,null,null,null,null,null,null,null,null,null,null,null,null,19102011,40835]
[null,null,null,null,{"$f":"IF(Configuração!C3385=\"\",\"\",Configuração!B3385)","v":""},null,null,null,null,null,null,null,null,null,null,null,null,null,null,null,null,19102012,41201]
[null,null,null,null,{"$f":"IF(Configuração!C3390=\"\",\"\",Configuração!B3390)","v":""},null,null,null,null,null,null,null,null,null,null,null,null,null,null,null,null,19102017,43027]
[null,null,null,null,{"$f":"IF(Configuração!C3395=\"\",\"\",Configuração!B3395)","v":""},null,null,null,null,null,null,null,null,null,null,null,null,null,null,null,null,19102022,44853]
[null,null,null,null,{"$f":"IF(Configuração!C3400=\"\",\"\",Configuração!B3400)","v":""},null,null,null,null,null,null,null,null,null,null,null,null,null,null,null,null,19112012,41232]
[null,null,null,null,{"$f":"IF(Configuração!C3401=\"\",\"\",Configuração!B3401)","v":""},null,null,null,null,null,null,null,null,null,null,null,null,null,null,null,null,19112013,41597]
[null,null,null,null,{"$f":"IF(Configuração!C3407=\"\",\"\",Configuração!B3407)","v":""},null,null,null,null,null,null,null,null,null,null,null,null,null,null,null,null,19112019,43788]
[null,null,null,null,{"$f":"IF(Configuração!C3410=\"\",\"\",Configuração!B3410)","v":""},null,null,null,null,null,null,null,null,null,null,null,null,null,null,null,null,19112022,44884]
[null,null,null,null,{"$f":"IF(Configuração!C3415=\"\",\"\",Configuração!B3415)","v":""},null,null,null,null,null,null,null,null,null,null,null,null,null,null,null,null,19122012,41262]
[null,null,null,null,{"$f":"IF(Configuração!C3416=\"\",\"\",Configuração!B3416)","v":""},null,null,null,null,null,null,null,null,null,null,null,null,null,null,null,null,19122013,41627]
[null,null,null,null,{"$f":"IF(Configuração!C3421=\"\",\"\",Configuração!B3421)","v":""},null,null,null,null,null,null,null,null,null,null,null,null,null,null,null,null,19122018,43453]
[null,null,null,null,{"$f":"IF(Configuração!C3426=\"\",\"\",Configuração!B3426)","v":""},null,null,null,null,null,null,null,null,null,null,null,null,null,null,null,null,19122023,45279]
[null,null,null,null,{"$f":"IF(Configuração!C3431=\"\",\"\",Configuração!B3431)","v":""},null,null,null,null,null,null,null,null,null,null,null,null,null,null,null,null,20012013,41294]
[null,null,null,null,{"$f":"IF(Configuração!C3434=\"\",\"\",Configuração!B3434)","v":""},null,null,null,null,null,null,null,null,null,null,null,null,null,null,null,null,20012016,42389]
[null,null,null,null,{"$f":"IF(Configuração!C3436=\"\",\"\",Configuração!B3436)","v":""},null,null,null,null,null,null,null,null,null,null,null,null,null,null,null,null,20012018,43120]
[null,null,null,null,{"$f":"IF(Configuração!C3441=\"\",\"\",Configuração!B3441)","v":""},null,null,null,null,null,null,null,null,null,null,null,null,null,null,null,null,20012023,44946]
[null,null,null,null,{"$f":"IF(Configuração!C3446=\"\",\"\",Configuração!B3446)","v":""},null,null,null,null,null,null,null,null,null,null,null,null,null,null,null,null,20022013,41325]
[null,null,null,null,{"$f":"IF(Configuração!C3447=\"\",\"\",Configuração!B3447)","v":""},null,null,null,null,null,null,null,null,null,null,null,null,null,null,null,null,20022014,41690]
[null,null,null,null,{"$f":"IF(Configuração!C3452=\"\",\"\",Configuração!B3452)","v":""},null,null,null,null,null,null,null,null,null,null,null,null,null,null,null,null,20022019,43516]
[null,null,null,null,{"$f":"IF(Configuração!C3457=\"\",\"\",Configuração!B3457)","v":""},null,null,null,null,null,null,null,null,null,null,null,null,null,null,null,null,20032009,39892]
[null,null,null,null,{"$f":"IF(Configuração!C3460=\"\",\"\",Configuração!B3460)","v":""},null,null,null,null,null,null,null,null,null,null,null,null,null,null,null,null,20032012,40988]
[null,null,null,null,{"$f":"IF(Configuração!C3462=\"\",\"\",Configuração!B3462)","v":""},null,null,null,null,null,null,null,null,null,null,null,null,null,null,null,null,20032014,41718]
[null,null,null,null,{"$f":"IF(Configuração!C3467=\"\",\"\",Configuração!B3467)","v":""},null,null,null,null,null,null,null,null,null,null,null,null,null,null,null,null,20032019,43544]
[null,null,null,null,{"$f":"IF(Configuração!C3472=\"\",\"\",Configuração!B3472)","v":""},null,null,null,null,null,null,null,null,null,null,null,null,null,null,null,null,20042009,39923]
[null,null,null,null,{"$f":"IF(Configuração!C3477=\"\",\"\",Configuração!B3477)","v":""},null,null,null,null,null,null,null,null,null,null,null,null,null,null,null,null,20042014,41749]
[null,null,null,null,{"$f":"IF(Configuração!C3478=\"\",\"\",Configuração!B3478)","v":""},null,null,null,null,null,null,null,null,null,null,null,null,null,null,null,null,20042015,42114]
[null,null,null,null,{"$f":"IF(Configuração!C3483=\"\",\"\",Configuração!B3483)","v":""},null,null,null,null,null,null,null,null,null,null,null,null,null,null,null,null,20042020,43941]
[null,null,null,null,{"$f":"IF(Configuração!C3488=\"\",\"\",Configuração!B3488)","v":""},null,null,null,null,null,null,null,null,null,null,null,null,null,null,null,null,20052010,40318]
[null,null,null,null,{"$f":"IF(Configuração!C3491=\"\",\"\",Configuração!B3491)","v":""},null,null,null,null,null,null,null,null,null,null,null,null,null,null,null,null,20052013,41414]
[null,null,null,null,{"$f":"IF(Configuração!C3493=\"\",\"\",Configuração!B3493)","v":""},null,null,null,null,null,null,null,null,null,null,null,null,null,null,null,null,20052015,42144]
[null,null,null,null,{"$f":"IF(Configuração!C3498=\"\",\"\",Configuração!B3498)","v":""},null,null,null,null,null,null,null,null,null,null,null,null,null,null,null,null,20052020,43971]
[null,null,null,null,{"$f":"IF(Configuração!C3503=\"\",\"\",Configuração!B3503)","v":""},null,null,null,null,null,null,null,null,null,null,null,null,null,null,null,null,20062010,40349]
[null,null,null,null,{"$f":"IF(Configuração!C3508=\"\",\"\",Configuração!B3508)","v":""},null,null,null,null,null,null,null,null,null,null,null,null,null,null,null,null,20062015,42175]
[null,null,null,null,{"$f":"IF(Configuração!C3509=\"\",\"\",Configuração!B3509)","v":""},null,null,null,null,null,null,null,null,null,null,null,null,null,null,null,null,20062016,42541]
[null,null,null,null,{"$f":"IF(Configuração!C3514=\"\",\"\",Configuração!B3514)","v":""},null,null,null,null,null,null,null,null,null,null,null,null,null,null,null,null,20062021,44367]
[null,null,null,null,{"$f":"IF(Configuração!C3518=\"\",\"\",Configuração!B3518)","v":""},null,null,null,null,null,null,null,null,null,null,null,null,null,null,null,null,20072010,40379]
[null,null,null,null,{"$f":"IF(Configuração!C3523=\"\",\"\",Configuração!B3523)","v":""},null,null,null,null,null,null,null,null,null,null,null,null,null,null,null,null,20072015,42205]
[null,null,null,null,{"$f":"IF(Configuração!C3524=\"\",\"\",Configuração!B3524)","v":""},null,null,null,null,null,null,null,null,null,null,null,null,null,null,null,null,20072016,42571]
[null,null,null,null,{"$f":"IF(Configuração!C3529=\"\",\"\",Configuração!B3529)","v":""},null,null,null,null,null,null,null,null,null,null,null,null,null,null,null,null,20072021,44397]
[null,null,null,null,{"$f":"IF(Configuração!C3534=\"\",\"\",Configuração!B3534)","v":""},null,null,null,null,null,null,null,null,null,null,null,null,null,null,null,null,20082011,40775]
[null,null,null,null,{"$f":"IF(Configuração!C3539=\"\",\"\",Configuração!B3539)","v":""},null,null,null,null,null,null,null,null,null,null,null,null,null,null,null,null,20082016,42602]
[null,null,null,null,{"$f":"IF(Configuração!C3540=\"\",\"\",Configuração!B3540)","v":""},null,null,null,null,null,null,null,null,null,null,null,null,null,null,null,null,20082017,42967]
[null,null,null,null,{"$f":"IF(Configuração!C3545=\"\",\"\",Configuração!B3545)","v":""},null,null,null,null,null,null,null,null,null,null,null,null,null,null,null,null,20082022,44793]
[null,null,null,null,{"$f":"IF(Configuração!C3549=\"\",\"\",Configuração!B3549)","v":""},null,null,null,null,null,null,null,null,null,null,null,null,null,null,null,null,20092011,40806]
[null,null,null,null,{"$f":"IF(Configuração!C3554=\"\",\"\",Configuração!B3554)","v":""},null,null,null,null,null,null,null,null,null,null,null,null,null,null,null,null,20092016,42633]
[null,null,null,null,{"$f":"IF(Configuração!C3555=\"\",\"\",Configuração!B3555)","v":""},null,null,null,null,null,null,null,null,null,null,null,null,null,null,null,null,20092017,42998]
[null,null,null,null,{"$f":"IF(Configuração!C3560=\"\",\"\",Configuração!B3560)","v":""},null,null,null,null,null,null,null,null,null,null,null,null,null,null,null,null,20092022,44824]
[null,null,null,null,{"$f":"IF(Configuração!C3565=\"\",\"\",Configuração!B3565)","v":""},null,null,null,null,null,null,null,null,null,null,null,null,null,null,null,null,20102012,41202]
[null,null,null,null,{"$f":"IF(Configuração!C3570=\"\",\"\",Configuração!B3570)","v":""},null,null,null,null,null,null,null,null,null,null,null,null,null,null,null,null,20102017,43028]
[null,null,null,null,{"$f":"IF(Configuração!C3571=\"\",\"\",Configuração!B3571)","v":""},null,null,null,null,null,null,null,null,null,null,null,null,null,null,null,null,20102018,43393]
[null,null,null,null,{"$f":"IF(Configuração!C3575=\"\",\"\",Configuração!B3575)","v":""},null,null,null,null,null,null,null,null,null,null,null,null,null,null,null,null,20102022,44854]
[null,null,null,null,{"$f":"IF(Configuração!C3580=\"\",\"\",Configuração!B3580)","v":""},null,null,null,null,null,null,null,null,null,null,null,null,null,null,null,null,20112012,41233]
[null,null,null,null,{"$f":"IF(Configuração!C3585=\"\",\"\",Configuração!B3585)","v":""},null,null,null,null,null,null,null,null,null,null,null,null,null,null,null,null,20112017,43059]
[null,null,null,null,{"$f":"IF(Configuração!C3586=\"\",\"\",Configuração!B3586)","v":""},null,null,null,null,null,null,null,null,null,null,null,null,null,null,null,null,20112018,43424]
[null,null,null,null,{"$f":"IF(Configuração!C3591=\"\",\"\",Configuração!B3591)","v":""},null,null,null,null,null,null,null,null,null,null,null,null,null,null,null,null,20112023,45250]
[null,null,null,null,{"$f":"IF(Configuração!C3596=\"\",\"\",Configuração!B3596)","v":""},null,null,null,null,null,null,null,null,null,null,null,null,null,null,null,null,20122013,41628]
[null,null,null,null,{"$f":"IF(Configuração!C3601=\"\",\"\",Configuração!B3601)","v":""},null,null,null,null,null,null,null,null,null,null,null,null,null,null,null,null,20122018,43454]
[null,null,null,null,{"$f":"IF(Configuração!C3602=\"\",\"\",Configuração!B3602)","v":""},null,null,null,null,null,null,null,null,null,null,null,null,null,null,null,null,20122019,43819]
[null,null,null,null,{"$f":"IF(Configuração!C3606=\"\",\"\",Configuração!B3606)","v":""},null,null,null,null,null,null,null,null,null,null,null,null,null,null,null,null,20122023,45280]
[null,null,null,null,{"$f":"IF(Configuração!C3611=\"\",\"\",Configuração!B3611)","v":""},null,null,null,null,null,null,null,null,null,null,null,null,null,null,null,null,21012013,41295]
[null,null,null,null,{"$f":"IF(Configuração!C3616=\"\",\"\",Configuração!B3616)","v":""},null,null,null,null,null,null,null,null,null,null,null,null,null,null,null,null,21012018,43121]
[null,null,null,null,{"$f":"IF(Configuração!C3617=\"\",\"\",Configuração!B3617)","v":""},null,null,null,null,null,null,null,null,null,null,null,null,null,null,null,null,21012019,43486]
[null,null,null,null,{"$f":"IF(Configuração!C3622=\"\",\"\",Configuração!B3622)","v":""},null,null,null,null,null,null,null,null,null,null,null,null,null,null,null,null,21022009,39865]
[null,null,null,null,{"$f":"IF(Configuração!C3627=\"\",\"\",Configuração!B3627)","v":""},null,null,null,null,null,null,null,null,null,null,null,null,null,null,null,null,21022014,41691]
[null,null,null,null,{"$f":"IF(Configuração!C3629=\"\",\"\",Configuração!B3629)","v":""},null,null,null,null,null,null,null,null,null,null,null,null,null,null,null,null,21022016,42421]
[null,null,null,null,{"$f":"IF(Configuração!C3632=\"\",\"\",Configuração!B3632)","v":""},null,null,null,null,null,null,null,null,null,null,null,null,null,null,null,null,21022019,43517]
[null,null,null,null,{"$f":"IF(Configuração!C3637=\"\",\"\",Configuração!B3637)","v":""},null,null,null,null,null,null,null,null,null,null,null,null,null,null,null,null,21032009,39893]
[null,null,null,null,{"$f":"IF(Configuração!C3642=\"\",\"\",Configuração!B3642)","v":""},null,null,null,null,null,null,null,null,null,null,null,null,null,null,null,null,21032014,41719]
[null,null,null,null,{"$f":"IF(Configuração!C3647=\"\",\"\",Configuração!B3647)","v":""},null,null,null,null,null,null,null,null,null,null,null,null,null,null,null,null,21032019,43545]
[null,null,null,null,{"$f":"IF(Configuração!C3648=\"\",\"\",Configuração!B3648)","v":""},null,null,null,null,null,null,null,null,null,null,null,null,null,null,null,null,21032020,43911]
[null,null,null,null,{"$f":"IF(Configuração!C3653=\"\",\"\",Configuração!B3653)","v":""},null,null,null,null,null,null,null,null,null,null,null,null,null,null,null,null,21042010,40289]
[null,null,null,null,{"$f":"IF(Configuração!C3656=\"\",\"\",Configuração!B3656)","v":""},null,null,null,null,null,null,null,null,null,null,null,null,null,null,null,null,21042013,41385]
[null,null,null,null,{"$f":"IF(Configuração!C3662=\"\",\"\",Configuração!B3662)","v":""},null,null,null,null,null,null,null,null,null,null,null,null,null,null,null,null,21042019,43576]
[null,null,null,null,{"$f":"IF(Configuração!C3663=\"\",\"\",Configuração!B3663)","v":""},null,null,null,null,null,null,null,null,null,null,null,null,null,null,null,null,21042020,43942]
[null,null,null,null,{"$f":"IF(Configuração!C3668=\"\",\"\",Configuração!B3668)","v":""},null,null,null,null,null,null,null,null,null,null,null,null,null,null,null,null,21052010,40319]
[null,null,null,null,{"$f":"IF(Configuração!C3673=\"\",\"\",Configuração!B3673)","v":""},null,null,null,null,null,null,null,null,null,null,null,null,null,null,null,null,21052015,42145]
[null,null,null,null,{"$f":"IF(Configuração!C3678=\"\",\"\",Configuração!B3678)","v":""},null,null,null,null,null,null,null,null,null,null,null,null,null,null,null,null,21052020,43972]
[null,null,null,null,{"$f":"IF(Configuração!C3679=\"\",\"\",Configuração!B3679)","v":""},null,null,null,null,null,null,null,null,null,null,null,null,null,null,null,null,21052021,44337]
[null,null,null,null,{"$f":"IF(Configuração!C3685=\"\",\"\",Configuração!B3685)","v":""},null,null,null,null,null,null,null,null,null,null,null,null,null,null,null,null,21062012,41081]
[null,null,null,null,{"$f":"IF(Configuração!C3688=\"\",\"\",Configuração!B3688)","v":""},null,null,null,null,null,null,null,null,null,null,null,null,null,null,null,null,21062015,42176]
[null,null,null,null,{"$f":"IF(Configuração!C3693=\"\",\"\",Configuração!B3693)","v":""},null,null,null,null,null,null,null,null,null,null,null,null,null,null,null,null,21062020,44003]
[null,null,null,null,{"$f":"IF(Configuração!C3694=\"\",\"\",Configuração!B3694)","v":""},null,null,null,null,null,null,null,null,null,null,null,null,null,null,null,null,21062021,44368]
[null,null,null,null,{"$f":"IF(Configuração!C3699=\"\",\"\",Configuração!B3699)","v":""},null,null,null,null,null,null,null,null,null,null,null,null,null,null,null,null,21072011,40745]
[null,null,null,null,{"$f":"IF(Configuração!C3704=\"\",\"\",Configuração!B3704)","v":""},null,null,null,null,null,null,null,null,null,null,null,null,null,null,null,null,21072016,42572]
[null,null,null,null,{"$f":"IF(Configuração!C3709=\"\",\"\",Configuração!B3709)","v":""},null,null,null,null,null,null,null,null,null,null,null,null,null,null,null,null,21072021,44398]
[null,null,null,null,{"$f":"IF(Configuração!C3710=\"\",\"\",Configuração!B3710)","v":""},null,null,null,null,null,null,null,null,null,null,null,null,null,null,null,null,21072022,44763]
[null,null,null,null,{"$f":"IF(Configuração!C3716=\"\",\"\",Configuração!B3716)","v":""},null,null,null,null,null,null,null,null,null,null,null,null,null,null,null,null,21082013,41507]
[null,null,null,null,{"$f":"IF(Configuração!C3719=\"\",\"\",Configuração!B3719)","v":""},null,null,null,null,null,null,null,null,null,null,null,null,null,null,null,null,21082016,42603]
[null,null,null,null,{"$f":"IF(Configuração!C3724=\"\",\"\",Configuração!B3724)","v":""},null,null,null,null,null,null,null,null,null,null,null,null,null,null,null,null,21082021,44429]
[null,null,null,null,{"$f":"IF(Configuração!C3725=\"\",\"\",Configuração!B3725)","v":""},null,null,null,null,null,null,null,null,null,null,null,null,null,null,null,null,21082022,44794]
[null,null,null,null,{"$f":"IF(Configuração!C3730=\"\",\"\",Configuração!B3730)","v":""},null,null,null,null,null,null,null,null,null,null,null,null,null,null,null,null,21092012,41173]
[null,null,null,null,{"$f":"IF(Configuração!C3735=\"\",\"\",Configuração!B3735)","v":""},null,null,null,null,null,null,null,null,null,null,null,null,null,null,null,null,21092017,42999]
[null,null,null,null,{"$f":"IF(Configuração!C3740=\"\",\"\",Configuração!B3740)","v":""},null,null,null,null,null,null,null,null,null,null,null,null,null,null,null,null,21092022,44825]
[null,null,null,null,{"$f":"IF(Configuração!C3743=\"\",\"\",Configuração!B3743)","v":""},null,null,null,null,null,null,null,null,null,null,null,null,null,null,null,null,21102010,40472]
[null,null,null,null,{"$f":"IF(Configuração!C3745=\"\",\"\",Configuração!B3745)","v":""},null,null,null,null,null,null,null,null,null,null,null,null,null,null,null,null,21102012,41203]
[null,null,null,null,{"$f":"IF(Configuração!C3750=\"\",\"\",Configuração!B3750)","v":""},null,null,null,null,null,null,null,null,null,null,null,null,null,null,null,null,21102017,43029]
[null,null,null,null,{"$f":"IF(Configuração!C3755=\"\",\"\",Configuração!B3755)","v":""},null,null,null,null,null,null,null,null,null,null,null,null,null,null,null,null,21102022,44855]
[null,null,null,null,{"$f":"IF(Configuração!C3756=\"\",\"\",Configuração!B3756)","v":""},null,null,null,null,null,null,null,null,null,null,null,null,null,null,null,null,21102023,45220]
[null,null,null,null,{"$f":"IF(Configuração!C3761=\"\",\"\",Configuração!B3761)","v":""},null,null,null,null,null,null,null,null,null,null,null,null,null,null,null,null,21112013,41599]
[null,null,null,null,{"$f":"IF(Configuração!C3766=\"\",\"\",Configuração!B3766)","v":""},null,null,null,null,null,null,null,null,null,null,null,null,null,null,null,null,21112018,43425]
[null,null,null,null,{"$f":"IF(Configuração!C3770=\"\",\"\",Configuração!B3770)","v":""},null,null,null,null,null,null,null,null,null,null,null,null,null,null,null,null,21112022,44886]
[null,null,null,null,{"$f":"IF(Configuração!C3771=\"\",\"\",Configuração!B3771)","v":""},null,null,null,null,null,null,null,null,null,null,null,null,null,null,null,null,21112023,45251]
[null,null,null,null,{"$f":"IF(Configuração!C3776=\"\",\"\",Configuração!B3776)","v":""},null,null,null,null,null,null,null,null,null,null,null,null,null,null,null,null,21122013,41629]
[null,null,null,null,{"$f":"IF(Configuração!C3781=\"\",\"\",Configuração!B3781)","v":""},null,null,null,null,null,null,null,null,null,null,null,null,null,null,null,null,21122018,43455]
[null,null,null,null,{"$f":"IF(Configuração!C3786=\"\",\"\",Configuração!B3786)","v":""},null,null,null,null,null,null,null,null,null,null,null,null,null,null,null,null,21122023,45281]
[null,null,null,null,{"$f":"IF(Configuração!C3787=\"\",\"\",Configuração!B3787)","v":""},null,null,null,null,null,null,null,null,null,null,null,null,null,null,null,null,22012009,39835]
[null,null,null,null,{"$f":"IF(Configuração!C3792=\"\",\"\",Configuração!B3792)","v":""},null,null,null,null,null,null,null,null,null,null,null,null,null,null,null,null,22012014,41661]
[null,null,null,null,{"$f":"IF(Configuração!C3797=\"\",\"\",Configuração!B3797)","v":""},null,null,null,null,null,null,null,null,null,null,null,null,null,null,null,null,22012019,43487]
[null,null,null,null,{"$f":"IF(Configuração!C3801=\"\",\"\",Configuração!B3801)","v":""},null,null,null,null,null,null,null,null,null,null,null,null,null,null,null,null,22012023,44948]
[null,null,null,null,{"$f":"IF(Configuração!C3802=\"\",\"\",Configuração!B3802)","v":""},null,null,null,null,null,null,null,null,null,null,null,null,null,null,null,null,22022009,39866]
[null,null,null,null,{"$f":"IF(Configuração!C3807=\"\",\"\",Configuração!B3807)","v":""},null,null,null,null,null,null,null,null,null,null,null,null,null,null,null,null,22022014,41692]
[null,null,null,null,{"$f":"IF(Configuração!C3812=\"\",\"\",Configuração!B3812)","v":""},null,null,null,null,null,null,null,null,null,null,null,null,null,null,null,null,22022019,43518]
[null,null,null,null,{"$f":"IF(Configuração!C3817=\"\",\"\",Configuração!B3817)","v":""},null,null,null,null,null,null,null,null,null,null,null,null,null,null,null,null,22032009,39894]
[null,null,null,null,{"$f":"IF(Configuração!C3818=\"\",\"\",Configuração!B3818)","v":""},null,null,null,null,null,null,null,null,null,null,null,null,null,null,null,null,22032010,40259]
[null,null,null,null,{"$f":"IF(Configuração!C3823=\"\",\"\",Configuração!B3823)","v":""},null,null,null,null,null,null,null,null,null,null,null,null,null,null,null,null,22032015,42085]
[null,null,null,null,{"$f":"IF(Configuração!C3827=\"\",\"\",Configuração!B3827)","v":""},null,null,null,null,null,null,null,null,null,null,null,null,null,null,null,null,22032019,43546]
[null,null,null,null,{"$f":"IF(Configuração!C3832=\"\",\"\",Configuração!B3832)","v":""},null,null,null,null,null,null,null,null,null,null,null,null,null,null,null,null,22042009,39925]
[null,null,null,null,{"$f":"IF(Configuração!C3833=\"\",\"\",Configuração!B3833)","v":""},null,null,null,null,null,null,null,null,null,null,null,null,null,null,null,null,22042010,40290]
[null,null,null,null,{"$f":"IF(Configuração!C3838=\"\",\"\",Configuração!B3838)","v":""},null,null,null,null,null,null,null,null,null,null,null,null,null,null,null,null,22042015,42116]
[null,null,null,null,{"$f":"IF(Configuração!C3843=\"\",\"\",Configuração!B3843)","v":""},null,null,null,null,null,null,null,null,null,null,null,null,null,null,null,null,22042020,43943]
[null,null,null,null,{"$f":"IF(Configuração!C3848=\"\",\"\",Configuração!B3848)","v":""},null,null,null,null,null,null,null,null,null,null,null,null,null,null,null,null,22052010,40320]
[null,null,null,null,{"$f":"IF(Configuração!C3849=\"\",\"\",Configuração!B3849)","v":""},null,null,null,null,null,null,null,null,null,null,null,null,null,null,null,null,22052011,40685]
[null,null,null,null,{"$f":"IF(Configuração!C3854=\"\",\"\",Configuração!B3854)","v":""},null,null,null,null,null,null,null,null,null,null,null,null,null,null,null,null,22052016,42512]
[null,null,null,null,{"$f":"IF(Configuração!C3858=\"\",\"\",Configuração!B3858)","v":""},null,null,null,null,null,null,null,null,null,null,null,null,null,null,null,null,22052020,43973]
[null,null,null,null,{"$f":"IF(Configuração!C3863=\"\",\"\",Configuração!B3863)","v":""},null,null,null,null,null,null,null,null,null,null,null,null,null,null,null,null,22062010,40351]
[null,null,null,null,{"$f":"IF(Configuração!C3864=\"\",\"\",Configuração!B3864)","v":""},null,null,null,null,null,null,null,null,null,null,null,null,null,null,null,null,22062011,40716]
[null,null,null,null,{"$f":"IF(Configuração!C3869=\"\",\"\",Configuração!B3869)","v":""},null,null,null,null,null,null,null,null,null,null,null,null,null,null,null,null,22062016,42543]
[null,null,null,null,{"$f":"IF(Configuração!C3874=\"\",\"\",Configuração!B3874)","v":""},null,null,null,null,null,null,null,null,null,null,null,null,null,null,null,null,22062021,44369]
[null,null,null,null,{"$f":"IF(Configuração!C3879=\"\",\"\",Configuração!B3879)","v":""},null,null,null,null,null,null,null,null,null,null,null,null,null,null,null,null,22072011,40746]
[null,null,null,null,{"$f":"IF(Configuração!C3881=\"\",\"\",Configuração!B3881)","v":""},null,null,null,null,null,null,null,null,null,null,null,null,null,null,null,null,22072013,41477]
[null,null,null,null,{"$f":"IF(Configuração!C3884=\"\",\"\",Configuração!B3884)","v":""},null,null,null,null,null,null,null,null,null,null,null,null,null,null,null,null,22072016,42573]
[null,null,null,null,{"$f":"IF(Configuração!C3889=\"\",\"\",Configuração!B3889)","v":""},null,null,null,null,null,null,null,null,null,null,null,null,null,null,null,null,22072021,44399]
[null,null,null,null,{"$f":"IF(Configuração!C3894=\"\",\"\",Configuração!B3894)","v":""},null,null,null,null,null,null,null,null,null,null,null,null,null,null,null,null,22082011,40777]
[null,null,null,null,{"$f":"IF(Configuração!C3895=\"\",\"\",Configuração!B3895)","v":""},null,null,null,null,null,null,null,null,null,null,null,null,null,null,null,null,22082012,41143]
[null,null,null,null,{"$f":"IF(Configuração!C3900=\"\",\"\",Configuração!B3900)","v":""},null,null,null,null,null,null,null,null,null,null,null,null,null,null,null,null,22082017,42969]
[null,null,null,null,{"$f":"IF(Configuração!C3905=\"\",\"\",Configuração!B3905)","v":""},null,null,null,null,null,null,null,null,null,null,null,null,null,null,null,null,22082022,44795]
[null,null,null,null,{"$f":"IF(Configuração!C3908=\"\",\"\",Configuração!B3908)","v":""},null,null,null,null,null,null,null,null,null,null,null,null,null,null,null,null,22092010,40443]
[null,null,null,null,{"$f":"IF(Configuração!C3910=\"\",\"\",Configuração!B3910)","v":""},null,null,null,null,null,null,null,null,null,null,null,null,null,null,null,null,22092012,41174]
[null,null,null,null,{"$f":"IF(Configuração!C3915=\"\",\"\",Configuração!B3915)","v":""},null,null,null,null,null,null,null,null,null,null,null,null,null,null,null,null,22092017,43000]
[null,null,null,null,{"$f":"IF(Configuração!C3920=\"\",\"\",Configuração!B3920)","v":""},null,null,null,null,null,null,null,null,null,null,null,null,null,null,null,null,22092022,44826]
[null,null,null,null,{"$f":"IF(Configuração!C3925=\"\",\"\",Configuração!B3925)","v":""},null,null,null,null,null,null,null,null,null,null,null,null,null,null,null,null,22102012,41204]
[null,null,null,null,{"$f":"IF(Configuração!C3926=\"\",\"\",Configuração!B3926)","v":""},null,null,null,null,null,null,null,null,null,null,null,null,null,null,null,null,22102013,41569]
[null,null,null,null,{"$f":"IF(Configuração!C3931=\"\",\"\",Configuração!B3931)","v":""},null,null,null,null,null,null,null,null,null,null,null,null,null,null,null,null,22102018,43395]
[null,null,null,null,{"$f":"IF(Configuração!C3934=\"\",\"\",Configuração!B3934)","v":""},null,null,null,null,null,null,null,null,null,null,null,null,null,null,null,null,22102021,44491]
[null,null,null,null,{"$f":"IF(Configuração!C3940=\"\",\"\",Configuração!B3940)","v":""},null,null,null,null,null,null,null,null,null,null,null,null,null,null,null,null,22112012,41235]
[null,null,null,null,{"$f":"IF(Configuração!C3941=\"\",\"\",Configuração!B3941)","v":""},null,null,null,null,null,null,null,null,null,null,null,null,null,null,null,null,22112013,41600]
[null,null,null,null,{"$f":"IF(Configuração!C3946=\"\",\"\",Configuração!B3946)","v":""},null,null,null,null,null,null,null,null,null,null,null,null,null,null,null,null,22112018,43426]
[null,null,null,null,{"$f":"IF(Configuração!C3951=\"\",\"\",Configuração!B3951)","v":""},null,null,null,null,null,null,null,null,null,null,null,null,null,null,null,null,22112023,45252]
[null,null,null,null,{"$f":"IF(Configuração!C3956=\"\",\"\",Configuração!B3956)","v":""},null,null,null,null,null,null,null,null,null,null,null,null,null,null,null,null,22122013,41630]
[null,null,null,null,{"$f":"IF(Configuração!C3957=\"\",\"\",Configuração!B3957)","v":""},null,null,null,null,null,null,null,null,null,null,null,null,null,null,null,null,22122014,41995]
[null,null,null,null,{"$f":"IF(Configuração!C3962=\"\",\"\",Configuração!B3962)","v":""},null,null,null,null,null,null,null,null,null,null,null,null,null,null,null,null,22122019,43821]
[null,null,null,null,{"$f":"IF(Configuração!C3965=\"\",\"\",Configuração!B3965)","v":""},null,null,null,null,null,null,null,null,null,null,null,null,null,null,null,null,22122022,44917]
[null,null,null,null,{"$f":"IF(Configuração!C3971=\"\",\"\",Configuração!B3971)","v":""},null,null,null,null,null,null,null,null,null,null,null,null,null,null,null,null,23012013,41297]
[null,null,null,null,{"$f":"IF(Configuração!C3972=\"\",\"\",Configuração!B3972)","v":""},null,null,null,null,null,null,null,null,null,null,null,null,null,null,null,null,23012014,41662]
[null,null,null,null,{"$f":"IF(Configuração!C3977=\"\",\"\",Configuração!B3977)","v":""},null,null,null,null,null,null,null,null,null,null,null,null,null,null,null,null,23012019,43488]
[null,null,null,null,{"$f":"IF(Configuração!C3982=\"\",\"\",Configuração!B3982)","v":""},null,null,null,null,null,null,null,null,null,null,null,null,null,null,null,null,23022009,39867]
[null,null,null,null,{"$f":"IF(Configuração!C3987=\"\",\"\",Configuração!B3987)","v":""},null,null,null,null,null,null,null,null,null,null,null,null,null,null,null,null,23022014,41693]
[null,null,null,null,{"$f":"IF(Configuração!C3988=\"\",\"\",Configuração!B3988)","v":""},null,null,null,null,null,null,null,null,null,null,null,null,null,null,null,null,23022015,42058]
[null,null,null,null,{"$f":"IF(Configuração!C3992=\"\",\"\",Configuração!B3992)","v":""},null,null,null,null,null,null,null,null,null,null,null,null,null,null,null,null,23022019,43519]
[null,null,null,null,{"$f":"IF(Configuração!C3997=\"\",\"\",Configuração!B3997)","v":""},null,null,null,null,null,null,null,null,null,null,null,null,null,null,null,null,23032009,39895]
[null,null,null,null,{"$f":"IF(Configuração!C4002=\"\",\"\",Configuração!B4002)","v":""},null,null,null,null,null,null,null,null,null,null,null,null,null,null,null,null,23032014,41721]
[null,null,null,null,{"$f":"IF(Configuração!C4003=\"\",\"\",Configuração!B4003)","v":""},null,null,null,null,null,null,null,null,null,null,null,null,null,null,null,null,23032015,42086]
[null,null,null,null,{"$f":"IF(Configuração!C4008=\"\",\"\",Configuração!B4008)","v":""},null,null,null,null,null,null,null,null,null,null,null,null,null,null,null,null,23032020,43913]
[null,null,null,null,{"$f":"IF(Configuração!C4013=\"\",\"\",Configuração!B4013)","v":""},null,null,null,null,null,null,null,null,null,null,null,null,null,null,null,null,23042010,40291]
[null,null,null,null,{"$f":"IF(Configuração!C4018=\"\",\"\",Configuração!B4018)","v":""},null,null,null,null,null,null,null,null,null,null,null,null,null,null,null,null,23042015,42117]
[null,null,null,null,{"$f":"IF(Configuração!C4019=\"\",\"\",Configuração!B4019)","v":""},null,null,null,null,null,null,null,null,null,null,null,null,null,null,null,null,23042016,42483]
[null,null,null,null,{"$f":"IF(Configuração!C4023=\"\",\"\",Configuração!B4023)","v":""},null,null,null,null,null,null,null,null,null,null,null,null,null,null,null,null,23042020,43944]
[null,null,null,null,{"$f":"IF(Configuração!C4028=\"\",\"\",Configuração!B4028)","v":""},null,null,null,null,null,null,null,null,null,null,null,null,null,null,null,null,23052010,40321]
[null,null,null,null,{"$f":"IF(Configuração!C4033=\"\",\"\",Configuração!B4033)","v":""},null,null,null,null,null,null,null,null,null,null,null,null,null,null,null,null,23052015,42147]
[null,null,null,null,{"$f":"IF(Configuração!C4034=\"\",\"\",Configuração!B4034)","v":""},null,null,null,null,null,null,null,null,null,null,null,null,null,null,null,null,23052016,42513]
[null,null,null,null,{"$f":"IF(Configuração!C4039=\"\",\"\",Configuração!B4039)","v":""},null,null,null,null,null,null,null,null,null,null,null,null,null,null,null,null,23052021,44339]
[null,null,null,null,{"$f":"IF(Configuração!C4044=\"\",\"\",Configuração!B4044)","v":""},null,null,null,null,null,null,null,null,null,null,null,null,null,null,null,null,23062011,40717]
[null,null,null,null,{"$f":"IF(Configuração!C4048=\"\",\"\",Configuração!B4048)","v":""},null,null,null,null,null,null,null,null,null,null,null,null,null,null,null,null,23062015,42178]
[null,null,null,null,{"$f":"IF(Configuração!C4049=\"\",\"\",Configuração!B4049)","v":""},null,null,null,null,null,null,null,null,null,null,null,null,null,null,null,null,23062016,42544]
[null,null,null,null,{"$f":"IF(Configuração!C4054=\"\",\"\",Configuração!B4054)","v":""},null,null,null,null,null,null,null,null,null,null,null,null,null,null,null,null,23062021,44370]
[null,null,null,null,{"$f":"IF(Configuração!C4059=\"\",\"\",Configuração!B4059)","v":""},null,null,null,null,null,null,null,null,null,null,null,null,null,null,null,null,23072011,40747]
[null,null,null,null,{"$f":"IF(Configuração!C4064=\"\",\"\",Configuração!B4064)","v":""},null,null,null,null,null,null,null,null,null,null,null,null,null,null,null,null,23072016,42574]
[null,null,null,null,{"$f":"IF(Configuração!C4065=\"\",\"\",Configuração!B4065)","v":""},null,null,null,null,null,null,null,null,null,null,null,null,null,null,null,null,23072017,42939]
[null,null,null,null,{"$f":"IF(Configuração!C4070=\"\",\"\",Configuração!B4070)","v":""},null,null,null,null,null,null,null,null,null,null,null,null,null,null,null,null,23072022,44765]
[null,null,null,null,{"$f":"IF(Configuração!C4075=\"\",\"\",Configuração!B4075)","v":""},null,null,null,null,null,null,null,null,null,null,null,null,null,null,null,null,23082012,41144]
[null,null,null,null,{"$f":"IF(Configuração!C4079=\"\",\"\",Configuração!B4079)","v":""},null,null,null,null,null,null,null,null,null,null,null,null,null,null,null,null,23082016,42605]
[null,null,null,null,{"$f":"IF(Configuração!C4080=\"\",\"\",Configuração!B4080)","v":""},null,null,null,null,null,null,null,null,null,null,null,null,null,null,null,null,23082017,42970]
[null,null,null,null,{"$f":"IF(Configuração!C4085=\"\",\"\",Configuração!B4085)","v":""},null,null,null,null,null,null,null,null,null,null,null,null,null,null,null,null,23082022,44796]
[null,null,null,null,{"$f":"IF(Configuração!C4090=\"\",\"\",Configuração!B4090)","v":""},null,null,null,null,null,null,null,null,null,null,null,null,null,null,null,null,23092012,41175]
[null,null,null,null,{"$f":"IF(Configuração!C4095=\"\",\"\",Configuração!B4095)","v":""},null,null,null,null,null,null,null,null,null,null,null,null,null,null,null,null,23092017,43001]
[null,null,null,null,{"$f":"IF(Configuração!C4096=\"\",\"\",Configuração!B4096)","v":""},null,null,null,null,null,null,null,null,null,null,null,null,null,null,null,null,23092018,43366]
[null,null,null,null,{"$f":"IF(Configuração!C4101=\"\",\"\",Configuração!B4101)","v":""},null,null,null,null,null,null,null,null,null,null,null,null,null,null,null,null,23092023,45192]
[null,null,null,null,{"$f":"IF(Configuração!C4106=\"\",\"\",Configuração!B4106)","v":""},null,null,null,null,null,null,null,null,null,null,null,null,null,null,null,null,23102013,41570]
[null,null,null,null,{"$f":"IF(Configuração!C4110=\"\",\"\",Configuração!B4110)","v":""},null,null,null,null,null,null,null,null,null,null,null,null,null,null,null,null,23102017,43031]
[null,null,null,null,{"$f":"IF(Configuração!C4111=\"\",\"\",Configuração!B4111)","v":""},null,null,null,null,null,null,null,null,null,null,null,null,null,null,null,null,23102018,43396]
[null,null,null,null,{"$f":"IF(Configuração!C4116=\"\",\"\",Configuração!B4116)","v":""},null,null,null,null,null,null,null,null,null,null,null,null,null,null,null,null,23102023,45222]
[null,null,null,null,{"$f":"IF(Configuração!C4121=\"\",\"\",Configuração!B4121)","v":""},null,null,null,null,null,null,null,null,null,null,null,null,null,null,null,null,23112013,41601]
[null,null,null,null,{"$f":"IF(Configuração!C4126=\"\",\"\",Configuração!B4126)","v":""},null,null,null,null,null,null,null,null,null,null,null,null,null,null,null,null,23112018,43427]
[null,null,null,null,{"$f":"IF(Configuração!C4127=\"\",\"\",Configuração!B4127)","v":""},null,null,null,null,null,null,null,null,null,null,null,null,null,null,null,null,23112019,43792]
[null,null,null,null,{"$f":"IF(Configuração!C4133=\"\",\"\",Configuração!B4133)","v":""},null,null,null,null,null,null,null,null,null,null,null,null,null,null,null,null,23122010,40535]
[null,null,null,null,{"$f":"IF(Configuração!C4136=\"\",\"\",Configuração!B4136)","v":""},null,null,null,null,null,null,null,null,null,null,null,null,null,null,null,null,23122013,41631]
[null,null,null,null,{"$f":"IF(Configuração!C4141=\"\",\"\",Configuração!B4141)","v":""},null,null,null,null,null,null,null,null,null,null,null,null,null,null,null,null,23122018,43457]
[null,null,null,null,{"$f":"IF(Configuração!C4142=\"\",\"\",Configuração!B4142)","v":""},null,null,null,null,null,null,null,null,null,null,null,null,null,null,null,null,23122019,43822]
[null,null,null,null,{"$f":"IF(Configuração!C4147=\"\",\"\",Configuração!B4147)","v":""},null,null,null,null,null,null,null,null,null,null,null,null,null,null,null,null,24012009,39837]
[null,null,null,null,{"$f":"IF(Configuração!C4152=\"\",\"\",Configuração!B4152)","v":""},null,null,null,null,null,null,null,null,null,null,null,null,null,null,null,null,24012014,41663]
[null,null,null,null,{"$f":"IF(Configuração!C4157=\"\",\"\",Configuração!B4157)","v":""},null,null,null,null,null,null,null,null,null,null,null,null,null,null,null,null,24012019,43489]
[null,null,null,null,{"$f":"IF(Configuração!C4159=\"\",\"\",Configuração!B4159)","v":""},null,null,null,null,null,null,null,null,null,null,null,null,null,null,null,null,24012021,44220]
[null,null,null,null,{"$f":"IF(Configuração!C4162=\"\",\"\",Configuração!B4162)","v":""},null,null,null,null,null,null,null,null,null,null,null,null,null,null,null,null,24022009,39868]
[null,null,null,null,{"$f":"IF(Configuração!C4167=\"\",\"\",Configuração!B4167)","v":""},null,null,null,null,null,null,null,null,null,null,null,null,null,null,null,null,24022014,41694]
[null,null,null,null,{"$f":"IF(Configuração!C4172=\"\",\"\",Configuração!B4172)","v":""},null,null,null,null,null,null,null,null,null,null,null,null,null,null,null,null,24022019,43520]
[null,null,null,null,{"$f":"IF(Configuração!C4173=\"\",\"\",Configuração!B4173)","v":""},null,null,null,null,null,null,null,null,null,null,null,null,null,null,null,null,24022020,43885]
[null,null,null,null,{"$f":"IF(Configuração!C4178=\"\",\"\",Configuração!B4178)","v":""},null,null,null,null,null,null,null,null,null,null,null,null,null,null,null,null,24032010,40261]
[null,null,null,null,{"$f":"IF(Configuração!C4183=\"\",\"\",Configuração!B4183)","v":""},null,null,null,null,null,null,null,null,null,null,null,null,null,null,null,null,24032015,42087]
[null,null,null,null,{"$f":"IF(Configuração!C4188=\"\",\"\",Configuração!B4188)","v":""},null,null,null,null,null,null,null,null,null,null,null,null,null,null,null,null,24032020,43914]
[null,null,null,null,{"$f":"IF(Configuração!C4190=\"\",\"\",Configuração!B4190)","v":""},null,null,null,null,null,null,null,null,null,null,null,null,null,null,null,null,24032022,44644]
[null,null,null,null,{"$f":"IF(Configuração!C4193=\"\",\"\",Configuração!B4193)","v":""},null,null,null,null,null,null,null,null,null,null,null,null,null,null,null,null,24042010,40292]
[null,null,null,null,{"$f":"IF(Configuração!C4198=\"\",\"\",Configuração!B4198)","v":""},null,null,null,null,null,null,null,null,null,null,null,null,null,null,null,null,24042015,42118]
[null,null,null,null,{"$f":"IF(Configuração!C4203=\"\",\"\",Configuração!B4203)","v":""},null,null,null,null,null,null,null,null,null,null,null,null,null,null,null,null,24042020,43945]
[null,null,null,null,{"$f":"IF(Configuração!C4204=\"\",\"\",Configuração!B4204)","v":""},null,null,null,null,null,null,null,null,null,null,null,null,null,null,null,null,24042021,44310]
[null,null,null,null,{"$f":"IF(Configuração!C4209=\"\",\"\",Configuração!B4209)","v":""},null,null,null,null,null,null,null,null,null,null,null,null,null,null,null,null,24052011,40687]
[null,null,null,null,{"$f":"IF(Configuração!C4214=\"\",\"\",Configuração!B4214)","v":""},null,null,null,null,null,null,null,null,null,null,null,null,null,null,null,null,24052016,42514]
[null,null,null,null,{"$f":"IF(Configuração!C4217=\"\",\"\",Configuração!B4217)","v":""},null,null,null,null,null,null,null,null,null,null,null,null,null,null,null,null,24052019,43609]
[null,null,null,null,{"$f":"IF(Configuração!C4219=\"\",\"\",Configuração!B4219)","v":""},null,null,null,null,null,null,null,null,null,null,null,null,null,null,null,null,24052021,44340]
[null,null,null,null,{"$f":"IF(Configuração!C4224=\"\",\"\",Configuração!B4224)","v":""},null,null,null,null,null,null,null,null,null,null,null,null,null,null,null,null,24062011,40718]
[null,null,null,null,{"$f":"IF(Configuração!C4229=\"\",\"\",Configuração!B4229)","v":""},null,null,null,null,null,null,null,null,null,null,null,null,null,null,null,null,24062016,42545]
[null,null,null,null,{"$f":"IF(Configuração!C4234=\"\",\"\",Configuração!B4234)","v":""},null,null,null,null,null,null,null,null,null,null,null,null,null,null,null,null,24062021,44371]
[null,null,null,null,{"$f":"IF(Configuração!C4235=\"\",\"\",Configuração!B4235)","v":""},null,null,null,null,null,null,null,null,null,null,null,null,null,null,null,null,24062022,44736]
[null,null,null,null,{"$f":"IF(Configuração!C4240=\"\",\"\",Configuração!B4240)","v":""},null,null,null,null,null,null,null,null,null,null,null,null,null,null,null,null,24072012,41114]
[null,null,null,null,{"$f":"IF(Configuração!C4244=\"\",\"\",Configuração!B4244)","v":""},null,null,null,null,null,null,null,null,null,null,null,null,null,null,null,null,24072016,42575]
[null,null,null,null,{"$f":"IF(Configuração!C4249=\"\",\"\",Configuração!B4249)","v":""},null,null,null,null,null,null,null,null,null,null,null,null,null,null,null,null,24072021,44401]
[null,null,null,null,{"$f":"IF(Configuração!C4250=\"\",\"\",Configuração!B4250)","v":""},null,null,null,null,null,null,null,null,null,null,null,null,null,null,null,null,24072022,44766]
[null,null,null,null,{"$f":"IF(Configuração!C4255=\"\",\"\",Configuração!B4255)","v":""},null,null,null,null,null,null,null,null,null,null,null,null,null,null,null,null,24082012,41145]
[null,null,null,null,{"$f":"IF(Configuração!C4260=\"\",\"\",Configuração!B4260)","v":""},null,null,null,null,null,null,null,null,null,null,null,null,null,null,null,null,24082017,42971]
[null,null,null,null,{"$f":"IF(Configuração!C4265=\"\",\"\",Configuração!B4265)","v":""},null,null,null,null,null,null,null,null,null,null,null,null,null,null,null,null,24082022,44797]
[null,null,null,null,{"$f":"IF(Configuração!C4266=\"\",\"\",Configuração!B4266)","v":""},null,null,null,null,null,null,null,null,null,null,null,null,null,null,null,null,24082023,45162]
[null,null,null,null,{"$f":"IF(Configuração!C4270=\"\",\"\",Configuração!B4270)","v":""},null,null,null,null,null,null,null,null,null,null,null,null,null,null,null,null,24092012,41176]
[null,null,null,null,{"$f":"IF(Configuração!C4275=\"\",\"\",Configuração!B4275)","v":""},null,null,null,null,null,null,null,null,null,null,null,null,null,null,null,null,24092017,43002]
[null,null,null,null,{"$f":"IF(Configuração!C4280=\"\",\"\",Configuração!B4280)","v":""},null,null,null,null,null,null,null,null,null,null,null,null,null,null,null,null,24092022,44828]
[null,null,null,null,{"$f":"IF(Configuração!C4281=\"\",\"\",Configuração!B4281)","v":""},null,null,null,null,null,null,null,null,null,null,null,null,null,null,null,null,24092023,45193]
[null,null,null,null,{"$f":"IF(Configuração!C4286=\"\",\"\",Configuração!B4286)","v":""},null,null,null,null,null,null,null,null,null,null,null,null,null,null,null,null,24102013,41571]
[null,null,null,null,{"$f":"IF(Configuração!C4291=\"\",\"\",Configuração!B4291)","v":""},null,null,null,null,null,null,null,null,null,null,null,null,null,null,null,null,24102018,43397]
[null,null,null,null,{"$f":"IF(Configuração!C4296=\"\",\"\",Configuração!B4296)","v":""},null,null,null,null,null,null,null,null,null,null,null,null,null,null,null,null,24102023,45223]
[null,null,null,null,{"$f":"IF(Configuração!C4297=\"\",\"\",Configuração!B4297)","v":""},null,null,null,null,null,null,null,null,null,null,null,null,null,null,null,null,24112009,40141]
[null,null,null,null,{"$f":"IF(Configuração!C4302=\"\",\"\",Configuração!B4302)","v":""},null,null,null,null,null,null,null,null,null,null,null,null,null,null,null,null,24112014,41967]
[null,null,null,null,{"$f":"IF(Configuração!C4306=\"\",\"\",Configuração!B4306)","v":""},null,null,null,null,null,null,null,null,null,null,null,null,null,null,null,null,24112018,43428]
[null,null,null,null,{"$f":"IF(Configuração!C4311=\"\",\"\",Configuração!B4311)","v":""},null,null,null,null,null,null,null,null,null,null,null,null,null,null,null,null,24112023,45254]
[null,null,null,null,{"$f":"IF(Configuração!C4312=\"\",\"\",Configuração!B4312)","v":""},null,null,null,null,null,null,null,null,null,null,null,null,null,null,null,null,24122009,40171]
[null,null,null,null,{"$f":"IF(Configuração!C4317=\"\",\"\",Configuração!B4317)","v":""},null,null,null,null,null,null,null,null,null,null,null,null,null,null,null,null,24122014,41997]
[null,null,null,null,{"$f":"IF(Configuração!C4322=\"\",\"\",Configuração!B4322)","v":""},null,null,null,null,null,null,null,null,null,null,null,null,null,null,null,null,24122019,43823]
[null,null,null,null,{"$f":"IF(Configuração!C4327=\"\",\"\",Configuração!B4327)","v":""},null,null,null,null,null,null,null,null,null,null,null,null,null,null,null,null,25012009,39838]
[null,null,null,null,{"$f":"IF(Configuração!C4328=\"\",\"\",Configuração!B4328)","v":""},null,null,null,null,null,null,null,null,null,null,null,null,null,null,null,null,25012010,40203]
[null,null,null,null,{"$f":"IF(Configuração!C4332=\"\",\"\",Configuração!B4332)","v":""},null,null,null,null,null,null,null,null,null,null,null,null,null,null,null,null,25012014,41664]
[null,null,null,null,{"$f":"IF(Configuração!C4337=\"\",\"\",Configuração!B4337)","v":""},null,null,null,null,null,null,null,null,null,null,null,null,null,null,null,null,25012019,43490]
[null,null,null,null,{"$f":"IF(Configuração!C4342=\"\",\"\",Configuração!B4342)","v":""},null,null,null,null,null,null,null,null,null,null,null,null,null,null,null,null,25022009,39869]
[null,null,null,null,{"$f":"IF(Configuração!C4343=\"\",\"\",Configuração!B4343)","v":""},null,null,null,null,null,null,null,null,null,null,null,null,null,null,null,null,25022010,40234]
[null,null,null,null,{"$f":"IF(Configuração!C4348=\"\",\"\",Configuração!B4348)","v":""},null,null,null,null,null,null,null,null,null,null,null,null,null,null,null,null,25022015,42060]
[null,null,null,null,{"$f":"IF(Configuração!C4353=\"\",\"\",Configuração!B4353)","v":""},null,null,null,null,null,null,null,null,null,null,null,null,null,null,null,null,25022020,43886]
[null,null,null,null,{"$f":"IF(Configuração!C4355=\"\",\"\",Configuração!B4355)","v":""},null,null,null,null,null,null,null,null,null,null,null,null,null,null,null,null,25022022,44617]
[null,null,null,null,{"$f":"IF(Configuração!C4358=\"\",\"\",Configuração!B4358)","v":""},null,null,null,null,null,null,null,null,null,null,null,null,null,null,null,null,25032010,40262]
[null,null,null,null,{"$f":"IF(Configuração!C4363=\"\",\"\",Configuração!B4363)","v":""},null,null,null,null,null,null,null,null,null,null,null,null,null,null,null,null,25032015,42088]
[null,null,null,null,{"$f":"IF(Configuração!C4368=\"\",\"\",Configuração!B4368)","v":""},null,null,null,null,null,null,null,null,null,null,null,null,null,null,null,null,25032020,43915]
[null,null,null,null,{"$f":"IF(Configuração!C4373=\"\",\"\",Configuração!B4373)","v":""},null,null,null,null,null,null,null,null,null,null,null,null,null,null,null,null,25042010,40293]
[null,null,null,null,{"$f":"IF(Configuração!C4374=\"\",\"\",Configuração!B4374)","v":""},null,null,null,null,null,null,null,null,null,null,null,null,null,null,null,null,25042011,40658]
[null,null,null,null,{"$f":"IF(Configuração!C4379=\"\",\"\",Configuração!B4379)","v":""},null,null,null,null,null,null,null,null,null,null,null,null,null,null,null,null,25042016,42485]
[null,null,null,null,{"$f":"IF(Configuração!C4382=\"\",\"\",Configuração!B4382)","v":""},null,null,null,null,null,null,null,null,null,null,null,null,null,null,null,null,25042019,43580]
[null,null,null,null,{"$f":"IF(Configuração!C4388=\"\",\"\",Configuração!B4388)","v":""},null,null,null,null,null,null,null,null,null,null,null,null,null,null,null,null,25052010,40323]
[null,null,null,null,{"$f":"IF(Configuração!C4389=\"\",\"\",Configuração!B4389)","v":""},null,null,null,null,null,null,null,null,null,null,null,null,null,null,null,null,25052011,40688]
[null,null,null,null,{"$f":"IF(Configuração!C4394=\"\",\"\",Configuração!B4394)","v":""},null,null,null,null,null,null,null,null,null,null,null,null,null,null,null,null,25052016,42515]
[null,null,null,null,{"$f":"IF(Configuração!C4399=\"\",\"\",Configuração!B4399)","v":""},null,null,null,null,null,null,null,null,null,null,null,null,null,null,null,null,25052021,44341]
[null,null,null,null,{"$f":"IF(Configuração!C4404=\"\",\"\",Configuração!B4404)","v":""},null,null,null,null,null,null,null,null,null,null,null,null,null,null,null,null,25062011,40719]
[null,null,null,null,{"$f":"IF(Configuração!C4405=\"\",\"\",Configuração!B4405)","v":""},null,null,null,null,null,null,null,null,null,null,null,null,null,null,null,null,25062012,41085]
[null,null,null,null,{"$f":"IF(Configuração!C4410=\"\",\"\",Configuração!B4410)","v":""},null,null,null,null,null,null,null,null,null,null,null,null,null,null,null,null,25062017,42911]
[null,null,null,null,{"$f":"IF(Configuração!C4413=\"\",\"\",Configuração!B4413)","v":""},null,null,null,null,null,null,null,null,null,null,null,null,null,null,null,null,25062020,44007]
[null,null,null,null,{"$f":"IF(Configuração!C4419=\"\",\"\",Configuração!B4419)","v":""},null,null,null,null,null,null,null,null,null,null,null,null,null,null,null,null,25072011,40749]
[null,null,null,null,{"$f":"IF(Configuração!C4420=\"\",\"\",Configuração!B4420)","v":""},null,null,null,null,null,null,null,null,null,null,null,null,null,null,null,null,25072012,41115]
[null,null,null,null,{"$f":"IF(Configuração!C4425=\"\",\"\",Configuração!B4425)","v":""},null,null,null,null,null,null,null,null,null,null,null,null,null,null,null,null,25072017,42941]
[null,null,null,null,{"$f":"IF(Configuração!C4430=\"\",\"\",Configuração!B4430)","v":""},null,null,null,null,null,null,null,null,null,null,null,null,null,null,null,null,25072022,44767]
[null,null,null,null,{"$f":"IF(Configuração!C4435=\"\",\"\",Configuração!B4435)","v":""},null,null,null,null,null,null,null,null,null,null,null,null,null,null,null,null,25082012,41146]
[null,null,null,null,{"$f":"IF(Configuração!C4436=\"\",\"\",Configuração!B4436)","v":""},null,null,null,null,null,null,null,null,null,null,null,null,null,null,null,null,25082013,41511]
[null,null,null,null,{"$f":"IF(Configuração!C4442=\"\",\"\",Configuração!B4442)","v":""},null,null,null,null,null,null,null,null,null,null,null,null,null,null,null,null,25082019,43702]
[null,null,null,null,{"$f":"IF(Configuração!C4445=\"\",\"\",Configuração!B4445)","v":""},null,null,null,null,null,null,null,null,null,null,null,null,null,null,null,null,25082022,44798]
[null,null,null,null,{"$f":"IF(Configuração!C4450=\"\",\"\",Configuração!B4450)","v":""},null,null,null,null,null,null,null,null,null,null,null,null,null,null,null,null,25092012,41177]
[null,null,null,null,{"$f":"IF(Configuração!C4451=\"\",\"\",Configuração!B4451)","v":""},null,null,null,null,null,null,null,null,null,null,null,null,null,null,null,null,25092013,41542]
[null,null,null,null,{"$f":"IF(Configuração!C4456=\"\",\"\",Configuração!B4456)","v":""},null,null,null,null,null,null,null,null,null,null,null,null,null,null,null,null,25092018,43368]
[null,null,null,null,{"$f":"IF(Configuração!C4461=\"\",\"\",Configuração!B4461)","v":""},null,null,null,null,null,null,null,null,null,null,null,null,null,null,null,null,25092023,45194]
[null,null,null,null,{"$f":"IF(Configuração!C4466=\"\",\"\",Configuração!B4466)","v":""},null,null,null,null,null,null,null,null,null,null,null,null,null,null,null,null,25102013,41572]
[null,null,null,null,{"$f":"IF(Configuração!C4469=\"\",\"\",Configuração!B4469)","v":""},null,null,null,null,null,null,null,null,null,null,null,null,null,null,null,null,25102016,42668]
[null,null,null,null,{"$f":"IF(Configuração!C4471=\"\",\"\",Configuração!B4471)","v":""},null,null,null,null,null,null,null,null,null,null,null,null,null,null,null,null,25102018,43398]
[null,null,null,null,{"$f":"IF(Configuração!C4476=\"\",\"\",Configuração!B4476)","v":""},null,null,null,null,null,null,null,null,null,null,null,null,null,null,null,null,25102023,45224]
[null,null,null,null,{"$f":"IF(Configuração!C4481=\"\",\"\",Configuração!B4481)","v":""},null,null,null,null,null,null,null,null,null,null,null,null,null,null,null,null,25112013,41603]
[null,null,null,null,{"$f":"IF(Configuração!C4482=\"\",\"\",Configuração!B4482)","v":""},null,null,null,null,null,null,null,null,null,null,null,null,null,null,null,null,25112014,41968]
[null,null,null,null,{"$f":"IF(Configuração!C4487=\"\",\"\",Configuração!B4487)","v":""},null,null,null,null,null,null,null,null,null,null,null,null,null,null,null,null,25112019,43794]
[null,null,null,null,{"$f":"IF(Configuração!C4492=\"\",\"\",Configuração!B4492)","v":""},null,null,null,null,null,null,null,null,null,null,null,null,null,null,null,null,25122009,40172]
[null,null,null,null,{"$f":"IF(Configuração!C4496=\"\",\"\",Configuração!B4496)","v":""},null,null,null,null,null,null,null,null,null,null,null,null,null,null,null,null,25122013,41633]
[null,null,null,null,{"$f":"IF(Configuração!C4497=\"\",\"\",Configuração!B4497)","v":""},null,null,null,null,null,null,null,null,null,null,null,null,null,null,null,null,25122014,41998]
[null,null,null,null,{"$f":"IF(Configuração!C4502=\"\",\"\",Configuração!B4502)","v":""},null,null,null,null,null,null,null,null,null,null,null,null,null,null,null,null,25122019,43824]
[null,null,null,null,{"$f":"IF(Configuração!C4507=\"\",\"\",Configuração!B4507)","v":""},null,null,null,null,null,null,null,null,null,null,null,null,null,null,null,null,26012009,39839]
[null,null,null,null,{"$f":"IF(Configuração!C4512=\"\",\"\",Configuração!B4512)","v":""},null,null,null,null,null,null,null,null,null,null,null,null,null,null,null,null,26012014,41665]
[null,null,null,null,{"$f":"IF(Configuração!C4513=\"\",\"\",Configuração!B4513)","v":""},null,null,null,null,null,null,null,null,null,null,null,null,null,null,null,null,26012015,42030]
[null,null,null,null,{"$f":"IF(Configuração!C4518=\"\",\"\",Configuração!B4518)","v":""},null,null,null,null,null,null,null,null,null,null,null,null,null,null,null,null,26012020,43856]
[null,null,null,null,{"$f":"IF(Configuração!C4523=\"\",\"\",Configuração!B4523)","v":""},null,null,null,null,null,null,null,null,null,null,null,null,null,null,null,null,26022010,40235]
[null,null,null,null,{"$f":"IF(Configuração!C4527=\"\",\"\",Configuração!B4527)","v":""},null,null,null,null,null,null,null,null,null,null,null,null,null,null,null,null,26022014,41696]
[null,null,null,null,{"$f":"IF(Configuração!C4528=\"\",\"\",Configuração!B4528)","v":""},null,null,null,null,null,null,null,null,null,null,null,null,null,null,null,null,26022015,42061]
[null,null,null,null,{"$f":"IF(Configuração!C4533=\"\",\"\",Configuração!B4533)","v":""},null,null,null,null,null,null,null,null,null,null,null,null,null,null,null,null,26022020,43887]
[null,null,null,null,{"$f":"IF(Configuração!C4538=\"\",\"\",Configuração!B4538)","v":""},null,null,null,null,null,null,null,null,null,null,null,null,null,null,null,null,26032010,40263]
[null,null,null,null,{"$f":"IF(Configuração!C4543=\"\",\"\",Configuração!B4543)","v":""},null,null,null,null,null,null,null,null,null,null,null,null,null,null,null,null,26032015,42089]
[null,null,null,null,{"$f":"IF(Configuração!C4544=\"\",\"\",Configuração!B4544)","v":""},null,null,null,null,null,null,null,null,null,null,null,null,null,null,null,null,26032016,42455]
[null,null,null,null,{"$f":"IF(Configuração!C4549=\"\",\"\",Configuração!B4549)","v":""},null,null,null,null,null,null,null,null,null,null,null,null,null,null,null,null,26032021,44281]
[null,null,null,null,{"$f":"IF(Configuração!C4553=\"\",\"\",Configuração!B4553)","v":""},null,null,null,null,null,null,null,null,null,null,null,null,null,null,null,null,26042010,40294]
[null,null,null,null,{"$f":"IF(Configuração!C4558=\"\",\"\",Configuração!B4558)","v":""},null,null,null,null,null,null,null,null,null,null,null,null,null,null,null,null,26042015,42120]
[null,null,null,null,{"$f":"IF(Configuração!C4559=\"\",\"\",Configuração!B4559)","v":""},null,null,null,null,null,null,null,null,null,null,null,null,null,null,null,null,26042016,42486]
[null,null,null,null,{"$f":"IF(Configuração!C4564=\"\",\"\",Configuração!B4564)","v":""},null,null,null,null,null,null,null,null,null,null,null,null,null,null,null,null,26042021,44312]
[null,null,null,null,{"$f":"IF(Configuração!C4569=\"\",\"\",Configuração!B4569)","v":""},null,null,null,null,null,null,null,null,null,null,null,null,null,null,null,null,26052011,40689]
[null,null,null,null,{"$f":"IF(Configuração!C4574=\"\",\"\",Configuração!B4574)","v":""},null,null,null,null,null,null,null,null,null,null,null,null,null,null,null,null,26052016,42516]
[null,null,null,null,{"$f":"IF(Configuração!C4575=\"\",\"\",Configuração!B4575)","v":""},null,null,null,null,null,null,null,null,null,null,null,null,null,null,null,null,26052017,42881]
[null,null,null,null,{"$f":"IF(Configuração!C4580=\"\",\"\",Configuração!B4580)","v":""},null,null,null,null,null,null,null,null,null,null,null,null,null,null,null,null,26052022,44707]
[null,null,null,null,{"$f":"IF(Configuração!C4584=\"\",\"\",Configuração!B4584)","v":""},null,null,null,null,null,null,null,null,null,null,null,null,null,null,null,null,26062011,40720]
[null,null,null,null,{"$f":"IF(Configuração!C4589=\"\",\"\",Configuração!B4589)","v":""},null,null,null,null,null,null,null,null,null,null,null,null,null,null,null,null,26062016,42547]
[null,null,null,null,{"$f":"IF(Configuração!C4590=\"\",\"\",Configuração!B4590)","v":""},null,null,null,null,null,null,null,null,null,null,null,null,null,null,null,null,26062017,42912]
[null,null,null,null,{"$f":"IF(Configuração!C4595=\"\",\"\",Configuração!B4595)","v":""},null,null,null,null,null,null,null,null,null,null,null,null,null,null,null,null,26062022,44738]
[null,null,null,null,{"$f":"IF(Configuração!C4600=\"\",\"\",Configuração!B4600)","v":""},null,null,null,null,null,null,null,null,null,null,null,null,null,null,null,null,26072012,41116]
[null,null,null,null,{"$f":"IF(Configuração!C4605=\"\",\"\",Configuração!B4605)","v":""},null,null,null,null,null,null,null,null,null,null,null,null,null,null,null,null,26072017,42942]
[null,null,null,null,{"$f":"IF(Configuração!C4607=\"\",\"\",Configuração!B4607)","v":""},null,null,null,null,null,null,null,null,null,null,null,null,null,null,null,null,26072019,43672]
[null,null,null,null,{"$f":"IF(Configuração!C4610=\"\",\"\",Configuração!B4610)","v":""},null,null,null,null,null,null,null,null,null,null,null,null,null,null,null,null,26072022,44768]
[null,null,null,null,{"$f":"IF(Configuração!C4615=\"\",\"\",Configuração!B4615)","v":""},null,null,null,null,null,null,null,null,null,null,null,null,null,null,null,null,26082012,41147]
[null,null,null,null,{"$f":"IF(Configuração!C4620=\"\",\"\",Configuração!B4620)","v":""},null,null,null,null,null,null,null,null,null,null,null,null,null,null,null,null,26082017,42973]
[null,null,null,null,{"$f":"IF(Configuração!C4621=\"\",\"\",Configuração!B4621)","v":""},null,null,null,null,null,null,null,null,null,null,null,null,null,null,null,null,26082018,43338]
[null,null,null,null,{"$f":"IF(Configuração!C4626=\"\",\"\",Configuração!B4626)","v":""},null,null,null,null,null,null,null,null,null,null,null,null,null,null,null,null,26082023,45164]
[null,null,null,null,{"$f":"IF(Configuração!C4631=\"\",\"\",Configuração!B4631)","v":""},null,null,null,null,null,null,null,null,null,null,null,null,null,null,null,null,26092013,41543]
[null,null,null,null,{"$f":"IF(Configuração!C4636=\"\",\"\",Configuração!B4636)","v":""},null,null,null,null,null,null,null,null,null,null,null,null,null,null,null,null,26092018,43369]
[null,null,null,null,{"$f":"IF(Configuração!C4638=\"\",\"\",Configuração!B4638)","v":""},null,null,null,null,null,null,null,null,null,null,null,null,null,null,null,null,26092020,44100]
[null,null,null,null,{"$f":"IF(Configuração!C4641=\"\",\"\",Configuração!B4641)","v":""},null,null,null,null,null,null,null,null,null,null,null,null,null,null,null,null,26092023,45195]
[null,null,null,null,{"$f":"IF(Configuração!C4646=\"\",\"\",Configuração!B4646)","v":""},null,null,null,null,null,null,null,null,null,null,null,null,null,null,null,null,26102013,41573]
[null,null,null,null,{"$f":"IF(Configuração!C4651=\"\",\"\",Configuração!B4651)","v":""},null,null,null,null,null,null,null,null,null,null,null,null,null,null,null,null,26102018,43399]
[null,null,null,null,{"$f":"IF(Configuração!C4652=\"\",\"\",Configuração!B4652)","v":""},null,null,null,null,null,null,null,null,null,null,null,null,null,null,null,null,26102019,43764]
[null,null,null,null,{"$f":"IF(Configuração!C4657=\"\",\"\",Configuração!B4657)","v":""},null,null,null,null,null,null,null,null,null,null,null,null,null,null,null,null,26112009,40143]
[null,null,null,null,{"$f":"IF(Configuração!C4662=\"\",\"\",Configuração!B4662)","v":""},null,null,null,null,null,null,null,null,null,null,null,null,null,null,null,null,26112014,41969]
[null,null,null,null,{"$f":"IF(Configuração!C4664=\"\",\"\",Configuração!B4664)","v":""},null,null,null,null,null,null,null,null,null,null,null,null,null,null,null,null,26112016,42700]
[null,null,null,null,{"$f":"IF(Configuração!C4667=\"\",\"\",Configuração!B4667)","v":""},null,null,null,null,null,null,null,null,null,null,null,null,null,null,null,null,26112019,43795]
[null,null,null,null,{"$f":"IF(Configuração!C4672=\"\",\"\",Configuração!B4672)","v":""},null,null,null,null,null,null,null,null,null,null,null,null,null,null,null,null,26122009,40173]
[null,null,null,null,{"$f":"IF(Configuração!C4677=\"\",\"\",Configuração!B4677)","v":""},null,null,null,null,null,null,null,null,null,null,null,null,null,null,null,null,26122014,41999]
[null,null,null,null,{"$f":"IF(Configuração!C4682=\"\",\"\",Configuração!B4682)","v":""},null,null,null,null,null,null,null,null,null,null,null,null,null,null,null,null,26122019,43825]
[null,null,null,null,{"$f":"IF(Configuração!C4683=\"\",\"\",Configuração!B4683)","v":""},null,null,null,null,null,null,null,null,null,null,null,null,null,null,null,null,26122020,44191]
[null,null,null,null,{"$f":"IF(Configuração!C4688=\"\",\"\",Configuração!B4688)","v":""},null,null,null,null,null,null,null,null,null,null,null,null,null,null,null,null,27012010,40205]
[null,null,null,null,{"$f":"IF(Configuração!C4691=\"\",\"\",Configuração!B4691)","v":""},null,null,null,null,null,null,null,null,null,null,null,null,null,null,null,null,27012013,41301]
[null,null,null,null,{"$f":"IF(Configuração!C4697=\"\",\"\",Configuração!B4697)","v":""},null,null,null,null,null,null,null,null,null,null,null,null,null,null,null,null,27012019,43492]
[null,null,null,null,{"$f":"IF(Configuração!C4698=\"\",\"\",Configuração!B4698)","v":""},null,null,null,null,null,null,null,null,null,null,null,null,null,null,null,null,27012020,43857]
[null,null,null,null,{"$f":"IF(Configuração!C4703=\"\",\"\",Configuração!B4703)","v":""},null,null,null,null,null,null,null,null,null,null,null,null,null,null,null,null,27022010,40236]
[null,null,null,null,{"$f":"IF(Configuração!C4708=\"\",\"\",Configuração!B4708)","v":""},null,null,null,null,null,null,null,null,null,null,null,null,null,null,null,null,27022015,42062]
[null,null,null,null,{"$f":"IF(Configuração!C4713=\"\",\"\",Configuração!B4713)","v":""},null,null,null,null,null,null,null,null,null,null,null,null,null,null,null,null,27022020,43888]
[null,null,null,null,{"$f":"IF(Configuração!C4714=\"\",\"\",Configuração!B4714)","v":""},null,null,null,null,null,null,null,null,null,null,null,null,null,null,null,null,27022021,44254]
[null,null,null,null,{"$f":"IF(Configuração!C4718=\"\",\"\",Configuração!B4718)","v":""},null,null,null,null,null,null,null,null,null,null,null,null,null,null,null,null,27032010,40264]
[null,null,null,null,{"$f":"IF(Configuração!C4723=\"\",\"\",Configuração!B4723)","v":""},null,null,null,null,null,null,null,null,null,null,null,null,null,null,null,null,27032015,42090]
[null,null,null,null,{"$f":"IF(Configuração!C4728=\"\",\"\",Configuração!B4728)","v":""},null,null,null,null,null,null,null,null,null,null,null,null,null,null,null,null,27032020,43917]
[null,null,null,null,{"$f":"IF(Configuração!C4729=\"\",\"\",Configuração!B4729)","v":""},null,null,null,null,null,null,null,null,null,null,null,null,null,null,null,null,27032021,44282]
[null,null,null,null,{"$f":"IF(Configuração!C4734=\"\",\"\",Configuração!B4734)","v":""},null,null,null,null,null,null,null,null,null,null,null,null,null,null,null,null,27042011,40660]
[null,null,null,null,{"$f":"IF(Configuração!C4739=\"\",\"\",Configuração!B4739)","v":""},null,null,null,null,null,null,null,null,null,null,null,null,null,null,null,null,27042016,42487]
[null,null,null,null,{"$f":"IF(Configuração!C4744=\"\",\"\",Configuração!B4744)","v":""},null,null,null,null,null,null,null,null,null,null,null,null,null,null,null,null,27042021,44313]
[null,null,null,null,{"$f":"IF(Configuração!C4745=\"\",\"\",Configuração!B4745)","v":""},null,null,null,null,null,null,null,null,null,null,null,null,null,null,null,null,27042022,44678]
[null,null,null,null,{"$f":"IF(Configuração!C4749=\"\",\"\",Configuração!B4749)","v":""},null,null,null,null,null,null,null,null,null,null,null,null,null,null,null,null,27052011,40690]
[null,null,null,null,{"$f":"IF(Configuração!C4754=\"\",\"\",Configuração!B4754)","v":""},null,null,null,null,null,null,null,null,null,null,null,null,null,null,null,null,27052016,42517]
[null,null,null,null,{"$f":"IF(Configuração!C4759=\"\",\"\",Configuração!B4759)","v":""},null,null,null,null,null,null,null,null,null,null,null,null,null,null,null,null,27052021,44343]
[null,null,null,null,{"$f":"IF(Configuração!C4760=\"\",\"\",Configuração!B4760)","v":""},null,null,null,null,null,null,null,null,null,null,null,null,null,null,null,null,27052022,44708]
[null,null,null,null,{"$f":"IF(Configuração!C4765=\"\",\"\",Configuração!B4765)","v":""},null,null,null,null,null,null,null,null,null,null,null,null,null,null,null,null,27062012,41087]
[null,null,null,null,{"$f":"IF(Configuração!C4770=\"\",\"\",Configuração!B4770)","v":""},null,null,null,null,null,null,null,null,null,null,null,null,null,null,null,null,27062017,42913]
[null,null,null,null,{"$f":"IF(Configuração!C4775=\"\",\"\",Configuração!B4775)","v":""},null,null,null,null,null,null,null,null,null,null,null,null,null,null,null,null,27062022,44739]
[null,null,null,null,{"$f":"IF(Configuração!C4776=\"\",\"\",Configuração!B4776)","v":""},null,null,null,null,null,null,null,null,null,null,null,null,null,null,null,null,27062023,45104]
[null,null,null,null,{"$f":"IF(Configuração!C4780=\"\",\"\",Configuração!B4780)","v":""},null,null,null,null,null,null,null,null,null,null,null,null,null,null,null,null,27072012,41117]
[null,null,null,null,{"$f":"IF(Configuração!C4785=\"\",\"\",Configuração!B4785)","v":""},null,null,null,null,null,null,null,null,null,null,null,null,null,null,null,null,27072017,42943]
[null,null,null,null,{"$f":"IF(Configuração!C4790=\"\",\"\",Configuração!B4790)","v":""},null,null,null,null,null,null,null,null,null,null,null,null,null,null,null,null,27072022,44769]
[null,null,null,null,{"$f":"IF(Configuração!C4791=\"\",\"\",Configuração!B4791)","v":""},null,null,null,null,null,null,null,null,null,null,null,null,null,null,null,null,27072023,45134]
[null,null,null,null,{"$f":"IF(Configuração!C4796=\"\",\"\",Configuração!B4796)","v":""},null,null,null,null,null,null,null,null,null,null,null,null,null,null,null,null,27082013,41513]
[null,null,null,null,{"$f":"IF(Configuração!C4801=\"\",\"\",Configuração!B4801)","v":""},null,null,null,null,null,null,null,null,null,null,null,null,null,null,null,null,27082018,43339]
[null,null,null,null,{"$f":"IF(Configuração!C4805=\"\",\"\",Configuração!B4805)","v":""},null,null,null,null,null,null,null,null,null,null,null,null,null,null,null,null,27082022,44800]
[null,null,null,null,{"$f":"IF(Configuração!C4806=\"\",\"\",Configuração!B4806)","v":""},null,null,null,null,null,null,null,null,null,null,null,null,null,null,null,null,27082023,45165]
[null,null,null,null,{"$f":"IF(Configuração!C4811=\"\",\"\",Configuração!B4811)","v":""},null,null,null,null,null,null,null,null,null,null,null,null,null,null,null,null,27092013,41544]
[null,null,null,null,{"$f":"IF(Configuração!C4816=\"\",\"\",Configuração!B4816)","v":""},null,null,null,null,null,null,null,null,null,null,null,null,null,null,null,null,27092018,43370]
[null,null,null,null,{"$f":"IF(Configuração!C4821=\"\",\"\",Configuração!B4821)","v":""},null,null,null,null,null,null,null,null,null,null,null,null,null,null,null,null,27092023,45196]
[null,null,null,null,{"$f":"IF(Configuração!C4822=\"\",\"\",Configuração!B4822)","v":""},null,null,null,null,null,null,null,null,null,null,null,null,null,null,null,null,27102009,40113]
[null,null,null,null,{"$f":"IF(Configuração!C4827=\"\",\"\",Configuração!B4827)","v":""},null,null,null,null,null,null,null,null,null,null,null,null,null,null,null,null,27102014,41939]
[null,null,null,null,{"$f":"IF(Configuração!C4832=\"\",\"\",Configuração!B4832)","v":""},null,null,null,null,null,null,null,null,null,null,null,null,null,null,null,null,27102019,43765]
[null,null,null,null,{"$f":"IF(Configuração!C4836=\"\",\"\",Configuração!B4836)","v":""},null,null,null,null,null,null,null,null,null,null,null,null,null,null,null,null,27102023,45226]
[null,null,null,null,{"$f":"IF(Configuração!C4837=\"\",\"\",Configuração!B4837)","v":""},null,null,null,null,null,null,null,null,null,null,null,null,null,null,null,null,27112009,40144]
[null,null,null,null,{"$f":"IF(Configuração!C4842=\"\",\"\",Configuração!B4842)","v":""},null,null,null,null,null,null,null,null,null,null,null,null,null,null,null,null,27112014,41970]
[null,null,null,null,{"$f":"IF(Configuração!C4847=\"\",\"\",Configuração!B4847)","v":""},null,null,null,null,null,null,null,null,null,null,null,null,null,null,null,null,27112019,43796]
[null,null,null,null,{"$f":"IF(Configuração!C4852=\"\",\"\",Configuração!B4852)","v":""},null,null,null,null,null,null,null,null,null,null,null,null,null,null,null,null,27122009,40174]
[null,null,null,null,{"$f":"IF(Configuração!C4853=\"\",\"\",Configuração!B4853)","v":""},null,null,null,null,null,null,null,null,null,null,null,null,null,null,null,null,27122010,40539]
[null,null,null,null,{"$f":"IF(Configuração!C4858=\"\",\"\",Configuração!B4858)","v":""},null,null,null,null,null,null,null,null,null,null,null,null,null,null,null,null,27122015,42365]
[null,null,null,null,{"$f":"IF(Configuração!C4863=\"\",\"\",Configuração!B4863)","v":""},null,null,null,null,null,null,null,null,null,null,null,null,null,null,null,null,27122020,44192]
[null,null,null,null,{"$f":"IF(Configuração!C4867=\"\",\"\",Configuração!B4867)","v":""},null,null,null,null,null,null,null,null,null,null,null,null,null,null,null,null,28012009,39841]
[null,null,null,null,{"$f":"IF(Configuração!C4868=\"\",\"\",Configuração!B4868)","v":""},null,null,null,null,null,null,null,null,null,null,null,null,null,null,null,null,28012010,40206]
[null,null,null,null,{"$f":"IF(Configuração!C4873=\"\",\"\",Configuração!B4873)","v":""},null,null,null,null,null,null,null,null,null,null,null,null,null,null,null,null,28012015,42032]
[null,null,null,null,{"$f":"IF(Configuração!C4878=\"\",\"\",Configuração!B4878)","v":""},null,null,null,null,null,null,null,null,null,null,null,null,null,null,null,null,28012020,43858]
[null,null,null,null,{"$f":"IF(Configuração!C4883=\"\",\"\",Configuração!B4883)","v":""},null,null,null,null,null,null,null,null,null,null,null,null,null,null,null,null,28022010,40237]
[null,null,null,null,{"$f":"IF(Configuração!C4884=\"\",\"\",Configuração!B4884)","v":""},null,null,null,null,null,null,null,null,null,null,null,null,null,null,null,null,28022011,40602]
[null,null,null,null,{"$f":"IF(Configuração!C4890=\"\",\"\",Configuração!B4890)","v":""},null,null,null,null,null,null,null,null,null,null,null,null,null,null,null,null,28022017,42794]
[null,null,null,null,{"$f":"IF(Configuração!C4893=\"\",\"\",Configuração!B4893)","v":""},null,null,null,null,null,null,null,null,null,null,null,null,null,null,null,null,28022020,43889]
[null,null,null,null,{"$f":"IF(Configuração!C4898=\"\",\"\",Configuração!B4898)","v":""},null,null,null,null,null,null,null,null,null,null,null,null,null,null,null,null,28032010,40265]
[null,null,null,null,{"$f":"IF(Configuração!C4899=\"\",\"\",Configuração!B4899)","v":""},null,null,null,null,null,null,null,null,null,null,null,null,null,null,null,null,28032011,40630]
[null,null,null,null,{"$f":"IF(Configuração!C4904=\"\",\"\",Configuração!B4904)","v":""},null,null,null,null,null,null,null,null,null,null,null,null,null,null,null,null,28032016,42457]
[null,null,null,null,{"$f":"IF(Configuração!C4909=\"\",\"\",Configuração!B4909)","v":""},null,null,null,null,null,null,null,null,null,null,null,null,null,null,null,null,28032021,44283]
[null,null,null,null,{"$f":"IF(Configuração!C4914=\"\",\"\",Configuração!B4914)","v":""},null,null,null,null,null,null,null,null,null,null,null,null,null,null,null,null,28042011,40661]
[null,null,null,null,{"$f":"IF(Configuração!C4916=\"\",\"\",Configuração!B4916)","v":""},null,null,null,null,null,null,null,null,null,null,null,null,null,null,null,null,28042013,41392]
[null,null,null,null,{"$f":"IF(Configuração!C4919=\"\",\"\",Configuração!B4919)","v":""},null,null,null,null,null,null,null,null,null,null,null,null,null,null,null,null,28042016,42488]
[null,null,null,null,{"$f":"IF(Configuração!C4924=\"\",\"\",Configuração!B4924)","v":""},null,null,null,null,null,null,null,null,null,null,null,null,null,null,null,null,28042021,44314]
[null,null,null,null,{"$f":"IF(Configuração!C4929=\"\",\"\",Configuração!B4929)","v":""},null,null,null,null,null,null,null,null,null,null,null,null,null,null,null,null,28052011,40691]
[null,null,null,null,{"$f":"IF(Configuração!C4930=\"\",\"\",Configuração!B4930)","v":""},null,null,null,null,null,null,null,null,null,null,null,null,null,null,null,null,28052012,41057]
[null,null,null,null,{"$f":"IF(Configuração!C4935=\"\",\"\",Configuração!B4935)","v":""},null,null,null,null,null,null,null,null,null,null,null,null,null,null,null,null,28052017,42883]
[null,null,null,null,{"$f":"IF(Configuração!C4940=\"\",\"\",Configuração!B4940)","v":""},null,null,null,null,null,null,null,null,null,null,null,null,null,null,null,null,28052022,44709]
[null,null,null,null,{"$f":"IF(Configuração!C4943=\"\",\"\",Configuração!B4943)","v":""},null,null,null,null,null,null,null,null,null,null,null,null,null,null,null,null,28062010,40357]
[null,null,null,null,{"$f":"IF(Configuração!C4945=\"\",\"\",Configuração!B4945)","v":""},null,null,null,null,null,null,null,null,null,null,null,null,null,null,null,null,28062012,41088]
[null,null,null,null,{"$f":"IF(Configuração!C4950=\"\",\"\",Configuração!B4950)","v":""},null,null,null,null,null,null,null,null,null,null,null,null,null,null,null,null,28062017,42914]
[null,null,null,null,{"$f":"IF(Configuração!C4955=\"\",\"\",Configuração!B4955)","v":""},null,null,null,null,null,null,null,null,null,null,null,null,null,null,null,null,28062022,44740]
[null,null,null,null,{"$f":"IF(Configuração!C4960=\"\",\"\",Configuração!B4960)","v":""},null,null,null,null,null,null,null,null,null,null,null,null,null,null,null,null,28072012,41118]
[null,null,null,null,{"$f":"IF(Configuração!C4961=\"\",\"\",Configuração!B4961)","v":""},null,null,null,null,null,null,null,null,null,null,null,null,null,null,null,null,28072013,41483]
[null,null,null,null,{"$f":"IF(Configuração!C4966=\"\",\"\",Configuração!B4966)","v":""},null,null,null,null,null,null,null,null,null,null,null,null,null,null,null,null,28072018,43309]
[null,null,null,null,{"$f":"IF(Configuração!C4971=\"\",\"\",Configuração!B4971)","v":""},null,null,null,null,null,null,null,null,null,null,null,null,null,null,null,null,28072023,45135]
[null,null,null,null,{"$f":"IF(Configuração!C4974=\"\",\"\",Configuração!B4974)","v":""},null,null,null,null,null,null,null,null,null,null,null,null,null,null,null,null,28082011,40783]
[null,null,null,null,{"$f":"IF(Configuração!C4976=\"\",\"\",Configuração!B4976)","v":""},null,null,null,null,null,null,null,null,null,null,null,null,null,null,null,null,28082013,41514]
[null,null,null,null,{"$f":"IF(Configuração!C4981=\"\",\"\",Configuração!B4981)","v":""},null,null,null,null,null,null,null,null,null,null,null,null,null,null,null,null,28082018,43340]
[null,null,null,null,{"$f":"IF(Configuração!C4986=\"\",\"\",Configuração!B4986)","v":""},null,null,null,null,null,null,null,null,null,null,null,null,null,null,null,null,28082023,45166]
[null,null,null,null,{"$f":"IF(Configuração!C4991=\"\",\"\",Configuração!B4991)","v":""},null,null,null,null,null,null,null,null,null,null,null,null,null,null,null,null,28092013,41545]
[null,null,null,null,{"$f":"IF(Configuração!C4992=\"\",\"\",Configuração!B4992)","v":""},null,null,null,null,null,null,null,null,null,null,null,null,null,null,null,null,28092014,41910]
[null,null,null,null,{"$f":"IF(Configuração!C4997=\"\",\"\",Configuração!B4997)","v":""},null,null,null,null,null,null,null,null,null,null,null,null,null,null,null,null,28092019,43736]
[null,null,null,null,{"$f":"IF(Configuração!C5001=\"\",\"\",Configuração!B5001)","v":""},null,null,null,null,null,null,null,null,null,null,null,null,null,null,null,null,28092023,45197]
[null,null,null,null,{"$f":"IF(Configuração!C5006=\"\",\"\",Configuração!B5006)","v":""},null,null,null,null,null,null,null,null,null,null,null,null,null,null,null,null,28102013,41575]
[null,null,null,null,{"$f":"IF(Configuração!C5007=\"\",\"\",Configuração!B5007)","v":""},null,null,null,null,null,null,null,null,null,null,null,null,null,null,null,null,28102014,41940]
[null,null,null,null,{"$f":"IF(Configuração!C5012=\"\",\"\",Configuração!B5012)","v":""},null,null,null,null,null,null,null,null,null,null,null,null,null,null,null,null,28102019,43766]
[null,null,null,null,{"$f":"IF(Configuração!C5017=\"\",\"\",Configuração!B5017)","v":""},null,null,null,null,null,null,null,null,null,null,null,null,null,null,null,null,28112009,40145]
[null,null,null,null,{"$f":"IF(Configuração!C5022=\"\",\"\",Configuração!B5022)","v":""},null,null,null,null,null,null,null,null,null,null,null,null,null,null,null,null,28112014,41971]
[null,null,null,null,{"$f":"IF(Configuração!C5023=\"\",\"\",Configuração!B5023)","v":""},null,null,null,null,null,null,null,null,null,null,null,null,null,null,null,null,28112015,42336]
[null,null,null,null,{"$f":"IF(Configuração!C5027=\"\",\"\",Configuração!B5027)","v":""},null,null,null,null,null,null,null,null,null,null,null,null,null,null,null,null,28112019,43797]
[null,null,null,null,{"$f":"IF(Configuração!C5032=\"\",\"\",Configuração!B5032)","v":""},null,null,null,null,null,null,null,null,null,null,null,null,null,null,null,null,28122009,40175]
[null,null,null,null,{"$f":"IF(Configuração!C5037=\"\",\"\",Configuração!B5037)","v":""},null,null,null,null,null,null,null,null,null,null,null,null,null,null,null,null,28122014,42001]
[null,null,null,null,{"$f":"IF(Configuração!C5038=\"\",\"\",Configuração!B5038)","v":""},null,null,null,null,null,null,null,null,null,null,null,null,null,null,null,null,28122015,42366]
[null,null,null,null,{"$f":"IF(Configuração!C5043=\"\",\"\",Configuração!B5043)","v":""},null,null,null,null,null,null,null,null,null,null,null,null,null,null,null,null,28122020,44193]
[null,null,null,null,{"$f":"IF(Configuração!C5048=\"\",\"\",Configuração!B5048)","v":""},null,null,null,null,null,null,null,null,null,null,null,null,null,null,null,null,29012010,40207]
[null,null,null,null,{"$f":"IF(Configuração!C5053=\"\",\"\",Configuração!B5053)","v":""},null,null,null,null,null,null,null,null,null,null,null,null,null,null,null,null,29012015,42033]
[null,null,null,null,{"$f":"IF(Configuração!C5054=\"\",\"\",Configuração!B5054)","v":""},null,null,null,null,null,null,null,null,null,null,null,null,null,null,null,null,29012016,42398]
[null,null,null,null,{"$f":"IF(Configuração!C5058=\"\",\"\",Configuração!B5058)","v":""},null,null,null,null,null,null,null,null,null,null,null,null,null,null,null,null,29012020,43859]
[null,null,null,null,{"$f":"IF(Configuração!C5063=\"\",\"\",Configuração!B5063)","v":""},null,null,null,null,null,null,null,null,null,null,null,null,null,null,null,null,29022016,42429]
[null,null,null,null,{"$f":"IF(Configuração!C5068=\"\",\"\",Configuração!B5068)","v":""},null,null,null,null,null,null,null,null,null,null,null,null,null,null,null,null,29032012,40997]
[null,null,null,null,{"$f":"IF(Configuração!C5069=\"\",\"\",Configuração!B5069)","v":""},null,null,null,null,null,null,null,null,null,null,null,null,null,null,null,null,29032013,41362]
[null,null,null,null,{"$f":"IF(Configuração!C5074=\"\",\"\",Configuração!B5074)","v":""},null,null,null,null,null,null,null,null,null,null,null,null,null,null,null,null,29032018,43188]
[null,null,null,null,{"$f":"IF(Configuração!C5079=\"\",\"\",Configuração!B5079)","v":""},null,null,null,null,null,null,null,null,null,null,null,null,null,null,null,null,29032023,45014]
[null,null,null,null,{"$f":"IF(Configuração!C5084=\"\",\"\",Configuração!B5084)","v":""},null,null,null,null,null,null,null,null,null,null,null,null,null,null,null,null,29042013,41393]
[null,null,null,null,{"$f":"IF(Configuração!C5085=\"\",\"\",Configuração!B5085)","v":""},null,null,null,null,null,null,null,null,null,null,null,null,null,null,null,null,29042014,41758]
[null,null,null,null,{"$f":"IF(Configuração!C5089=\"\",\"\",Configuração!B5089)","v":""},null,null,null,null,null,null,null,null,null,null,null,null,null,null,null,null,29042018,43219]
[null,null,null,null,{"$f":"IF(Configuração!C5094=\"\",\"\",Configuração!B5094)","v":""},null,null,null,null,null,null,null,null,null,null,null,null,null,null,null,null,29042023,45045]
[null,null,null,null,{"$f":"IF(Configuração!C5099=\"\",\"\",Configuração!B5099)","v":""},null,null,null,null,null,null,null,null,null,null,null,null,null,null,null,null,29052013,41423]
[null,null,null,null,{"$f":"IF(Configuração!C5100=\"\",\"\",Configuração!B5100)","v":""},null,null,null,null,null,null,null,null,null,null,null,null,null,null,null,null,29052014,41788]
[null,null,null,null,{"$f":"IF(Configuração!C5105=\"\",\"\",Configuração!B5105)","v":""},null,null,null,null,null,null,null,null,null,null,null,null,null,null,null,null,29052019,43614]
[null,null,null,null,{"$f":"IF(Configuração!C5110=\"\",\"\",Configuração!B5110)","v":""},null,null,null,null,null,null,null,null,null,null,null,null,null,null,null,null,29062009,39993]
[null,null,null,null,{"$f":"IF(Configuração!C5112=\"\",\"\",Configuração!B5112)","v":""},null,null,null,null,null,null,null,null,null,null,null,null,null,null,null,null,29062011,40723]
[null,null,null,null,{"$f":"IF(Configuração!C5115=\"\",\"\",Configuração!B5115)","v":""},null,null,null,null,null,null,null,null,null,null,null,null,null,null,null,null,29062014,41819]
[null,null,null,null,{"$f":"IF(Configuração!C5120=\"\",\"\",Configuração!B5120)","v":""},null,null,null,null,null,null,null,null,null,null,null,null,null,null,null,null,29062019,43645]
[null,null,null,null,{"$f":"IF(Configuração!C5125=\"\",\"\",Configuração!B5125)","v":""},null,null,null,null,null,null,null,null,null,null,null,null,null,null,null,null,29072009,40023]
[null,null,null,null,{"$f":"IF(Configuração!C5130=\"\",\"\",Configuração!B5130)","v":""},null,null,null,null,null,null,null,null,null,null,null,null,null,null,null,null,29072014,41849]
[null,null,null,null,{"$f":"IF(Configuração!C5131=\"\",\"\",Configuração!B5131)","v":""},null,null,null,null,null,null,null,null,null,null,null,null,null,null,null,null,29072015,42214]
[null,null,null,null,{"$f":"IF(Configuração!C5136=\"\",\"\",Configuração!B5136)","v":""},null,null,null,null,null,null,null,null,null,null,null,null,null,null,null,null,29072020,44041]
[null,null,null,null,{"$f":"IF(Configuração!C5141=\"\",\"\",Configuração!B5141)","v":""},null,null,null,null,null,null,null,null,null,null,null,null,null,null,null,null,29082010,40419]
[null,null,null,null,{"$f":"IF(Configuração!C5145=\"\",\"\",Configuração!B5145)","v":""},null,null,null,null,null,null,null,null,null,null,null,null,null,null,null,null,29082014,41880]
[null,null,null,null,{"$f":"IF(Configuração!C5146=\"\",\"\",Configuração!B5146)","v":""},null,null,null,null,null,null,null,null,null,null,null,null,null,null,null,null,29082015,42245]
[null,null,null,null,{"$f":"IF(Configuração!C5151=\"\",\"\",Configuração!B5151)","v":""},null,null,null,null,null,null,null,null,null,null,null,null,null,null,null,null,29082020,44072]
[null,null,null,null,{"$f":"IF(Configuração!C5156=\"\",\"\",Configuração!B5156)","v":""},null,null,null,null,null,null,null,null,null,null,null,null,null,null,null,null,29092010,40450]
[null,null,null,null,{"$f":"IF(Configuração!C5161=\"\",\"\",Configuração!B5161)","v":""},null,null,null,null,null,null,null,null,null,null,null,null,null,null,null,null,29092015,42276]
[null,null,null,null,{"$f":"IF(Configuração!C5162=\"\",\"\",Configuração!B5162)","v":""},null,null,null,null,null,null,null,null,null,null,null,null,null,null,null,null,29092016,42642]
[null,null,null,null,{"$f":"IF(Configuração!C5168=\"\",\"\",Configuração!B5168)","v":""},null,null,null,null,null,null,null,null,null,null,null,null,null,null,null,null,29092022,44833]
[null,null,null,null,{"$f":"IF(Configuração!C5171=\"\",\"\",Configuração!B5171)","v":""},null,null,null,null,null,null,null,null,null,null,null,null,null,null,null,null,29102010,40480]
[null,null,null,null,{"$f":"IF(Configuração!C5176=\"\",\"\",Configuração!B5176)","v":""},null,null,null,null,null,null,null,null,null,null,null,null,null,null,null,null,29102015,42306]
[null,null,null,null,{"$f":"IF(Configuração!C5177=\"\",\"\",Configuração!B5177)","v":""},null,null,null,null,null,null,null,null,null,null,null,null,null,null,null,null,29102016,42672]
[null,null,null,null,{"$f":"IF(Configuração!C5182=\"\",\"\",Configuração!B5182)","v":""},null,null,null,null,null,null,null,null,null,null,null,null,null,null,null,null,29102021,44498]
[null,null,null,null,{"$f":"IF(Configuração!C5187=\"\",\"\",Configuração!B5187)","v":""},null,null,null,null,null,null,null,null,null,null,null,null,null,null,null,null,29112011,40876]
[null,null,null,null,{"$f":"IF(Configuração!C5192=\"\",\"\",Configuração!B5192)","v":""},null,null,null,null,null,null,null,null,null,null,null,null,null,null,null,null,29112016,42703]
[null,null,null,null,{"$f":"IF(Configuração!C5193=\"\",\"\",Configuração!B5193)","v":""},null,null,null,null,null,null,null,null,null,null,null,null,null,null,null,null,29112017,43068]
[null,null,null,null,{"$f":"IF(Configuração!C5199=\"\",\"\",Configuração!B5199)","v":""},null,null,null,null,null,null,null,null,null,null,null,null,null,null,null,null,29112023,45259]
[null,null,null,null,{"$f":"IF(Configuração!C5202=\"\",\"\",Configuração!B5202)","v":""},null,null,null,null,null,null,null,null,null,null,null,null,null,null,null,null,29122011,40906]
[null,null,null,null,{"$f":"IF(Configuração!C5207=\"\",\"\",Configuração!B5207)","v":""},null,null,null,null,null,null,null,null,null,null,null,null,null,null,null,null,29122016,42733]
[null,null,null,null,{"$f":"IF(Configuração!C5208=\"\",\"\",Configuração!B5208)","v":""},null,null,null,null,null,null,null,null,null,null,null,null,null,null,null,null,29122017,43098]
[null,null,null,null,{"$f":"IF(Configuração!C5213=\"\",\"\",Configuração!B5213)","v":""},null,null,null,null,null,null,null,null,null,null,null,null,null,null,null,null,29122022,44924]
[null,null,null,null,{"$f":"IF(Configuração!C5218=\"\",\"\",Configuração!B5218)","v":""},null,null,null,null,null,null,null,null,null,null,null,null,null,null,null,null,30012012,40938]
[null,null,null,null,{"$f":"IF(Configuração!C5223=\"\",\"\",Configuração!B5223)","v":""},null,null,null,null,null,null,null,null,null,null,null,null,null,null,null,null,30012017,42765]
[null,null,null,null,{"$f":"IF(Configuração!C5226=\"\",\"\",Configuração!B5226)","v":""},null,null,null,null,null,null,null,null,null,null,null,null,null,null,null,null,30012020,43860]
[null,null,null,null,{"$f":"IF(Configuração!C5228=\"\",\"\",Configuração!B5228)","v":""},null,null,null,null,null,null,null,null,null,null,null,null,null,null,null,null,30012022,44591]
[null,null,null,null,{"$f":"IF(Configuração!C5233=\"\",\"\",Configuração!B5233)","v":""},null,null,null,null,null,null,null,null,null,null,null,null,null,null,null,null,30032012,40998]
[null,null,null,null,{"$f":"IF(Configuração!C5238=\"\",\"\",Configuração!B5238)","v":""},null,null,null,null,null,null,null,null,null,null,null,null,null,null,null,null,30032017,42824]
[null,null,null,null,{"$f":"IF(Configuração!C5239=\"\",\"\",Configuração!B5239)","v":""},null,null,null,null,null,null,null,null,null,null,null,null,null,null,null,null,30032018,43189]
[null,null,null,null,{"$f":"IF(Configuração!C5244=\"\",\"\",Configuração!B5244)","v":""},null,null,null,null,null,null,null,null,null,null,null,null,null,null,null,null,30032023,45015]
[null,null,null,null,{"$f":"IF(Configuração!C5249=\"\",\"\",Configuração!B5249)","v":""},null,null,null,null,null,null,null,null,null,null,null,null,null,null,null,null,30042013,41394]
[null,null,null,null,{"$f":"IF(Configuração!C5253=\"\",\"\",Configuração!B5253)","v":""},null,null,null,null,null,null,null,null,null,null,null,null,null,null,null,null,30042017,42855]
[null,null,null,null,{"$f":"IF(Configuração!C5254=\"\",\"\",Configuração!B5254)","v":""},null,null,null,null,null,null,null,null,null,null,null,null,null,null,null,null,30042018,43220]
[null,null,null,null,{"$f":"IF(Configuração!C5259=\"\",\"\",Configuração!B5259)","v":""},null,null,null,null,null,null,null,null,null,null,null,null,null,null,null,null,30042023,45046]
[null,null,null,null,{"$f":"IF(Configuração!C5264=\"\",\"\",Configuração!B5264)","v":""},null,null,null,null,null,null,null,null,null,null,null,null,null,null,null,null,30052013,41424]
[null,null,null,null,{"$f":"IF(Configuração!C5269=\"\",\"\",Configuração!B5269)","v":""},null,null,null,null,null,null,null,null,null,null,null,null,null,null,null,null,30052018,43250]
[null,null,null,null,{"$f":"IF(Configuração!C5270=\"\",\"\",Configuração!B5270)","v":""},null,null,null,null,null,null,null,null,null,null,null,null,null,null,null,null,30052019,43615]
[null,null,null,null,{"$f":"IF(Configuração!C5275=\"\",\"\",Configuração!B5275)","v":""},null,null,null,null,null,null,null,null,null,null,null,null,null,null,null,null,30062009,39994]
[null,null,null,null,{"$f":"IF(Configuração!C5279=\"\",\"\",Configuração!B5279)","v":""},null,null,null,null,null,null,null,null,null,null,null,null,null,null,null,null,30062013,41455]
[null,null,null,null,{"$f":"IF(Configuração!C5284=\"\",\"\",Configuração!B5284)","v":""},null,null,null,null,null,null,null,null,null,null,null,null,null,null,null,null,30062018,43281]
[null,null,null,null,{"$f":"IF(Configuração!C5285=\"\",\"\",Configuração!B5285)","v":""},null,null,null,null,null,null,null,null,null,null,null,null,null,null,null,null,30062019,43646]
[null,null,null,null,{"$f":"IF(Configuração!C5290=\"\",\"\",Configuração!B5290)","v":""},null,null,null,null,null,null,null,null,null,null,null,null,null,null,null,null,30072009,40024]
[null,null,null,null,{"$f":"IF(Configuração!C5295=\"\",\"\",Configuração!B5295)","v":""},null,null,null,null,null,null,null,null,null,null,null,null,null,null,null,null,30072014,41850]
[null,null,null,null,{"$f":"IF(Configuração!C5300=\"\",\"\",Configuração!B5300)","v":""},null,null,null,null,null,null,null,null,null,null,null,null,null,null,null,null,30072019,43676]
[null,null,null,null,{"$f":"IF(Configuração!C5301=\"\",\"\",Configuração!B5301)","v":""},null,null,null,null,null,null,null,null,null,null,null,null,null,null,null,null,30072020,44042]
[null,null,null,null,{"$f":"IF(Configuração!C5306=\"\",\"\",Configuração!B5306)","v":""},null,null,null,null,null,null,null,null,null,null,null,null,null,null,null,null,30082010,40420]
[null,null,null,null,{"$f":"IF(Configuração!C5310=\"\",\"\",Configuração!B5310)","v":""},null,null,null,null,null,null,null,null,null,null,null,null,null,null,null,null,30082014,41881]
[null,null,null,null,{"$f":"IF(Configuração!C5315=\"\",\"\",Configuração!B5315)","v":""},null,null,null,null,null,null,null,null,null,null,null,null,null,null,null,null,30082019,43707]
[null,null,null,null,{"$f":"IF(Configuração!C5316=\"\",\"\",Configuração!B5316)","v":""},null,null,null,null,null,null,null,null,null,null,null,null,null,null,null,null,30082020,44073]
[null,null,null,null,{"$f":"IF(Configuração!C5321=\"\",\"\",Configuração!B5321)","v":""},null,null,null,null,null,null,null,null,null,null,null,null,null,null,null,null,30092010,40451]
[null,null,null,null,{"$f":"IF(Configuração!C5326=\"\",\"\",Configuração!B5326)","v":""},null,null,null,null,null,null,null,null,null,null,null,null,null,null,null,null,30092015,42277]
[null,null,null,null,{"$f":"IF(Configuração!C5331=\"\",\"\",Configuração!B5331)","v":""},null,null,null,null,null,null,null,null,null,null,null,null,null,null,null,null,30092020,44104]
[null,null,null,null,{"$f":"IF(Configuração!C5332=\"\",\"\",Configuração!B5332)","v":""},null,null,null,null,null,null,null,null,null,null,null,null,null,null,null,null,30092021,44469]
[null,null,null,null,{"$f":"IF(Configuração!C5337=\"\",\"\",Configuração!B5337)","v":""},null,null,null,null,null,null,null,null,null,null,null,null,null,null,null,null,30102011,40846]
[null,null,null,null,{"$f":"IF(Configuração!C5341=\"\",\"\",Configuração!B5341)","v":""},null,null,null,null,null,null,null,null,null,null,null,null,null,null,null,null,30102015,42307]
[null,null,null,null,{"$f":"IF(Configuração!C5346=\"\",\"\",Configuração!B5346)","v":""},null,null,null,null,null,null,null,null,null,null,null,null,null,null,null,null,30102020,44134]
[null,null,null,null,{"$f":"IF(Configuração!C5347=\"\",\"\",Configuração!B5347)","v":""},null,null,null,null,null,null,null,null,null,null,null,null,null,null,null,null,30102021,44499]
[null,null,null,null,{"$f":"IF(Configuração!C5352=\"\",\"\",Configuração!B5352)","v":""},null,null,null,null,null,null,null,null,null,null,null,null,null,null,null,null,30112011,40877]
[null,null,null,null,{"$f":"IF(Configuração!C5357=\"\",\"\",Configuração!B5357)","v":""},null,null,null,null,null,null,null,null,null,null,null,null,null,null,null,null,30112016,42704]
[null,null,null,null,{"$f":"IF(Configuração!C5362=\"\",\"\",Configuração!B5362)","v":""},null,null,null,null,null,null,null,null,null,null,null,null,null,null,null,null,30112021,44530]
[null,null,null,null,{"$f":"IF(Configuração!C5364=\"\",\"\",Configuração!B5364)","v":""},null,null,null,null,null,null,null,null,null,null,null,null,null,null,null,null,30112023,45260]
[null,null,null,null,{"$f":"IF(Configuração!C5367=\"\",\"\",Configuração!B5367)","v":""},null,null,null,null,null,null,null,null,null,null,null,null,null,null,null,null,30122011,40907]
[null,null,null,null,{"$f":"IF(Configuração!C5372=\"\",\"\",Configuração!B5372)","v":""},null,null,null,null,null,null,null,null,null,null,null,null,null,null,null,null,30122016,42734]
[null,null,null,null,{"$f":"IF(Configuração!C5377=\"\",\"\",Configuração!B5377)","v":""},null,null,null,null,null,null,null,null,null,null,null,null,null,null,null,null,30122021,44560]
[null,null,null,null,{"$f":"IF(Configuração!C5378=\"\",\"\",Configuração!B5378)","v":""},null,null,null,null,null,null,null,null,null,null,null,null,null,null,null,null,30122022,44925]
[null,null,null,null,{"$f":"IF(Configuração!C5383=\"\",\"\",Configuração!B5383)","v":""},null,null,null,null,null,null,null,null,null,null,null,null,null,null,null,null,31012012,40939]
[null,null,null,null,{"$f":"IF(Configuração!C5388=\"\",\"\",Configuração!B5388)","v":""},null,null,null,null,null,null,null,null,null,null,null,null,null,null,null,null,31012017,42766]
[null,null,null,null,{"$f":"IF(Configuração!C5390=\"\",\"\",Configuração!B5390)","v":""},null,null,null,null,null,null,null,null,null,null,null,null,null,null,null,null,31012019,43496]
[null,null,null,null,{"$f":"IF(Configuração!C5393=\"\",\"\",Configuração!B5393)","v":""},null,null,null,null,null,null,null,null,null,null,null,null,null,null,null,null,31012022,44592]
[null,null,null,null,{"$f":"IF(Configuração!C5398=\"\",\"\",Configuração!B5398)","v":""},null,null,null,null,null,null,null,null,null,null,null,null,null,null,null,null,31032012,40999]
[null,null,null,null,{"$f":"IF(Configuração!C5403=\"\",\"\",Configuração!B5403)","v":""},null,null,null,null,null,null,null,null,null,null,null,null,null,null,null,null,31032017,42825]
[null,null,null,null,{"$f":"IF(Configuração!C5408=\"\",\"\",Configuração!B5408)","v":""},null,null,null,null,null,null,null,null,null,null,null,null,null,null,null,null,31032022,44651]
[null,null,null,null,{"$f":"IF(Configuração!C5409=\"\",\"\",Configuração!B5409)","v":""},null,null,null,null,null,null,null,null,null,null,null,null,null,null,null,null,31032023,45016]
[null,null,null,null,{"$f":"IF(Configuração!C5414=\"\",\"\",Configuração!B5414)","v":""},null,null,null,null,null,null,null,null,null,null,null,null,null,null,null,null,31052013,41425]
[null,null,null,null,{"$f":"IF(Configuração!C5419=\"\",\"\",Configuração!B5419)","v":""},null,null,null,null,null,null,null,null,null,null,null,null,null,null,null,null,31052018,43251]
[null,null,null,null,{"$f":"IF(Configuração!C5421=\"\",\"\",Configuração!B5421)","v":""},null,null,null,null,null,null,null,null,null,null,null,null,null,null,null,null,31052020,43982]
[null,null,null,null,{"$f":"IF(Configuração!C5424=\"\",\"\",Configuração!B5424)","v":""},null,null,null,null,null,null,null,null,null,null,null,null,null,null,null,null,31052023,45077]
[null,null,null,null,{"$f":"IF(Configuração!C5429=\"\",\"\",Configuração!B5429)","v":""},null,null,null,null,null,null,null,null,null,null,null,null,null,null,null,null,31072013,41486]
[null,null,null,null,{"$f":"IF(Configuração!C5434=\"\",\"\",Configuração!B5434)","v":""},null,null,null,null,null,null,null,null,null,null,null,null,null,null,null,null,31072018,43312]
[null,null,null,null,{"$f":"IF(Configuração!C5439=\"\",\"\",Configuração!B5439)","v":""},null,null,null,null,null,null,null,null,null,null,null,null,null,null,null,null,31072023,45138]
[null,null,null,null,{"$f":"IF(Configuração!C5440=\"\",\"\",Configuração!B5440)","v":""},null,null,null,null,null,null,null,null,null,null,null,null,null,null,null,null,31082009,40056]
[null,null,null,null,{"$f":"IF(Configuração!C5445=\"\",\"\",Configuração!B5445)","v":""},null,null,null,null,null,null,null,null,null,null,null,null,null,null,null,null,31082014,41882]
[null,null,null,null,{"$f":"IF(Configuração!C5448=\"\",\"\",Configuração!B5448)","v":""},null,null,null,null,null,null,null,null,null,null,null,null,null,null,null,null,31082017,42978]
[null,null,null,null,{"$f":"IF(Configuração!C5454=\"\",\"\",Configuração!B5454)","v":""},null,null,null,null,null,null,null,null,null,null,null,null,null,null,null,null,31082023,45169]
[null,null,null,null,{"$f":"IF(Configuração!C5455=\"\",\"\",Configuração!B5455)","v":""},null,null,null,null,null,null,null,null,null,null,null,null,null,null,null,null,31102009,40117]
[null,null,null,null,{"$f":"IF(Configuração!C5460=\"\",\"\",Configuração!B5460)","v":""},null,null,null,null,null,null,null,null,null,null,null,null,null,null,null,null,31102014,41943]
[null,null,null,null,{"$f":"IF(Configuração!C5465=\"\",\"\",Configuração!B5465)","v":""},null,null,null,null,null,null,null,null,null,null,null,null,null,null,null,null,31102019,43769]
[null,null,null,null,{"$f":"IF(Configuração!C5470=\"\",\"\",Configuração!B5470)","v":""},null,null,null,null,null,null,null,null,null,null,null,null,null,null,null,null,31122009,40178]
[null,null,null,null,{"$f":"IF(Configuração!C5471=\"\",\"\",Configuração!B5471)","v":""},null,null,null,null,null,null,null,null,null,null,null,null,null,null,null,null,31122010,40543]
[null,null,null,null,{"$f":"IF(Configuração!C5475=\"\",\"\",Configuração!B5475)","v":""},null,null,null,null,null,null,null,null,null,null,null,null,null,null,null,null,31122014,42004]
[null,null,null,null,{"$f":"IF(Configuração!C5480=\"\",\"\",Configuração!B5480)","v":""},null,null,null,null,null,null,null,null,null,null,null,null,null,null,null,null,31122019,43830]
[null,null,null,null,{"$f":"IF(Configuração!C5485=\"\",\"\",Configuração!B5485)","v":""}]
[null,null,null,null,{"$f":"IF(Configuração!C5486=\"\",\"\",Configuração!B5486)","v":""}]
[null,null,null,null,{"$f":"IF(Configuração!C5491=\"\",\"\",Configuração!B5491)","v":""}]
[null,null,null,null,{"$f":"IF(Configuração!C5496=\"\",\"\",Configuração!B5496)","v":""}]
[null,null,null,null,{"$f":"IF(Configuração!C5501=\"\",\"\",Configuração!B5501)","v":""}]
[null,null,null,null,{"$f":"IF(Configuração!C5504=\"\",\"\",Configuração!B5504)","v":""}]
[null,null,null,null,{"$f":"IF(Configuração!C5506=\"\",\"\",Configuração!B5506)","v":""}]
[null,null,null,null,{"$f":"IF(Configuração!C5511=\"\",\"\",Configuração!B5511)","v":""}]
[null,null,null,null,{"$f":"IF(Configuração!C5516=\"\",\"\",Configuração!B5516)","v":""}]
[null,null,null,null,{"$f":"IF(Configuração!C5517=\"\",\"\",Configuração!B5517)","v":""}]
[null,null,null,null,{"$f":"IF(Configuração!C5522=\"\",\"\",Configuração!B5522)","v":""}]
[null,null,null,null,{"$f":"IF(Configuração!C5527=\"\",\"\",Configuração!B5527)","v":""}]
[null,null,null,null,{"$f":"IF(Configuração!C5532=\"\",\"\",Configuração!B5532)","v":""}]
[null,null,null,null,{"$f":"IF(Configuração!C5535=\"\",\"\",Configuração!B5535)","v":""}]
[null,null,null,null,{"$f":"IF(Configuração!C5537=\"\",\"\",Configuração!B5537)","v":""}]
[null,null,null,null,{"$f":"IF(Configuração!C5542=\"\",\"\",Configuração!B5542)","v":""}]
[null,null,null,null,{"$f":"IF(Configuração!C5547=\"\",\"\",Configuração!B5547)","v":""}]
[null,null,null,null,{"$f":"IF(Configuração!C5548=\"\",\"\",Configuração!B5548)","v":""}]
[null,null,null,null,{"$f":"IF(Configuração!C5553=\"\",\"\",Configuração!B5553)","v":""}]
[null,null,null,null,{"$f":"IF(Configuração!C5558=\"\",\"\",Configuração!B5558)","v":""}]
[null,null,null,null,{"$f":"IF(Configuração!C5562=\"\",\"\",Configuração!B5562)","v":""}]
[null,null,null,null,{"$f":"IF(Configuração!C5563=\"\",\"\",Configuração!B5563)","v":""}]
[null,null,null,null,{"$f":"IF(Configuração!C5568=\"\",\"\",Configuração!B5568)","v":""}]
[null,null,null,null,{"$f":"IF(Configuração!C5573=\"\",\"\",Configuração!B5573)","v":""}]
[null,null,null,null,{"$f":"IF(Configuração!C5578=\"\",\"\",Configuração!B5578)","v":""}]
[null,null,null,null,{"$f":"IF(Configuração!C5579=\"\",\"\",Configuração!B5579)","v":""}]
[null,null,null,null,{"$f":"IF(Configuração!C5584=\"\",\"\",Configuração!B5584)","v":""}]
[null,null,null,null,{"$f":"IF(Configuração!C5589=\"\",\"\",Configuração!B5589)","v":""}]
[null,null,null,null,{"$f":"IF(Configuração!C5593=\"\",\"\",Configuração!B5593)","v":""}]
[null,null,null,null,{"$f":"IF(Configuração!C5594=\"\",\"\",Configuração!B5594)","v":""}]
[null,null,null,null,{"$f":"IF(Configuração!C5599=\"\",\"\",Configuração!B5599)","v":""}]
[null,null,null,null,{"$f":"IF(Configuração!C5604=\"\",\"\",Configuração!B5604)","v":""}]
[null,null,null,null,{"$f":"IF(Configuração!C5609=\"\",\"\",Configuração!B5609)","v":""}]
[null,null,null,null,{"$f":"IF(Configuração!C5610=\"\",\"\",Configuração!B5610)","v":""}]
[null,null,null,null,{"$f":"IF(Configuração!C5615=\"\",\"\",Configuração!B5615)","v":""}]
[null,null,null,null,{"$f":"IF(Configuração!C5619=\"\",\"\",Configuração!B5619)","v":""}]
[null,null,null,null,{"$f":"IF(Configuração!C5624=\"\",\"\",Configuração!B5624)","v":""}]
[null,null,null,null,{"$f":"IF(Configuração!C5625=\"\",\"\",Configuração!B5625)","v":""}]
[null,null,null,null,{"$f":"IF(Configuração!C5630=\"\",\"\",Configuração!B5630)","v":""}]
[null,null,null,null,{"$f":"IF(Configuração!C5635=\"\",\"\",Configuração!B5635)","v":""}]
[null,null,null,null,{"$f":"IF(Configuração!C5640=\"\",\"\",Configuração!B5640)","v":""}]
[null,null,null,null,{"$f":"IF(Configuração!C5641=\"\",\"\",Configuração!B5641)","v":""}]
[null,null,null,null,{"$f":"IF(Configuração!C5646=\"\",\"\",Configuração!B5646)","v":""}]
[null,null,null,null,{"$f":"IF(Configuração!C5650=\"\",\"\",Configuração!B5650)","v":""}]
[null,null,null,null,{"$f":"IF(Configuração!C5655=\"\",\"\",Configuração!B5655)","v":""}]
[null,null,null,null,{"$f":"IF(Configuração!C5656=\"\",\"\",Configuração!B5656)","v":""}]
[null,null,null,null,{"$f":"IF(Configuração!C5661=\"\",\"\",Configuração!B5661)","v":""}]
[null,null,null,null,{"$f":"IF(Configuração!C5666=\"\",\"\",Configuração!B5666)","v":""}]
[null,null,null,null,{"$f":"IF(Configuração!C5671=\"\",\"\",Configuração!B5671)","v":""}]
[null,null,null,null,{"$f":"IF(Configuração!C5673=\"\",\"\",Configuração!B5673)","v":""}]
[null,null,null,null,{"$f":"IF(Configuração!C5676=\"\",\"\",Configuração!B5676)","v":""}]
[null,null,null,null,{"$f":"IF(Configuração!C5681=\"\",\"\",Configuração!B5681)","v":""}]
[null,null,null,null,{"$f":"IF(Configuração!C5686=\"\",\"\",Configuração!B5686)","v":""}]
[null,null,null,null,{"$f":"IF(Configuração!C5687=\"\",\"\",Configuração!B5687)","v":""}]
[null,null,null,null,{"$f":"IF(Configuração!C5692=\"\",\"\",Configuração!B5692)","v":""}]
[null,null,null,null,{"$f":"IF(Configuração!C5697=\"\",\"\",Configuração!B5697)","v":""}]
[null,null,null,null,{"$f":"IF(Configuração!C5700=\"\",\"\",Configuração!B5700)","v":""}]
[null,null,null,null,{"$f":"IF(Configuração!C5702=\"\",\"\",Configuração!B5702)","v":""}]
[null,null,null,null,{"$f":"IF(Configuração!C5707=\"\",\"\",Configuração!B5707)","v":""}]
[null,null,null,null,{"$f":"IF(Configuração!C5712=\"\",\"\",Configuração!B5712)","v":""}]
[null,null,null,null,{"$f":"IF(Configuração!C5717=\"\",\"\",Configuração!B5717)","v":""}]
[null,null,null,null,{"$f":"IF(Configuração!C5718=\"\",\"\",Configuração!B5718)","v":""}]
[null,null,null,null,{"$f":"IF(Configuração!C5723=\"\",\"\",Configuração!B5723)","v":""}]
[null,null,null,null,{"$f":"IF(Configuração!C5726=\"\",\"\",Configuração!B5726)","v":""}]
[null,null,null,null,{"$f":"IF(Configuração!C5732=\"\",\"\",Configuração!B5732)","v":""}]
[null,null,null,null,{"$f":"IF(Configuração!C5733=\"\",\"\",Configuração!B5733)","v":""}]
[null,null,null,null,{"$f":"IF(Configuração!C5738=\"\",\"\",Configuração!B5738)","v":""}]
[null,null,null,null,{"$f":"IF(Configuração!C5743=\"\",\"\",Configuração!B5743)","v":""}]
[null,null,null,null,{"$f":"IF(Configuração!C5748=\"\",\"\",Configuração!B5748)","v":""}]
[null,null,null,null,{"$f":"IF(Configuração!C5749=\"\",\"\",Configuração!B5749)","v":""}]
[null,null,null,null,{"$f":"IF(Configuração!C5753=\"\",\"\",Configuração!B5753)","v":""}]
[null,null,null,null,{"$f":"IF(Configuração!C5758=\"\",\"\",Configuração!B5758)","v":""}]
[null,null,null,null,{"$f":"IF(Configuração!C5763=\"\",\"\",Configuração!B5763)","v":""}]
[null,null,null,null,{"$f":"IF(Configuração!C5764=\"\",\"\",Configuração!B5764)","v":""}]
[null,null,null,null,{"$f":"IF(Configuração!C5769=\"\",\"\",Configuração!B5769)","v":""}]
[null,null,null,null,{"$f":"IF(Configuração!C5774=\"\",\"\",Configuração!B5774)","v":""}]
[null,null,null,null,{"$f":"IF(Configuração!C5779=\"\",\"\",Configuração!B5779)","v":""}]
[null,null,null,null,{"$f":"IF(Configuração!C5780=\"\",\"\",Configuração!B5780)","v":""}]
[null,null,null,null,{"$f":"IF(Configuração!C5784=\"\",\"\",Configuração!B5784)","v":""}]
[null,null,null,null,{"$f":"IF(Configuração!C5789=\"\",\"\",Configuração!B5789)","v":""}]
[null,null,null,null,{"$f":"IF(Configuração!C5794=\"\",\"\",Configuração!B5794)","v":""}]
[null,null,null,null,{"$f":"IF(Configuração!C5795=\"\",\"\",Configuração!B5795)","v":""}]
[null,null,null,null,{"$f":"IF(Configuração!C5800=\"\",\"\",Configuração!B5800)","v":""}]
[null,null,null,null,{"$f":"IF(Configuração!C5805=\"\",\"\",Configuração!B5805)","v":""}]
[null,null,null,null,{"$f":"IF(Configuração!C5810=\"\",\"\",Configuração!B5810)","v":""}]
[null,null,null,null,{"$f":"IF(Configuração!C5811=\"\",\"\",Configuração!B5811)","v":""}]
[null,null,null,null,{"$f":"IF(Configuração!C5815=\"\",\"\",Configuração!B5815)","v":""}]
[null,null,null,null,{"$f":"IF(Configuração!C5820=\"\",\"\",Configuração!B5820)","v":""}]
[null,null,null,null,{"$f":"IF(Configuração!C5825=\"\",\"\",Configuração!B5825)","v":""}]
[null,null,null,null,{"$f":"IF(Configuração!C5826=\"\",\"\",Configuração!B5826)","v":""}]
[null,null,null,null,{"$f":"IF(Configuração!C5831=\"\",\"\",Configuração!B5831)","v":""}]
[null,null,null,null,{"$f":"IF(Configuração!C5836=\"\",\"\",Configuração!B5836)","v":""}]
[null,null,null,null,{"$f":"IF(Configuração!C5838=\"\",\"\",Configuração!B5838)","v":""}]
[null,null,null,null,{"$f":"IF(Configuração!C5841=\"\",\"\",Configuração!B5841)","v":""}]
[null,null,null,null,{"$f":"IF(Configuração!C5846=\"\",\"\",Configuração!B5846)","v":""}]
[null,null,null,null,{"$f":"IF(Configuração!C5851=\"\",\"\",Configuração!B5851)","v":""}]
[null,null,null,null,{"$f":"IF(Configuração!C5856=\"\",\"\",Configuração!B5856)","v":""}]
[null,null,null,null,{"$f":"IF(Configuração!C5857=\"\",\"\",Configuração!B5857)","v":""}]
[null,null,null,null,{"$f":"IF(Configuração!C5862=\"\",\"\",Configuração!B5862)","v":""}]
[null,null,null,null,{"$f":"IF(Configuração!C5867=\"\",\"\",Configuração!B5867)","v":""}]
[null,null,null,null,{"$f":"IF(Configuração!C5871=\"\",\"\",Configuração!B5871)","v":""}]
[null,null,null,null,{"$f":"IF(Configuração!C5872=\"\",\"\",Configuração!B5872)","v":""}]
[null,null,null,null,{"$f":"IF(Configuração!C5877=\"\",\"\",Configuração!B5877)","v":""}]
[null,null,null,null,{"$f":"IF(Configuração!C5882=\"\",\"\",Configuração!B5882)","v":""}]
[null,null,null,null,{"$f":"IF(Configuração!C5887=\"\",\"\",Configuração!B5887)","v":""}]
[null,null,null,null,{"$f":"IF(Configuração!C5888=\"\",\"\",Configuração!B5888)","v":""}]
[null,null,null,null,{"$f":"IF(Configuração!C5893=\"\",\"\",Configuração!B5893)","v":""}]
[null,null,null,null,{"$f":"IF(Configuração!C5898=\"\",\"\",Configuração!B5898)","v":""}]
[null,null,null,null,{"$f":"IF(Configuração!C5902=\"\",\"\",Configuração!B5902)","v":""}]
[null,null,null,null,{"$f":"IF(Configuração!C5903=\"\",\"\",Configuração!B5903)","v":""}]
[null,null,null,null,{"$f":"IF(Configuração!C5908=\"\",\"\",Configuração!B5908)","v":""}]
[null,null,null,null,{"$f":"IF(Configuração!C5913=\"\",\"\",Configuração!B5913)","v":""}]
[null,null,null,null,{"$f":"IF(Configuração!C5918=\"\",\"\",Configuração!B5918)","v":""}]
[null,null,null,null,{"$f":"IF(Configuração!C5919=\"\",\"\",Configuração!B5919)","v":""}]
[null,null,null,null,{"$f":"IF(Configuração!C5925=\"\",\"\",Configuração!B5925)","v":""}]
[null,null,null,null,{"$f":"IF(Configuração!C5928=\"\",\"\",Configuração!B5928)","v":""}]
[null,null,null,null,{"$f":"IF(Configuração!C5933=\"\",\"\",Configuração!B5933)","v":""}]
[null,null,null,null,{"$f":"IF(Configuração!C5934=\"\",\"\",Configuração!B5934)","v":""}]
[null,null,null,null,{"$f":"IF(Configuração!C5939=\"\",\"\",Configuração!B5939)","v":""}]
[null,null,null,null,{"$f":"IF(Configuração!C5944=\"\",\"\",Configuração!B5944)","v":""}]
[null,null,null,null,{"$f":"IF(Configuração!C5949=\"\",\"\",Configuração!B5949)","v":""}]
[null,null,null,null,{"$f":"IF(Configuração!C5952=\"\",\"\",Configuração!B5952)","v":""}]
[null,null,null,null,{"$f":"IF(Configuração!C5954=\"\",\"\",Configuração!B5954)","v":""}]
[null,null,null,null,{"$f":"IF(Configuração!C5959=\"\",\"\",Configuração!B5959)","v":""}]
[null,null,null,null,{"$f":"IF(Configuração!C5964=\"\",\"\",Configuração!B5964)","v":""}]
[null,null,null,null,{"$f":"IF(Configuração!C5965=\"\",\"\",Configuração!B5965)","v":""}]
[null,null,null,null,{"$f":"IF(Configuração!C5970=\"\",\"\",Configuração!B5970)","v":""}]
[null,null,null,null,{"$f":"IF(Configuração!C5975=\"\",\"\",Configuração!B5975)","v":""}]
[null,null,null,null,{"$f":"IF(Configuração!C5978=\"\",\"\",Configuração!B5978)","v":""}]
[null,null,null,null,{"$f":"IF(Configuração!C5980=\"\",\"\",Configuração!B5980)","v":""}]
[null,null,null,null,{"$f":"IF(Configuração!C5985=\"\",\"\",Configuração!B5985)","v":""}]
[null,null,null,null,{"$f":"IF(Configuração!C5990=\"\",\"\",Configuração!B5990)","v":""}]
[null,null,null,null,{"$f":"IF(Configuração!C5995=\"\",\"\",Configuração!B5995)","v":""}]
[null,null,null,null,{"$f":"IF(Configuração!C5996=\"\",\"\",Configuração!B5996)","v":""}]
[null,null,null,null,{"$f":"IF(Configuração!C6001=\"\",\"\",Configuração!B6001)","v":""}]
[null,null,null,null,{"$f":"IF(Configuração!C6006=\"\",\"\",Configuração!B6006)","v":""}]
[null,null,null,null,{"$f":"IF(Configuração!C6009=\"\",\"\",Configuração!B6009)","v":""}]
[null,null,null,null,{"$f":"IF(Configuração!C6011=\"\",\"\",Configuração!B6011)","v":""}]
[null,null,null,null,{"$f":"IF(Configuração!C6016=\"\",\"\",Configuração!B6016)","v":""}]
[null,null,null,null,{"$f":"IF(Configuração!C6021=\"\",\"\",Configuração!B6021)","v":""}]
[null,null,null,null,{"$f":"IF(Configuração!C6026=\"\",\"\",Configuração!B6026)","v":""}]
[null,null,null,null,{"$f":"IF(Configuração!C6027=\"\",\"\",Configuração!B6027)","v":""}]
[null,null,null,null,{"$f":"IF(Configuração!C6032=\"\",\"\",Configuração!B6032)","v":""}]
[null,null,null,null,{"$f":"IF(Configuração!C6036=\"\",\"\",Configuração!B6036)","v":""}]
[null,null,null,null,{"$f":"IF(Configuração!C6041=\"\",\"\",Configuração!B6041)","v":""}]
[null,null,null,null,{"$f":"IF(Configuração!C6042=\"\",\"\",Configuração!B6042)","v":""}]
[null,null,null,null,{"$f":"IF(Configuração!C6047=\"\",\"\",Configuração!B6047)","v":""}]
[null,null,null,null,{"$f":"IF(Configuração!C6052=\"\",\"\",Configuração!B6052)","v":""}]
[null,null,null,null,{"$f":"IF(Configuração!C6057=\"\",\"\",Configuração!B6057)","v":""}]
[null,null,null,null,{"$f":"IF(Configuração!C6058=\"\",\"\",Configuração!B6058)","v":""}]
[null,null,null,null,{"$f":"IF(Configuração!C6063=\"\",\"\",Configuração!B6063)","v":""}]
[null,null,null,null,{"$f":"IF(Configuração!C6067=\"\",\"\",Configuração!B6067)","v":""}]
[null,null,null,null,{"$f":"IF(Configuração!C6072=\"\",\"\",Configuração!B6072)","v":""}]
[null,null,null,null,{"$f":"IF(Configuração!C6073=\"\",\"\",Configuração!B6073)","v":""}]
[null,null,null,null,{"$f":"IF(Configuração!C6078=\"\",\"\",Configuração!B6078)","v":""}]
[null,null,null,null,{"$f":"IF(Configuração!C6083=\"\",\"\",Configuração!B6083)","v":""}]
[null,null,null,null,{"$f":"IF(Configuração!C6088=\"\",\"\",Configuração!B6088)","v":""}]
[null,null,null,null,{"$f":"IF(Configuração!C6089=\"\",\"\",Configuração!B6089)","v":""}]
[null,null,null,null,{"$f":"IF(Configuração!C6093=\"\",\"\",Configuração!B6093)","v":""}]
[null,null,null,null,{"$f":"IF(Configuração!C6098=\"\",\"\",Configuração!B6098)","v":""}]
[null,null,null,null,{"$f":"IF(Configuração!C6103=\"\",\"\",Configuração!B6103)","v":""}]
[null,null,null,null,{"$f":"IF(Configuração!C6104=\"\",\"\",Configuração!B6104)","v":""}]
[null,null,null,null,{"$f":"IF(Configuração!C6109=\"\",\"\",Configuração!B6109)","v":""}]
[null,null,null,null,{"$f":"IF(Configuração!C6114=\"\",\"\",Configuração!B6114)","v":""}]
[null,null,null,null,{"$f":"IF(Configuração!C6119=\"\",\"\",Configuração!B6119)","v":""}]
[null,null,null,null,{"$f":"IF(Configuração!C6120=\"\",\"\",Configuração!B6120)","v":""}]
[null,null,null,null,{"$f":"IF(Configuração!C6124=\"\",\"\",Configuração!B6124)","v":""}]
[null,null,null,null,{"$f":"IF(Configuração!C6129=\"\",\"\",Configuração!B6129)","v":""}]
[null,null,null,null,{"$f":"IF(Configuração!C6134=\"\",\"\",Configuração!B6134)","v":""}]
[null,null,null,null,{"$f":"IF(Configuração!C6135=\"\",\"\",Configuração!B6135)","v":""}]
[null,null,null,null,{"$f":"IF(Configuração!C6140=\"\",\"\",Configuração!B6140)","v":""}]
[null,null,null,null,{"$f":"IF(Configuração!C6145=\"\",\"\",Configuração!B6145)","v":""}]
[null,null,null,null,{"$f":"IF(Configuração!C6147=\"\",\"\",Configuração!B6147)","v":""}]
[null,null,null,null,{"$f":"IF(Configuração!C6150=\"\",\"\",Configuração!B6150)","v":""}]
[null,null,null,null,{"$f":"IF(Configuração!C6155=\"\",\"\",Configuração!B6155)","v":""}]
[null,null,null,null,{"$f":"IF(Configuração!C6160=\"\",\"\",Configuração!B6160)","v":""}]
[null,null,null,null,{"$f":"IF(Configuração!C6165=\"\",\"\",Configuração!B6165)","v":""}]
[null,null,null,null,{"$f":"IF(Configuração!C6166=\"\",\"\",Configuração!B6166)","v":""}]
[null,null,null,null,{"$f":"IF(Configuração!C6171=\"\",\"\",Configuração!B6171)","v":""}]
[null,null,null,null,{"$f":"IF(Configuração!C6174=\"\",\"\",Configuração!B6174)","v":""}]
[null,null,null,null,{"$f":"IF(Configuração!C6180=\"\",\"\",Configuração!B6180)","v":""}]
[null,null,null,null,{"$f":"IF(Configuração!C6181=\"\",\"\",Configuração!B6181)","v":""}]
[null,null,null,null,{"$f":"IF(Configuração!C6186=\"\",\"\",Configuração!B6186)","v":""}]
[null,null,null,null,{"$f":"IF(Configuração!C6191=\"\",\"\",Configuração!B6191)","v":""}]
[null,null,null,null,{"$f":"IF(Configuração!C6196=\"\",\"\",Configuração!B6196)","v":""}]
[null,null,null,null,{"$f":"IF(Configuração!C6197=\"\",\"\",Configuração!B6197)","v":""}]
[null,null,null,null,{"$f":"IF(Configuração!C6203=\"\",\"\",Configuração!B6203)","v":""}]
[null,null,null,null,{"$f":"IF(Configuração!C6206=\"\",\"\",Configuração!B6206)","v":""}]
[null,null,null,null,{"$f":"IF(Configuração!C6211=\"\",\"\",Configuração!B6211)","v":""}]
[null,null,null,null,{"$f":"IF(Configuração!C6212=\"\",\"\",Configuração!B6212)","v":""}]
[null,null,null,null,{"$f":"IF(Configuração!C6217=\"\",\"\",Configuração!B6217)","v":""}]
[null,null,null,null,{"$f":"IF(Configuração!C6222=\"\",\"\",Configuração!B6222)","v":""}]
[null,null,null,null,{"$f":"IF(Configuração!C6227=\"\",\"\",Configuração!B6227)","v":""}]
[null,null,null,null,{"$f":"IF(Configuração!C6228=\"\",\"\",Configuração!B6228)","v":""}]
[null,null,null,null,{"$f":"IF(Configuração!C6232=\"\",\"\",Configuração!B6232)","v":""}]
[null,null,null,null,{"$f":"IF(Configuração!C6237=\"\",\"\",Configuração!B6237)","v":""}]
[null,null,null,null,{"$f":"IF(Configuração!C6242=\"\",\"\",Configuração!B6242)","v":""}]
[null,null,null,null,{"$f":"IF(Configuração!C6243=\"\",\"\",Configuração!B6243)","v":""}]
[null,null,null,null,{"$f":"IF(Configuração!C6248=\"\",\"\",Configuração!B6248)","v":""}]
[null,null,null,null,{"$f":"IF(Configuração!C6253=\"\",\"\",Configuração!B6253)","v":""}]
[null,null,null,null,{"$f":"IF(Configuração!C6258=\"\",\"\",Configuração!B6258)","v":""}]
[null,null,null,null,{"$f":"IF(Configuração!C6261=\"\",\"\",Configuração!B6261)","v":""}]
[null,null,null,null,{"$f":"IF(Configuração!C6263=\"\",\"\",Configuração!B6263)","v":""}]
[null,null,null,null,{"$f":"IF(Configuração!C6268=\"\",\"\",Configuração!B6268)","v":""}]
[null,null,null,null,{"$f":"IF(Configuração!C6273=\"\",\"\",Configuração!B6273)","v":""}]
[null,null,null,null,{"$f":"IF(Configuração!C6274=\"\",\"\",Configuração!B6274)","v":""}]
[null,null,null,null,{"$f":"IF(Configuração!C6279=\"\",\"\",Configuração!B6279)","v":""}]
[null,null,null,null,{"$f":"IF(Configuração!C6284=\"\",\"\",Configuração!B6284)","v":""}]
[null,null,null,null,{"$f":"IF(Configuração!C6288=\"\",\"\",Configuração!B6288)","v":""}]
[null,null,null,null,{"$f":"IF(Configuração!C6289=\"\",\"\",Configuração!B6289)","v":""}]
[null,null,null,null,{"$f":"IF(Configuração!C6294=\"\",\"\",Configuração!B6294)","v":""}]
[null,null,null,null,{"$f":"IF(Configuração!C6299=\"\",\"\",Configuração!B6299)","v":""}]
[null,null,null,null,{"$f":"IF(Configuração!C6304=\"\",\"\",Configuração!B6304)","v":""}]
[null,null,null,null,{"$f":"IF(Configuração!C6305=\"\",\"\",Configuração!B6305)","v":""}]
[null,null,null,null,{"$f":"IF(Configuração!C6310=\"\",\"\",Configuração!B6310)","v":""}]
[null,null,null,null,{"$f":"IF(Configuração!C6315=\"\",\"\",Configuração!B6315)","v":""}]
[null,null,null,null,{"$f":"IF(Configuração!C6319=\"\",\"\",Configuração!B6319)","v":""}]
[null,null,null,null,{"$f":"IF(Configuração!C6320=\"\",\"\",Configuração!B6320)","v":""}]
[null,null,null,null,{"$f":"IF(Configuração!C6325=\"\",\"\",Configuração!B6325)","v":""}]
[null,null,null,null,{"$f":"IF(Configuração!C6330=\"\",\"\",Configuração!B6330)","v":""}]
[null,null,null,null,{"$f":"IF(Configuração!C6335=\"\",\"\",Configuração!B6335)","v":""}]
[null,null,null,null,{"$f":"IF(Configuração!C6336=\"\",\"\",Configuração!B6336)","v":""}]
[null,null,null,null,{"$f":"IF(Configuração!C6341=\"\",\"\",Configuração!B6341)","v":""}]
[null,null,null,null,{"$f":"IF(Configuração!C6346=\"\",\"\",Configuração!B6346)","v":""}]
[null,null,null,null,{"$f":"IF(Configuração!C6350=\"\",\"\",Configuração!B6350)","v":""}]
[null,null,null,null,{"$f":"IF(Configuração!C6351=\"\",\"\",Configuração!B6351)","v":""}]
[null,null,null,null,{"$f":"IF(Configuração!C6356=\"\",\"\",Configuração!B6356)","v":""}]
[null,null,null,null,{"$f":"IF(Configuração!C6361=\"\",\"\",Configuração!B6361)","v":""}]
[null,null,null,null,{"$f":"IF(Configuração!C6366=\"\",\"\",Configuração!B6366)","v":""}]
[null,null,null,null,{"$f":"IF(Configuração!C6367=\"\",\"\",Configuração!B6367)","v":""}]
[null,null,null,null,{"$f":"IF(Configuração!C6372=\"\",\"\",Configuração!B6372)","v":""}]
[null,null,null,null,{"$f":"IF(Configuração!C6376=\"\",\"\",Configuração!B6376)","v":""}]
[null,null,null,null,{"$f":"IF(Configuração!C6381=\"\",\"\",Configuração!B6381)","v":""}]
[null,null,null,null,{"$f":"IF(Configuração!C6382=\"\",\"\",Configuração!B6382)","v":""}]
[null,null,null,null,{"$f":"IF(Configuração!C6387=\"\",\"\",Configuração!B6387)","v":""}]
[null,null,null,null,{"$f":"IF(Configuração!C6392=\"\",\"\",Configuração!B6392)","v":""}]
[null,null,null,null,{"$f":"IF(Configuração!C6397=\"\",\"\",Configuração!B6397)","v":""}]
[null,null,null,null,{"$f":"IF(Configuração!C6399=\"\",\"\",Configuração!B6399)","v":""}]
[null,null,null,null,{"$f":"IF(Configuração!C6402=\"\",\"\",Configuração!B6402)","v":""}]
[null,null,null,null,{"$f":"IF(Configuração!C6407=\"\",\"\",Configuração!B6407)","v":""}]
[null,null,null,null,{"$f":"IF(Configuração!C6412=\"\",\"\",Configuração!B6412)","v":""}]
[null,null,null,null,{"$f":"IF(Configuração!C6413=\"\",\"\",Configuração!B6413)","v":""}]
[null,null,null,null,{"$f":"IF(Configuração!C6418=\"\",\"\",Configuração!B6418)","v":""}]
[null,null,null,null,{"$f":"IF(Configuração!C6423=\"\",\"\",Configuração!B6423)","v":""}]
[null,null,null,null,{"$f":"IF(Configuração!C6426=\"\",\"\",Configuração!B6426)","v":""}]
[null,null,null,null,{"$f":"IF(Configuração!C6428=\"\",\"\",Configuração!B6428)","v":""}]
[null,null,null,null,{"$f":"IF(Configuração!C6433=\"\",\"\",Configuração!B6433)","v":""}]
[null,null,null,null,{"$f":"IF(Configuração!C6438=\"\",\"\",Configuração!B6438)","v":""}]
[null,null,null,null,{"$f":"IF(Configuração!C6443=\"\",\"\",Configuração!B6443)","v":""}]
[null,null,null,null,{"$f":"IF(Configuração!C6444=\"\",\"\",Configuração!B6444)","v":""}]
[null,null,null,null,{"$f":"IF(Configuração!C6449=\"\",\"\",Configuração!B6449)","v":""}]
[null,null,null,null,{"$f":"IF(Configuração!C6454=\"\",\"\",Configuração!B6454)","v":""}]
[null,null,null,null,{"$f":"IF(Configuração!C6457=\"\",\"\",Configuração!B6457)","v":""}]
[null,null,null,null,{"$f":"IF(Configuração!C6459=\"\",\"\",Configuração!B6459)","v":""}]
[null,null,null,null,{"$f":"IF(Configuração!C6464=\"\",\"\",Configuração!B6464)","v":""}]
[null,null,null,null,{"$f":"IF(Configuração!C6469=\"\",\"\",Configuração!B6469)","v":""}]
[null,null,null,null,{"$f":"IF(Configuração!C6474=\"\",\"\",Configuração!B6474)","v":""}]
[null,null,null,null,{"$f":"IF(Configuração!C6475=\"\",\"\",Configuração!B6475)","v":""}]
[null,null,null,null,{"$f":"IF(Configuração!C6480=\"\",\"\",Configuração!B6480)","v":""}]
[null,null,null,null,{"$f":"IF(Configuração!C6483=\"\",\"\",Configuração!B6483)","v":""}]
[null,null,null,null,{"$f":"IF(Configuração!C6489=\"\",\"\",Configuração!B6489)","v":""}]
[null,null,null,null,{"$f":"IF(Configuração!C6490=\"\",\"\",Configuração!B6490)","v":""}]
[null,null,null,null,{"$f":"IF(Configuração!C6495=\"\",\"\",Configuração!B6495)","v":""}]
[null,null,null,null,{"$f":"IF(Configuração!C6500=\"\",\"\",Configuração!B6500)","v":""}]
[null,null,null,null,{"$f":"IF(Configuração!C6505=\"\",\"\",Configuração!B6505)","v":""}]
[null,null,null,null,{"$f":"IF(Configuração!C6506=\"\",\"\",Configuração!B6506)","v":""}]
[null,null,null,null,{"$f":"IF(Configuração!C6510=\"\",\"\",Configuração!B6510)","v":""}]
[null,null,null,null,{"$f":"IF(Configuração!C6515=\"\",\"\",Configuração!B6515)","v":""}]
[null,null,null,null,{"$f":"IF(Configuração!C6520=\"\",\"\",Configuração!B6520)","v":""}]
[null,null,null,null,{"$f":"IF(Configuração!C6521=\"\",\"\",Configuração!B6521)","v":""}]
[null,null,null,null,{"$f":"IF(Configuração!C6526=\"\",\"\",Configuração!B6526)","v":""}]
[null,null,null,null,{"$f":"IF(Configuração!C6531=\"\",\"\",Configuração!B6531)","v":""}]
[null,null,null,null,{"$f":"IF(Configuração!C6536=\"\",\"\",Configuração!B6536)","v":""}]
[null,null,null,null,{"$f":"IF(Configuração!C6537=\"\",\"\",Configuração!B6537)","v":""}]
[null,null,null,null,{"$f":"IF(Configuração!C6541=\"\",\"\",Configuração!B6541)","v":""}]
[null,null,null,null,{"$f":"IF(Configuração!C6546=\"\",\"\",Configuração!B6546)","v":""}]
[null,null,null,null,{"$f":"IF(Configuração!C6551=\"\",\"\",Configuração!B6551)","v":""}]
[null,null,null,null,{"$f":"IF(Configuração!C6552=\"\",\"\",Configuração!B6552)","v":""}]
[null,null,null,null,{"$f":"IF(Configuração!C6557=\"\",\"\",Configuração!B6557)","v":""}]
[null,null,null,null,{"$f":"IF(Configuração!C6562=\"\",\"\",Configuração!B6562)","v":""}]
[null,null,null,null,{"$f":"IF(Configuração!C6567=\"\",\"\",Configuração!B6567)","v":""}]
[null,null,null,null,{"$f":"IF(Configuração!C6568=\"\",\"\",Configuração!B6568)","v":""}]
[null,null,null,null,{"$f":"IF(Configuração!C6572=\"\",\"\",Configuração!B6572)","v":""}]
[null,null,null,null,{"$f":"IF(Configuração!C6577=\"\",\"\",Configuração!B6577)","v":""}]
[null,null,null,null,{"$f":"IF(Configuração!C6582=\"\",\"\",Configuração!B6582)","v":""}]
[null,null,null,null,{"$f":"IF(Configuração!C6583=\"\",\"\",Configuração!B6583)","v":""}]
[null,null,null,null,{"$f":"IF(Configuração!C6588=\"\",\"\",Configuração!B6588)","v":""}]
[null,null,null,null,{"$f":"IF(Configuração!C6593=\"\",\"\",Configuração!B6593)","v":""}]
[null,null,null,null,{"$f":"IF(Configuração!C6597=\"\",\"\",Configuração!B6597)","v":""}]
[null,null,null,null,{"$f":"IF(Configuração!C6598=\"\",\"\",Configuração!B6598)","v":""}]
[null,null,null,null,{"$f":"IF(Configuração!C6603=\"\",\"\",Configuração!B6603)","v":""}]
[null,null,null,null,{"$f":"IF(Configuração!C6608=\"\",\"\",Configuração!B6608)","v":""}]
[null,null,null,null,{"$f":"IF(Configuração!C6613=\"\",\"\",Configuração!B6613)","v":""}]
[null,null,null,null,{"$f":"IF(Configuração!C6614=\"\",\"\",Configuração!B6614)","v":""}]
[null,null,null,null,{"$f":"IF(Configuração!C6619=\"\",\"\",Configuração!B6619)","v":""}]
[null,null,null,null,{"$f":"IF(Configuração!C6624=\"\",\"\",Configuração!B6624)","v":""}]
[null,null,null,null,{"$f":"IF(Configuração!C6628=\"\",\"\",Configuração!B6628)","v":""}]
[null,null,null,null,{"$f":"IF(Configuração!C6629=\"\",\"\",Configuração!B6629)","v":""}]
[null,null,null,null,{"$f":"IF(Configuração!C6634=\"\",\"\",Configuração!B6634)","v":""}]
[null,null,null,null,{"$f":"IF(Configuração!C6639=\"\",\"\",Configuração!B6639)","v":""}]
[null,null,null,null,{"$f":"IF(Configuração!C6644=\"\",\"\",Configuração!B6644)","v":""}]
[null,null,null,null,{"$f":"IF(Configuração!C6645=\"\",\"\",Configuração!B6645)","v":""}]
[null,null,null,null,{"$f":"IF(Configuração!C6651=\"\",\"\",Configuração!B6651)","v":""}]
[null,null,null,null,{"$f":"IF(Configuração!C6654=\"\",\"\",Configuração!B6654)","v":""}]
[null,null,null,null,{"$f":"IF(Configuração!C6659=\"\",\"\",Configuração!B6659)","v":""}]
[null,null,null,null,{"$f":"IF(Configuração!C6660=\"\",\"\",Configuração!B6660)","v":""}]
[null,null,null,null,{"$f":"IF(Configuração!C6665=\"\",\"\",Configuração!B6665)","v":""}]
[null,null,null,null,{"$f":"IF(Configuração!C6670=\"\",\"\",Configuração!B6670)","v":""}]
[null,null,null,null,{"$f":"IF(Configuração!C6675=\"\",\"\",Configuração!B6675)","v":""}]
[null,null,null,null,{"$f":"IF(Configuração!C6676=\"\",\"\",Configuração!B6676)","v":""}]
[null,null,null,null,{"$f":"IF(Configuração!C6682=\"\",\"\",Configuração!B6682)","v":""}]
[null,null,null,null,{"$f":"IF(Configuração!C6685=\"\",\"\",Configuração!B6685)","v":""}]
[null,null,null,null,{"$f":"IF(Configuração!C6690=\"\",\"\",Configuração!B6690)","v":""}]
[null,null,null,null,{"$f":"IF(Configuração!C6691=\"\",\"\",Configuração!B6691)","v":""}]
[null,null,null,null,{"$f":"IF(Configuração!C6696=\"\",\"\",Configuração!B6696)","v":""}]
[null,null,null,null,{"$f":"IF(Configuração!C6701=\"\",\"\",Configuração!B6701)","v":""}]
[null,null,null,null,{"$f":"IF(Configuração!C6706=\"\",\"\",Configuração!B6706)","v":""}]
[null,null,null,null,{"$f":"IF(Configuração!C6709=\"\",\"\",Configuração!B6709)","v":""}]
[null,null,null,null,{"$f":"IF(Configuração!C6711=\"\",\"\",Configuração!B6711)","v":""}]
[null,null,null,null,{"$f":"IF(Configuração!C6716=\"\",\"\",Configuração!B6716)","v":""}]
[null,null,null,null,{"$f":"IF(Configuração!C6721=\"\",\"\",Configuração!B6721)","v":""}]
[null,null,null,null,{"$f":"IF(Configuração!C6722=\"\",\"\",Configuração!B6722)","v":""}]
[null,null,null,null,{"$f":"IF(Configuração!C6727=\"\",\"\",Configuração!B6727)","v":""}]
[null,null,null,null,{"$f":"IF(Configuração!C6732=\"\",\"\",Configuração!B6732)","v":""}]
[null,null,null,null,{"$f":"IF(Configuração!C6735=\"\",\"\",Configuração!B6735)","v":""}]
[null,null,null,null,{"$f":"IF(Configuração!C6737=\"\",\"\",Configuração!B6737)","v":""}]
[null,null,null,null,{"$f":"IF(Configuração!C6742=\"\",\"\",Configuração!B6742)","v":""}]
[null,null,null,null,{"$f":"IF(Configuração!C6747=\"\",\"\",Configuração!B6747)","v":""}]
[null,null,null,null,{"$f":"IF(Configuração!C6752=\"\",\"\",Configuração!B6752)","v":""}]
[null,null,null,null,{"$f":"IF(Configuração!C6753=\"\",\"\",Configuração!B6753)","v":""}]
[null,null,null,null,{"$f":"IF(Configuração!C6758=\"\",\"\",Configuração!B6758)","v":""}]
[null,null,null,null,{"$f":"IF(Configuração!C6762=\"\",\"\",Configuração!B6762)","v":""}]
[null,null,null,null,{"$f":"IF(Configuração!C6767=\"\",\"\",Configuração!B6767)","v":""}]
[null,null,null,null,{"$f":"IF(Configuração!C6768=\"\",\"\",Configuração!B6768)","v":""}]
[null,null,null,null,{"$f":"IF(Configuração!C6773=\"\",\"\",Configuração!B6773)","v":""}]
[null,null,null,null,{"$f":"IF(Configuração!C6778=\"\",\"\",Configuração!B6778)","v":""}]
[null,null,null,null,{"$f":"IF(Configuração!C6783=\"\",\"\",Configuração!B6783)","v":""}]
[null,null,null,null,{"$f":"IF(Configuração!C6784=\"\",\"\",Configuração!B6784)","v":""}]
[null,null,null,null,{"$f":"IF(Configuração!C6789=\"\",\"\",Configuração!B6789)","v":""}]
[null,null,null,null,{"$f":"IF(Configuração!C6793=\"\",\"\",Configuração!B6793)","v":""}]
[null,null,null,null,{"$f":"IF(Configuração!C6798=\"\",\"\",Configuração!B6798)","v":""}]
[null,null,null,null,{"$f":"IF(Configuração!C6799=\"\",\"\",Configuração!B6799)","v":""}]
[null,null,null,null,{"$f":"IF(Configuração!C6804=\"\",\"\",Configuração!B6804)","v":""}]
[null,null,null,null,{"$f":"IF(Configuração!C6809=\"\",\"\",Configuração!B6809)","v":""}]
[null,null,null,null,{"$f":"IF(Configuração!C6814=\"\",\"\",Configuração!B6814)","v":""}]
[null,null,null,null,{"$f":"IF(Configuração!C6815=\"\",\"\",Configuração!B6815)","v":""}]
[null,null,null,null,{"$f":"IF(Configuração!C6820=\"\",\"\",Configuração!B6820)","v":""}]
[null,null,null,null,{"$f":"IF(Configuração!C6824=\"\",\"\",Configuração!B6824)","v":""}]
[null,null,null,null,{"$f":"IF(Configuração!C6829=\"\",\"\",Configuração!B6829)","v":""}]
[null,null,null,null,{"$f":"IF(Configuração!C6830=\"\",\"\",Configuração!B6830)","v":""}]
[null,null,null,null,{"$f":"IF(Configuração!C6835=\"\",\"\",Configuração!B6835)","v":""}]
[null,null,null,null,{"$f":"IF(Configuração!C6840=\"\",\"\",Configuração!B6840)","v":""}]
[null,null,null,null,{"$f":"IF(Configuração!C6845=\"\",\"\",Configuração!B6845)","v":""}]
[null,null,null,null,{"$f":"IF(Configuração!C6846=\"\",\"\",Configuração!B6846)","v":""}]
[null,null,null,null,{"$f":"IF(Configuração!C6850=\"\",\"\",Configuração!B6850)","v":""}]
[null,null,null,null,{"$f":"IF(Configuração!C6855=\"\",\"\",Configuração!B6855)","v":""}]
[null,null,null,null,{"$f":"IF(Configuração!C6860=\"\",\"\",Configuração!B6860)","v":""}]
[null,null,null,null,{"$f":"IF(Configuração!C6861=\"\",\"\",Configuração!B6861)","v":""}]
[null,null,null,null,{"$f":"IF(Configuração!C6866=\"\",\"\",Configuração!B6866)","v":""}]
[null,null,null,null,{"$f":"IF(Configuração!C6871=\"\",\"\",Configuração!B6871)","v":""}]
[null,null,null,null,{"$f":"IF(Configuração!C6873=\"\",\"\",Configuração!B6873)","v":""}]
[null,null,null,null,{"$f":"IF(Configuração!C6876=\"\",\"\",Configuração!B6876)","v":""}]
[null,null,null,null,{"$f":"IF(Configuração!C6881=\"\",\"\",Configuração!B6881)","v":""}]
[null,null,null,null,{"$f":"IF(Configuração!C6886=\"\",\"\",Configuração!B6886)","v":""}]
[null,null,null,null,{"$f":"IF(Configuração!C6891=\"\",\"\",Configuração!B6891)","v":""}]
[null,null,null,null,{"$f":"IF(Configuração!C6892=\"\",\"\",Configuração!B6892)","v":""}]
[null,null,null,null,{"$f":"IF(Configuração!C6897=\"\",\"\",Configuração!B6897)","v":""}]
[null,null,null,null,{"$f":"IF(Configuração!C6902=\"\",\"\",Configuração!B6902)","v":""}]
[null,null,null,null,{"$f":"IF(Configuração!C6904=\"\",\"\",Configuração!B6904)","v":""}]
[null,null,null,null,{"$f":"IF(Configuração!C6907=\"\",\"\",Configuração!B6907)","v":""}]
[null,null,null,null,{"$f":"IF(Configuração!C6912=\"\",\"\",Configuração!B6912)","v":""}]
[null,null,null,null,{"$f":"IF(Configuração!C6917=\"\",\"\",Configuração!B6917)","v":""}]
[null,null,null,null,{"$f":"IF(Configuração!C6922=\"\",\"\",Configuração!B6922)","v":""}]
[null,null,null,null,{"$f":"IF(Configuração!C6923=\"\",\"\",Configuração!B6923)","v":""}]
[null,null,null,null,{"$f":"IF(Configuração!C6928=\"\",\"\",Configuração!B6928)","v":""}]
[null,null,null,null,{"$f":"IF(Configuração!C6931=\"\",\"\",Configuração!B6931)","v":""}]
[null,null,null,null,{"$f":"IF(Configuração!C6937=\"\",\"\",Configuração!B6937)","v":""}]
[null,null,null,null,{"$f":"IF(Configuração!C6938=\"\",\"\",Configuração!B6938)","v":""}]
[null,null,null,null,{"$f":"IF(Configuração!C6943=\"\",\"\",Configuração!B6943)","v":""}]
[null,null,null,null,{"$f":"IF(Configuração!C6948=\"\",\"\",Configuração!B6948)","v":""}]
[null,null,null,null,{"$f":"IF(Configuração!C6953=\"\",\"\",Configuração!B6953)","v":""}]
[null,null,null,null,{"$f":"IF(Configuração!C6954=\"\",\"\",Configuração!B6954)","v":""}]
[null,null,null,null,{"$f":"IF(Configuração!C6960=\"\",\"\",Configuração!B6960)","v":""}]
[null,null,null,null,{"$f":"IF(Configuração!C6963=\"\",\"\",Configuração!B6963)","v":""}]
[null,null,null,null,{"$f":"IF(Configuração!C6968=\"\",\"\",Configuração!B6968)","v":""}]
[null,null,null,null,{"$f":"IF(Configuração!C6969=\"\",\"\",Configuração!B6969)","v":""}]
[null,null,null,null,{"$f":"IF(Configuração!C6974=\"\",\"\",Configuração!B6974)","v":""}]
[null,null,null,null,{"$f":"IF(Configuração!C6979=\"\",\"\",Configuração!B6979)","v":""}]
[null,null,null,null,{"$f":"IF(Configuração!C6984=\"\",\"\",Configuração!B6984)","v":""}]
[null,null,null,null,{"$f":"IF(Configuração!C6987=\"\",\"\",Configuração!B6987)","v":""}]
[null,null,null,null,{"$f":"IF(Configuração!C6989=\"\",\"\",Configuração!B6989)","v":""}]
[null,null,null,null,{"$f":"IF(Configuração!C6994=\"\",\"\",Configuração!B6994)","v":""}]
[null,null,null,null,{"$f":"IF(Configuração!C6999=\"\",\"\",Configuração!B6999)","v":""}]
[null,null,null,null,{"$f":"IF(Configuração!C7000=\"\",\"\",Configuração!B7000)","v":""}]
[null,null,null,null,{"$f":"IF(Configuração!C7005=\"\",\"\",Configuração!B7005)","v":""}]
[null,null,null,null,{"$f":"IF(Configuração!C7010=\"\",\"\",Configuração!B7010)","v":""}]
[null,null,null,null,{"$f":"IF(Configuração!C7015=\"\",\"\",Configuração!B7015)","v":""}]
[null,null,null,null,{"$f":"IF(Configuração!C7018=\"\",\"\",Configuração!B7018)","v":""}]
[null,null,null,null,{"$f":"IF(Configuração!C7020=\"\",\"\",Configuração!B7020)","v":""}]
[null,null,null,null,{"$f":"IF(Configuração!C7025=\"\",\"\",Configuração!B7025)","v":""}]
[null,null,null,null,{"$f":"IF(Configuração!C7030=\"\",\"\",Configuração!B7030)","v":""}]
[null,null,null,null,{"$f":"IF(Configuração!C7031=\"\",\"\",Configuração!B7031)","v":""}]
[null,null,null,null,{"$f":"IF(Configuração!C7036=\"\",\"\",Configuração!B7036)","v":""}]
[null,null,null,null,{"$f":"IF(Configuração!C7041=\"\",\"\",Configuração!B7041)","v":""}]
[null,null,null,null,{"$f":"IF(Configuração!C7045=\"\",\"\",Configuração!B7045)","v":""}]
[null,null,null,null,{"$f":"IF(Configuração!C7046=\"\",\"\",Configuração!B7046)","v":""}]
[null,null,null,null,{"$f":"IF(Configuração!C7051=\"\",\"\",Configuração!B7051)","v":""}]
[null,null,null,null,{"$f":"IF(Configuração!C7056=\"\",\"\",Configuração!B7056)","v":""}]
[null,null,null,null,{"$f":"IF(Configuração!C7061=\"\",\"\",Configuração!B7061)","v":""}]
[null,null,null,null,{"$f":"IF(Configuração!C7062=\"\",\"\",Configuração!B7062)","v":""}]
[null,null,null,null,{"$f":"IF(Configuração!C7067=\"\",\"\",Configuração!B7067)","v":""}]
[null,null,null,null,{"$f":"IF(Configuração!C7071=\"\",\"\",Configuração!B7071)","v":""}]
[null,null,null,null,{"$f":"IF(Configuração!C7076=\"\",\"\",Configuração!B7076)","v":""}]
[null,null,null,null,{"$f":"IF(Configuração!C7077=\"\",\"\",Configuração!B7077)","v":""}]
[null,null,null,null,{"$f":"IF(Configuração!C7082=\"\",\"\",Configuração!B7082)","v":""}]
[null,null,null,null,{"$f":"IF(Configuração!C7087=\"\",\"\",Configuração!B7087)","v":""}]
[null,null,null,null,{"$f":"IF(Configuração!C7092=\"\",\"\",Configuração!B7092)","v":""}]
[null,null,null,null,{"$f":"IF(Configuração!C7093=\"\",\"\",Configuração!B7093)","v":""}]
[null,null,null,null,{"$f":"IF(Configuração!C7098=\"\",\"\",Configuração!B7098)","v":""}]
[null,null,null,null,{"$f":"IF(Configuração!C7102=\"\",\"\",Configuração!B7102)","v":""}]
[null,null,null,null,{"$f":"IF(Configuração!C7107=\"\",\"\",Configuração!B7107)","v":""}]
[null,null,null,null,{"$f":"IF(Configuração!C7108=\"\",\"\",Configuração!B7108)","v":""}]
[null,null,null,null,{"$f":"IF(Configuração!C7113=\"\",\"\",Configuração!B7113)","v":""}]
[null,null,null,null,{"$f":"IF(Configuração!C7118=\"\",\"\",Configuração!B7118)","v":""}]
[null,null,null,null,{"$f":"IF(Configuração!C7123=\"\",\"\",Configuração!B7123)","v":""}]
[null,null,null,null,{"$f":"IF(Configuração!C7124=\"\",\"\",Configuração!B7124)","v":""}]
[null,null,null,null,{"$f":"IF(Configuração!C7129=\"\",\"\",Configuração!B7129)","v":""}]
[null,null,null,null,{"$f":"IF(Configuração!C7133=\"\",\"\",Configuração!B7133)","v":""}]
[null,null,null,null,{"$f":"IF(Configuração!C7138=\"\",\"\",Configuração!B7138)","v":""}]
[null,null,null,null,{"$f":"IF(Configuração!C7139=\"\",\"\",Configuração!B7139)","v":""}]
[null,null,null,null,{"$f":"IF(Configuração!C7144=\"\",\"\",Configuração!B7144)","v":""}]
[null,null,null,null,{"$f":"IF(Configuração!C7149=\"\",\"\",Configuração!B7149)","v":""}]
[null,null,null,null,{"$f":"IF(Configuração!C7154=\"\",\"\",Configuração!B7154)","v":""}]
[null,null,null,null,{"$f":"IF(Configuração!C7156=\"\",\"\",Configuração!B7156)","v":""}]
[null,null,null,null,{"$f":"IF(Configuração!C7159=\"\",\"\",Configuração!B7159)","v":""}]
[null,null,null,null,{"$f":"IF(Configuração!C7164=\"\",\"\",Configuração!B7164)","v":""}]
[null,null,null,null,{"$f":"IF(Configuração!C7169=\"\",\"\",Configuração!B7169)","v":""}]
[null,null,null,null,{"$f":"IF(Configuração!C7170=\"\",\"\",Configuração!B7170)","v":""}]
[null,null,null,null,{"$f":"IF(Configuração!C7175=\"\",\"\",Configuração!B7175)","v":""}]
[null,null,null,null,{"$f":"IF(Configuração!C7180=\"\",\"\",Configuração!B7180)","v":""}]
[null,null,null,null,{"$f":"IF(Configuração!C7182=\"\",\"\",Configuração!B7182)","v":""}]
[null,null,null,null,{"$f":"IF(Configuração!C7185=\"\",\"\",Configuração!B7185)","v":""}]
[null,null,null,null,{"$f":"IF(Configuração!C7190=\"\",\"\",Configuração!B7190)","v":""}]
[null,null,null,null,{"$f":"IF(Configuração!C7195=\"\",\"\",Configuração!B7195)","v":""}]
[null,null,null,null,{"$f":"IF(Configuração!C7200=\"\",\"\",Configuração!B7200)","v":""}]
[null,null,null,null,{"$f":"IF(Configuração!C7201=\"\",\"\",Configuração!B7201)","v":""}]
[null,null,null,null,{"$f":"IF(Configuração!C7206=\"\",\"\",Configuração!B7206)","v":""}]
[null,null,null,null,{"$f":"IF(Configuração!C7209=\"\",\"\",Configuração!B7209)","v":""}]
[null,null,null,null,{"$f":"IF(Configuração!C7215=\"\",\"\",Configuração!B7215)","v":""}]
[null,null,null,null,{"$f":"IF(Configuração!C7216=\"\",\"\",Configuração!B7216)","v":""}]
[null,null,null,null,{"$f":"IF(Configuração!C7221=\"\",\"\",Configuração!B7221)","v":""}]
[null,null,null,null,{"$f":"IF(Configuração!C7226=\"\",\"\",Configuração!B7226)","v":""}]
[null,null,null,null,{"$f":"IF(Configuração!C7231=\"\",\"\",Configuração!B7231)","v":""}]
[null,null,null,null,{"$f":"IF(Configuração!C7232=\"\",\"\",Configuração!B7232)","v":""}]
[null,null,null,null,{"$f":"IF(Configuração!C7237=\"\",\"\",Configuração!B7237)","v":""}]
[null,null,null,null,{"$f":"IF(Configuração!C7240=\"\",\"\",Configuração!B7240)","v":""}]
[null,null,null,null,{"$f":"IF(Configuração!C7246=\"\",\"\",Configuração!B7246)","v":""}]
[null,null,null,null,{"$f":"IF(Configuração!C7247=\"\",\"\",Configuração!B7247)","v":""}]
[null,null,null,null,{"$f":"IF(Configuração!C7252=\"\",\"\",Configuração!B7252)","v":""}]
[null,null,null,null,{"$f":"IF(Configuração!C7257=\"\",\"\",Configuração!B7257)","v":""}]
[null,null,null,null,{"$f":"IF(Configuração!C7262=\"\",\"\",Configuração!B7262)","v":""}]
[null,null,null,null,{"$f":"IF(Configuração!C7263=\"\",\"\",Configuração!B7263)","v":""}]
[null,null,null,null,{"$f":"IF(Configuração!C7267=\"\",\"\",Configuração!B7267)","v":""}]
[null,null,null,null,{"$f":"IF(Configuração!C7272=\"\",\"\",Configuração!B7272)","v":""}]
[null,null,null,null,{"$f":"IF(Configuração!C7277=\"\",\"\",Configuração!B7277)","v":""}]
[null,null,null,null,{"$f":"IF(Configuração!C7278=\"\",\"\",Configuração!B7278)","v":""}]
[null,null,null,null,{"$f":"IF(Configuração!C7283=\"\",\"\",Configuração!B7283)","v":""}]
[null,null,null,null,{"$f":"IF(Configuração!C7288=\"\",\"\",Configuração!B7288)","v":""}]
[null,null,null,null,{"$f":"IF(Configuração!C7293=\"\",\"\",Configuração!B7293)","v":""}]
[null,null,null,null,{"$f":"IF(Configuração!C7294=\"\",\"\",Configuração!B7294)","v":""}]
[null,null,null,null,{"$f":"IF(Configuração!C7298=\"\",\"\",Configuração!B7298)","v":""}]
[null,null,null,null,{"$f":"IF(Configuração!C7303=\"\",\"\",Configuração!B7303)","v":""}]
[null,null,null,null,{"$f":"IF(Configuração!C7308=\"\",\"\",Configuração!B7308)","v":""}]
[null,null,null,null,{"$f":"IF(Configuração!C7309=\"\",\"\",Configuração!B7309)","v":""}]
[null,null,null,null,{"$f":"IF(Configuração!C7314=\"\",\"\",Configuração!B7314)","v":""}]
[null,null,null,null,{"$f":"IF(Configuração!C7319=\"\",\"\",Configuração!B7319)","v":""}]
[null,null,null,null,{"$f":"IF(Configuração!C7323=\"\",\"\",Configuração!B7323)","v":""}]
[null,null,null,null,{"$f":"IF(Configuração!C7324=\"\",\"\",Configuração!B7324)","v":""}]
[null,null,null,null,{"$f":"IF(Configuração!C7329=\"\",\"\",Configuração!B7329)","v":""}]
[null,null,null,null,{"$f":"IF(Configuração!C7334=\"\",\"\",Configuração!B7334)","v":""}]
[null,null,null,null,{"$f":"IF(Configuração!C7339=\"\",\"\",Configuração!B7339)","v":""}]
[null,null,null,null,{"$f":"IF(Configuração!C7340=\"\",\"\",Configuração!B7340)","v":""}]
[null,null,null,null,{"$f":"IF(Configuração!C7345=\"\",\"\",Configuração!B7345)","v":""}]
[null,null,null,null,{"$f":"IF(Configuração!C7350=\"\",\"\",Configuração!B7350)","v":""}]
[null,null,null,null,{"$f":"IF(Configuração!C7354=\"\",\"\",Configuração!B7354)","v":""}]
[null,null,null,null,{"$f":"IF(Configuração!C7355=\"\",\"\",Configuração!B7355)","v":""}]
[null,null,null,null,{"$f":"IF(Configuração!C7360=\"\",\"\",Configuração!B7360)","v":""}]
[null,null,null,null,{"$f":"IF(Configuração!C7365=\"\",\"\",Configuração!B7365)","v":""}]
[null,null,null,null,{"$f":"IF(Configuração!C7370=\"\",\"\",Configuração!B7370)","v":""}]
[null,null,null,null,{"$f":"IF(Configuração!C7371=\"\",\"\",Configuração!B7371)","v":""}]
[null,null,null,null,{"$f":"IF(Configuração!C7376=\"\",\"\",Configuração!B7376)","v":""}]
[null,null,null,null,{"$f":"IF(Configuração!C7381=\"\",\"\",Configuração!B7381)","v":""}]
[null,null,null,null,{"$f":"IF(Configuração!C7385=\"\",\"\",Configuração!B7385)","v":""}]
[null,null,null,null,{"$f":"IF(Configuração!C7386=\"\",\"\",Configuração!B7386)","v":""}]
[null,null,null,null,{"$f":"IF(Configuração!C7391=\"\",\"\",Configuração!B7391)","v":""}]
[null,null,null,null,{"$f":"IF(Configuração!C7396=\"\",\"\",Configuração!B7396)","v":""}]
[null,null,null,null,{"$f":"IF(Configuração!C7401=\"\",\"\",Configuração!B7401)","v":""}]
[null,null,null,null,{"$f":"IF(Configuração!C7402=\"\",\"\",Configuração!B7402)","v":""}]
[null,null,null,null,{"$f":"IF(Configuração!C7408=\"\",\"\",Configuração!B7408)","v":""}]
[null,null,null,null,{"$f":"IF(Configuração!C7411=\"\",\"\",Configuração!B7411)","v":""}]
[null,null,null,null,{"$f":"IF(Configuração!C7416=\"\",\"\",Configuração!B7416)","v":""}]
[null,null,null,null,{"$f":"IF(Configuração!C7417=\"\",\"\",Configuração!B7417)","v":""}]
[null,null,null,null,{"$f":"IF(Configuração!C7422=\"\",\"\",Configuração!B7422)","v":""}]
[null,null,null,null,{"$f":"IF(Configuração!C7427=\"\",\"\",Configuração!B7427)","v":""}]
[null,null,null,null,{"$f":"IF(Configuração!C7432=\"\",\"\",Configuração!B7432)","v":""}]
[null,null,null,null,{"$f":"IF(Configuração!C7434=\"\",\"\",Configuração!B7434)","v":""}]
[null,null,null,null,{"$f":"IF(Configuração!C7437=\"\",\"\",Configuração!B7437)","v":""}]
[null,null,null,null,{"$f":"IF(Configuração!C7442=\"\",\"\",Configuração!B7442)","v":""}]
[null,null,null,null,{"$f":"IF(Configuração!C7447=\"\",\"\",Configuração!B7447)","v":""}]
[null,null,null,null,{"$f":"IF(Configuração!C7448=\"\",\"\",Configuração!B7448)","v":""}]
[null,null,null,null,{"$f":"IF(Configuração!C7453=\"\",\"\",Configuração!B7453)","v":""}]
[null,null,null,null,{"$f":"IF(Configuração!C7458=\"\",\"\",Configuração!B7458)","v":""}]
[null,null,null,null,{"$f":"IF(Configuração!C7463=\"\",\"\",Configuração!B7463)","v":""}]
[null,null,null,null,{"$f":"IF(Configuração!C7465=\"\",\"\",Configuração!B7465)","v":""}]
[null,null,null,null,{"$f":"IF(Configuração!C7468=\"\",\"\",Configuração!B7468)","v":""}]
[null,null,null,null,{"$f":"IF(Configuração!C7473=\"\",\"\",Configuração!B7473)","v":""}]
[null,null,null,null,{"$f":"IF(Configuração!C7478=\"\",\"\",Configuração!B7478)","v":""}]
[null,null,null,null,{"$f":"IF(Configuração!C7479=\"\",\"\",Configuração!B7479)","v":""}]
[null,null,null,null,{"$f":"IF(Configuração!C7484=\"\",\"\",Configuração!B7484)","v":""}]
[null,null,null,null,{"$f":"IF(Configuração!C7489=\"\",\"\",Configuração!B7489)","v":""}]
[null,null,null,null,{"$f":"IF(Configuração!C7492=\"\",\"\",Configuração!B7492)","v":""}]
[null,null,null,null,{"$f":"IF(Configuração!C7494=\"\",\"\",Configuração!B7494)","v":""}]
[null,null,null,null,{"$f":"IF(Configuração!C7499=\"\",\"\",Configuração!B7499)","v":""}]
[null,null,null,null,{"$f":"IF(Configuração!C7504=\"\",\"\",Configuração!B7504)","v":""}]
[null,null,null,null,{"$f":"IF(Configuração!C7509=\"\",\"\",Configuração!B7509)","v":""}]
[null,null,null,null,{"$f":"IF(Configuração!C7510=\"\",\"\",Configuração!B7510)","v":""}]
[null,null,null,null,{"$f":"IF(Configuração!C7515=\"\",\"\",Configuração!B7515)","v":""}]
[null,null,null,null,{"$f":"IF(Configuração!C7519=\"\",\"\",Configuração!B7519)","v":""}]
[null,null,null,null,{"$f":"IF(Configuração!C7524=\"\",\"\",Configuração!B7524)","v":""}]
[null,null,null,null,{"$f":"IF(Configuração!C7525=\"\",\"\",Configuração!B7525)","v":""}]
[null,null,null,null,{"$f":"IF(Configuração!C7530=\"\",\"\",Configuração!B7530)","v":""}]
[null,null,null,null,{"$f":"IF(Configuração!C7535=\"\",\"\",Configuração!B7535)","v":""}]
[null,null,null,null,{"$f":"IF(Configuração!C7540=\"\",\"\",Configuração!B7540)","v":""}]
[null,null,null,null,{"$f":"IF(Configuração!C7541=\"\",\"\",Configuração!B7541)","v":""}]
[null,null,null,null,{"$f":"IF(Configuração!C7545=\"\",\"\",Configuração!B7545)","v":""}]
[null,null,null,null,{"$f":"IF(Configuração!C7550=\"\",\"\",Configuração!B7550)","v":""}]
[null,null,null,null,{"$f":"IF(Configuração!C7555=\"\",\"\",Configuração!B7555)","v":""}]
[null,null,null,null,{"$f":"IF(Configuração!C7556=\"\",\"\",Configuração!B7556)","v":""}]
[null,null,null,null,{"$f":"IF(Configuração!C7561=\"\",\"\",Configuração!B7561)","v":""}]
[null,null,null,null,{"$f":"IF(Configuração!C7566=\"\",\"\",Configuração!B7566)","v":""}]
[null,null,null,null,{"$f":"IF(Configuração!C7571=\"\",\"\",Configuração!B7571)","v":""}]
[null,null,null,null,{"$f":"IF(Configuração!C7572=\"\",\"\",Configuração!B7572)","v":""}]
[null,null,null,null,{"$f":"IF(Configuração!C7576=\"\",\"\",Configuração!B7576)","v":""}]
[null,null,null,null,{"$f":"IF(Configuração!C7581=\"\",\"\",Configuração!B7581)","v":""}]
[null,null,null,null,{"$f":"IF(Configuração!C7586=\"\",\"\",Configuração!B7586)","v":""}]
[null,null,null,null,{"$f":"IF(Configuração!C7587=\"\",\"\",Configuração!B7587)","v":""}]
[null,null,null,null,{"$f":"IF(Configuração!C7592=\"\",\"\",Configuração!B7592)","v":""}]
[null,null,null,null,{"$f":"IF(Configuração!C7597=\"\",\"\",Configuração!B7597)","v":""}]
[null,null,null,null,{"$f":"IF(Configuração!C7602=\"\",\"\",Configuração!B7602)","v":""}]
[null,null,null,null,{"$f":"IF(Configuração!C7603=\"\",\"\",Configuração!B7603)","v":""}]
[null,null,null,null,{"$f":"IF(Configuração!C7607=\"\",\"\",Configuração!B7607)","v":""}]
[null,null,null,null,{"$f":"IF(Configuração!C7612=\"\",\"\",Configuração!B7612)","v":""}]
[null,null,null,null,{"$f":"IF(Configuração!C7617=\"\",\"\",Configuração!B7617)","v":""}]
[null,null,null,null,{"$f":"IF(Configuração!C7618=\"\",\"\",Configuração!B7618)","v":""}]
[null,null,null,null,{"$f":"IF(Configuração!C7623=\"\",\"\",Configuração!B7623)","v":""}]
[null,null,null,null,{"$f":"IF(Configuração!C7628=\"\",\"\",Configuração!B7628)","v":""}]
[null,null,null,null,{"$f":"IF(Configuração!C7630=\"\",\"\",Configuração!B7630)","v":""}]
[null,null,null,null,{"$f":"IF(Configuração!C7633=\"\",\"\",Configuração!B7633)","v":""}]
[null,null,null,null,{"$f":"IF(Configuração!C7638=\"\",\"\",Configuração!B7638)","v":""}]
[null,null,null,null,{"$f":"IF(Configuração!C7643=\"\",\"\",Configuração!B7643)","v":""}]
[null,null,null,null,{"$f":"IF(Configuração!C7648=\"\",\"\",Configuração!B7648)","v":""}]
[null,null,null,null,{"$f":"IF(Configuração!C7649=\"\",\"\",Configuração!B7649)","v":""}]
[null,null,null,null,{"$f":"IF(Configuração!C7654=\"\",\"\",Configuração!B7654)","v":""}]
[null,null,null,null,{"$f":"IF(Configuração!C7659=\"\",\"\",Configuração!B7659)","v":""}]
[null,null,null,null,{"$f":"IF(Configuração!C7663=\"\",\"\",Configuração!B7663)","v":""}]
[null,null,null,null,{"$f":"IF(Configuração!C7664=\"\",\"\",Configuração!B7664)","v":""}]
[null,null,null,null,{"$f":"IF(Configuração!C7669=\"\",\"\",Configuração!B7669)","v":""}]
[null,null,null,null,{"$f":"IF(Configuração!C7674=\"\",\"\",Configuração!B7674)","v":""}]
[null,null,null,null,{"$f":"IF(Configuração!C7679=\"\",\"\",Configuração!B7679)","v":""}]
[null,null,null,null,{"$f":"IF(Configuração!C7680=\"\",\"\",Configuração!B7680)","v":""}]
[null,null,null,null,{"$f":"IF(Configuração!C7686=\"\",\"\",Configuração!B7686)","v":""}]
[null,null,null,null,{"$f":"IF(Configuração!C7689=\"\",\"\",Configuração!B7689)","v":""}]
[null,null,null,null,{"$f":"IF(Configuração!C7694=\"\",\"\",Configuração!B7694)","v":""}]
[null,null,null,null,{"$f":"IF(Configuração!C7695=\"\",\"\",Configuração!B7695)","v":""}]
[null,null,null,null,{"$f":"IF(Configuração!C7700=\"\",\"\",Configuração!B7700)","v":""}]
[null,null,null,null,{"$f":"IF(Configuração!C7705=\"\",\"\",Configuração!B7705)","v":""}]
[null,null,null,null,{"$f":"IF(Configuração!C7710=\"\",\"\",Configuração!B7710)","v":""}]
[null,null,null,null,{"$f":"IF(Configuração!C7711=\"\",\"\",Configuração!B7711)","v":""}]
[null,null,null,null,{"$f":"IF(Configuração!C7717=\"\",\"\",Configuração!B7717)","v":""}]
[null,null,null,null,{"$f":"IF(Configuração!C7720=\"\",\"\",Configuração!B7720)","v":""}]
[null,null,null,null,{"$f":"IF(Configuração!C7725=\"\",\"\",Configuração!B7725)","v":""}]
[null,null,null,null,{"$f":"IF(Configuração!C7726=\"\",\"\",Configuração!B7726)","v":""}]
[null,null,null,null,{"$f":"IF(Configuração!C7731=\"\",\"\",Configuração!B7731)","v":""}]
[null,null,null,null,{"$f":"IF(Configuração!C7736=\"\",\"\",Configuração!B7736)","v":""}]
[null,null,null,null,{"$f":"IF(Configuração!C7741=\"\",\"\",Configuração!B7741)","v":""}]
[null,null,null,null,{"$f":"IF(Configuração!C7744=\"\",\"\",Configuração!B7744)","v":""}]
[null,null,null,null,{"$f":"IF(Configuração!C7746=\"\",\"\",Configuração!B7746)","v":""}]
[null,null,null,null,{"$f":"IF(Configuração!C7751=\"\",\"\",Configuração!B7751)","v":""}]
[null,null,null,null,{"$f":"IF(Configuração!C7756=\"\",\"\",Configuração!B7756)","v":""}]
[null,null,null,null,{"$f":"IF(Configuração!C7757=\"\",\"\",Configuração!B7757)","v":""}]
[null,null,null,null,{"$f":"IF(Configuração!C7762=\"\",\"\",Configuração!B7762)","v":""}]
[null,null,null,null,{"$f":"IF(Configuração!C7767=\"\",\"\",Configuração!B7767)","v":""}]
[null,null,null,null,{"$f":"IF(Configuração!C7771=\"\",\"\",Configuração!B7771)","v":""}]
[null,null,null,null,{"$f":"IF(Configuração!C7772=\"\",\"\",Configuração!B7772)","v":""}]
[null,null,null,null,{"$f":"IF(Configuração!C7777=\"\",\"\",Configuração!B7777)","v":""}]
[null,null,null,null,{"$f":"IF(Configuração!C7782=\"\",\"\",Configuração!B7782)","v":""}]
[null,null,null,null,{"$f":"IF(Configuração!C7787=\"\",\"\",Configuração!B7787)","v":""}]
[null,null,null,null,{"$f":"IF(Configuração!C7788=\"\",\"\",Configuração!B7788)","v":""}]
[null,null,null,null,{"$f":"IF(Configuração!C7793=\"\",\"\",Configuração!B7793)","v":""}]
[null,null,null,null,{"$f":"IF(Configuração!C7797=\"\",\"\",Configuração!B7797)","v":""}]
[null,null,null,null,{"$f":"IF(Configuração!C7802=\"\",\"\",Configuração!B7802)","v":""}]
[null,null,null,null,{"$f":"IF(Configuração!C7803=\"\",\"\",Configuração!B7803)","v":""}]
[null,null,null,null,{"$f":"IF(Configuração!C7808=\"\",\"\",Configuração!B7808)","v":""}]
[null,null,null,null,{"$f":"IF(Configuração!C7813=\"\",\"\",Configuração!B7813)","v":""}]
[null,null,null,null,{"$f":"IF(Configuração!C7818=\"\",\"\",Configuração!B7818)","v":""}]
[null,null,null,null,{"$f":"IF(Configuração!C7819=\"\",\"\",Configuração!B7819)","v":""}]
[null,null,null,null,{"$f":"IF(Configuração!C7824=\"\",\"\",Configuração!B7824)","v":""}]
[null,null,null,null,{"$f":"IF(Configuração!C7828=\"\",\"\",Configuração!B7828)","v":""}]
[null,null,null,null,{"$f":"IF(Configuração!C7833=\"\",\"\",Configuração!B7833)","v":""}]
[null,null,null,null,{"$f":"IF(Configuração!C7834=\"\",\"\",Configuração!B7834)","v":""}]
[null,null,null,null,{"$f":"IF(Configuração!C7839=\"\",\"\",Configuração!B7839)","v":""}]
[null,null,null,null,{"$f":"IF(Configuração!C7844=\"\",\"\",Configuração!B7844)","v":""}]
[null,null,null,null,{"$f":"IF(Configuração!C7849=\"\",\"\",Configuração!B7849)","v":""}]
[null,null,null,null,{"$f":"IF(Configuração!C7850=\"\",\"\",Configuração!B7850)","v":""}]
[null,null,null,null,{"$f":"IF(Configuração!C7855=\"\",\"\",Configuração!B7855)","v":""}]
[null,null,null,null,{"$f":"IF(Configuração!C7859=\"\",\"\",Configuração!B7859)","v":""}]
[null,null,null,null,{"$f":"IF(Configuração!C7864=\"\",\"\",Configuração!B7864)","v":""}]
[null,null,null,null,{"$f":"IF(Configuração!C7865=\"\",\"\",Configuração!B7865)","v":""}]
[null,null,null,null,{"$f":"IF(Configuração!C7870=\"\",\"\",Configuração!B7870)","v":""}]
[null,null,null,null,{"$f":"IF(Configuração!C7875=\"\",\"\",Configuração!B7875)","v":""}]
[null,null,null,null,{"$f":"IF(Configuração!C7880=\"\",\"\",Configuração!B7880)","v":""}]
[null,null,null,null,{"$f":"IF(Configuração!C7882=\"\",\"\",Configuração!B7882)","v":""}]
[null,null,null,null,{"$f":"IF(Configuração!C7885=\"\",\"\",Configuração!B7885)","v":""}]
[null,null,null,null,{"$f":"IF(Configuração!C7890=\"\",\"\",Configuração!B7890)","v":""}]
[null,null,null,null,{"$f":"IF(Configuração!C7895=\"\",\"\",Configuração!B7895)","v":""}]
[null,null,null,null,{"$f":"IF(Configuração!C7896=\"\",\"\",Configuração!B7896)","v":""}]
[null,null,null,null,{"$f":"IF(Configuração!C7901=\"\",\"\",Configuração!B7901)","v":""}]
[null,null,null,null,{"$f":"IF(Configuração!C7906=\"\",\"\",Configuração!B7906)","v":""}]
[null,null,null,null,{"$f":"IF(Configuração!C7908=\"\",\"\",Configuração!B7908)","v":""}]
[null,null,null,null,{"$f":"IF(Configuração!C7911=\"\",\"\",Configuração!B7911)","v":""}]
[null,null,null,null,{"$f":"IF(Configuração!C7916=\"\",\"\",Configuração!B7916)","v":""}]
[null,null,null,null,{"$f":"IF(Configuração!C7921=\"\",\"\",Configuração!B7921)","v":""}]
[null,null,null,null,{"$f":"IF(Configuração!C7926=\"\",\"\",Configuração!B7926)","v":""}]
[null,null,null,null,{"$f":"IF(Configuração!C7927=\"\",\"\",Configuração!B7927)","v":""}]
[null,null,null,null,{"$f":"IF(Configuração!C7932=\"\",\"\",Configuração!B7932)","v":""}]
[null,null,null,null,{"$f":"IF(Configuração!C7937=\"\",\"\",Configuração!B7937)","v":""}]
[null,null,null,null,{"$f":"IF(Configuração!C7939=\"\",\"\",Configuração!B7939)","v":""}]
[null,null,null,null,{"$f":"IF(Configuração!C7942=\"\",\"\",Configuração!B7942)","v":""}]
[null,null,null,null,{"$f":"IF(Configuração!C7947=\"\",\"\",Configuração!B7947)","v":""}]
[null,null,null,null,{"$f":"IF(Configuração!C7952=\"\",\"\",Configuração!B7952)","v":""}]
[null,null,null,null,{"$f":"IF(Configuração!C7957=\"\",\"\",Configuração!B7957)","v":""}]
[null,null,null,null,{"$f":"IF(Configuração!C7958=\"\",\"\",Configuração!B7958)","v":""}]
[null,null,null,null,{"$f":"IF(Configuração!C7963=\"\",\"\",Configuração!B7963)","v":""}]
[null,null,null,null,{"$f":"IF(Configuração!C7966=\"\",\"\",Configuração!B7966)","v":""}]
[null,null,null,null,{"$f":"IF(Configuração!C7972=\"\",\"\",Configuração!B7972)","v":""}]
[null,null,null,null,{"$f":"IF(Configuração!C7973=\"\",\"\",Configuração!B7973)","v":""}]
[null,null,null,null,{"$f":"IF(Configuração!C7978=\"\",\"\",Configuração!B7978)","v":""}]
[null,null,null,null,{"$f":"IF(Configuração!C7983=\"\",\"\",Configuração!B7983)","v":""}]
[null,null,null,null,{"$f":"IF(Configuração!C7988=\"\",\"\",Configuração!B7988)","v":""}]
[null,null,null,null,{"$f":"IF(Configuração!C7989=\"\",\"\",Configuração!B7989)","v":""}]
[null,null,null,null,{"$f":"IF(Configuração!C7993=\"\",\"\",Configuração!B7993)","v":""}]
[null,null,null,null,{"$f":"IF(Configuração!C7998=\"\",\"\",Configuração!B7998)","v":""}]
[null,null,null,null,{"$f":"IF(Configuração!C8003=\"\",\"\",Configuração!B8003)","v":""}]
[null,null,null,null,{"$f":"IF(Configuração!C8004=\"\",\"\",Configuração!B8004)","v":""}]
[null,null,null,null,{"$f":"IF(Configuração!C8009=\"\",\"\",Configuração!B8009)","v":""}]
[null,null,null,null,{"$f":"IF(Configuração!C8014=\"\",\"\",Configuração!B8014)","v":""}]
[null,null,null,null,{"$f":"IF(Configuração!C8019=\"\",\"\",Configuração!B8019)","v":""}]
[null,null,null,null,{"$f":"IF(Configuração!C8022=\"\",\"\",Configuração!B8022)","v":""}]
[null,null,null,null,{"$f":"IF(Configuração!C8024=\"\",\"\",Configuração!B8024)","v":""}]
[null,null,null,null,{"$f":"IF(Configuração!C8029=\"\",\"\",Configuração!B8029)","v":""}]
[null,null,null,null,{"$f":"IF(Configuração!C8034=\"\",\"\",Configuração!B8034)","v":""}]
[null,null,null,null,{"$f":"IF(Configuração!C8035=\"\",\"\",Configuração!B8035)","v":""}]
[null,null,null,null,{"$f":"IF(Configuração!C8040=\"\",\"\",Configuração!B8040)","v":""}]
[null,null,null,null,{"$f":"IF(Configuração!C8045=\"\",\"\",Configuração!B8045)","v":""}]
[null,null,null,null,{"$f":"IF(Configuração!C8050=\"\",\"\",Configuração!B8050)","v":""}]
[null,null,null,null,{"$f":"IF(Configuração!C8053=\"\",\"\",Configuração!B8053)","v":""}]
[null,null,null,null,{"$f":"IF(Configuração!C8055=\"\",\"\",Configuração!B8055)","v":""}]
[null,null,null,null,{"$f":"IF(Configuração!C8060=\"\",\"\",Configuração!B8060)","v":""}]
[null,null,null,null,{"$f":"IF(Configuração!C8065=\"\",\"\",Configuração!B8065)","v":""}]
[null,null,null,null,{"$f":"IF(Configuração!C8066=\"\",\"\",Configuração!B8066)","v":""}]
[null,null,null,null,{"$f":"IF(Configuração!C8071=\"\",\"\",Configuração!B8071)","v":""}]
[null,null,null,null,{"$f":"IF(Configuração!C8076=\"\",\"\",Configuração!B8076)","v":""}]
[null,null,null,null,{"$f":"IF(Configuração!C8080=\"\",\"\",Configuração!B8080)","v":""}]
[null,null,null,null,{"$f":"IF(Configuração!C8081=\"\",\"\",Configuração!B8081)","v":""}]
[null,null,null,null,{"$f":"IF(Configuração!C8086=\"\",\"\",Configuração!B8086)","v":""}]
[null,null,null,null,{"$f":"IF(Configuração!C8091=\"\",\"\",Configuração!B8091)","v":""}]
[null,null,null,null,{"$f":"IF(Configuração!C8096=\"\",\"\",Configuração!B8096)","v":""}]
[null,null,null,null,{"$f":"IF(Configuração!C8097=\"\",\"\",Configuração!B8097)","v":""}]
[null,null,null,null,{"$f":"IF(Configuração!C8102=\"\",\"\",Configuração!B8102)","v":""}]
[null,null,null,null,{"$f":"IF(Configuração!C8107=\"\",\"\",Configuração!B8107)","v":""}]
[null,null,null,null,{"$f":"IF(Configuração!C8111=\"\",\"\",Configuração!B8111)","v":""}]
[null,null,null,null,{"$f":"IF(Configuração!C8112=\"\",\"\",Configuração!B8112)","v":""}]
[null,null,null,null,{"$f":"IF(Configuração!C8117=\"\",\"\",Configuração!B8117)","v":""}]
[null,null,null,null,{"$f":"IF(Configuração!C8122=\"\",\"\",Configuração!B8122)","v":""}]
[null,null,null,null,{"$f":"IF(Configuração!C8127=\"\",\"\",Configuração!B8127)","v":""}]
[null,null,null,null,{"$f":"IF(Configuração!C8128=\"\",\"\",Configuração!B8128)","v":""}]
[null,null,null,null,{"$f":"IF(Configuração!C8133=\"\",\"\",Configuração!B8133)","v":""}]
[null,null,null,null,{"$f":"IF(Configuração!C8137=\"\",\"\",Configuração!B8137)","v":""}]
[null,null,null,null,{"$f":"IF(Configuração!C8142=\"\",\"\",Configuração!B8142)","v":""}]
[null,null,null,null,{"$f":"IF(Configuração!C8143=\"\",\"\",Configuração!B8143)","v":""}]
[null,null,null,null,{"$f":"IF(Configuração!C8148=\"\",\"\",Configuração!B8148)","v":""}]
[null,null,null,null,{"$f":"IF(Configuração!C8153=\"\",\"\",Configuração!B8153)","v":""}]
[null,null,null,null,{"$f":"IF(Configuração!C8158=\"\",\"\",Configuração!B8158)","v":""}]
[null,null,null,null,{"$f":"IF(Configuração!C8159=\"\",\"\",Configuração!B8159)","v":""}]
[null,null,null,null,{"$f":"IF(Configuração!C8165=\"\",\"\",Configuração!B8165)","v":""}]
[null,null,null,null,{"$f":"IF(Configuração!C8168=\"\",\"\",Configuração!B8168)","v":""}]
[null,null,null,null,{"$f":"IF(Configuração!C8173=\"\",\"\",Configuração!B8173)","v":""}]
[null,null,null,null,{"$f":"IF(Configuração!C8174=\"\",\"\",Configuração!B8174)","v":""}]
[null,null,null,null,{"$f":"IF(Configuração!C8179=\"\",\"\",Configuração!B8179)","v":""}]
[null,null,null,null,{"$f":"IF(Configuração!C8184=\"\",\"\",Configuração!B8184)","v":""}]
[null,null,null,null,{"$f":"IF(Configuração!C8189=\"\",\"\",Configuração!B8189)","v":""}]
[null,null,null,null,{"$f":"IF(Configuração!C8191=\"\",\"\",Configuração!B8191)","v":""}]
[null,null,null,null,{"$f":"IF(Configuração!C8194=\"\",\"\",Configuração!B8194)","v":""}]
[null,null,null,null,{"$f":"IF(Configuração!C8199=\"\",\"\",Configuração!B8199)","v":""}]
[null,null,null,null,{"$f":"IF(Configuração!C8204=\"\",\"\",Configuração!B8204)","v":""}]
[null,null,null,null,{"$f":"IF(Configuração!C8205=\"\",\"\",Configuração!B8205)","v":""}]
[null,null,null,null,{"$f":"IF(Configuração!C8210=\"\",\"\",Configuração!B8210)","v":""}]
[null,null,null,null,{"$f":"IF(Configuração!C8215=\"\",\"\",Configuração!B8215)","v":""}]
[null,null,null,null,{"$f":"IF(Configuração!C8218=\"\",\"\",Configuração!B8218)","v":""}]
[null,null,null,null,{"$f":"IF(Configuração!C8220=\"\",\"\",Configuração!B8220)","v":""}]
[null,null,null,null,{"$f":"IF(Configuração!C8225=\"\",\"\",Configuração!B8225)","v":""}]
[null,null,null,null,{"$f":"IF(Configuração!C8230=\"\",\"\",Configuração!B8230)","v":""}]
[null,null,null,null,{"$f":"IF(Configuração!C8235=\"\",\"\",Configuração!B8235)","v":""}]
[null,null,null,null,{"$f":"IF(Configuração!C8236=\"\",\"\",Configuração!B8236)","v":""}]
[null,null,null,null,{"$f":"IF(Configuração!C8241=\"\",\"\",Configuração!B8241)","v":""}]
[null,null,null,null,{"$f":"IF(Configuração!C8245=\"\",\"\",Configuração!B8245)","v":""}]
[null,null,null,null,{"$f":"IF(Configuração!C8250=\"\",\"\",Configuração!B8250)","v":""}]
[null,null,null,null,{"$f":"IF(Configuração!C8251=\"\",\"\",Configuração!B8251)","v":""}]
[null,null,null,null,{"$f":"IF(Configuração!C8256=\"\",\"\",Configuração!B8256)","v":""}]
[null,null,null,null,{"$f":"IF(Configuração!C8261=\"\",\"\",Configuração!B8261)","v":""}]
[null,null,null,null,{"$f":"IF(Configuração!C8266=\"\",\"\",Configuração!B8266)","v":""}]
[null,null,null,null,{"$f":"IF(Configuração!C8267=\"\",\"\",Configuração!B8267)","v":""}]
[null,null,null,null,{"$f":"IF(Configuração!C8272=\"\",\"\",Configuração!B8272)","v":""}]
[null,null,null,null,{"$f":"IF(Configuração!C8276=\"\",\"\",Configuração!B8276)","v":""}]
[null,null,null,null,{"$f":"IF(Configuração!C8281=\"\",\"\",Configuração!B8281)","v":""}]
[null,null,null,null,{"$f":"IF(Configuração!C8282=\"\",\"\",Configuração!B8282)","v":""}]
[null,null,null,null,{"$f":"IF(Configuração!C8287=\"\",\"\",Configuração!B8287)","v":""}]
[null,null,null,null,{"$f":"IF(Configuração!C8292=\"\",\"\",Configuração!B8292)","v":""}]
[null,null,null,null,{"$f":"IF(Configuração!C8297=\"\",\"\",Configuração!B8297)","v":""}]
[null,null,null,null,{"$f":"IF(Configuração!C8298=\"\",\"\",Configuração!B8298)","v":""}]
[null,null,null,null,{"$f":"IF(Configuração!C8302=\"\",\"\",Configuração!B8302)","v":""}]
[null,null,null,null,{"$f":"IF(Configuração!C8307=\"\",\"\",Configuração!B8307)","v":""}]
[null,null,null,null,{"$f":"IF(Configuração!C8312=\"\",\"\",Configuração!B8312)","v":""}]
[null,null,null,null,{"$f":"IF(Configuração!C8313=\"\",\"\",Configuração!B8313)","v":""}]
[null,null,null,null,{"$f":"IF(Configuração!C8318=\"\",\"\",Configuração!B8318)","v":""}]
[null,null,null,null,{"$f":"IF(Configuração!C8323=\"\",\"\",Configuração!B8323)","v":""}]
[null,null,null,null,{"$f":"IF(Configuração!C8328=\"\",\"\",Configuração!B8328)","v":""}]
[null,null,null,null,{"$f":"IF(Configuração!C8329=\"\",\"\",Configuração!B8329)","v":""}]
[null,null,null,null,{"$f":"IF(Configuração!C8333=\"\",\"\",Configuração!B8333)","v":""}]
[null,null,null,null,{"$f":"IF(Configuração!C8338=\"\",\"\",Configuração!B8338)","v":""}]
[null,null,null,null,{"$f":"IF(Configuração!C8343=\"\",\"\",Configuração!B8343)","v":""}]
[null,null,null,null,{"$f":"IF(Configuração!C8344=\"\",\"\",Configuração!B8344)","v":""}]
[null,null,null,null,{"$f":"IF(Configuração!C8349=\"\",\"\",Configuração!B8349)","v":""}]
[null,null,null,null,{"$f":"IF(Configuração!C8354=\"\",\"\",Configuração!B8354)","v":""}]
[null,null,null,null,{"$f":"IF(Configuração!C8356=\"\",\"\",Configuração!B8356)","v":""}]
[null,null,null,null,{"$f":"IF(Configuração!C8359=\"\",\"\",Configuração!B8359)","v":""}]
[null,null,null,null,{"$f":"IF(Configuração!C8364=\"\",\"\",Configuração!B8364)","v":""}]
[null,null,null,null,{"$f":"IF(Configuração!C8369=\"\",\"\",Configuração!B8369)","v":""}]
[null,null,null,null,{"$f":"IF(Configuração!C8374=\"\",\"\",Configuração!B8374)","v":""}]
[null,null,null,null,{"$f":"IF(Configuração!C8375=\"\",\"\",Configuração!B8375)","v":""}]
[null,null,null,null,{"$f":"IF(Configuração!C8380=\"\",\"\",Configuração!B8380)","v":""}]
[null,null,null,null,{"$f":"IF(Configuração!C8385=\"\",\"\",Configuração!B8385)","v":""}]
[null,null,null,null,{"$f":"IF(Configuração!C8387=\"\",\"\",Configuração!B8387)","v":""}]
[null,null,null,null,{"$f":"IF(Configuração!C8390=\"\",\"\",Configuração!B8390)","v":""}]
[null,null,null,null,{"$f":"IF(Configuração!C8395=\"\",\"\",Configuração!B8395)","v":""}]
[null,null,null,null,{"$f":"IF(Configuração!C8400=\"\",\"\",Configuração!B8400)","v":""}]
[null,null,null,null,{"$f":"IF(Configuração!C8405=\"\",\"\",Configuração!B8405)","v":""}]
[null,null,null,null,{"$f":"IF(Configuração!C8406=\"\",\"\",Configuração!B8406)","v":""}]
[null,null,null,null,{"$f":"IF(Configuração!C8411=\"\",\"\",Configuração!B8411)","v":""}]
[null,null,null,null,{"$f":"IF(Configuração!C8416=\"\",\"\",Configuração!B8416)","v":""}]
[null,null,null,null,{"$f":"IF(Configuração!C8420=\"\",\"\",Configuração!B8420)","v":""}]
[null,null,null,null,{"$f":"IF(Configuração!C8421=\"\",\"\",Configuração!B8421)","v":""}]
[null,null,null,null,{"$f":"IF(Configuração!C8426=\"\",\"\",Configuração!B8426)","v":""}]
[null,null,null,null,{"$f":"IF(Configuração!C8431=\"\",\"\",Configuração!B8431)","v":""}]
[null,null,null,null,{"$f":"IF(Configuração!C8436=\"\",\"\",Configuração!B8436)","v":""}]
[null,null,null,null,{"$f":"IF(Configuração!C8437=\"\",\"\",Configuração!B8437)","v":""}]
[null,null,null,null,{"$f":"IF(Configuração!C8443=\"\",\"\",Configuração!B8443)","v":""}]
[null,null,null,null,{"$f":"IF(Configuração!C8446=\"\",\"\",Configuração!B8446)","v":""}]
[null,null,null,null,{"$f":"IF(Configuração!C8451=\"\",\"\",Configuração!B8451)","v":""}]
[null,null,null,null,{"$f":"IF(Configuração!C8452=\"\",\"\",Configuração!B8452)","v":""}]
[null,null,null,null,{"$f":"IF(Configuração!C8457=\"\",\"\",Configuração!B8457)","v":""}]
[null,null,null,null,{"$f":"IF(Configuração!C8462=\"\",\"\",Configuração!B8462)","v":""}]
[null,null,null,null,{"$f":"IF(Configuração!C8467=\"\",\"\",Configuração!B8467)","v":""}]
[null,null,null,null,{"$f":"IF(Configuração!C8470=\"\",\"\",Configuração!B8470)","v":""}]
[null,null,null,null,{"$f":"IF(Configuração!C8472=\"\",\"\",Configuração!B8472)","v":""}]
[null,null,null,null,{"$f":"IF(Configuração!C8477=\"\",\"\",Configuração!B8477)","v":""}]
[null,null,null,null,{"$f":"IF(Configuração!C8482=\"\",\"\",Configuração!B8482)","v":""}]
[null,null,null,null,{"$f":"IF(Configuração!C8483=\"\",\"\",Configuração!B8483)","v":""}]
[null,null,null,null,{"$f":"IF(Configuração!C8488=\"\",\"\",Configuração!B8488)","v":""}]
[null,null,null,null,{"$f":"IF(Configuração!C8493=\"\",\"\",Configuração!B8493)","v":""}]
[null,null,null,null,{"$f":"IF(Configuração!C8498=\"\",\"\",Configuração!B8498)","v":""}]
[null,null,null,null,{"$f":"IF(Configuração!C8501=\"\",\"\",Configuração!B8501)","v":""}]
[null,null,null,null,{"$f":"IF(Configuração!C8503=\"\",\"\",Configuração!B8503)","v":""}]
[null,null,null,null,{"$f":"IF(Configuração!C8508=\"\",\"\",Configuração!B8508)","v":""}]
[null,null,null,null,{"$f":"IF(Configuração!C8513=\"\",\"\",Configuração!B8513)","v":""}]
[null,null,null,null,{"$f":"IF(Configuração!C8514=\"\",\"\",Configuração!B8514)","v":""}]
[null,null,null,null,{"$f":"IF(Configuração!C8519=\"\",\"\",Configuração!B8519)","v":""}]
[null,null,null,null,{"$f":"IF(Configuração!C8524=\"\",\"\",Configuração!B8524)","v":""}]
[null,null,null,null,{"$f":"IF(Configuração!C8527=\"\",\"\",Configuração!B8527)","v":""}]
[null,null,null,null,{"$f":"IF(Configuração!C8529=\"\",\"\",Configuração!B8529)","v":""}]
[null,null,null,null,{"$f":"IF(Configuração!C8534=\"\",\"\",Configuração!B8534)","v":""}]
[null,null,null,null,{"$f":"IF(Configuração!C8539=\"\",\"\",Configuração!B8539)","v":""}]
[null,null,null,null,{"$f":"IF(Configuração!C8544=\"\",\"\",Configuração!B8544)","v":""}]
[null,null,null,null,{"$f":"IF(Configuração!C8545=\"\",\"\",Configuração!B8545)","v":""}]
[null,null,null,null,{"$f":"IF(Configuração!C8550=\"\",\"\",Configuração!B8550)","v":""}]
[null,null,null,null,{"$f":"IF(Configuração!C8554=\"\",\"\",Configuração!B8554)","v":""}]
[null,null,null,null,{"$f":"IF(Configuração!C8559=\"\",\"\",Configuração!B8559)","v":""}]
[null,null,null,null,{"$f":"IF(Configuração!C8560=\"\",\"\",Configuração!B8560)","v":""}]
[null,null,null,null,{"$f":"IF(Configuração!C8565=\"\",\"\",Configuração!B8565)","v":""}]
[null,null,null,null,{"$f":"IF(Configuração!C8570=\"\",\"\",Configuração!B8570)","v":""}]
[null,null,null,null,{"$f":"IF(Configuração!C8575=\"\",\"\",Configuração!B8575)","v":""}]
[null,null,null,null,{"$f":"IF(Configuração!C8576=\"\",\"\",Configuração!B8576)","v":""}]
[null,null,null,null,{"$f":"IF(Configuração!C8581=\"\",\"\",Configuração!B8581)","v":""}]
[null,null,null,null,{"$f":"IF(Configuração!C8585=\"\",\"\",Configuração!B8585)","v":""}]
[null,null,null,null,{"$f":"IF(Configuração!C8590=\"\",\"\",Configuração!B8590)","v":""}]
[null,null,null,null,{"$f":"IF(Configuração!C8591=\"\",\"\",Configuração!B8591)","v":""}]
[null,null,null,null,{"$f":"IF(Configuração!C8596=\"\",\"\",Configuração!B8596)","v":""}]
[null,null,null,null,{"$f":"IF(Configuração!C8601=\"\",\"\",Configuração!B8601)","v":""}]
[null,null,null,null,{"$f":"IF(Configuração!C8606=\"\",\"\",Configuração!B8606)","v":""}]
[null,null,null,null,{"$f":"IF(Configuração!C8607=\"\",\"\",Configuração!B8607)","v":""}]
[null,null,null,null,{"$f":"IF(Configuração!C8612=\"\",\"\",Configuração!B8612)","v":""}]
[null,null,null,null,{"$f":"IF(Configuração!C8616=\"\",\"\",Configuração!B8616)","v":""}]
[null,null,null,null,{"$f":"IF(Configuração!C8621=\"\",\"\",Configuração!B8621)","v":""}]
[null,null,null,null,{"$f":"IF(Configuração!C8622=\"\",\"\",Configuração!B8622)","v":""}]
[null,null,null,null,{"$f":"IF(Configuração!C8627=\"\",\"\",Configuração!B8627)","v":""}]
[null,null,null,null,{"$f":"IF(Configuração!C8632=\"\",\"\",Configuração!B8632)","v":""}]
[null,null,null,null,{"$f":"IF(Configuração!C8637=\"\",\"\",Configuração!B8637)","v":""}]
[null,null,null,null,{"$f":"IF(Configuração!C8638=\"\",\"\",Configuração!B8638)","v":""}]
[null,null,null,null,{"$f":"IF(Configuração!C8642=\"\",\"\",Configuração!B8642)","v":""}]
[null,null,null,null,{"$f":"IF(Configuração!C8647=\"\",\"\",Configuração!B8647)","v":""}]
[null,null,null,null,{"$f":"IF(Configuração!C8652=\"\",\"\",Configuração!B8652)","v":""}]
[null,null,null,null,{"$f":"IF(Configuração!C8653=\"\",\"\",Configuração!B8653)","v":""}]
[null,null,null,null,{"$f":"IF(Configuração!C8658=\"\",\"\",Configuração!B8658)","v":""}]
[null,null,null,null,{"$f":"IF(Configuração!C8663=\"\",\"\",Configuração!B8663)","v":""}]
[null,null,null,null,{"$f":"IF(Configuração!C8665=\"\",\"\",Configuração!B8665)","v":""}]
[null,null,null,null,{"$f":"IF(Configuração!C8668=\"\",\"\",Configuração!B8668)","v":""}]
[null,null,null,null,{"$f":"IF(Configuração!C8673=\"\",\"\",Configuração!B8673)","v":""}]
[null,null,null,null,{"$f":"IF(Configuração!C8678=\"\",\"\",Configuração!B8678)","v":""}]
[null,null,null,null,{"$f":"IF(Configuração!C8683=\"\",\"\",Configuração!B8683)","v":""}]
[null,null,null,null,{"$f":"IF(Configuração!C8684=\"\",\"\",Configuração!B8684)","v":""}]
[null,null,null,null,{"$f":"IF(Configuração!C8689=\"\",\"\",Configuração!B8689)","v":""}]
[null,null,null,null,{"$f":"IF(Configuração!C8692=\"\",\"\",Configuração!B8692)","v":""}]
[null,null,null,null,{"$f":"IF(Configuração!C8698=\"\",\"\",Configuração!B8698)","v":""}]
[null,null,null,null,{"$f":"IF(Configuração!C8699=\"\",\"\",Configuração!B8699)","v":""}]
[null,null,null,null,{"$f":"IF(Configuração!C8704=\"\",\"\",Configuração!B8704)","v":""}]
[null,null,null,null,{"$f":"IF(Configuração!C8709=\"\",\"\",Configuração!B8709)","v":""}]
[null,null,null,null,{"$f":"IF(Configuração!C8714=\"\",\"\",Configuração!B8714)","v":""}]
[null,null,null,null,{"$f":"IF(Configuração!C8715=\"\",\"\",Configuração!B8715)","v":""}]
[null,null,null,null,{"$f":"IF(Configuração!C8720=\"\",\"\",Configuração!B8720)","v":""}]
[null,null,null,null,{"$f":"IF(Configuração!C8723=\"\",\"\",Configuração!B8723)","v":""}]
[null,null,null,null,{"$f":"IF(Configuração!C8729=\"\",\"\",Configuração!B8729)","v":""}]
[null,null,null,null,{"$f":"IF(Configuração!C8730=\"\",\"\",Configuração!B8730)","v":""}]
[null,null,null,null,{"$f":"IF(Configuração!C8735=\"\",\"\",Configuração!B8735)","v":""}]
[null,null,null,null,{"$f":"IF(Configuração!C8740=\"\",\"\",Configuração!B8740)","v":""}]
[null,null,null,null,{"$f":"IF(Configuração!C8745=\"\",\"\",Configuração!B8745)","v":""}]
[null,null,null,null,{"$f":"IF(Configuração!C8746=\"\",\"\",Configuração!B8746)","v":""}]
[null,null,null,null,{"$f":"IF(Configuração!C8750=\"\",\"\",Configuração!B8750)","v":""}]
[null,null,null,null,{"$f":"IF(Configuração!C8755=\"\",\"\",Configuração!B8755)","v":""}]
[null,null,null,null,{"$f":"IF(Configuração!C8760=\"\",\"\",Configuração!B8760)","v":""}]
[null,null,null,null,{"$f":"IF(Configuração!C8761=\"\",\"\",Configuração!B8761)","v":""}]
[null,null,null,null,{"$f":"IF(Configuração!C8766=\"\",\"\",Configuração!B8766)","v":""}]
[null,null,null,null,{"$f":"IF(Configuração!C8771=\"\",\"\",Configuração!B8771)","v":""}]
[null,null,null,null,{"$f":"IF(Configuração!C8776=\"\",\"\",Configuração!B8776)","v":""}]
[null,null,null,null,{"$f":"IF(Configuração!C8779=\"\",\"\",Configuração!B8779)","v":""}]
[null,null,null,null,{"$f":"IF(Configuração!C8781=\"\",\"\",Configuração!B8781)","v":""}]
[null,null,null,null,{"$f":"IF(Configuração!C8786=\"\",\"\",Configuração!B8786)","v":""}]
[null,null,null,null,{"$f":"IF(Configuração!C8791=\"\",\"\",Configuração!B8791)","v":""}]
[null,null,null,null,{"$f":"IF(Configuração!C8792=\"\",\"\",Configuração!B8792)","v":""}]
[null,null,null,null,{"$f":"IF(Configuração!C8797=\"\",\"\",Configuração!B8797)","v":""}]
[null,null,null,null,{"$f":"IF(Configuração!C8802=\"\",\"\",Configuração!B8802)","v":""}]
[null,null,null,null,{"$f":"IF(Configuração!C8806=\"\",\"\",Configuração!B8806)","v":""}]
[null,null,null,null,{"$f":"IF(Configuração!C8807=\"\",\"\",Configuração!B8807)","v":""}]
[null,null,null,null,{"$f":"IF(Configuração!C8812=\"\",\"\",Configuração!B8812)","v":""}]
[null,null,null,null,{"$f":"IF(Configuração!C8817=\"\",\"\",Configuração!B8817)","v":""}]
[null,null,null,null,{"$f":"IF(Configuração!C8822=\"\",\"\",Configuração!B8822)","v":""}]
[null,null,null,null,{"$f":"IF(Configuração!C8823=\"\",\"\",Configuração!B8823)","v":""}]
[null,null,null,null,{"$f":"IF(Configuração!C8828=\"\",\"\",Configuração!B8828)","v":""}]
[null,null,null,null,{"$f":"IF(Configuração!C8833=\"\",\"\",Configuração!B8833)","v":""}]
[null,null,null,null,{"$f":"IF(Configuração!C8837=\"\",\"\",Configuração!B8837)","v":""}]
[null,null,null,null,{"$f":"IF(Configuração!C8838=\"\",\"\",Configuração!B8838)","v":""}]
[null,null,null,null,{"$f":"IF(Configuração!C8843=\"\",\"\",Configuração!B8843)","v":""}]
[null,null,null,null,{"$f":"IF(Configuração!C8848=\"\",\"\",Configuração!B8848)","v":""}]
[null,null,null,null,{"$f":"IF(Configuração!C8853=\"\",\"\",Configuração!B8853)","v":""}]
[null,null,null,null,{"$f":"IF(Configuração!C8854=\"\",\"\",Configuração!B8854)","v":""}]
[null,null,null,null,{"$f":"IF(Configuração!C8859=\"\",\"\",Configuração!B8859)","v":""}]
[null,null,null,null,{"$f":"IF(Configuração!C8864=\"\",\"\",Configuração!B8864)","v":""}]
[null,null,null,null,{"$f":"IF(Configuração!C8868=\"\",\"\",Configuração!B8868)","v":""}]
[null,null,null,null,{"$f":"IF(Configuração!C8869=\"\",\"\",Configuração!B8869)","v":""}]
[null,null,null,null,{"$f":"IF(Configuração!C8874=\"\",\"\",Configuração!B8874)","v":""}]
[null,null,null,null,{"$f":"IF(Configuração!C8879=\"\",\"\",Configuração!B8879)","v":""}]
[null,null,null,null,{"$f":"IF(Configuração!C8884=\"\",\"\",Configuração!B8884)","v":""}]
[null,null,null,null,{"$f":"IF(Configuração!C8885=\"\",\"\",Configuração!B8885)","v":""}]
[null,null,null,null,{"$f":"IF(Configuração!C8890=\"\",\"\",Configuração!B8890)","v":""}]
[null,null,null,null,{"$f":"IF(Configuração!C8894=\"\",\"\",Configuração!B8894)","v":""}]
[null,null,null,null,{"$f":"IF(Configuração!C8899=\"\",\"\",Configuração!B8899)","v":""}]
[null,null,null,null,{"$f":"IF(Configuração!C8900=\"\",\"\",Configuração!B8900)","v":""}]
[null,null,null,null,{"$f":"IF(Configuração!C8905=\"\",\"\",Configuração!B8905)","v":""}]
[null,null,null,null,{"$f":"IF(Configuração!C8910=\"\",\"\",Configuração!B8910)","v":""}]
[null,null,null,null,{"$f":"IF(Configuração!C8915=\"\",\"\",Configuração!B8915)","v":""}]
[null,null,null,null,{"$f":"IF(Configuração!C8917=\"\",\"\",Configuração!B8917)","v":""}]
[null,null,null,null,{"$f":"IF(Configuração!C8920=\"\",\"\",Configuração!B8920)","v":""}]
[null,null,null,null,{"$f":"IF(Configuração!C8925=\"\",\"\",Configuração!B8925)","v":""}]
[null,null,null,null,{"$f":"IF(Configuração!C8930=\"\",\"\",Configuração!B8930)","v":""}]
[null,null,null,null,{"$f":"IF(Configuração!C8931=\"\",\"\",Configuração!B8931)","v":""}]
[null,null,null,null,{"$f":"IF(Configuração!C8936=\"\",\"\",Configuração!B8936)","v":""}]
[null,null,null,null,{"$f":"IF(Configuração!C8941=\"\",\"\",Configuração!B8941)","v":""}]
[null,null,null,null,{"$f":"IF(Configuração!C8946=\"\",\"\",Configuração!B8946)","v":""}]
[null,null,null,null,{"$f":"IF(Configuração!C8948=\"\",\"\",Configuração!B8948)","v":""}]
[null,null,null,null,{"$f":"IF(Configuração!C8951=\"\",\"\",Configuração!B8951)","v":""}]
[null,null,null,null,{"$f":"IF(Configuração!C8956=\"\",\"\",Configuração!B8956)","v":""}]
[null,null,null,null,{"$f":"IF(Configuração!C8961=\"\",\"\",Configuração!B8961)","v":""}]
[null,null,null,null,{"$f":"IF(Configuração!C8962=\"\",\"\",Configuração!B8962)","v":""}]
[null,null,null,null,{"$f":"IF(Configuração!C8967=\"\",\"\",Configuração!B8967)","v":""}]
[null,null,null,null,{"$f":"IF(Configuração!C8972=\"\",\"\",Configuração!B8972)","v":""}]
[null,null,null,null,{"$f":"IF(Configuração!C8975=\"\",\"\",Configuração!B8975)","v":""}]
[null,null,null,null,{"$f":"IF(Configuração!C8977=\"\",\"\",Configuração!B8977)","v":""}]
[null,null,null,null,{"$f":"IF(Configuração!C8982=\"\",\"\",Configuração!B8982)","v":""}]
[null,null,null,null,{"$f":"IF(Configuração!C8987=\"\",\"\",Configuração!B8987)","v":""}]
[null,null,null,null,{"$f":"IF(Configuração!C8992=\"\",\"\",Configuração!B8992)","v":""}]
[null,null,null,null,{"$f":"IF(Configuração!C8993=\"\",\"\",Configuração!B8993)","v":""}]
[null,null,null,null,{"$f":"IF(Configuração!C8998=\"\",\"\",Configuração!B8998)","v":""}]
[null,null,null,null,{"$f":"IF(Configuração!C9001=\"\",\"\",Configuração!B9001)","v":""}]
[null,null,null,null,{"$f":"IF(Configuração!C9007=\"\",\"\",Configuração!B9007)","v":""}]
[null,null,null,null,{"$f":"IF(Configuração!C9008=\"\",\"\",Configuração!B9008)","v":""}]
[null,null,null,null,{"$f":"IF(Configuração!C9013=\"\",\"\",Configuração!B9013)","v":""}]
[null,null,null,null,{"$f":"IF(Configuração!C9018=\"\",\"\",Configuração!B9018)","v":""}]
[null,null,null,null,{"$f":"IF(Configuração!C9023=\"\",\"\",Configuração!B9023)","v":""}]
[null,null,null,null,{"$f":"IF(Configuração!C9024=\"\",\"\",Configuração!B9024)","v":""}]
[null,null,null,null,{"$f":"IF(Configuração!C9028=\"\",\"\",Configuração!B9028)","v":""}]
[null,null,null,null,{"$f":"IF(Configuração!C9033=\"\",\"\",Configuração!B9033)","v":""}]
[null,null,null,null,{"$f":"IF(Configuração!C9038=\"\",\"\",Configuração!B9038)","v":""}]
[null,null,null,null,{"$f":"IF(Configuração!C9039=\"\",\"\",Configuração!B9039)","v":""}]
[null,null,null,null,{"$f":"IF(Configuração!C9044=\"\",\"\",Configuração!B9044)","v":""}]
[null,null,null,null,{"$f":"IF(Configuração!C9049=\"\",\"\",Configuração!B9049)","v":""}]
[null,null,null,null,{"$f":"IF(Configuração!C9054=\"\",\"\",Configuração!B9054)","v":""}]
[null,null,null,null,{"$f":"IF(Configuração!C9055=\"\",\"\",Configuração!B9055)","v":""}]
[null,null,null,null,{"$f":"IF(Configuração!C9059=\"\",\"\",Configuração!B9059)","v":""}]
[null,null,null,null,{"$f":"IF(Configuração!C9064=\"\",\"\",Configuração!B9064)","v":""}]
[null,null,null,null,{"$f":"IF(Configuração!C9069=\"\",\"\",Configuração!B9069)","v":""}]
[null,null,null,null,{"$f":"IF(Configuração!C9070=\"\",\"\",Configuração!B9070)","v":""}]
[null,null,null,null,{"$f":"IF(Configuração!C9075=\"\",\"\",Configuração!B9075)","v":""}]
[null,null,null,null,{"$f":"IF(Configuração!C9080=\"\",\"\",Configuração!B9080)","v":""}]
[null,null,null,null,{"$f":"IF(Configuração!C9085=\"\",\"\",Configuração!B9085)","v":""}]
[null,null,null,null,{"$f":"IF(Configuração!C9086=\"\",\"\",Configuração!B9086)","v":""}]
[null,null,null,null,{"$f":"IF(Configuração!C9090=\"\",\"\",Configuração!B9090)","v":""}]
[null,null,null,null,{"$f":"IF(Configuração!C9095=\"\",\"\",Configuração!B9095)","v":""}]
[null,null,null,null,{"$f":"IF(Configuração!C9100=\"\",\"\",Configuração!B9100)","v":""}]
[null,null,null,null,{"$f":"IF(Configuração!C9101=\"\",\"\",Configuração!B9101)","v":""}]
[null,null,null,null,{"$f":"IF(Configuração!C9106=\"\",\"\",Configuração!B9106)","v":""}]
[null,null,null,null,{"$f":"IF(Configuração!C9111=\"\",\"\",Configuração!B9111)","v":""}]
[null,null,null,null,{"$f":"IF(Configuração!C9115=\"\",\"\",Configuração!B9115)","v":""}]
[null,null,null,null,{"$f":"IF(Configuração!C9116=\"\",\"\",Configuração!B9116)","v":""}]
[null,null,null,null,{"$f":"IF(Configuração!C9121=\"\",\"\",Configuração!B9121)","v":""}]
[null,null,null,null,{"$f":"IF(Configuração!C9126=\"\",\"\",Configuração!B9126)","v":""}]
[null,null,null,null,{"$f":"IF(Configuração!C9131=\"\",\"\",Configuração!B9131)","v":""}]
[null,null,null,null,{"$f":"IF(Configuração!C9132=\"\",\"\",Configuração!B9132)","v":""}]
[null,null,null,null,{"$f":"IF(Configuração!C9137=\"\",\"\",Configuração!B9137)","v":""}]
[null,null,null,null,{"$f":"IF(Configuração!C9142=\"\",\"\",Configuração!B9142)","v":""}]
[null,null,null,null,{"$f":"IF(Configuração!C9146=\"\",\"\",Configuração!B9146)","v":""}]
[null,null,null,null,{"$f":"IF(Configuração!C9147=\"\",\"\",Configuração!B9147)","v":""}]
[null,null,null,null,{"$f":"IF(Configuração!C9152=\"\",\"\",Configuração!B9152)","v":""}]
[null,null,null,null,{"$f":"IF(Configuração!C9157=\"\",\"\",Configuração!B9157)","v":""}]
[null,null,null,null,{"$f":"IF(Configuração!C9162=\"\",\"\",Configuração!B9162)","v":""}]
[null,null,null,null,{"$f":"IF(Configuração!C9163=\"\",\"\",Configuração!B9163)","v":""}]
[null,null,null,null,{"$f":"IF(Configuração!C9168=\"\",\"\",Configuração!B9168)","v":""}]
[null,null,null,null,{"$f":"IF(Configuração!C9173=\"\",\"\",Configuração!B9173)","v":""}]
[null,null,null,null,{"$f":"IF(Configuração!C9177=\"\",\"\",Configuração!B9177)","v":""}]
[null,null,null,null,{"$f":"IF(Configuração!C9178=\"\",\"\",Configuração!B9178)","v":""}]
[null,null,null,null,{"$f":"IF(Configuração!C9183=\"\",\"\",Configuração!B9183)","v":""}]
[null,null,null,null,{"$f":"IF(Configuração!C9188=\"\",\"\",Configuração!B9188)","v":""}]
[null,null,null,null,{"$f":"IF(Configuração!C9193=\"\",\"\",Configuração!B9193)","v":""}]
[null,null,null,null,{"$f":"IF(Configuração!C9194=\"\",\"\",Configuração!B9194)","v":""}]
[null,null,null,null,{"$f":"IF(Configuração!C9200=\"\",\"\",Configuração!B9200)","v":""}]
[null,null,null,null,{"$f":"IF(Configuração!C9203=\"\",\"\",Configuração!B9203)","v":""}]
[null,null,null,null,{"$f":"IF(Configuração!C9208=\"\",\"\",Configuração!B9208)","v":""}]
[null,null,null,null,{"$f":"IF(Configuração!C9209=\"\",\"\",Configuração!B9209)","v":""}]
[null,null,null,null,{"$f":"IF(Configuração!C9214=\"\",\"\",Configuração!B9214)","v":""}]
[null,null,null,null,{"$f":"IF(Configuração!C9219=\"\",\"\",Configuração!B9219)","v":""}]
[null,null,null,null,{"$f":"IF(Configuração!C9224=\"\",\"\",Configuração!B9224)","v":""}]
[null,null,null,null,{"$f":"IF(Configuração!C9227=\"\",\"\",Configuração!B9227)","v":""}]
[null,null,null,null,{"$f":"IF(Configuração!C9229=\"\",\"\",Configuração!B9229)","v":""}]
[null,null,null,null,{"$f":"IF(Configuração!C9234=\"\",\"\",Configuração!B9234)","v":""}]
[null,null,null,null,{"$f":"IF(Configuração!C9239=\"\",\"\",Configuração!B9239)","v":""}]
[null,null,null,null,{"$f":"IF(Configuração!C9240=\"\",\"\",Configuração!B9240)","v":""}]
[null,null,null,null,{"$f":"IF(Configuração!C9245=\"\",\"\",Configuração!B9245)","v":""}]
[null,null,null,null,{"$f":"IF(Configuração!C9250=\"\",\"\",Configuração!B9250)","v":""}]
[null,null,null,null,{"$f":"IF(Configuração!C9253=\"\",\"\",Configuração!B9253)","v":""}]
[null,null,null,null,{"$f":"IF(Configuração!C9255=\"\",\"\",Configuração!B9255)","v":""}]
[null,null,null,null,{"$f":"IF(Configuração!C9260=\"\",\"\",Configuração!B9260)","v":""}]
[null,null,null,null,{"$f":"IF(Configuração!C9265=\"\",\"\",Configuração!B9265)","v":""}]
[null,null,null,null,{"$f":"IF(Configuração!C9270=\"\",\"\",Configuração!B9270)","v":""}]
[null,null,null,null,{"$f":"IF(Configuração!C9271=\"\",\"\",Configuração!B9271)","v":""}]
[null,null,null,null,{"$f":"IF(Configuração!C9276=\"\",\"\",Configuração!B9276)","v":""}]
[null,null,null,null,{"$f":"IF(Configuração!C9281=\"\",\"\",Configuração!B9281)","v":""}]
[null,null,null,null,{"$f":"IF(Configuração!C9284=\"\",\"\",Configuração!B9284)","v":""}]
[null,null,null,null,{"$f":"IF(Configuração!C9286=\"\",\"\",Configuração!B9286)","v":""}]
[null,null,null,null,{"$f":"IF(Configuração!C9291=\"\",\"\",Configuração!B9291)","v":""}]
[null,null,null,null,{"$f":"IF(Configuração!C9296=\"\",\"\",Configuração!B9296)","v":""}]
[null,null,null,null,{"$f":"IF(Configuração!C9301=\"\",\"\",Configuração!B9301)","v":""}]
[null,null,null,null,{"$f":"IF(Configuração!C9302=\"\",\"\",Configuração!B9302)","v":""}]
[null,null,null,null,{"$f":"IF(Configuração!C9307=\"\",\"\",Configuração!B9307)","v":""}]
[null,null,null,null,{"$f":"IF(Configuração!C9311=\"\",\"\",Configuração!B9311)","v":""}]
[null,null,null,null,{"$f":"IF(Configuração!C9316=\"\",\"\",Configuração!B9316)","v":""}]
[null,null,null,null,{"$f":"IF(Configuração!C9317=\"\",\"\",Configuração!B9317)","v":""}]
[null,null,null,null,{"$f":"IF(Configuração!C9322=\"\",\"\",Configuração!B9322)","v":""}]
[null,null,null,null,{"$f":"IF(Configuração!C9327=\"\",\"\",Configuração!B9327)","v":""}]
[null,null,null,null,{"$f":"IF(Configuração!C9332=\"\",\"\",Configuração!B9332)","v":""}]
[null,null,null,null,{"$f":"IF(Configuração!C9333=\"\",\"\",Configuração!B9333)","v":""}]
[null,null,null,null,{"$f":"IF(Configuração!C9338=\"\",\"\",Configuração!B9338)","v":""}]
[null,null,null,null,{"$f":"IF(Configuração!C9342=\"\",\"\",Configuração!B9342)","v":""}]
[null,null,null,null,{"$f":"IF(Configuração!C9347=\"\",\"\",Configuração!B9347)","v":""}]
[null,null,null,null,{"$f":"IF(Configuração!C9348=\"\",\"\",Configuração!B9348)","v":""}]
[null,null,null,null,{"$f":"IF(Configuração!C9353=\"\",\"\",Configuração!B9353)","v":""}]
[null,null,null,null,{"$f":"IF(Configuração!C9358=\"\",\"\",Configuração!B9358)","v":""}]
[null,null,null,null,{"$f":"IF(Configuração!C9363=\"\",\"\",Configuração!B9363)","v":""}]
[null,null,null,null,{"$f":"IF(Configuração!C9364=\"\",\"\",Configuração!B9364)","v":""}]
[null,null,null,null,{"$f":"IF(Configuração!C9368=\"\",\"\",Configuração!B9368)","v":""}]
[null,null,null,null,{"$f":"IF(Configuração!C9373=\"\",\"\",Configuração!B9373)","v":""}]
[null,null,null,null,{"$f":"IF(Configuração!C9378=\"\",\"\",Configuração!B9378)","v":""}]
[null,null,null,null,{"$f":"IF(Configuração!C9379=\"\",\"\",Configuração!B9379)","v":""}]
[null,null,null,null,{"$f":"IF(Configuração!C9384=\"\",\"\",Configuração!B9384)","v":""}]
[null,null,null,null,{"$f":"IF(Configuração!C9389=\"\",\"\",Configuração!B9389)","v":""}]
[null,null,null,null,{"$f":"IF(Configuração!C9394=\"\",\"\",Configuração!B9394)","v":""}]
[null,null,null,null,{"$f":"IF(Configuração!C9395=\"\",\"\",Configuração!B9395)","v":""}]
[null,null,null,null,{"$f":"IF(Configuração!C9399=\"\",\"\",Configuração!B9399)","v":""}]
[null,null,null,null,{"$f":"IF(Configuração!C9404=\"\",\"\",Configuração!B9404)","v":""}]
[null,null,null,null,{"$f":"IF(Configuração!C9409=\"\",\"\",Configuração!B9409)","v":""}]
[null,null,null,null,{"$f":"IF(Configuração!C9410=\"\",\"\",Configuração!B9410)","v":""}]
[null,null,null,null,{"$f":"IF(Configuração!C9415=\"\",\"\",Configuração!B9415)","v":""}]
[null,null,null,null,{"$f":"IF(Configuração!C9420=\"\",\"\",Configuração!B9420)","v":""}]
[null,null,null,null,{"$f":"IF(Configuração!C9422=\"\",\"\",Configuração!B9422)","v":""}]
[null,null,null,null,{"$f":"IF(Configuração!C9425=\"\",\"\",Configuração!B9425)","v":""}]
[null,null,null,null,{"$f":"IF(Configuração!C9430=\"\",\"\",Configuração!B9430)","v":""}]
[null,null,null,null,{"$f":"IF(Configuração!C9435=\"\",\"\",Configuração!B9435)","v":""}]
[null,null,null,null,{"$f":"IF(Configuração!C9440=\"\",\"\",Configuração!B9440)","v":""}]
[null,null,null,null,{"$f":"IF(Configuração!C9441=\"\",\"\",Configuração!B9441)","v":""}]
[null,null,null,null,{"$f":"IF(Configuração!C9446=\"\",\"\",Configuração!B9446)","v":""}]
[null,null,null,null,{"$f":"IF(Configuração!C9449=\"\",\"\",Configuração!B9449)","v":""}]
[null,null,null,null,{"$f":"IF(Configuração!C9455=\"\",\"\",Configuração!B9455)","v":""}]
[null,null,null,null,{"$f":"IF(Configuração!C9456=\"\",\"\",Configuração!B9456)","v":""}]
[null,null,null,null,{"$f":"IF(Configuração!C9461=\"\",\"\",Configuração!B9461)","v":""}]
[null,null,null,null,{"$f":"IF(Configuração!C9466=\"\",\"\",Configuração!B9466)","v":""}]
[null,null,null,null,{"$f":"IF(Configuração!C9471=\"\",\"\",Configuração!B9471)","v":""}]
[null,null,null,null,{"$f":"IF(Configuração!C9472=\"\",\"\",Configuração!B9472)","v":""}]
[null,null,null,null,{"$f":"IF(Configuração!C9478=\"\",\"\",Configuração!B9478)","v":""}]
[null,null,null,null,{"$f":"IF(Configuração!C9481=\"\",\"\",Configuração!B9481)","v":""}]
[null,null,null,null,{"$f":"IF(Configuração!C9486=\"\",\"\",Configuração!B9486)","v":""}]
[null,null,null,null,{"$f":"IF(Configuração!C9487=\"\",\"\",Configuração!B9487)","v":""}]
[null,null,null,null,{"$f":"IF(Configuração!C9492=\"\",\"\",Configuração!B9492)","v":""}]
[null,null,null,null,{"$f":"IF(Configuração!C9497=\"\",\"\",Configuração!B9497)","v":""}]
[null,null,null,null,{"$f":"IF(Configuração!C9502=\"\",\"\",Configuração!B9502)","v":""}]
[null,null,null,null,{"$f":"IF(Configuração!C9503=\"\",\"\",Configuração!B9503)","v":""}]
[null,null,null,null,{"$f":"IF(Configuração!C9507=\"\",\"\",Configuração!B9507)","v":""}]
[null,null,null,null,{"$f":"IF(Configuração!C9508=\"\",\"\",Configuração!B9508)","v":""}]
[null,null,null,null,{"$f":"IF(Configuração!C9509=\"\",\"\",Configuração!B9509)","v":""}]
[null,null,null,null,{"$f":"IF(Configuração!C9510=\"\",\"\",Configuração!B9510)","v":""}]
[null,null,null,null,{"$f":"IF(Configuração!C9511=\"\",\"\",Configuração!B9511)","v":""}]
[null,null,null,null,{"$f":"IF(Configuração!C9512=\"\",\"\",Configuração!B9512)","v":""}]
[null,null,null,null,{"$f":"IF(Configuração!C9513=\"\",\"\",Configuração!B9513)","v":""}]
[null,null,null,null,{"$f":"IF(Configuração!C9514=\"\",\"\",Configuração!B9514)","v":""}]
[null,null,null,null,{"$f":"IF(Configuração!C9515=\"\",\"\",Configuração!B9515)","v":""}]
[null,null,null,null,{"$f":"IF(Configuração!C9516=\"\",\"\",Configuração!B9516)","v":""}]
[null,null,null,null,{"$f":"IF(Configuração!C9517=\"\",\"\",Configuração!B9517)","v":""}]
[null,null,null,null,{"$f":"IF(Configuração!C9518=\"\",\"\",Configuração!B9518)","v":""}]
[null,null,null,null,{"$f":"IF(Configuração!C9519=\"\",\"\",Configuração!B9519)","v":""}]
[null,null,null,null,{"$f":"IF(Configuração!C9520=\"\",\"\",Configuração!B9520)","v":""}]
[null,null,null,null,{"$f":"IF(Configuração!C9521=\"\",\"\",Configuração!B9521)","v":""}]
[null,null,null,null,{"$f":"IF(Configuração!C9522=\"\",\"\",Configuração!B9522)","v":""}]
[null,null,null,null,{"$f":"IF(Configuração!C9523=\"\",\"\",Configuração!B9523)","v":""}]
[null,null,null,null,{"$f":"IF(Configuração!C9524=\"\",\"\",Configuração!B9524)","v":""}]
[null,null,null,null,{"$f":"IF(Configuração!C9525=\"\",\"\",Configuração!B9525)","v":""}]
[null,null,null,null,{"$f":"IF(Configuração!C9526=\"\",\"\",Configuração!B9526)","v":""}]
[null,null,null,null,{"$f":"IF(Configuração!C9527=\"\",\"\",Configuração!B9527)","v":""}]
[null,null,null,null,{"$f":"IF(Configuração!C9528=\"\",\"\",Configuração!B9528)","v":""}]
[null,null,null,null,{"$f":"IF(Configuração!C9529=\"\",\"\",Configuração!B9529)","v":""}]
[null,null,null,null,{"$f":"IF(Configuração!C9530=\"\",\"\",Configuração!B9530)","v":""}]
[null,null,null,null,{"$f":"IF(Configuração!C9531=\"\",\"\",Configuração!B9531)","v":""}]
[null,null,null,null,{"$f":"IF(Configuração!C9532=\"\",\"\",Configuração!B9532)","v":""}]
[null,null,null,null,{"$f":"IF(Configuração!C9533=\"\",\"\",Configuração!B9533)","v":""}]
[null,null,null,null,{"$f":"IF(Configuração!C9534=\"\",\"\",Configuração!B9534)","v":""}]
[null,null,null,null,{"$f":"IF(Configuração!C9535=\"\",\"\",Configuração!B9535)","v":""}]
[null,null,null,null,{"$f":"IF(Configuração!C9536=\"\",\"\",Configuração!B9536)","v":""}]
[null,null,null,null,{"$f":"IF(Configuração!C9537=\"\",\"\",Configuração!B9537)","v":""}]
[null,null,null,null,{"$f":"IF(Configuração!C9538=\"\",\"\",Configuração!B9538)","v":""}]
[null,null,null,null,{"$f":"IF(Configuração!C9539=\"\",\"\",Configuração!B9539)","v":""}]
[null,null,null,null,{"$f":"IF(Configuração!C9540=\"\",\"\",Configuração!B9540)","v":""}]
[null,null,null,null,{"$f":"IF(Configuração!C9541=\"\",\"\",Configuração!B9541)","v":""}]
[null,null,null,null,{"$f":"IF(Configuração!C9542=\"\",\"\",Configuração!B9542)","v":""}]
[null,null,null,null,{"$f":"IF(Configuração!C9543=\"\",\"\",Configuração!B9543)","v":""}]
[null,null,null,null,{"$f":"IF(Configuração!C9544=\"\",\"\",Configuração!B9544)","v":""}]
[null,null,null,null,{"$f":"IF(Configuração!C9545=\"\",\"\",Configuração!B9545)","v":""}]
[null,null,null,null,{"$f":"IF(Configuração!C9546=\"\",\"\",Configuração!B9546)","v":""}]
[null,null,null,null,{"$f":"IF(Configuração!C9547=\"\",\"\",Configuração!B9547)","v":""}]
[null,null,null,null,{"$f":"IF(Configuração!C9548=\"\",\"\",Configuração!B9548)","v":""}]
[null,null,null,null,{"$f":"IF(Configuração!C9549=\"\",\"\",Configuração!B9549)","v":""}]
[null,null,null,null,{"$f":"IF(Configuração!C9550=\"\",\"\",Configuração!B9550)","v":""}]
[null,null,null,null,{"$f":"IF(Configuração!C9551=\"\",\"\",Configuração!B9551)","v":""}]
[null,null,null,null,{"$f":"IF(Configuração!C9552=\"\",\"\",Configuração!B9552)","v":""}]
[null,null,null,null,{"$f":"IF(Configuração!C9553=\"\",\"\",Configuração!B9553)","v":""}]
[null,null,null,null,{"$f":"IF(Configuração!C9554=\"\",\"\",Configuração!B9554)","v":""}]
[null,null,null,null,{"$f":"IF(Configuração!C9555=\"\",\"\",Configuração!B9555)","v":""}]
[null,null,null,null,{"$f":"IF(Configuração!C9556=\"\",\"\",Configuração!B9556)","v":""}]
[null,null,null,null,{"$f":"IF(Configuração!C9557=\"\",\"\",Configuração!B9557)","v":""}]
[null,null,null,null,{"$f":"IF(Configuração!C9558=\"\",\"\",Configuração!B9558)","v":""}]
[null,null,null,null,{"$f":"IF(Configuração!C9559=\"\",\"\",Configuração!B9559)","v":""}]
[null,null,null,null,{"$f":"IF(Configuração!C9560=\"\",\"\",Configuração!B9560)","v":""}]
[null,null,null,null,{"$f":"IF(Configuração!C9561=\"\",\"\",Configuração!B9561)","v":""}]
[null,null,null,null,{"$f":"IF(Configuração!C9562=\"\",\"\",Configuração!B9562)","v":""}]
[null,null,null,null,{"$f":"IF(Configuração!C9563=\"\",\"\",Configuração!B9563)","v":""}]
[null,null,null,null,{"$f":"IF(Configuração!C9564=\"\",\"\",Configuração!B9564)","v":""}]
[null,null,null,null,{"$f":"IF(Configuração!C9565=\"\",\"\",Configuração!B9565)","v":""}]
[null,null,null,null,{"$f":"IF(Configuração!C9566=\"\",\"\",Configuração!B9566)","v":""}]
[null,null,null,null,{"$f":"IF(Configuração!C9567=\"\",\"\",Configuração!B9567)","v":""}]
[null,null,null,null,{"$f":"IF(Configuração!C9568=\"\",\"\",Configuração!B9568)","v":""}]
[null,null,null,null,{"$f":"IF(Configuração!C9569=\"\",\"\",Configuração!B9569)","v":""}]
[null,null,null,null,{"$f":"IF(Configuração!C9570=\"\",\"\",Configuração!B9570)","v":""}]
[null,null,null,null,{"$f":"IF(Configuração!C9571=\"\",\"\",Configuração!B9571)","v":""}]
[null,null,null,null,{"$f":"IF(Configuração!C9572=\"\",\"\",Configuração!B9572)","v":""}]
[null,null,null,null,{"$f":"IF(Configuração!C9573=\"\",\"\",Configuração!B9573)","v":""}]
[null,null,null,null,{"$f":"IF(Configuração!C9574=\"\",\"\",Configuração!B9574)","v":""}]
[null,null,null,null,{"$f":"IF(Configuração!C9575=\"\",\"\",Configuração!B9575)","v":""}]
[null,null,null,null,{"$f":"IF(Configuração!C9576=\"\",\"\",Configuração!B9576)","v":""}]
[null,null,null,null,{"$f":"IF(Configuração!C9577=\"\",\"\",Configuração!B9577)","v":""}]
[null,null,null,null,{"$f":"IF(Configuração!C9578=\"\",\"\",Configuração!B9578)","v":""}]
[null,null,null,null,{"$f":"IF(Configuração!C9579=\"\",\"\",Configuração!B9579)","v":""}]
[null,null,null,null,{"$f":"IF(Configuração!C9580=\"\",\"\",Configuração!B9580)","v":""}]
[null,null,null,null,{"$f":"IF(Configuração!C9581=\"\",\"\",Configuração!B9581)","v":""}]
[null,null,null,null,{"$f":"IF(Configuração!C9582=\"\",\"\",Configuração!B9582)","v":""}]
[null,null,null,null,{"$f":"IF(Configuração!C9583=\"\",\"\",Configuração!B9583)","v":""}]
[null,null,null,null,{"$f":"IF(Configuração!C9584=\"\",\"\",Configuração!B9584)","v":""}]
[null,null,null,null,{"$f":"IF(Configuração!C9585=\"\",\"\",Configuração!B9585)","v":""}]
[null,null,null,null,{"$f":"IF(Configuração!C9586=\"\",\"\",Configuração!B9586)","v":""}]
[null,null,null,null,{"$f":"IF(Configuração!C9587=\"\",\"\",Configuração!B9587)","v":""}]
[null,null,null,null,{"$f":"IF(Configuração!C9588=\"\",\"\",Configuração!B9588)","v":""}]
[null,null,null,null,{"$f":"IF(Configuração!C9589=\"\",\"\",Configuração!B9589)","v":""}]
[null,null,null,null,{"$f":"IF(Configuração!C9590=\"\",\"\",Configuração!B9590)","v":""}]
[null,null,null,null,{"$f":"IF(Configuração!C9591=\"\",\"\",Configuração!B9591)","v":""}]
[null,null,null,null,{"$f":"IF(Configuração!C9592=\"\",\"\",Configuração!B9592)","v":""}]
[null,null,null,null,{"$f":"IF(Configuração!C9593=\"\",\"\",Configuração!B9593)","v":""}]
[null,null,null,null,{"$f":"IF(Configuração!C9594=\"\",\"\",Configuração!B9594)","v":""}]
[null,null,null,null,{"$f":"IF(Configuração!C9595=\"\",\"\",Configuração!B9595)","v":""}]
[null,null,null,null,{"$f":"IF(Configuração!C9596=\"\",\"\",Configuração!B9596)","v":""}]
[null,null,null,null,{"$f":"IF(Configuração!C9597=\"\",\"\",Configuração!B9597)","v":""}]
[null,null,null,null,{"$f":"IF(Configuração!C9598=\"\",\"\",Configuração!B9598)","v":""}]
[null,null,null,null,{"$f":"IF(Configuração!C9599=\"\",\"\",Configuração!B9599)","v":""}]
[null,null,null,null,{"$f":"IF(Configuração!C9600=\"\",\"\",Configuração!B9600)","v":""}]
[null,null,null,null,{"$f":"IF(Configuração!C9601=\"\",\"\",Configuração!B9601)","v":""}]
[null,null,null,null,{"$f":"IF(Configuração!C9602=\"\",\"\",Configuração!B9602)","v":""}]
[null,null,null,null,{"$f":"IF(Configuração!C9603=\"\",\"\",Configuração!B9603)","v":""}]
[null,null,null,null,{"$f":"IF(Configuração!C9604=\"\",\"\",Configuração!B9604)","v":""}]
[null,null,null,null,{"$f":"IF(Configuração!C9605=\"\",\"\",Configuração!B9605)","v":""}]
[null,null,null,null,{"$f":"IF(Configuração!C9606=\"\",\"\",Configuração!B9606)","v":""}]
[null,null,null,null,{"$f":"IF(Configuração!C9607=\"\",\"\",Configuração!B9607)","v":""}]
[null,null,null,null,{"$f":"IF(Configuração!C9608=\"\",\"\",Configuração!B9608)","v":""}]
[null,null,null,null,{"$f":"IF(Configuração!C9609=\"\",\"\",Configuração!B9609)","v":""}]
[null,null,null,null,{"$f":"IF(Configuração!C9610=\"\",\"\",Configuração!B9610)","v":""}]
[null,null,null,null,{"$f":"IF(Configuração!C9611=\"\",\"\",Configuração!B9611)","v":""}]
[null,null,null,null,{"$f":"IF(Configuração!C9612=\"\",\"\",Configuração!B9612)","v":""}]
[null,null,null,null,{"$f":"IF(Configuração!C9613=\"\",\"\",Configuração!B9613)","v":""}]
[null,null,null,null,{"$f":"IF(Configuração!C9614=\"\",\"\",Configuração!B9614)","v":""}]
[null,null,null,null,{"$f":"IF(Configuração!C9615=\"\",\"\",Configuração!B9615)","v":""}]
[null,null,null,null,{"$f":"IF(Configuração!C9616=\"\",\"\",Configuração!B9616)","v":""}]
[null,null,null,null,{"$f":"IF(Configuração!C9617=\"\",\"\",Configuração!B9617)","v":""}]
[null,null,null,null,{"$f":"IF(Configuração!C9618=\"\",\"\",Configuração!B9618)","v":""}]
[null,null,null,null,{"$f":"IF(Configuração!C9619=\"\",\"\",Configuração!B9619)","v":""}]
[null,null,null,null,{"$f":"IF(Configuração!C9620=\"\",\"\",Configuração!B9620)","v":""}]
[null,null,null,null,{"$f":"IF(Configuração!C9621=\"\",\"\",Configuração!B9621)","v":""}]
[null,null,null,null,{"$f":"IF(Configuração!C9622=\"\",\"\",Configuração!B9622)","v":""}]
[null,null,null,null,{"$f":"IF(Configuração!C9623=\"\",\"\",Configuração!B9623)","v":""}]
[null,null,null,null,{"$f":"IF(Configuração!C9624=\"\",\"\",Configuração!B9624)","v":""}]
[null,null,null,null,{"$f":"IF(Configuração!C9625=\"\",\"\",Configuração!B9625)","v":""}]
[null,null,null,null,{"$f":"IF(Configuração!C9626=\"\",\"\",Configuração!B9626)","v":""}]
[null,null,null,null,{"$f":"IF(Configuração!C9627=\"\",\"\",Configuração!B9627)","v":""}]
[null,null,null,null,{"$f":"IF(Configuração!C9628=\"\",\"\",Configuração!B9628)","v":""}]
[null,null,null,null,{"$f":"IF(Configuração!C9629=\"\",\"\",Configuração!B9629)","v":""}]
[null,null,null,null,{"$f":"IF(Configuração!C9630=\"\",\"\",Configuração!B9630)","v":""}]
[null,null,null,null,{"$f":"IF(Configuração!C9631=\"\",\"\",Configuração!B9631)","v":""}]
[null,null,null,null,{"$f":"IF(Configuração!C9632=\"\",\"\",Configuração!B9632)","v":""}]
[null,null,null,null,{"$f":"IF(Configuração!C9633=\"\",\"\",Configuração!B9633)","v":""}]
[null,null,null,null,{"$f":"IF(Configuração!C9634=\"\",\"\",Configuração!B9634)","v":""}]
[null,null,null,null,{"$f":"IF(Configuração!C9635=\"\",\"\",Configuração!B9635)","v":""}]
[null,null,null,null,{"$f":"IF(Configuração!C9636=\"\",\"\",Configuração!B9636)","v":""}]
[null,null,null,null,{"$f":"IF(Configuração!C9637=\"\",\"\",Configuração!B9637)","v":""}]
[null,null,null,null,{"$f":"IF(Configuração!C9638=\"\",\"\",Configuração!B9638)","v":""}]
[null,null,null,null,{"$f":"IF(Configuração!C9639=\"\",\"\",Configuração!B9639)","v":""}]
[null,null,null,null,{"$f":"IF(Configuração!C9640=\"\",\"\",Configuração!B9640)","v":""}]
[null,null,null,null,{"$f":"IF(Configuração!C9641=\"\",\"\",Configuração!B9641)","v":""}]
[null,null,null,null,{"$f":"IF(Configuração!C9642=\"\",\"\",Configuração!B9642)","v":""}]
[null,null,null,null,{"$f":"IF(Configuração!C9643=\"\",\"\",Configuração!B9643)","v":""}]
[null,null,null,null,{"$f":"IF(Configuração!C9644=\"\",\"\",Configuração!B9644)","v":""}]
[null,null,null,null,{"$f":"IF(Configuração!C9645=\"\",\"\",Configuração!B9645)","v":""}]
[null,null,null,null,{"$f":"IF(Configuração!C9646=\"\",\"\",Configuração!B9646)","v":""}]
[null,null,null,null,{"$f":"IF(Configuração!C9647=\"\",\"\",Configuração!B9647)","v":""}]
[null,null,null,null,{"$f":"IF(Configuração!C9648=\"\",\"\",Configuração!B9648)","v":""}]
[null,null,null,null,{"$f":"IF(Configuração!C9649=\"\",\"\",Configuração!B9649)","v":""}]
[null,null,null,null,{"$f":"IF(Configuração!C9650=\"\",\"\",Configuração!B9650)","v":""}]
[null,null,null,null,{"$f":"IF(Configuração!C9651=\"\",\"\",Configuração!B9651)","v":""}]
[null,null,null,null,{"$f":"IF(Configuração!C9652=\"\",\"\",Configuração!B9652)","v":""}]
[null,null,null,null,{"$f":"IF(Configuração!C9653=\"\",\"\",Configuração!B9653)","v":""}]
[null,null,null,null,{"$f":"IF(Configuração!C9654=\"\",\"\",Configuração!B9654)","v":""}]
[null,null,null,null,{"$f":"IF(Configuração!C9655=\"\",\"\",Configuração!B9655)","v":""}]
[null,null,null,null,{"$f":"IF(Configuração!C9656=\"\",\"\",Configuração!B9656)","v":""}]
[null,null,null,null,{"$f":"IF(Configuração!C9657=\"\",\"\",Configuração!B9657)","v":""}]
[null,null,null,null,{"$f":"IF(Configuração!C9658=\"\",\"\",Configuração!B9658)","v":""}]
[null,null,null,null,{"$f":"IF(Configuração!C9659=\"\",\"\",Configuração!B9659)","v":""}]
[null,null,null,null,{"$f":"IF(Configuração!C9660=\"\",\"\",Configuração!B9660)","v":""}]
[null,null,null,null,{"$f":"IF(Configuração!C9661=\"\",\"\",Configuração!B9661)","v":""}]
[null,null,null,null,{"$f":"IF(Configuração!C9662=\"\",\"\",Configuração!B9662)","v":""}]
[null,null,null,null,{"$f":"IF(Configuração!C9663=\"\",\"\",Configuração!B9663)","v":""}]
[null,null,null,null,{"$f":"IF(Configuração!C9664=\"\",\"\",Configuração!B9664)","v":""}]
[null,null,null,null,{"$f":"IF(Configuração!C9665=\"\",\"\",Configuração!B9665)","v":""}]
[null,null,null,null,{"$f":"IF(Configuração!C9666=\"\",\"\",Configuração!B9666)","v":""}]
[null,null,null,null,{"$f":"IF(Configuração!C9667=\"\",\"\",Configuração!B9667)","v":""}]
[null,null,null,null,{"$f":"IF(Configuração!C9668=\"\",\"\",Configuração!B9668)","v":""}]
[null,null,null,null,{"$f":"IF(Configuração!C9669=\"\",\"\",Configuração!B9669)","v":""}]
[null,null,null,null,{"$f":"IF(Configuração!C9670=\"\",\"\",Configuração!B9670)","v":""}]
[null,null,null,null,{"$f":"IF(Configuração!C9671=\"\",\"\",Configuração!B9671)","v":""}]
[null,null,null,null,{"$f":"IF(Configuração!C9672=\"\",\"\",Configuração!B9672)","v":""}]
[null,null,null,null,{"$f":"IF(Configuração!C9673=\"\",\"\",Configuração!B9673)","v":""}]
[null,null,null,null,{"$f":"IF(Configuração!C9674=\"\",\"\",Configuração!B9674)","v":""}]
[null,null,null,null,{"$f":"IF(Configuração!C9675=\"\",\"\",Configuração!B9675)","v":""}]
[null,null,null,null,{"$f":"IF(Configuração!C9676=\"\",\"\",Configuração!B9676)","v":""}]
[null,null,null,null,{"$f":"IF(Configuração!C9677=\"\",\"\",Configuração!B9677)","v":""}]
[null,null,null,null,{"$f":"IF(Configuração!C9678=\"\",\"\",Configuração!B9678)","v":""}]
[null,null,null,null,{"$f":"IF(Configuração!C9679=\"\",\"\",Configuração!B9679)","v":""}]
[null,null,null,null,{"$f":"IF(Configuração!C9680=\"\",\"\",Configuração!B9680)","v":""}]
[null,null,null,null,{"$f":"IF(Configuração!C9681=\"\",\"\",Configuração!B9681)","v":""}]
[null,null,null,null,{"$f":"IF(Configuração!C9682=\"\",\"\",Configuração!B9682)","v":""}]
[null,null,null,null,{"$f":"IF(Configuração!C9683=\"\",\"\",Configuração!B9683)","v":""}]
[null,null,null,null,{"$f":"IF(Configuração!C9684=\"\",\"\",Configuração!B9684)","v":""}]
[null,null,null,null,{"$f":"IF(Configuração!C9685=\"\",\"\",Configuração!B9685)","v":""}]
[null,null,null,null,{"$f":"IF(Configuração!C9686=\"\",\"\",Configuração!B9686)","v":""}]
[null,null,null,null,{"$f":"IF(Configuração!C9687=\"\",\"\",Configuração!B9687)","v":""}]
[null,null,null,null,{"$f":"IF(Configuração!C9688=\"\",\"\",Configuração!B9688)","v":""}]
[null,null,null,null,{"$f":"IF(Configuração!C9689=\"\",\"\",Configuração!B9689)","v":""}]
[null,null,null,null,{"$f":"IF(Configuração!C9690=\"\",\"\",Configuração!B9690)","v":""}]
[null,null,null,null,{"$f":"IF(Configuração!C9691=\"\",\"\",Configuração!B9691)","v":""}]
[null,null,null,null,{"$f":"IF(Configuração!C9692=\"\",\"\",Configuração!B9692)","v":""}]
[null,null,null,null,{"$f":"IF(Configuração!C9693=\"\",\"\",Configuração!B9693)","v":""}]
[null,null,null,null,{"$f":"IF(Configuração!C9694=\"\",\"\",Configuração!B9694)","v":""}]
[null,null,null,null,{"$f":"IF(Configuração!C9695=\"\",\"\",Configuração!B9695)","v":""}]
[null,null,null,null,{"$f":"IF(Configuração!C9696=\"\",\"\",Configuração!B9696)","v":""}]
[null,null,null,null,{"$f":"IF(Configuração!C9697=\"\",\"\",Configuração!B9697)","v":""}]
[null,null,null,null,{"$f":"IF(Configuração!C9698=\"\",\"\",Configuração!B9698)","v":""}]
[null,null,null,null,{"$f":"IF(Configuração!C9699=\"\",\"\",Configuração!B9699)","v":""}]
[null,null,null,null,{"$f":"IF(Configuração!C9700=\"\",\"\",Configuração!B9700)","v":""}]
[null,null,null,null,{"$f":"IF(Configuração!C9701=\"\",\"\",Configuração!B9701)","v":""}]
[null,null,null,null,{"$f":"IF(Configuração!C9702=\"\",\"\",Configuração!B9702)","v":""}]
[null,null,null,null,{"$f":"IF(Configuração!C9703=\"\",\"\",Configuração!B9703)","v":""}]
[null,null,null,null,{"$f":"IF(Configuração!C9704=\"\",\"\",Configuração!B9704)","v":""}]
[null,null,null,null,{"$f":"IF(Configuração!C9705=\"\",\"\",Configuração!B9705)","v":""}]
[null,null,null,null,{"$f":"IF(Configuração!C9706=\"\",\"\",Configuração!B9706)","v":""}]
[null,null,null,null,{"$f":"IF(Configuração!C9707=\"\",\"\",Configuração!B9707)","v":""}]
[null,null,null,null,{"$f":"IF(Configuração!C9708=\"\",\"\",Configuração!B9708)","v":""}]
[null,null,null,null,{"$f":"IF(Configuração!C9709=\"\",\"\",Configuração!B9709)","v":""}]
[null,null,null,null,{"$f":"IF(Configuração!C9710=\"\",\"\",Configuração!B9710)","v":""}]
[null,null,null,null,{"$f":"IF(Configuração!C9711=\"\",\"\",Configuração!B9711)","v":""}]
[null,null,null,null,{"$f":"IF(Configuração!C9712=\"\",\"\",Configuração!B9712)","v":""}]
[null,null,null,null,{"$f":"IF(Configuração!C9713=\"\",\"\",Configuração!B9713)","v":""}]
[null,null,null,null,{"$f":"IF(Configuração!C9714=\"\",\"\",Configuração!B9714)","v":""}]
[null,null,null,null,{"$f":"IF(Configuração!C9715=\"\",\"\",Configuração!B9715)","v":""}]
[null,null,null,null,{"$f":"IF(Configuração!C9716=\"\",\"\",Configuração!B9716)","v":""}]
[null,null,null,null,{"$f":"IF(Configuração!C9717=\"\",\"\",Configuração!B9717)","v":""}]
[null,null,null,null,{"$f":"IF(Configuração!C9718=\"\",\"\",Configuração!B9718)","v":""}]
[null,null,null,null,{"$f":"IF(Configuração!C9719=\"\",\"\",Configuração!B9719)","v":""}]
[null,null,null,null,{"$f":"IF(Configuração!C9720=\"\",\"\",Configuração!B9720)","v":""}]
[null,null,null,null,{"$f":"IF(Configuração!C9721=\"\",\"\",Configuração!B9721)","v":""}]
[null,null,null,null,{"$f":"IF(Configuração!C9722=\"\",\"\",Configuração!B9722)","v":""}]
[null,null,null,null,{"$f":"IF(Configuração!C9723=\"\",\"\",Configuração!B9723)","v":""}]
[null,null,null,null,{"$f":"IF(Configuração!C9724=\"\",\"\",Configuração!B9724)","v":""}]
[null,null,null,null,{"$f":"IF(Configuração!C9725=\"\",\"\",Configuração!B9725)","v":""}]
[null,null,null,null,{"$f":"IF(Configuração!C9726=\"\",\"\",Configuração!B9726)","v":""}]
[null,null,null,null,{"$f":"IF(Configuração!C9727=\"\",\"\",Configuração!B9727)","v":""}]
[null,null,null,null,{"$f":"IF(Configuração!C9728=\"\",\"\",Configuração!B9728)","v":""}]
[null,null,null,null,{"$f":"IF(Configuração!C9729=\"\",\"\",Configuração!B9729)","v":""}]
[null,null,null,null,{"$f":"IF(Configuração!C9730=\"\",\"\",Configuração!B9730)","v":""}]
[null,null,null,null,{"$f":"IF(Configuração!C9731=\"\",\"\",Configuração!B9731)","v":""}]
[null,null,null,null,{"$f":"IF(Configuração!C9732=\"\",\"\",Configuração!B9732)","v":""}]
[null,null,null,null,{"$f":"IF(Configuração!C9733=\"\",\"\",Configuração!B9733)","v":""}]
[null,null,null,null,{"$f":"IF(Configuração!C9734=\"\",\"\",Configuração!B9734)","v":""}]
[null,null,null,null,{"$f":"IF(Configuração!C9735=\"\",\"\",Configuração!B9735)","v":""}]
[null,null,null,null,{"$f":"IF(Configuração!C9736=\"\",\"\",Configuração!B9736)","v":""}]
[null,null,null,null,{"$f":"IF(Configuração!C9737=\"\",\"\",Configuração!B9737)","v":""}]
[null,null,null,null,{"$f":"IF(Configuração!C9738=\"\",\"\",Configuração!B9738)","v":""}]
[null,null,null,null,{"$f":"IF(Configuração!C9739=\"\",\"\",Configuração!B9739)","v":""}]
[null,null,null,null,{"$f":"IF(Configuração!C9740=\"\",\"\",Configuração!B9740)","v":""}]
[null,null,null,null,{"$f":"IF(Configuração!C9741=\"\",\"\",Configuração!B9741)","v":""}]
[null,null,null,null,{"$f":"IF(Configuração!C9742=\"\",\"\",Configuração!B9742)","v":""}]
[null,null,null,null,{"$f":"IF(Configuração!C9743=\"\",\"\",Configuração!B9743)","v":""}]
[null,null,null,null,{"$f":"IF(Configuração!C9744=\"\",\"\",Configuração!B9744)","v":""}]
[null,null,null,null,{"$f":"IF(Configuração!C9745=\"\",\"\",Configuração!B9745)","v":""}]
[null,null,null,null,{"$f":"IF(Configuração!C9746=\"\",\"\",Configuração!B9746)","v":""}]
[null,null,null,null,{"$f":"IF(Configuração!C9747=\"\",\"\",Configuração!B9747)","v":""}]
[null,null,null,null,{"$f":"IF(Configuração!C9748=\"\",\"\",Configuração!B9748)","v":""}]
[null,null,null,null,{"$f":"IF(Configuração!C9749=\"\",\"\",Configuração!B9749)","v":""}]
[null,null,null,null,{"$f":"IF(Configuração!C9750=\"\",\"\",Configuração!B9750)","v":""}]
[null,null,null,null,{"$f":"IF(Configuração!C9751=\"\",\"\",Configuração!B9751)","v":""}]
[null,null,null,null,{"$f":"IF(Configuração!C9752=\"\",\"\",Configuração!B9752)","v":""}]
[null,null,null,null,{"$f":"IF(Configuração!C9753=\"\",\"\",Configuração!B9753)","v":""}]
[null,null,null,null,{"$f":"IF(Configuração!C9754=\"\",\"\",Configuração!B9754)","v":""}]
[null,null,null,null,{"$f":"IF(Configuração!C9755=\"\",\"\",Configuração!B9755)","v":""}]
[null,null,null,null,{"$f":"IF(Configuração!C9756=\"\",\"\",Configuração!B9756)","v":""}]
[null,null,null,null,{"$f":"IF(Configuração!C9757=\"\",\"\",Configuração!B9757)","v":""}]
[null,null,null,null,{"$f":"IF(Configuração!C9758=\"\",\"\",Configuração!B9758)","v":""}]
[null,null,null,null,{"$f":"IF(Configuração!C9759=\"\",\"\",Configuração!B9759)","v":""}]
[null,null,null,null,{"$f":"IF(Configuração!C9760=\"\",\"\",Configuração!B9760)","v":""}]
[null,null,null,null,{"$f":"IF(Configuração!C9761=\"\",\"\",Configuração!B9761)","v":""}]
[null,null,null,null,{"$f":"IF(Configuração!C9762=\"\",\"\",Configuração!B9762)","v":""}]
[null,null,null,null,{"$f":"IF(Configuração!C9763=\"\",\"\",Configuração!B9763)","v":""}]
[null,null,null,null,{"$f":"IF(Configuração!C9764=\"\",\"\",Configuração!B9764)","v":""}]
[null,null,null,null,{"$f":"IF(Configuração!C9765=\"\",\"\",Configuração!B9765)","v":""}]
[null,null,null,null,{"$f":"IF(Configuração!C9766=\"\",\"\",Configuração!B9766)","v":""}]
[null,null,null,null,{"$f":"IF(Configuração!C9767=\"\",\"\",Configuração!B9767)","v":""}]
[null,null,null,null,{"$f":"IF(Configuração!C9768=\"\",\"\",Configuração!B9768)","v":""}]
[null,null,null,null,{"$f":"IF(Configuração!C9769=\"\",\"\",Configuração!B9769)","v":""}]
[null,null,null,null,{"$f":"IF(Configuração!C9770=\"\",\"\",Configuração!B9770)","v":""}]
[null,null,null,null,{"$f":"IF(Configuração!C9771=\"\",\"\",Configuração!B9771)","v":""}]
[null,null,null,null,{"$f":"IF(Configuração!C9772=\"\",\"\",Configuração!B9772)","v":""}]
[null,null,null,null,{"$f":"IF(Configuração!C9773=\"\",\"\",Configuração!B9773)","v":""}]
[null,null,null,null,{"$f":"IF(Configuração!C9774=\"\",\"\",Configuração!B9774)","v":""}]
[null,null,null,null,{"$f":"IF(Configuração!C9775=\"\",\"\",Configuração!B9775)","v":""}]
[null,null,null,null,{"$f":"IF(Configuração!C9776=\"\",\"\",Configuração!B9776)","v":""}]
[null,null,null,null,{"$f":"IF(Configuração!C9777=\"\",\"\",Configuração!B9777)","v":""}]
[null,null,null,null,{"$f":"IF(Configuração!C9778=\"\",\"\",Configuração!B9778)","v":""}]
[null,null,null,null,{"$f":"IF(Configuração!C9779=\"\",\"\",Configuração!B9779)","v":""}]
[null,null,null,null,{"$f":"IF(Configuração!C9780=\"\",\"\",Configuração!B9780)","v":""}]
[null,null,null,null,{"$f":"IF(Configuração!C9781=\"\",\"\",Configuração!B9781)","v":""}]
[null,null,null,null,{"$f":"IF(Configuração!C9782=\"\",\"\",Configuração!B9782)","v":""}]
[null,null,null,null,{"$f":"IF(Configuração!C9783=\"\",\"\",Configuração!B9783)","v":""}]
[null,null,null,null,{"$f":"IF(Configuração!C9784=\"\",\"\",Configuração!B9784)","v":""}]
[null,null,null,null,{"$f":"IF(Configuração!C9785=\"\",\"\",Configuração!B9785)","v":""}]
[null,null,null,null,{"$f":"IF(Configuração!C9786=\"\",\"\",Configuração!B9786)","v":""}]
[null,null,null,null,{"$f":"IF(Configuração!C9787=\"\",\"\",Configuração!B9787)","v":""}]
[null,null,null,null,{"$f":"IF(Configuração!C9788=\"\",\"\",Configuração!B9788)","v":""}]
[null,null,null,null,{"$f":"IF(Configuração!C9789=\"\",\"\",Configuração!B9789)","v":""}]
[null,null,null,null,{"$f":"IF(Configuração!C9790=\"\",\"\",Configuração!B9790)","v":""}]
[null,null,null,null,{"$f":"IF(Configuração!C9791=\"\",\"\",Configuração!B9791)","v":""}]
[null,null,null,null,{"$f":"IF(Configuração!C9792=\"\",\"\",Configuração!B9792)","v":""}]
[null,null,null,null,{"$f":"IF(Configuração!C9793=\"\",\"\",Configuração!B9793)","v":""}]
[null,null,null,null,{"$f":"IF(Configuração!C9794=\"\",\"\",Configuração!B9794)","v":""}]
[null,null,null,null,{"$f":"IF(Configuração!C9795=\"\",\"\",Configuração!B9795)","v":""}]
[null,null,null,null,{"$f":"IF(Configuração!C9796=\"\",\"\",Configuração!B9796)","v":""}]
[null,null,null,null,{"$f":"IF(Configuração!C9797=\"\",\"\",Configuração!B9797)","v":""}]
[null,null,null,null,{"$f":"IF(Configuração!C9798=\"\",\"\",Configuração!B9798)","v":""}]
[null,null,null,null,{"$f":"IF(Configuração!C9799=\"\",\"\",Configuração!B9799)","v":""}]
[null,null,null,null,{"$f":"IF(Configuração!C9800=\"\",\"\",Configuração!B9800)","v":""}]
[null,null,null,null,{"$f":"IF(Configuração!C9801=\"\",\"\",Configuração!B9801)","v":""}]
[null,null,null,null,{"$f":"IF(Configuração!C9802=\"\",\"\",Configuração!B9802)","v":""}]
[null,null,null,null,{"$f":"IF(Configuração!C9803=\"\",\"\",Configuração!B9803)","v":""}]
[null,null,null,null,{"$f":"IF(Configuração!C9804=\"\",\"\",Configuração!B9804)","v":""}]
[null,null,null,null,{"$f":"IF(Configuração!C9805=\"\",\"\",Configuração!B9805)","v":""}]
[null,null,null,null,{"$f":"IF(Configuração!C9806=\"\",\"\",Configuração!B9806)","v":""}]
[null,null,null,null,{"$f":"IF(Configuração!C9807=\"\",\"\",Configuração!B9807)","v":""}]
[null,null,null,null,{"$f":"IF(Configuração!C9808=\"\",\"\",Configuração!B9808)","v":""}]
[null,null,null,null,{"$f":"IF(Configuração!C9809=\"\",\"\",Configuração!B9809)","v":""}]
[null,null,null,null,{"$f":"IF(Configuração!C9810=\"\",\"\",Configuração!B9810)","v":""}]
[null,null,null,null,{"$f":"IF(Configuração!C9811=\"\",\"\",Configuração!B9811)","v":""}]
[null,null,null,null,{"$f":"IF(Configuração!C9812=\"\",\"\",Configuração!B9812)","v":""}]
[null,null,null,null,{"$f":"IF(Configuração!C9813=\"\",\"\",Configuração!B9813)","v":""}]
[null,null,null,null,{"$f":"IF(Configuração!C9814=\"\",\"\",Configuração!B9814)","v":""}]
[null,null,null,null,{"$f":"IF(Configuração!C9815=\"\",\"\",Configuração!B9815)","v":""}]
[null,null,null,null,{"$f":"IF(Configuração!C9816=\"\",\"\",Configuração!B9816)","v":""}]
[null,null,null,null,{"$f":"IF(Configuração!C9817=\"\",\"\",Configuração!B9817)","v":""}]
[null,null,null,null,{"$f":"IF(Configuração!C9818=\"\",\"\",Configuração!B9818)","v":""}]
[null,null,null,null,{"$f":"IF(Configuração!C9819=\"\",\"\",Configuração!B9819)","v":""}]
[null,null,null,null,{"$f":"IF(Configuração!C9820=\"\",\"\",Configuração!B9820)","v":""}]
[null,null,null,null,{"$f":"IF(Configuração!C9821=\"\",\"\",Configuração!B9821)","v":""}]
[null,null,null,null,{"$f":"IF(Configuração!C9822=\"\",\"\",Configuração!B9822)","v":""}]
[null,null,null,null,{"$f":"IF(Configuração!C9823=\"\",\"\",Configuração!B9823)","v":""}]
[null,null,null,null,{"$f":"IF(Configuração!C9824=\"\",\"\",Configuração!B9824)","v":""}]
[null,null,null,null,{"$f":"IF(Configuração!C9825=\"\",\"\",Configuração!B9825)","v":""}]
[null,null,null,null,{"$f":"IF(Configuração!C9826=\"\",\"\",Configuração!B9826)","v":""}]
[null,null,null,null,{"$f":"IF(Configuração!C9827=\"\",\"\",Configuração!B9827)","v":""}]
[null,null,null,null,{"$f":"IF(Configuração!C9828=\"\",\"\",Configuração!B9828)","v":""}]
[null,null,null,null,{"$f":"IF(Configuração!C9829=\"\",\"\",Configuração!B9829)","v":""}]
[null,null,null,null,{"$f":"IF(Configuração!C9830=\"\",\"\",Configuração!B9830)","v":""}]
[null,null,null,null,{"$f":"IF(Configuração!C9831=\"\",\"\",Configuração!B9831)","v":""}]
[null,null,null,null,{"$f":"IF(Configuração!C9832=\"\",\"\",Configuração!B9832)","v":""}]
[null,null,null,null,{"$f":"IF(Configuração!C9833=\"\",\"\",Configuração!B9833)","v":""}]
[null,null,null,null,{"$f":"IF(Configuração!C9834=\"\",\"\",Configuração!B9834)","v":""}]
[null,null,null,null,{"$f":"IF(Configuração!C9835=\"\",\"\",Configuração!B9835)","v":""}]
[null,null,null,null,{"$f":"IF(Configuração!C9836=\"\",\"\",Configuração!B9836)","v":""}]
[null,null,null,null,{"$f":"IF(Configuração!C9837=\"\",\"\",Configuração!B9837)","v":""}]
[null,null,null,null,{"$f":"IF(Configuração!C9838=\"\",\"\",Configuração!B9838)","v":""}]
[null,null,null,null,{"$f":"IF(Configuração!C9839=\"\",\"\",Configuração!B9839)","v":""}]
[null,null,null,null,{"$f":"IF(Configuração!C9840=\"\",\"\",Configuração!B9840)","v":""}]
[null,null,null,null,{"$f":"IF(Configuração!C9841=\"\",\"\",Configuração!B9841)","v":""}]
[null,null,null,null,{"$f":"IF(Configuração!C9842=\"\",\"\",Configuração!B9842)","v":""}]
[null,null,null,null,{"$f":"IF(Configuração!C9843=\"\",\"\",Configuração!B9843)","v":""}]
[null,null,null,null,{"$f":"IF(Configuração!C9844=\"\",\"\",Configuração!B9844)","v":""}]
[null,null,null,null,{"$f":"IF(Configuração!C9845=\"\",\"\",Configuração!B9845)","v":""}]
[null,null,null,null,{"$f":"IF(Configuração!C9846=\"\",\"\",Configuração!B9846)","v":""}]
[null,null,null,null,{"$f":"IF(Configuração!C9847=\"\",\"\",Configuração!B9847)","v":""}]
[null,null,null,null,{"$f":"IF(Configuração!C9848=\"\",\"\",Configuração!B9848)","v":""}]
[null,null,null,null,{"$f":"IF(Configuração!C9849=\"\",\"\",Configuração!B9849)","v":""}]
[null,null,null,null,{"$f":"IF(Configuração!C9850=\"\",\"\",Configuração!B9850)","v":""}]
[null,null,null,null,{"$f":"IF(Configuração!C9851=\"\",\"\",Configuração!B9851)","v":""}]
[null,null,null,null,{"$f":"IF(Configuração!C9852=\"\",\"\",Configuração!B9852)","v":""}]
[null,null,null,null,{"$f":"IF(Configuração!C9853=\"\",\"\",Configuração!B9853)","v":""}]
[null,null,null,null,{"$f":"IF(Configuração!C9854=\"\",\"\",Configuração!B9854)","v":""}]
[null,null,null,null,{"$f":"IF(Configuração!C9855=\"\",\"\",Configuração!B9855)","v":""}]
[null,null,null,null,{"$f":"IF(Configuração!C9856=\"\",\"\",Configuração!B9856)","v":""}]
[null,null,null,null,{"$f":"IF(Configuração!C9857=\"\",\"\",Configuração!B9857)","v":""}]
[null,null,null,null,{"$f":"IF(Configuração!C9858=\"\",\"\",Configuração!B9858)","v":""}]
[null,null,null,null,{"$f":"IF(Configuração!C9859=\"\",\"\",Configuração!B9859)","v":""}]
[null,null,null,null,{"$f":"IF(Configuração!C9860=\"\",\"\",Configuração!B9860)","v":""}]
[null,null,null,null,{"$f":"IF(Configuração!C9861=\"\",\"\",Configuração!B9861)","v":""}]
[null,null,null,null,{"$f":"IF(Configuração!C9862=\"\",\"\",Configuração!B9862)","v":""}]
[null,null,null,null,{"$f":"IF(Configuração!C9863=\"\",\"\",Configuração!B9863)","v":""}]
[null,null,null,null,{"$f":"IF(Configuração!C9864=\"\",\"\",Configuração!B9864)","v":""}]
[null,null,null,null,{"$f":"IF(Configuração!C9865=\"\",\"\",Configuração!B9865)","v":""}]
[null,null,null,null,{"$f":"IF(Configuração!C9866=\"\",\"\",Configuração!B9866)","v":""}]
[null,null,null,null,{"$f":"IF(Configuração!C9867=\"\",\"\",Configuração!B9867)","v":""}]
[null,null,null,null,{"$f":"IF(Configuração!C9868=\"\",\"\",Configuração!B9868)","v":""}]
[null,null,null,null,{"$f":"IF(Configuração!C9869=\"\",\"\",Configuração!B9869)","v":""}]
[null,null,null,null,{"$f":"IF(Configuração!C9870=\"\",\"\",Configuração!B9870)","v":""}]
[null,null,null,null,{"$f":"IF(Configuração!C9871=\"\",\"\",Configuração!B9871)","v":""}]
[null,null,null,null,{"$f":"IF(Configuração!C9872=\"\",\"\",Configuração!B9872)","v":""}]
[null,null,null,null,{"$f":"IF(Configuração!C9873=\"\",\"\",Configuração!B9873)","v":""}]
[null,null,null,null,{"$f":"IF(Configuração!C9874=\"\",\"\",Configuração!B9874)","v":""}]
[null,null,null,null,{"$f":"IF(Configuração!C9875=\"\",\"\",Configuração!B9875)","v":""}]
[null,null,null,null,{"$f":"IF(Configuração!C9876=\"\",\"\",Configuração!B9876)","v":""}]
[null,null,null,null,{"$f":"IF(Configuração!C9877=\"\",\"\",Configuração!B9877)","v":""}]
[null,null,null,null,{"$f":"IF(Configuração!C9878=\"\",\"\",Configuração!B9878)","v":""}]
[null,null,null,null,{"$f":"IF(Configuração!C9879=\"\",\"\",Configuração!B9879)","v":""}]
[null,null,null,null,{"$f":"IF(Configuração!C9880=\"\",\"\",Configuração!B9880)","v":""}]
[null,null,null,null,{"$f":"IF(Configuração!C9881=\"\",\"\",Configuração!B9881)","v":""}]
[null,null,null,null,{"$f":"IF(Configuração!C9882=\"\",\"\",Configuração!B9882)","v":""}]
[null,null,null,null,{"$f":"IF(Configuração!C9883=\"\",\"\",Configuração!B9883)","v":""}]
[null,null,null,null,{"$f":"IF(Configuração!C9884=\"\",\"\",Configuração!B9884)","v":""}]
[null,null,null,null,{"$f":"IF(Configuração!C9885=\"\",\"\",Configuração!B9885)","v":""}]
[null,null,null,null,{"$f":"IF(Configuração!C9886=\"\",\"\",Configuração!B9886)","v":""}]
[null,null,null,null,{"$f":"IF(Configuração!C9887=\"\",\"\",Configuração!B9887)","v":""}]
[null,null,null,null,{"$f":"IF(Configuração!C9888=\"\",\"\",Configuração!B9888)","v":""}]
[null,null,null,null,{"$f":"IF(Configuração!C9889=\"\",\"\",Configuração!B9889)","v":""}]
[null,null,null,null,{"$f":"IF(Configuração!C9890=\"\",\"\",Configuração!B9890)","v":""}]
[null,null,null,null,{"$f":"IF(Configuração!C9891=\"\",\"\",Configuração!B9891)","v":""}]
[null,null,null,null,{"$f":"IF(Configuração!C9892=\"\",\"\",Configuração!B9892)","v":""}]
[null,null,null,null,{"$f":"IF(Configuração!C9893=\"\",\"\",Configuração!B9893)","v":""}]
[null,null,null,null,{"$f":"IF(Configuração!C9894=\"\",\"\",Configuração!B9894)","v":""}]
[null,null,null,null,{"$f":"IF(Configuração!C9895=\"\",\"\",Configuração!B9895)","v":""}]
[null,null,null,null,{"$f":"IF(Configuração!C9896=\"\",\"\",Configuração!B9896)","v":""}]
[null,null,null,null,{"$f":"IF(Configuração!C9897=\"\",\"\",Configuração!B9897)","v":""}]
[null,null,null,null,{"$f":"IF(Configuração!C9898=\"\",\"\",Configuração!B9898)","v":""}]
[null,null,null,null,{"$f":"IF(Configuração!C9899=\"\",\"\",Configuração!B9899)","v":""}]
[null,null,null,null,{"$f":"IF(Configuração!C9900=\"\",\"\",Configuração!B9900)","v":""}]
[null,null,null,null,{"$f":"IF(Configuração!C9901=\"\",\"\",Configuração!B9901)","v":""}]
[null,null,null,null,{"$f":"IF(Configuração!C9902=\"\",\"\",Configuração!B9902)","v":""}]
[null,null,null,null,{"$f":"IF(Configuração!C9903=\"\",\"\",Configuração!B9903)","v":""}]
[null,null,null,null,{"$f":"IF(Configuração!C9904=\"\",\"\",Configuração!B9904)","v":""}]
[null,null,null,null,{"$f":"IF(Configuração!C9905=\"\",\"\",Configuração!B9905)","v":""}]
[null,null,null,null,{"$f":"IF(Configuração!C9906=\"\",\"\",Configuração!B9906)","v":""}]
[null,null,null,null,{"$f":"IF(Configuração!C9907=\"\",\"\",Configuração!B9907)","v":""}]
[null,null,null,null,{"$f":"IF(Configuração!C9908=\"\",\"\",Configuração!B9908)","v":""}]
[null,null,null,null,{"$f":"IF(Configuração!C9909=\"\",\"\",Configuração!B9909)","v":""}]
[null,null,null,null,{"$f":"IF(Configuração!C9910=\"\",\"\",Configuração!B9910)","v":""}]
[null,null,null,null,{"$f":"IF(Configuração!C9911=\"\",\"\",Configuração!B9911)","v":""}]
[null,null,null,null,{"$f":"IF(Configuração!C9912=\"\",\"\",Configuração!B9912)","v":""}]
[null,null,null,null,{"$f":"IF(Configuração!C9913=\"\",\"\",Configuração!B9913)","v":""}]
[null,null,null,null,{"$f":"IF(Configuração!C9914=\"\",\"\",Configuração!B9914)","v":""}]
[null,null,null,null,{"$f":"IF(Configuração!C9915=\"\",\"\",Configuração!B9915)","v":""}]
[null,null,null,null,{"$f":"IF(Configuração!C9916=\"\",\"\",Configuração!B9916)","v":""}]
[null,null,null,null,{"$f":"IF(Configuração!C9917=\"\",\"\",Configuração!B9917)","v":""}]
[null,null,null,null,{"$f":"IF(Configuração!C9918=\"\",\"\",Configuração!B9918)","v":""}]
[null,null,null,null,{"$f":"IF(Configuração!C9919=\"\",\"\",Configuração!B9919)","v":""}]
[null,null,null,null,{"$f":"IF(Configuração!C9920=\"\",\"\",Configuração!B9920)","v":""}]
[null,null,null,null,{"$f":"IF(Configuração!C9921=\"\",\"\",Configuração!B9921)","v":""}]
[null,null,null,null,{"$f":"IF(Configuração!C9922=\"\",\"\",Configuração!B9922)","v":""}]
[null,null,null,null,{"$f":"IF(Configuração!C9923=\"\",\"\",Configuração!B9923)","v":""}]
[null,null,null,null,{"$f":"IF(Configuração!C9924=\"\",\"\",Configuração!B9924)","v":""}]
[null,null,null,null,{"$f":"IF(Configuração!C9925=\"\",\"\",Configuração!B9925)","v":""}]
[null,null,null,null,{"$f":"IF(Configuração!C9926=\"\",\"\",Configuração!B9926)","v":""}]
[null,null,null,null,{"$f":"IF(Configuração!C9927=\"\",\"\",Configuração!B9927)","v":""}]
[null,null,null,null,{"$f":"IF(Configuração!C9928=\"\",\"\",Configuração!B9928)","v":""}]
[null,null,null,null,{"$f":"IF(Configuração!C9929=\"\",\"\",Configuração!B9929)","v":""}]
[null,null,null,null,{"$f":"IF(Configuração!C9930=\"\",\"\",Configuração!B9930)","v":""}]
[null,null,null,null,{"$f":"IF(Configuração!C9931=\"\",\"\",Configuração!B9931)","v":""}]
[null,null,null,null,{"$f":"IF(Configuração!C9932=\"\",\"\",Configuração!B9932)","v":""}]
[null,null,null,null,{"$f":"IF(Configuração!C9933=\"\",\"\",Configuração!B9933)","v":""}]
[null,null,null,null,{"$f":"IF(Configuração!C9934=\"\",\"\",Configuração!B9934)","v":""}]
[null,null,null,null,{"$f":"IF(Configuração!C9935=\"\",\"\",Configuração!B9935)","v":""}]
[null,null,null,null,{"$f":"IF(Configuração!C9936=\"\",\"\",Configuração!B9936)","v":""}]
[null,null,null,null,{"$f":"IF(Configuração!C9937=\"\",\"\",Configuração!B9937)","v":""}]
[null,null,null,null,{"$f":"IF(Configuração!C9938=\"\",\"\",Configuração!B9938)","v":""}]
[null,null,null,null,{"$f":"IF(Configuração!C9939=\"\",\"\",Configuração!B9939)","v":""}]
[null,null,null,null,{"$f":"IF(Configuração!C9940=\"\",\"\",Configuração!B9940)","v":""}]
[null,null,null,null,{"$f":"IF(Configuração!C9941=\"\",\"\",Configuração!B9941)","v":""}]
[null,null,null,null,{"$f":"IF(Configuração!C9942=\"\",\"\",Configuração!B9942)","v":""}]
[null,null,null,null,{"$f":"IF(Configuração!C9943=\"\",\"\",Configuração!B9943)","v":""}]
[null,null,null,null,{"$f":"IF(Configuração!C9944=\"\",\"\",Configuração!B9944)","v":""}]
[null,null,null,null,{"$f":"IF(Configuração!C9945=\"\",\"\",Configuração!B9945)","v":""}]
[null,null,null,null,{"$f":"IF(Configuração!C9946=\"\",\"\",Configuração!B9946)","v":""}]
[null,null,null,null,{"$f":"IF(Configuração!C9947=\"\",\"\",Configuração!B9947)","v":""}]
[null,null,null,null,{"$f":"IF(Configuração!C9948=\"\",\"\",Configuração!B9948)","v":""}]
[null,null,null,null,{"$f":"IF(Configuração!C9949=\"\",\"\",Configuração!B9949)","v":""}]
[null,null,null,null,{"$f":"IF(Configuração!C9950=\"\",\"\",Configuração!B9950)","v":""}]
[null,null,null,null,{"$f":"IF(Configuração!C9951=\"\",\"\",Configuração!B9951)","v":""}]
[null,null,null,null,{"$f":"IF(Configuração!C9952=\"\",\"\",Configuração!B9952)","v":""}]
[null,null,null,null,{"$f":"IF(Configuração!C9953=\"\",\"\",Configuração!B9953)","v":""}]
[null,null,null,null,{"$f":"IF(Configuração!C9954=\"\",\"\",Configuração!B9954)","v":""}]
[null,null,null,null,{"$f":"IF(Configuração!C9955=\"\",\"\",Configuração!B9955)","v":""}]
[null,null,null,null,{"$f":"IF(Configuração!C9956=\"\",\"\",Configuração!B9956)","v":""}]
[null,null,null,null,{"$f":"IF(Configuração!C9957=\"\",\"\",Configuração!B9957)","v":""}]
[null,null,null,null,{"$f":"IF(Configuração!C9958=\"\",\"\",Configuração!B9958)","v":""}]
[null,null,null,null,{"$f":"IF(Configuração!C9959=\"\",\"\",Configuração!B9959)","v":""}]
[null,null,null,null,{"$f":"IF(Configuração!C9960=\"\",\"\",Configuração!B9960)","v":""}]
[null,null,null,null,{"$f":"IF(Configuração!C9961=\"\",\"\",Configuração!B9961)","v":""}]
[null,null,null,null,{"$f":"IF(Configuração!C9962=\"\",\"\",Configuração!B9962)","v":""}]
[null,null,null,null,{"$f":"IF(Configuração!C9963=\"\",\"\",Configuração!B9963)","v":""}]
[null,null,null,null,{"$f":"IF(Configuração!C9964=\"\",\"\",Configuração!B9964)","v":""}]
[null,null,null,null,{"$f":"IF(Configuração!C9965=\"\",\"\",Configuração!B9965)","v":""}]
[null,null,null,null,{"$f":"IF(Configuração!C9966=\"\",\"\",Configuração!B9966)","v":""}]
[null,null,null,null,{"$f":"IF(Configuração!C9967=\"\",\"\",Configuração!B9967)","v":""}]
[null,null,null,null,{"$f":"IF(Configuração!C9968=\"\",\"\",Configuração!B9968)","v":""}]
[null,null,null,null,{"$f":"IF(Configuração!C9969=\"\",\"\",Configuração!B9969)","v":""}]
[null,null,null,null,{"$f":"IF(Configuração!C9970=\"\",\"\",Configuração!B9970)","v":""}]
[null,null,null,null,{"$f":"IF(Configuração!C9971=\"\",\"\",Configuração!B9971)","v":""}]
[null,null,null,null,{"$f":"IF(Configuração!C9972=\"\",\"\",Configuração!B9972)","v":""}]
[null,null,null,null,{"$f":"IF(Configuração!C9973=\"\",\"\",Configuração!B9973)","v":""}]
[null,null,null,null,{"$f":"IF(Configuração!C9974=\"\",\"\",Configuração!B9974)","v":""}]
[null,null,null,null,{"$f":"IF(Configuração!C9975=\"\",\"\",Configuração!B9975)","v":""}]
[null,null,null,null,{"$f":"IF(Configuração!C9976=\"\",\"\",Configuração!B9976)","v":""}]
[null,null,null,null,{"$f":"IF(Configuração!C9977=\"\",\"\",Configuração!B9977)","v":""}]
[null,null,null,null,{"$f":"IF(Configuração!C9978=\"\",\"\",Configuração!B9978)","v":""}]
[null,null,null,null,{"$f":"IF(Configuração!C9979=\"\",\"\",Configuração!B9979)","v":""}]
[null,null,null,null,{"$f":"IF(Configuração!C9980=\"\",\"\",Configuração!B9980)","v":""}]
[null,null,null,null,{"$f":"IF(Configuração!C9981=\"\",\"\",Configuração!B9981)","v":""}]
[null,null,null,null,{"$f":"IF(Configuração!C9982=\"\",\"\",Configuração!B9982)","v":""}]
[null,null,null,null,{"$f":"IF(Configuração!C9983=\"\",\"\",Configuração!B9983)","v":""}]
[null,null,null,null,{"$f":"IF(Configuração!C9984=\"\",\"\",Configuração!B9984)","v":""}]
[null,null,null,null,{"$f":"IF(Configuração!C9985=\"\",\"\",Configuração!B9985)","v":""}]
[null,null,null,null,{"$f":"IF(Configuração!C9986=\"\",\"\",Configuração!B9986)","v":""}]
[null,null,null,null,{"$f":"IF(Configuração!C9987=\"\",\"\",Configuração!B9987)","v":""}]
[null,null,null,null,{"$f":"IF(Configuração!C9988=\"\",\"\",Configuração!B9988)","v":""}]
[null,null,null,null,{"$f":"IF(Configuração!C9989=\"\",\"\",Configuração!B9989)","v":""}]
[null,null,null,null,{"$f":"IF(Configuração!C9990=\"\",\"\",Configuração!B9990)","v":""}]
[null,null,null,null,{"$f":"IF(Configuração!C9991=\"\",\"\",Configuração!B9991)","v":""}]
[null,null,null,null,{"$f":"IF(Configuração!C9992=\"\",\"\",Configuração!B9992)","v":""}]
[null,null,null,null,{"$f":"IF(Configuração!C9993=\"\",\"\",Configuração!B9993)","v":""}]
[null,null,null,null,{"$f":"IF(Configuração!C9994=\"\",\"\",Configuração!B9994)","v":""}]
[null,null,null,null,{"$f":"IF(Configuração!C9995=\"\",\"\",Configuração!B9995)","v":""}]
[null,null,null,null,{"$f":"IF(Configuração!C9996=\"\",\"\",Configuração!B9996)","v":""}]
[null,null,null,null,{"$f":"IF(Configuração!C9997=\"\",\"\",Configuração!B9997)","v":""}]
[null,null,null,null,{"$f":"IF(Configuração!C9998=\"\",\"\",Configuração!B9998)","v":""}]
[null,null,null,null,{"$f":"IF(Configuração!C9999=\"\",\"\",Configuração!B9999)","v":""}]
[null,null,null,null,{"$f":"IF(Configuração!C10000=\"\",\"\",Configuração!B10000)","v":""}]
[null,null,null,null,{"$f":"IF(Configuração!C10001=\"\",\"\",Configuração!B10001)","v":""}]
[null,null,null,null,{"$f":"IF(Configuração!C10002=\"\",\"\",Configuração!B10002)","v":""}]
[null,null,null,null,{"$f":"IF(Configuração!C10003=\"\",\"\",Configuração!B10003)","v":""}]
[null,null,null,null,{"$f":"IF(Configuração!C10004=\"\",\"\",Configuração!B10004)","v":""}]
[null,null,null,null,{"$f":"IF(Configuração!C10005=\"\",\"\",Configuração!B10005)","v":""}]
[null,null,null,null,{"$f":"IF(Configuração!C10006=\"\",\"\",Configuração!B10006)","v":""}]

{"sheet":"FluxoCaixa","index":1,"n_rows":10224,"n_cols":54,"rows_kept":4500,"cut":true,"hidden":false,"merged":[[35,7,35,20],[17,4,19,20],[23,7,23,20],[26,7,26,14],[26,17,26,18],[29,7,29,12],[32,7,32,20],[14,7,14,17],[2,2,2,22],[5,10,5,20],[8,7,8,12],[8,17,8,18],[11,7,11,20]],"bounds":{"rows_first":2000,"rows_last":500,"rows_between":2000,"halvings":0}}
[]
[]
[null,null,"Movimentações - Fluxo de Caixa"]
[]
[null,null,null,null,"Código",null,"Status","Parcela",null,null,null,null,null,null,null,null,null,null,null,null,null,null,null,null,null,null,null,null,null,null,null,null,null,null,null,null,null,null,null,null,null,null,null,null,null,null,null,null,null,null,"DataD"]
[null,null,"CP/CR:",null,null,null,null,null,".",1,{"$f":"IF(E6=\"\",\"\",IF(H6=\"\",\"\",IFERROR(IF(AU9=\"SIM\",\"\",DGET(TB_Cadastro_Contas!B2:AC1048576,3,FluxoCaixa!E5:H6)),\"\")))","v":""},null,null,null,null,null,null,null,null,null,null,null,null,null,null,null,null,null,null,null,null,null,null,null,null,null,null,null,null,null,"Tipo de Operação","Conta","Resultado",null,null,null,"Parcela Paga?",null,null,null,{"$f":"IFERROR(IF(AU9=\"SIM\",\"\",DGET(TB_Cadastro_Contas!B2:AC1048576,12,FluxoCaixa!E5:H6)),\"\")","v":""}]
[]
[]
[null,null,"Data:",null,null,null,null,"Mês:",null,null,null,null,null,null,{"$f":"IF(E9=\"\",\"\",VLOOKUP(MONTH(VLOOKUP(E9,V225:W5702,2)),X225:Y236,2))","v":""},null,null,"Ano:",null,null,{"$f":"IF(E9=\"\",\"\",YEAR(VLOOKUP(E9,V225:W5702,2)))","v":""},null,null,null,null,null,null,null,null,null,null,null,null,null,null,null,null,null,null,null,{"$f":"IF(AO12=\"\",\"\",IF(OR(AO12=\"D (T)\",AO12=\"C (T)\"),\"T\",AO12))","v":""},{"$f":"IF(E15=\"\",\"\",IF(E15>1000,\"T\",IF(E15>200,\"D\",\"C\")))","v":""},{"$f":"IF(AND(AO9<>\"\",AP9<>\"\"),IF(AO9=AP9,0,1),\"\")","v":""},null,null,null,{"$f":"IFERROR(IF(DGET(TB_Cadastro_Contas!B2:AC1048576,25,FluxoCaixa!E5:H6)=2,\"SIM\",\"NAO\"),\"\")","v":""},null,null,null,{"$f":"IFERROR(IF(AU9=\"SIM\",\"\",DGET(V224:W5702,1,AY5:AY6)),\"\")","v":""}]
[]
[]
[null,null,"Tipo de Operação:",null,null,2,null,{"$f":"IF(E12=\"\",\"\",VLOOKUP(E12,Configuração!S7:T16,2))","v":""},null,null,null,null,null,null,null,null,null,null,null,null,null,null,null,null,null,null,null,null,null,null,null,null,null,null,null,null,null,null,null,null,{"$f":"IF(E12=\"\",\"\",VLOOKUP(E12,Configuração!S7:U16,3))","v":""},null,null,null,null,null,null,null,null,null,{"$f":"IFERROR(IF(AU9=\"SIM\",\"\",DGET(TB_Cadastro_Contas!B2:AC1048576,5,FluxoCaixa!E5:H6)),\"\")","v":""}]
[]
[]
[null,null,"Conta:",null,null,null,null,{"$f":"IF(E15=\"\",\"\",VLOOKUP(E15,Configuração!F7:H927,3))","v":""},null,null,null,null,null,null,null,null,null,null,null,null,{"$f":"IF(E15=\"\",\"\",VLOOKUP(E15,Configuração!F7:H927,2))","v":""},null,null,null,null,null,null,null,null,null,null,null,null,null,null,null,null,null,null,null,null,null,null,null,null,null,null,null,null,null,{"$f":"IFERROR(IF(AU9=\"SIM\",\"\",DGET(TB_Cadastro_Contas!B2:AC1048576,19,FluxoCaixa!E5:H6)),\"\")","v":""}]
[]
[]
[null,null,"Descrição:",null,null,null,null,null,null,null,null,null,null,null,null,null,null,null,null,null,null,null,null,null,null,null,null,null,null,null,null,null,null,null,null,null,null,null,null,null,null,null,null,null,null,null,null,null,null,null,{"$f":"IFERROR(IF(AU9=\"SIM\",\"\",DGET(TB_Cadastro_Contas!B2:AC1048576,24,FluxoCaixa!E5:H6)),\"\")","v":""}]
[]
[]
[]
[]
[]
[null,null,"Empresa:",null,null,null,null,{"$f":"IF(E24=\"\",\"\",VLOOKUP(E24,Configuração!J7:K16,2))","v":""},null,null,null,null,null,null,null,null,null,null,null,null,null,null,null,null,null,null,null,null,null,null,null,null,null,null,null,null,null,null,null,null,null,null,null,null,null,null,null,null,null,null,{"$f":"IFERROR(IF(AU9=\"SIM\",\"\",DGET(TB_Cadastro_Contas!B2:AC1048576,22,FluxoCaixa!E5:H6)),\"\")","v":""}]
[]
[]
[null,null,"Forma de Pag/Rec:",null,null,1,null,{"$f":"IF(E27=\"\",\"\",VLOOKUP(E27,Configuração!Z7:AA36,2))","v":""},null,null,null,null,null,null,null,null,null,"Saldo:",null,null,{"$f":"IF(E27=\"\",\"\",VLOOKUP(E27,Configuração!Z7:AB36,3)+SUMIFS(TB_Fluxo_Caixa!T2:T3,TB_Fluxo_Caixa!P2:P3,E27))","v":""}]
[]
[]
[null,null,"Contrato:",null,null,null,null,"Número do Cheque:"]
[]
[]
[null,null,"Valor:",null,null,null,null,null,null,null,null,null,null,null,null,null,null,null,null,null,null,null,null,null,null,null,null,null,null,null,null,null,null,null,null,null,null,null,null,null,null,null,null,null,null,null,null,null,null,null,{"$f":"IFERROR(IF(AU9=\"SIM\",\"\",ABS(DGET(TB_Cadastro_Contas!B2:AC1048576,15,FluxoCaixa!E5:H6))),\"\")","v":""}]
[]
[]
[null,null,"Status:",null,null,null,null,{"$f":"IF(E36=\"\",\"\",VLOOKUP(E36,Configuração!W7:X16,2))","v":""}]
[]
[]
[]
[]
[]
[]
[]
[]
[]
[]
[]
[]
[]
[]
[]
[]
[]
[]
[]
[]
[]
[]
[]
[]
[]
[]
[]
[]
[]
[]
[]
[]
[]
[]
[]
[]
[]
[]
[]
[]
[]
[]
[]
[]
[]
[]
[]
[]
[]
[]
[]
[]
[]
[]
[]
[]
[]
[]
[]
[]
[]
[]
[]
[]
[]
[]
[]
[]
[]
[]
[]
[]
[]
[]
[]
[]
[]
[]
[]
[]
[]
[]
[]
[]
[]
[]
[]
[]
[]
[]
[]
[]
[]
[]
[]
[]
[]
[]
[]
[]
[]
[]
[]
[]
[]
[]
[]
[]
[]
[]
[]
[]
[]
[]
[]
[]
[]
[]
[]
[]
[]
[]
[]
[]
[]
[]
[]
[]
[]
[]
[]
[]
[]
[]
[]
[]
[]
[]
[]
[]
[]
[]
[]
[]
[]
[]
[]
[]
[]
[]
[]
[]
[]
[]
[]
[]
[]
[]
[]
[]
[]
[]
[]
[]
[]
[]
[]
[]
[]
[]
[]
[]
[]
[]
[]
[]
[]
[]
[]
[]
[]
[]
[]
[]
[]
[]
[]
["Parcela",null,"Status",null,"PN",null,null,"Setor","Portador",null,null,"Tipo Doc.",null,null,"Conta",null,null,"Filial",null,null,null,"DataT","DataD",null,"Mes","Destino","Saldo",null,null,null,"Código","CP/CR","Parcela","PN","Data","Mês","Ano","Cod Tipo de Conta","Tipo de Conta","Cod Conta","Conta","Descrição","Cod Empresa","Empresa","Cod Destino","Destino","Contrato","Nº Cheque","Valor","Saldo","Cod Status","Status","Data L","Hora L"]
["1/1",null,{"$f":"IF(Configuração!X7=\"\",\"\",Configuração!W7)","v":1},null,{"$f":"IF(Configuração!C7=\"\",\"\",Configuração!B7)","v":""},null,null,{"$f":"IF(Configuração!N7=\"\",\"\",Configuração!M7)","v":1},{"$f":"IF(Configuração!Q7=\"\",\"\",Configuração!P7)","v":1},null,null,{"$f":"IF(Configuração!T7=\"\",\"\",Configuração!S7)","v":1},null,null,{"$f":"IF(Configuração!H9=\"\",\"\",IF($E$12=\"\",\"\",IF(VLOOKUP($E$12,Configuração!$S$7:$U$16,3)=\"C\",Configuração!F9,\"\")))","v":""},null,null,{"$f":"IF(Configuração!K7=\"\",\"\",Configuração!J7)","v":1},null,null,null,1012009,39814,1,"Janeiro",{"$f":"IF(Configuração!AA7=\"\",\"\",Configuração!Z7)","v":1},{"$f":"IF(Z225=\"\",\"\",VLOOKUP(Z225,Configuração!$Z$7:$AB$36,3))","v":0},null,null,null,{"$f":"IF(E36=\"\",\"\",Configuração!AF8)","v":""},{"$f":"IF(E6=\"\",\"\",E6)","v":""},{"$f":"IF(H6=\"\",\"\",H6)","v":""},{"$f":"IF(K6=\"\",\"\",K6)","v":""},{"$f":"IF(E9=\"\",\"\",VLOOKUP(E9,V225:W5702,2))","v":""},{"$f":"IF(O9=\"\",\"\",O9)","v":""},{"$f":"IF(U9=\"\",\"\",U9)","v":""},{"$f":"IF(E12=\"\",\"\",E12)","v":""},{"$f":"IF(H12=\"\",\"\",H12)","v":""},{"$f":"IF(E15=\"\",\"\",E15)","v":""},{"$f":"IF(H15=\"\",\"\",H15)","v":""},{"$f":"IF(E18=\"\",\"\",E18)","v":""},{"$f":"IF(E24=\"\",\"\",E24)","v":""},{"$f":"IF(H24=\"\",\"\",H24)","v":""},{"$f":"IF(E27=\"\",\"\",E27)","v":""},{"$f":"IF(H27=\"\",\"\",H27)","v":""},{"$f":"IF(E30=\"\",\"\",E30)","v":""},{"$f":"IF(O30=\"\",\"\",O30)","v":""},{"$f":"IF(E33=\"\",\"\",IF(OR(VLOOKUP(AL225,Configuração!$S$7:$U$16,3)=\"C\",VLOOKUP(AL225,Configuração!$S$7:$U$16,3)=\"C (T)\"),E33,-E33))","v":""},{"$f":"IF(E27=\"\",\"\",IF(E33=\"\",\"\",U27+AW225))","v":""},{"$f":"IF(E36=\"\",\"\",E36)","v":""},{"$f":"IF(H36=\"\",\"\",H36)","v":""},{"$f":"IF(AY225=\"\",\"\",TODAY())","v":""},{"$f":"IF(AY225=\"\",\"\",NOW())","v":""}]
["1/2",null,{"$f":"IF(Configuração!X8=\"\",\"\",Configuração!W8)","v":2},null,{"$f":"IF(Configuração!C8=\"\",\"\",Configuração!B8)","v":""},null,null,{"$f":"IF(Configuração!N8=\"\",\"\",Configuração!M8)","v":2},{"$f":"IF(Configuração!Q8=\"\",\"\",Configuração!P8)","v":2},null,null,{"$f":"IF(Configuração!T8=\"\",\"\",Configuração!S8)","v":2},null,null,{"$f":"IF(Configuração!H10=\"\",\"\",IF($E$12=\"\",\"\",IF(VLOOKUP($E$12,Configuração!$S$7:$U$16,3)=\"C\",Configuração!F10,\"\")))","v":""},null,null,{"$f":"IF(Configuração!K8=\"\",\"\",Configuração!J8)","v":""},null,null,null,1012010,40179,2,"Fevereiro",{"$f":"IF(Configuração!AA8=\"\",\"\",Configuração!Z8)","v":2},{"$f":"IF(Z226=\"\",\"\",VLOOKUP(Z226,Configuração!$Z$7:$AB$36,3))","v":0}]
["2/2",null,{"$f":"IF(Configuração!X9=\"\",\"\",Configuração!W9)","v":""},null,{"$f":"IF(Configuração!C9=\"\",\"\",Configuração!B9)","v":""},null,null,{"$f":"IF(Configuração!N9=\"\",\"\",Configuração!M9)","v":3},{"$f":"IF(Configuração!Q9=\"\",\"\",Configuração!P9)","v":3},null,null,{"$f":"IF(Configuração!T9=\"\",\"\",Configuração!S9)","v":3},null,null,{"$f":"IF(Configuração!H11=\"\",\"\",IF($E$12=\"\",\"\",IF(VLOOKUP($E$12,Configuração!$S$7:$U$16,3)=\"C\",Configuração!F11,\"\")))","v":""},null,null,{"$f":"IF(Configuração!K9=\"\",\"\",Configuração!J9)","v":""},null,null,null,1012011,40544,3,"Março",{"$f":"IF(Configuração!AA9=\"\",\"\",Configuração!Z9)","v":3},{"$f":"IF(Z227=\"\",\"\",VLOOKUP(Z227,Configuração!$Z$7:$AB$36,3))","v":0}]
["1/3",null,{"$f":"IF(Configuração!X10=\"\",\"\",Configuração!W10)","v":""},null,{"$f":"IF(Configuração!C10=\"\",\"\",Configuração!B10)","v":""},null,null,{"$f":"IF(Configuração!N10=\"\",\"\",Configuração!M10)","v":4},{"$f":"IF(Configuração!Q10=\"\",\"\",Configuração!P10)","v":4},null,null,{"$f":"IF(Configuração!T10=\"\",\"\",Configuração!S10)","v":4},null,null,{"$f":"IF(Configuração!H12=\"\",\"\",IF($E$12=\"\",\"\",IF(VLOOKUP($E$12,Configuração!$S$7:$U$16,3)=\"C\",Configuração!F12,\"\")))","v":""},null,null,{"$f":"IF(Configuração!K10=\"\",\"\",Configuração!J10)","v":""},null,null,null,1012012,40909,4,"Abril",{"$f":"IF(Configuração!AA10=\"\",\"\",Configuração!Z10)","v":4},{"$f":"IF(Z228=\"\",\"\",VLOOKUP(Z228,Configuração!$Z$7:$AB$36,3))","v":0}]
["2/3",null,{"$f":"IF(Configuração!X11=\"\",\"\",Configuração!W11)","v":""},null,{"$f":"IF(Configuração!C11=\"\",\"\",Configuração!B11)","v":""},null,null,{"$f":"IF(Configuração!N11=\"\",\"\",Configuração!M11)","v":""},{"$f":"IF(Configuração!Q11=\"\",\"\",Configuração!P11)","v":5},null,null,{"$f":"IF(Configuração!T11=\"\",\"\",Configuração!S11)","v":""},null,null,{"$f":"IF(Configuração!H13=\"\",\"\",IF($E$12=\"\",\"\",IF(VLOOKUP($E$12,Configuração!$S$7:$U$16,3)=\"C\",Configuração!F13,\"\")))","v":""},null,null,{"$f":"IF(Configuração!K11=\"\",\"\",Configuração!J11)","v":""},null,null,null,1012013,41275,5,"Maio",{"$f":"IF(Configuração!AA11=\"\",\"\",Configuração!Z11)","v":""},{"$f":"IF(Z229=\"\",\"\",VLOOKUP(Z229,Configuração!$Z$7:$AB$36,3))","v":""}]
["3/3",null,{"$f":"IF(Configuração!X12=\"\",\"\",Configuração!W12)","v":""},null,{"$f":"IF(Configuração!C12=\"\",\"\",Configuração!B12)","v":""},null,null,{"$f":"IF(Configuração!N12=\"\",\"\",Configuração!M12)","v":""},{"$f":"IF(Configuração!Q12=\"\",\"\",Configuração!P12)","v":6},null,null,{"$f":"IF(Configuração!T12=\"\",\"\",Configuração!S12)","v":""},null,null,{"$f":"IF(Configuração!H14=\"\",\"\",IF($E$12=\"\",\"\",IF(VLOOKUP($E$12,Configuração!$S$7:$U$16,3)=\"C\",Configuração!F14,\"\")))","v":""},null,null,{"$f":"IF(Configuração!K12=\"\",\"\",Configuração!J12)","v":""},null,null,null,1012014,41640,6,"Junho",{"$f":"IF(Configuração!AA12=\"\",\"\",Configuração!Z12)","v":""},{"$f":"IF(Z230=\"\",\"\",VLOOKUP(Z230,Configuração!$Z$7:$AB$36,3))","v":""}]
["1/4",null,{"$f":"IF(Configuração!X13=\"\",\"\",Configuração!W13)","v":""},null,{"$f":"IF(Configuração!C13=\"\",\"\",Configuração!B13)","v":""},null,null,{"$f":"IF(Configuração!N13=\"\",\"\",Configuração!M13)","v":""},{"$f":"IF(Configuração!Q13=\"\",\"\",Configuração!P13)","v":7},null,null,{"$f":"IF(Configuração!T13=\"\",\"\",Configuração!S13)","v":""},null,null,{"$f":"IF(Configuração!H15=\"\",\"\",IF($E$12=\"\",\"\",IF(VLOOKUP($E$12,Configuração!$S$7:$U$16,3)=\"C\",Configuração!F15,\"\")))","v":""},null,null,{"$f":"IF(Configuração!K13=\"\",\"\",Configuração!J13)","v":""},null,null,null,1012015,42005,7,"Julho",{"$f":"IF(Configuração!AA13=\"\",\"\",Configuração!Z13)","v":""},{"$f":"IF(Z231=\"\",\"\",VLOOKUP(Z231,Configuração!$Z$7:$AB$36,3))","v":""}]
["2/4",null,{"$f":"IF(Configuração!X14=\"\",\"\",Configuração!W14)","v":""},null,{"$f":"IF(Configuração!C14=\"\",\"\",Configuração!B14)","v":""},null,null,{"$f":"IF(Configuração!N14=\"\",\"\",Configuração!M14)","v":""},{"$f":"IF(Configuração!Q14=\"\",\"\",Configuração!P14)","v":""},null,null,{"$f":"IF(Configuração!T14=\"\",\"\",Configuração!S14)","v":""},null,null,{"$f":"IF(Configuração!H16=\"\",\"\",IF($E$12=\"\",\"\",IF(VLOOKUP($E$12,Configuração!$S$7:$U$16,3)=\"C\",Configuração!F16,\"\")))","v":""},null,null,{"$f":"IF(Configuração!K14=\"\",\"\",Configuração!J14)","v":""},null,null,null,1012016,42370,8,"Agosto",{"$f":"IF(Configuração!AA14=\"\",\"\",Configuração!Z14)","v":""},{"$f":"IF(Z232=\"\",\"\",VLOOKUP(Z232,Configuração!$Z$7:$AB$36,3))","v":""}]
["3/4",null,{"$f":"IF(Configuração!X15=\"\",\"\",Configuração!W15)","v":""},null,{"$f":"IF(Configuração!C15=\"\",\"\",Configuração!B15)","v":""},null,null,{"$f":"IF(Configuração!N15=\"\",\"\",Configuração!M15)","v":""},{"$f":"IF(Configuração!Q15=\"\",\"\",Configuração!P15)","v":""},null,null,{"$f":"IF(Configuração!T15=\"\",\"\",Configuração!S15)","v":""},null,null,{"$f":"IF(Configuração!H17=\"\",\"\",IF($E$12=\"\",\"\",IF(VLOOKUP($E$12,Configuração!$S$7:$U$16,3)=\"C\",Configuração!F17,\"\")))","v":""},null,null,{"$f":"IF(Configuração!K15=\"\",\"\",Configuração!J15)","v":""},null,null,null,1012017,42736,9,"Setembro",{"$f":"IF(Configuração!AA15=\"\",\"\",Configuração!Z15)","v":""},{"$f":"IF(Z233=\"\",\"\",VLOOKUP(Z233,Configuração!$Z$7:$AB$36,3))","v":""}]
["4/4",null,{"$f":"IF(Configuração!X16=\"\",\"\",Configuração!W16)","v":""},null,{"$f":"IF(Configuração!C16=\"\",\"\",Configuração!B16)","v":""},null,null,{"$f":"IF(Configuração!N16=\"\",\"\",Configuração!M16)","v":""},{"$f":"IF(Configuração!Q16=\"\",\"\",Configuração!P16)","v":""},null,null,{"$f":"IF(Configuração!T16=\"\",\"\",Configuração!S16)","v":""},null,null,{"$f":"IF(Configuração!H18=\"\",\"\",IF($E$12=\"\",\"\",IF(VLOOKUP($E$12,Configuração!$S$7:$U$16,3)=\"C\",Configuração!F18,\"\")))","v":""},null,null,{"$f":"IF(Configuração!K16=\"\",\"\",Configuração!J16)","v":""},null,null,null,1012018,43101,10,"Outubro",{"$f":"IF(Configuração!AA16=\"\",\"\",Configuração!Z16)","v":""},{"$f":"IF(Z234=\"\",\"\",VLOOKUP(Z234,Configuração!$Z$7:$AB$36,3))","v":""}]
["1/5",null,null,null,{"$f":"IF(Configuração!C17=\"\",\"\",Configuração!B17)","v":""},null,null,null,null,null,null,null,null,null,{"$f":"IF(Configuração!H19=\"\",\"\",IF($E$12=\"\",\"\",IF(VLOOKUP($E$12,Configuração!$S$7:$U$16,3)=\"C\",Configuração!F19,\"\")))","v":""},null,null,null,null,null,null,1012019,43466,11,"Novembro",{"$f":"IF(Configuração!AA17=\"\",\"\",Configuração!Z17)","v":""},{"$f":"IF(Z235=\"\",\"\",VLOOKUP(Z235,Configuração!$Z$7:$AB$36,3))","v":""}]
["2/5",null,null,null,{"$f":"IF(Configuração!C18=\"\",\"\",Configuração!B18)","v":""},null,null,null,null,null,null,null,null,null,{"$f":"IF(Configuração!H20=\"\",\"\",IF($E$12=\"\",\"\",IF(VLOOKUP($E$12,Configuração!$S$7:$U$16,3)=\"C\",Configuração!F20,\"\")))","v":""},null,null,null,null,null,null,1012020,43831,12,"Dezembro",{"$f":"IF(Configuração!AA18=\"\",\"\",Configuração!Z18)","v":""},{"$f":"IF(Z236=\"\",\"\",VLOOKUP(Z236,Configuração!$Z$7:$AB$36,3))","v":""}]
["3/5",null,null,null,{"$f":"IF(Configuração!C19=\"\",\"\",Configuração!B19)","v":""},null,null,null,null,null,null,null,null,null,{"$f":"IF(Configuração!H21=\"\",\"\",IF($E$12=\"\",\"\",IF(VLOOKUP($E$12,Configuração!$S$7:$U$16,3)=\"C\",Configuração!F21,\"\")))","v":""},null,null,null,null,null,null,1012021,44197,null,null,{"$f":"IF(Configuração!AA19=\"\",\"\",Configuração!Z19)","v":""},{"$f":"IF(Z237=\"\",\"\",VLOOKUP(Z237,Configuração!$Z$7:$AB$36,3))","v":""}]
["4/5",null,null,null,{"$f":"IF(Configuração!C20=\"\",\"\",Configuração!B20)","v":""},null,null,null,null,null,null,null,null,null,{"$f":"IF(Configuração!H22=\"\",\"\",IF($E$12=\"\",\"\",IF(VLOOKUP($E$12,Configuração!$S$7:$U$16,3)=\"C\",Configuração!F22,\"\")))","v":""},null,null,null,null,null,null,1012022,44562,null,null,{"$f":"IF(Configuração!AA20=\"\",\"\",Configuração!Z20)","v":""},{"$f":"IF(Z238=\"\",\"\",VLOOKUP(Z238,Configuração!$Z$7:$AB$36,3))","v":""}]
["5/5",null,null,null,{"$f":"IF(Configuração!C21=\"\",\"\",Configuração!B21)","v":""},null,null,null,null,null,null,null,null,null,{"$f":"IF(Configuração!H23=\"\",\"\",IF($E$12=\"\",\"\",IF(VLOOKUP($E$12,Configuração!$S$7:$U$16,3)=\"C\",Configuração!F23,\"\")))","v":""},null,null,null,null,null,null,1012023,44927,null,null,{"$f":"IF(Configuração!AA21=\"\",\"\",Configuração!Z21)","v":""},{"$f":"IF(Z239=\"\",\"\",VLOOKUP(Z239,Configuração!$Z$7:$AB$36,3))","v":""}]
["1/6",null,null,null,{"$f":"IF(Configuração!C22=\"\",\"\",Configuração!B22)","v":""},null,null,null,null,null,null,null,null,null,{"$f":"IF(Configuração!H24=\"\",\"\",IF($E$12=\"\",\"\",IF(VLOOKUP($E$12,Configuração!$S$7:$U$16,3)=\"C\",Configuração!F24,\"\")))","v":""},null,null,null,null,null,null,1022009,39845,null,null,{"$f":"IF(Configuração!AA22=\"\",\"\",Configuração!Z22)","v":""},{"$f":"IF(Z240=\"\",\"\",VLOOKUP(Z240,Configuração!$Z$7:$AB$36,3))","v":""}]
["2/6",null,null,null,{"$f":"IF(Configuração!C23=\"\",\"\",Configuração!B23)","v":""},null,null,null,null,null,null,null,null,null,{"$f":"IF(Configuração!H25=\"\",\"\",IF($E$12=\"\",\"\",IF(VLOOKUP($E$12,Configuração!$S$7:$U$16,3)=\"C\",Configuração!F25,\"\")))","v":""},null,null,null,null,null,null,1022010,40210,null,null,{"$f":"IF(Configuração!AA23=\"\",\"\",Configuração!Z23)","v":""},{"$f":"IF(Z241=\"\",\"\",VLOOKUP(Z241,Configuração!$Z$7:$AB$36,3))","v":""}]
["3/6",null,null,null,{"$f":"IF(Configuração!C24=\"\",\"\",Configuração!B24)","v":""},null,null,null,null,null,null,null,null,null,{"$f":"IF(Configuração!H26=\"\",\"\",IF($E$12=\"\",\"\",IF(VLOOKUP($E$12,Configuração!$S$7:$U$16,3)=\"C\",Configuração!F26,\"\")))","v":""},null,null,null,null,null,null,1022011,40575,null,null,{"$f":"IF(Configuração!AA24=\"\",\"\",Configuração!Z24)","v":""},{"$f":"IF(Z242=\"\",\"\",VLOOKUP(Z242,Configuração!$Z$7:$AB$36,3))","v":""}]
["4/6",null,null,null,{"$f":"IF(Configuração!C25=\"\",\"\",Configuração!B25)","v":""},null,null,null,null,null,null,null,null,null,{"$f":"IF(Configuração!H27=\"\",\"\",IF($E$12=\"\",\"\",IF(VLOOKUP($E$12,Configuração!$S$7:$U$16,3)=\"C\",Configuração!F27,\"\")))","v":""},null,null,null,null,null,null,1022012,40940,null,null,{"$f":"IF(Configuração!AA25=\"\",\"\",Configuração!Z25)","v":""},{"$f":"IF(Z243=\"\",\"\",VLOOKUP(Z243,Configuração!$Z$7:$AB$36,3))","v":""}]
["5/6",null,null,null,{"$f":"IF(Configuração!C26=\"\",\"\",Configuração!B26)","v":""},null,null,null,null,null,null,null,null,null,{"$f":"IF(Configuração!H28=\"\",\"\",IF($E$12=\"\",\"\",IF(VLOOKUP($E$12,Configuração!$S$7:$U$16,3)=\"C\",Configuração!F28,\"\")))","v":""},null,null,null,null,null,null,1022013,41306,null,null,{"$f":"IF(Configuração!AA26=\"\",\"\",Configuração!Z26)","v":""},{"$f":"IF(Z244=\"\",\"\",VLOOKUP(Z244,Configuração!$Z$7:$AB$36,3))","v":""}]
["6/6",null,null,null,{"$f":"IF(Configuração!C27=\"\",\"\",Configuração!B27)","v":""},null,null,null,null,null,null,null,null,null,{"$f":"IF(Configuração!H29=\"\",\"\",IF($E$12=\"\",\"\",IF(VLOOKUP($E$12,Configuração!$S$7:$U$16,3)=\"C\",Configuração!F29,\"\")))","v":""},null,null,null,null,null,null,1022014,41671,null,null,{"$f":"IF(Configuração!AA27=\"\",\"\",Configuração!Z27)","v":""},{"$f":"IF(Z245=\"\",\"\",VLOOKUP(Z245,Configuração!$Z$7:$AB$36,3))","v":""}]
["1/7",null,null,null,{"$f":"IF(Configuração!C28=\"\",\"\",Configuração!B28)","v":""},null,null,null,null,null,null,null,null,null,{"$f":"IF(Configuração!H30=\"\",\"\",IF($E$12=\"\",\"\",IF(VLOOKUP($E$12,Configuração!$S$7:$U$16,3)=\"C\",Configuração!F30,\"\")))","v":""},null,null,null,null,null,null,1022015,42036,null,null,{"$f":"IF(Configuração!AA28=\"\",\"\",Configuração!Z28)","v":""},{"$f":"IF(Z246=\"\",\"\",VLOOKUP(Z246,Configuração!$Z$7:$AB$36,3))","v":""}]
["2/7",null,null,null,{"$f":"IF(Configuração!C29=\"\",\"\",Configuração!B29)","v":""},null,null,null,null,null,null,null,null,null,{"$f":"IF(Configuração!H31=\"\",\"\",IF($E$12=\"\",\"\",IF(VLOOKUP($E$12,Configuração!$S$7:$U$16,3)=\"C\",Configuração!F31,\"\")))","v":""},null,null,null,null,null,null,1022016,42401,null,null,{"$f":"IF(Configuração!AA29=\"\",\"\",Configuração!Z29)","v":""},{"$f":"IF(Z247=\"\",\"\",VLOOKUP(Z247,Configuração!$Z$7:$AB$36,3))","v":""}]
["3/7",null,null,null,{"$f":"IF(Configuração!C30=\"\",\"\",Configuração!B30)","v":""},null,null,null,null,null,null,null,null,null,{"$f":"IF(Configuração!H32=\"\",\"\",IF($E$12=\"\",\"\",IF(VLOOKUP($E$12,Configuração!$S$7:$U$16,3)=\"C\",Configuração!F32,\"\")))","v":""},null,null,null,null,null,null,1022017,42767,null,null,{"$f":"IF(Configuração!AA30=\"\",\"\",Configuração!Z30)","v":""},{"$f":"IF(Z248=\"\",\"\",VLOOKUP(Z248,Configuração!$Z$7:$AB$36,3))","v":""}]
["4/7",null,null,null,{"$f":"IF(Configuração!C31=\"\",\"\",Configuração!B31)","v":""},null,null,null,null,null,null,null,null,null,{"$f":"IF(Configuração!H33=\"\",\"\",IF($E$12=\"\",\"\",IF(VLOOKUP($E$12,Configuração!$S$7:$U$16,3)=\"C\",Configuração!F33,\"\")))","v":""},null,null,null,null,null,null,1022018,43132,null,null,{"$f":"IF(Configuração!AA31=\"\",\"\",Configuração!Z31)","v":""},{"$f":"IF(Z249=\"\",\"\",VLOOKUP(Z249,Configuração!$Z$7:$AB$36,3))","v":""}]
["5/7",null,null,null,{"$f":"IF(Configuração!C32=\"\",\"\",Configuração!B32)","v":""},null,null,null,null,null,null,null,null,null,{"$f":"IF(Configuração!H34=\"\",\"\",IF($E$12=\"\",\"\",IF(VLOOKUP($E$12,Configuração!$S$7:$U$16,3)=\"C\",Configuração!F34,\"\")))","v":""},null,null,null,null,null,null,1022019,43497,null,null,{"$f":"IF(Configuração!AA32=\"\",\"\",Configuração!Z32)","v":""},{"$f":"IF(Z250=\"\",\"\",VLOOKUP(Z250,Configuração!$Z$7:$AB$36,3))","v":""}]
["6/7",null,null,null,{"$f":"IF(Configuração!C33=\"\",\"\",Configuração!B33)","v":""},null,null,null,null,null,null,null,null,null,{"$f":"IF(Configuração!H35=\"\",\"\",IF($E$12=\"\",\"\",IF(VLOOKUP($E$12,Configuração!$S$7:$U$16,3)=\"C\",Configuração!F35,\"\")))","v":""},null,null,null,null,null,null,1022020,43862,null,null,{"$f":"IF(Configuração!AA33=\"\",\"\",Configuração!Z33)","v":""},{"$f":"IF(Z251=\"\",\"\",VLOOKUP(Z251,Configuração!$Z$7:$AB$36,3))","v":""}]
["7/7",null,null,null,{"$f":"IF(Configuração!C34=\"\",\"\",Configuração!B34)","v":""},null,null,null,null,null,null,null,null,null,{"$f":"IF(Configuração!H36=\"\",\"\",IF($E$12=\"\",\"\",IF(VLOOKUP($E$12,Configuração!$S$7:$U$16,3)=\"C\",Configuração!F36,\"\")))","v":""},null,null,null,null,null,null,1022021,44228,null,null,{"$f":"IF(Configuração!AA34=\"\",\"\",Configuração!Z34)","v":""},{"$f":"IF(Z252=\"\",\"\",VLOOKUP(Z252,Configuração!$Z$7:$AB$36,3))","v":""}]
["1/8",null,null,null,{"$f":"IF(Configuração!C35=\"\",\"\",Configuração!B35)","v":""},null,null,null,null,null,null,null,null,null,{"$f":"IF(Configuração!H37=\"\",\"\",IF($E$12=\"\",\"\",IF(VLOOKUP($E$12,Configuração!$S$7:$U$16,3)=\"C\",Configuração!F37,\"\")))","v":""},null,null,null,null,null,null,1022022,44593,null,null,{"$f":"IF(Configuração!AA35=\"\",\"\",Configuração!Z35)","v":""},{"$f":"IF(Z253=\"\",\"\",VLOOKUP(Z253,Configuração!$Z$7:$AB$36,3))","v":""}]
["2/8",null,null,null,{"$f":"IF(Configuração!C36=\"\",\"\",Configuração!B36)","v":""},null,null,null,null,null,null,null,null,null,{"$f":"IF(Configuração!H38=\"\",\"\",IF($E$12=\"\",\"\",IF(VLOOKUP($E$12,Configuração!$S$7:$U$16,3)=\"C\",Configuração!F38,\"\")))","v":""},null,null,null,null,null,null,1022023,44958,null,null,{"$f":"IF(Configuração!AA36=\"\",\"\",Configuração!Z36)","v":""},{"$f":"IF(Z254=\"\",\"\",VLOOKUP(Z254,Configuração!$Z$7:$AB$36,3))","v":""}]
["3/8",null,null,null,{"$f":"IF(Configuração!C37=\"\",\"\",Configuração!B37)","v":""},null,null,null,null,null,null,null,null,null,{"$f":"IF(Configuração!H39=\"\",\"\",IF($E$12=\"\",\"\",IF(VLOOKUP($E$12,Configuração!$S$7:$U$16,3)=\"C\",Configuração!F39,\"\")))","v":""},null,null,null,null,null,null,1032009,39873]
["4/8",null,null,null,{"$f":"IF(Configuração!C38=\"\",\"\",Configuração!B38)","v":""},null,null,null,null,null,null,null,null,null,{"$f":"IF(Configuração!H40=\"\",\"\",IF($E$12=\"\",\"\",IF(VLOOKUP($E$12,Configuração!$S$7:$U$16,3)=\"C\",Configuração!F40,\"\")))","v":""},null,null,null,null,null,null,1032010,40238]
["5/8",null,null,null,{"$f":"IF(Configuração!C39=\"\",\"\",Configuração!B39)","v":""},null,null,null,null,null,null,null,null,null,{"$f":"IF(Configuração!H41=\"\",\"\",IF($E$12=\"\",\"\",IF(VLOOKUP($E$12,Configuração!$S$7:$U$16,3)=\"C\",Configuração!F41,\"\")))","v":""},null,null,null,null,null,null,1032011,40603]
["6/8",null,null,null,{"$f":"IF(Configuração!C40=\"\",\"\",Configuração!B40)","v":""},null,null,null,null,null,null,null,null,null,{"$f":"IF(Configuração!H42=\"\",\"\",IF($E$12=\"\",\"\",IF(VLOOKUP($E$12,Configuração!$S$7:$U$16,3)=\"C\",Configuração!F42,\"\")))","v":""},null,null,null,null,null,null,1032012,40969]
["7/8",null,null,null,{"$f":"IF(Configuração!C41=\"\",\"\",Configuração!B41)","v":""},null,null,null,null,null,null,null,null,null,{"$f":"IF(Configuração!H43=\"\",\"\",IF($E$12=\"\",\"\",IF(VLOOKUP($E$12,Configuração!$S$7:$U$16,3)=\"C\",Configuração!F43,\"\")))","v":""},null,null,null,null,null,null,1032013,41334]
["8/8",null,null,null,{"$f":"IF(Configuração!C42=\"\",\"\",Configuração!B42)","v":""},null,null,null,null,null,null,null,null,null,{"$f":"IF(Configuração!H44=\"\",\"\",IF($E$12=\"\",\"\",IF(VLOOKUP($E$12,Configuração!$S$7:$U$16,3)=\"C\",Configuração!F44,\"\")))","v":""},null,null,null,null,null,null,1032014,41699]
["1/9",null,null,null,{"$f":"IF(Configuração!C43=\"\",\"\",Configuração!B43)","v":""},null,null,null,null,null,null,null,null,null,{"$f":"IF(Configuração!H45=\"\",\"\",IF($E$12=\"\",\"\",IF(VLOOKUP($E$12,Configuração!$S$7:$U$16,3)=\"C\",Configuração!F45,\"\")))","v":""},null,null,null,null,null,null,1032015,42064]
["2/9",null,null,null,{"$f":"IF(Configuração!C44=\"\",\"\",Configuração!B44)","v":""},null,null,null,null,null,null,null,null,null,{"$f":"IF(Configuração!H46=\"\",\"\",IF($E$12=\"\",\"\",IF(VLOOKUP($E$12,Configuração!$S$7:$U$16,3)=\"C\",Configuração!F46,\"\")))","v":""},null,null,null,null,null,null,1032016,42430]
["3/9",null,null,null,{"$f":"IF(Configuração!C45=\"\",\"\",Configuração!B45)","v":""},null,null,null,null,null,null,null,null,null,{"$f":"IF(Configuração!H47=\"\",\"\",IF($E$12=\"\",\"\",IF(VLOOKUP($E$12,Configuração!$S$7:$U$16,3)=\"C\",Configuração!F47,\"\")))","v":""},null,null,null,null,null,null,1032017,42795]
["4/9",null,null,null,{"$f":"IF(Configuração!C46=\"\",\"\",Configuração!B46)","v":""},null,null,null,null,null,null,null,null,null,{"$f":"IF(Configuração!H48=\"\",\"\",IF($E$12=\"\",\"\",IF(VLOOKUP($E$12,Configuração!$S$7:$U$16,3)=\"C\",Configuração!F48,\"\")))","v":""},null,null,null,null,null,null,1032018,43160]
["5/9",null,null,null,{"$f":"IF(Configuração!C47=\"\",\"\",Configuração!B47)","v":""},null,null,null,null,null,null,null,null,null,{"$f":"IF(Configuração!H49=\"\",\"\",IF($E$12=\"\",\"\",IF(VLOOKUP($E$12,Configuração!$S$7:$U$16,3)=\"C\",Configuração!F49,\"\")))","v":""},null,null,null,null,null,null,1032019,43525]
["6/9",null,null,null,{"$f":"IF(Configuração!C48=\"\",\"\",Configuração!B48)","v":""},null,null,null,null,null,null,null,null,null,{"$f":"IF(Configuração!H50=\"\",\"\",IF($E$12=\"\",\"\",IF(VLOOKUP($E$12,Configuração!$S$7:$U$16,3)=\"C\",Configuração!F50,\"\")))","v":""},null,null,null,null,null,null,1032020,43891]
["7/9",null,null,null,{"$f":"IF(Configuração!C49=\"\",\"\",Configuração!B49)","v":""},null,null,null,null,null,null,null,null,null,{"$f":"IF(Configuração!H51=\"\",\"\",IF($E$12=\"\",\"\",IF(VLOOKUP($E$12,Configuração!$S$7:$U$16,3)=\"C\",Configuração!F51,\"\")))","v":""},null,null,null,null,null,null,1032021,44256]
["8/9",null,null,null,{"$f":"IF(Configuração!C50=\"\",\"\",Configuração!B50)","v":""},null,null,null,null,null,null,null,null,null,{"$f":"IF(Configuração!H52=\"\",\"\",IF($E$12=\"\",\"\",IF(VLOOKUP($E$12,Configuração!$S$7:$U$16,3)=\"C\",Configuração!F52,\"\")))","v":""},null,null,null,null,null,null,1032022,44621]
["9/9",null,null,null,{"$f":"IF(Configuração!C51=\"\",\"\",Configuração!B51)","v":""},null,null,null,null,null,null,null,null,null,{"$f":"IF(Configuração!H53=\"\",\"\",IF($E$12=\"\",\"\",IF(VLOOKUP($E$12,Configuração!$S$7:$U$16,3)=\"C\",Configuração!F53,\"\")))","v":""},null,null,null,null,null,null,1032023,44986]
["1/10",null,null,null,{"$f":"IF(Configuração!C52=\"\",\"\",Configuração!B52)","v":""},null,null,null,null,null,null,null,null,null,{"$f":"IF(Configuração!H54=\"\",\"\",IF($E$12=\"\",\"\",IF(VLOOKUP($E$12,Configuração!$S$7:$U$16,3)=\"C\",Configuração!F54,\"\")))","v":""},null,null,null,null,null,null,1042009,39904]
["2/10",null,null,null,{"$f":"IF(Configuração!C53=\"\",\"\",Configuração!B53)","v":""},null,null,null,null,null,null,null,null,null,{"$f":"IF(Configuração!H55=\"\",\"\",IF($E$12=\"\",\"\",IF(VLOOKUP($E$12,Configuração!$S$7:$U$16,3)=\"C\",Configuração!F55,\"\")))","v":""},null,null,null,null,null,null,1042010,40269]
["3/10",null,null,null,{"$f":"IF(Configuração!C54=\"\",\"\",Configuração!B54)","v":""},null,null,null,null,null,null,null,null,null,{"$f":"IF(Configuração!H56=\"\",\"\",IF($E$12=\"\",\"\",IF(VLOOKUP($E$12,Configuração!$S$7:$U$16,3)=\"C\",Configuração!F56,\"\")))","v":""},null,null,null,null,null,null,1042011,40634]
["4/10",null,null,null,{"$f":"IF(Configuração!C55=\"\",\"\",Configuração!B55)","v":""},null,null,null,null,null,null,null,null,null,{"$f":"IF(Configuração!H57=\"\",\"\",IF($E$12=\"\",\"\",IF(VLOOKUP($E$12,Configuração!$S$7:$U$16,3)=\"C\",Configuração!F57,\"\")))","v":""},null,null,null,null,null,null,1042012,41000]
["5/10",null,null,null,{"$f":"IF(Configuração!C56=\"\",\"\",Configuração!B56)","v":""},null,null,null,null,null,null,null,null,null,{"$f":"IF(Configuração!H58=\"\",\"\",IF($E$12=\"\",\"\",IF(VLOOKUP($E$12,Configuração!$S$7:$U$16,3)=\"C\",Configuração!F58,\"\")))","v":""},null,null,null,null,null,null,1042013,41365]
["6/10",null,null,null,{"$f":"IF(Configuração!C57=\"\",\"\",Configuração!B57)","v":""},null,null,null,null,null,null,null,null,null,null,null,null,null,null,null,null,1042014,41730]
["7/10",null,null,null,{"$f":"IF(Configuração!C58=\"\",\"\",Configuração!B58)","v":""},null,null,null,null,null,null,null,null,null,{"$f":"IF(Configuração!H60=\"\",\"\",IF($E$12=\"\",\"\",IF(VLOOKUP($E$12,Configuração!$S$7:$U$16,3)=\"C\",Configuração!F60,\"\")))","v":""},null,null,null,null,null,null,1042015,42095]
["8/10",null,null,null,{"$f":"IF(Configuração!C59=\"\",\"\",Configuração!B59)","v":""},null,null,null,null,null,null,null,null,null,{"$f":"IF(Configuração!H61=\"\",\"\",IF($E$12=\"\",\"\",IF(VLOOKUP($E$12,Configuração!$S$7:$U$16,3)=\"C\",Configuração!F61,\"\")))","v":""},null,null,null,null,null,null,1042016,42461]
["9/10",null,null,null,{"$f":"IF(Configuração!C60=\"\",\"\",Configuração!B60)","v":""},null,null,null,null,null,null,null,null,null,{"$f":"IF(Configuração!H62=\"\",\"\",IF($E$12=\"\",\"\",IF(VLOOKUP($E$12,Configuração!$S$7:$U$16,3)=\"C\",Configuração!F62,\"\")))","v":""},null,null,null,null,null,null,1042017,42826]
["10/10",null,null,null,{"$f":"IF(Configuração!C61=\"\",\"\",Configuração!B61)","v":""},null,null,null,null,null,null,null,null,null,{"$f":"IF(Configuração!H63=\"\",\"\",IF($E$12=\"\",\"\",IF(VLOOKUP($E$12,Configuração!$S$7:$U$16,3)=\"C\",Configuração!F63,\"\")))","v":""},null,null,null,null,null,null,1042018,43191]
["1/11",null,null,null,{"$f":"IF(Configuração!C62=\"\",\"\",Configuração!B62)","v":""},null,null,null,null,null,null,null,null,null,{"$f":"IF(Configuração!H64=\"\",\"\",IF($E$12=\"\",\"\",IF(VLOOKUP($E$12,Configuração!$S$7:$U$16,3)=\"C\",Configuração!F64,\"\")))","v":""},null,null,null,null,null,null,1042019,43556]
["2/11",null,null,null,{"$f":"IF(Configuração!C63=\"\",\"\",Configuração!B63)","v":""},null,null,null,null,null,null,null,null,null,{"$f":"IF(Configuração!H65=\"\",\"\",IF($E$12=\"\",\"\",IF(VLOOKUP($E$12,Configuração!$S$7:$U$16,3)=\"C\",Configuração!F65,\"\")))","v":""},null,null,null,null,null,null,1042020,43922]
["3/11",null,null,null,{"$f":"IF(Configuração!C64=\"\",\"\",Configuração!B64)","v":""},null,null,null,null,null,null,null,null,null,{"$f":"IF(Configuração!H66=\"\",\"\",IF($E$12=\"\",\"\",IF(VLOOKUP($E$12,Configuração!$S$7:$U$16,3)=\"C\",Configuração!F66,\"\")))","v":""},null,null,null,null,null,null,1042021,44287]
["4/11",null,null,null,{"$f":"IF(Configuração!C65=\"\",\"\",Configuração!B65)","v":""},null,null,null,null,null,null,null,null,null,{"$f":"IF(Configuração!H67=\"\",\"\",IF($E$12=\"\",\"\",IF(VLOOKUP($E$12,Configuração!$S$7:$U$16,3)=\"C\",Configuração!F67,\"\")))","v":""},null,null,null,null,null,null,1042022,44652]
["5/11",null,null,null,{"$f":"IF(Configuração!C66=\"\",\"\",Configuração!B66)","v":""},null,null,null,null,null,null,null,null,null,{"$f":"IF(Configuração!H68=\"\",\"\",IF($E$12=\"\",\"\",IF(VLOOKUP($E$12,Configuração!$S$7:$U$16,3)=\"C\",Configuração!F68,\"\")))","v":""},null,null,null,null,null,null,1042023,45017]
["6/11",null,null,null,{"$f":"IF(Configuração!C67=\"\",\"\",Configuração!B67)","v":""},null,null,null,null,null,null,null,null,null,{"$f":"IF(Configuração!H69=\"\",\"\",IF($E$12=\"\",\"\",IF(VLOOKUP($E$12,Configuração!$S$7:$U$16,3)=\"C\",Configuração!F69,\"\")))","v":""},null,null,null,null,null,null,1052009,39934]
["7/11",null,null,null,{"$f":"IF(Configuração!C68=\"\",\"\",Configuração!B68)","v":""},null,null,null,null,null,null,null,null,null,{"$f":"IF(Configuração!H70=\"\",\"\",IF($E$12=\"\",\"\",IF(VLOOKUP($E$12,Configuração!$S$7:$U$16,3)=\"C\",Configuração!F70,\"\")))","v":""},null,null,null,null,null,null,1052010,40299]
["8/11",null,null,null,{"$f":"IF(Configuração!C69=\"\",\"\",Configuração!B69)","v":""},null,null,null,null,null,null,null,null,null,{"$f":"IF(Configuração!H71=\"\",\"\",IF($E$12=\"\",\"\",IF(VLOOKUP($E$12,Configuração!$S$7:$U$16,3)=\"C\",Configuração!F71,\"\")))","v":""},null,null,null,null,null,null,1052011,40664]
["9/11",null,null,null,{"$f":"IF(Configuração!C70=\"\",\"\",Configuração!B70)","v":""},null,null,null,null,null,null,null,null,null,{"$f":"IF(Configuração!H72=\"\",\"\",IF($E$12=\"\",\"\",IF(VLOOKUP($E$12,Configuração!$S$7:$U$16,3)=\"C\",Configuração!F72,\"\")))","v":""},null,null,null,null,null,null,1052012,41030]
["10/11",null,null,null,{"$f":"IF(Configuração!C71=\"\",\"\",Configuração!B71)","v":""},null,null,null,null,null,null,null,null,null,{"$f":"IF(Configuração!H73=\"\",\"\",IF($E$12=\"\",\"\",IF(VLOOKUP($E$12,Configuração!$S$7:$U$16,3)=\"C\",Configuração!F73,\"\")))","v":""},null,null,null,null,null,null,1052013,41395]
["11/11",null,null,null,{"$f":"IF(Configuração!C72=\"\",\"\",Configuração!B72)","v":""},null,null,null,null,null,null,null,null,null,{"$f":"IF(Configuração!H74=\"\",\"\",IF($E$12=\"\",\"\",IF(VLOOKUP($E$12,Configuração!$S$7:$U$16,3)=\"C\",Configuração!F74,\"\")))","v":""},null,null,null,null,null,null,1052014,41760]
["1/12",null,null,null,{"$f":"IF(Configuração!C73=\"\",\"\",Configuração!B73)","v":""},null,null,null,null,null,null,null,null,null,{"$f":"IF(Configuração!H75=\"\",\"\",IF($E$12=\"\",\"\",IF(VLOOKUP($E$12,Configuração!$S$7:$U$16,3)=\"C\",Configuração!F75,\"\")))","v":""},null,null,null,null,null,null,1052015,42125]
["2/12",null,null,null,{"$f":"IF(Configuração!C74=\"\",\"\",Configuração!B74)","v":""},null,null,null,null,null,null,null,null,null,{"$f":"IF(Configuração!H76=\"\",\"\",IF($E$12=\"\",\"\",IF(VLOOKUP($E$12,Configuração!$S$7:$U$16,3)=\"C\",Configuração!F76,\"\")))","v":""},null,null,null,null,null,null,1052016,42491]
["3/12",null,null,null,{"$f":"IF(Configuração!C75=\"\",\"\",Configuração!B75)","v":""},null,null,null,null,null,null,null,null,null,{"$f":"IF(Configuração!H77=\"\",\"\",IF($E$12=\"\",\"\",IF(VLOOKUP($E$12,Configuração!$S$7:$U$16,3)=\"C\",Configuração!F77,\"\")))","v":""},null,null,null,null,null,null,1052017,42856]
["4/12",null,null,null,{"$f":"IF(Configuração!C76=\"\",\"\",Configuração!B76)","v":""},null,null,null,null,null,null,null,null,null,{"$f":"IF(Configuração!H78=\"\",\"\",IF($E$12=\"\",\"\",IF(VLOOKUP($E$12,Configuração!$S$7:$U$16,3)=\"C\",Configuração!F78,\"\")))","v":""},null,null,null,null,null,null,1052018,43221]
["5/12",null,null,null,{"$f":"IF(Configuração!C77=\"\",\"\",Configuração!B77)","v":""},null,null,null,null,null,null,null,null,null,{"$f":"IF(Configuração!H79=\"\",\"\",IF($E$12=\"\",\"\",IF(VLOOKUP($E$12,Configuração!$S$7:$U$16,3)=\"C\",Configuração!F79,\"\")))","v":""},null,null,null,null,null,null,1052019,43586]
["6/12",null,null,null,{"$f":"IF(Configuração!C78=\"\",\"\",Configuração!B78)","v":""},null,null,null,null,null,null,null,null,null,{"$f":"IF(Configuração!H80=\"\",\"\",IF($E$12=\"\",\"\",IF(VLOOKUP($E$12,Configuração!$S$7:$U$16,3)=\"C\",Configuração!F80,\"\")))","v":""},null,null,null,null,null,null,1052020,43952]
["7/12",null,null,null,{"$f":"IF(Configuração!C79=\"\",\"\",Configuração!B79)","v":""},null,null,null,null,null,null,null,null,null,{"$f":"IF(Configuração!H81=\"\",\"\",IF($E$12=\"\",\"\",IF(VLOOKUP($E$12,Configuração!$S$7:$U$16,3)=\"C\",Configuração!F81,\"\")))","v":""},null,null,null,null,null,null,1052021,44317]
["8/12",null,null,null,{"$f":"IF(Configuração!C80=\"\",\"\",Configuração!B80)","v":""},null,null,null,null,null,null,null,null,null,{"$f":"IF(Configuração!H82=\"\",\"\",IF($E$12=\"\",\"\",IF(VLOOKUP($E$12,Configuração!$S$7:$U$16,3)=\"C\",Configuração!F82,\"\")))","v":""},null,null,null,null,null,null,1052022,44682]
["9/12",null,null,null,{"$f":"IF(Configuração!C81=\"\",\"\",Configuração!B81)","v":""},null,null,null,null,null,null,null,null,null,{"$f":"IF(Configuração!H83=\"\",\"\",IF($E$12=\"\",\"\",IF(VLOOKUP($E$12,Configuração!$S$7:$U$16,3)=\"C\",Configuração!F83,\"\")))","v":""},null,null,null,null,null,null,1052023,45047]
["10/12",null,null,null,{"$f":"IF(Configuração!C82=\"\",\"\",Configuração!B82)","v":""},null,null,null,null,null,null,null,null,null,{"$f":"IF(Configuração!H84=\"\",\"\",IF($E$12=\"\",\"\",IF(VLOOKUP($E$12,Configuração!$S$7:$U$16,3)=\"C\",Configuração!F84,\"\")))","v":""},null,null,null,null,null,null,1062009,39965]
["11/12",null,null,null,{"$f":"IF(Configuração!C83=\"\",\"\",Configuração!B83)","v":""},null,null,null,null,null,null,null,null,null,{"$f":"IF(Configuração!H85=\"\",\"\",IF($E$12=\"\",\"\",IF(VLOOKUP($E$12,Configuração!$S$7:$U$16,3)=\"C\",Configuração!F85,\"\")))","v":""},null,null,null,null,null,null,1062010,40330]
["12/12",null,null,null,{"$f":"IF(Configuração!C84=\"\",\"\",Configuração!B84)","v":""},null,null,null,null,null,null,null,null,null,{"$f":"IF(Configuração!H86=\"\",\"\",IF($E$12=\"\",\"\",IF(VLOOKUP($E$12,Configuração!$S$7:$U$16,3)=\"C\",Configuração!F86,\"\")))","v":""},null,null,null,null,null,null,1062011,40695]
["1/150",null,null,null,{"$f":"IF(Configuração!C85=\"\",\"\",Configuração!B85)","v":""},null,null,null,null,null,null,null,null,null,{"$f":"IF(Configuração!H87=\"\",\"\",IF($E$12=\"\",\"\",IF(VLOOKUP($E$12,Configuração!$S$7:$U$16,3)=\"C\",Configuração!F87,\"\")))","v":""},null,null,null,null,null,null,1062012,41061]
["2/150",null,null,null,{"$f":"IF(Configuração!C86=\"\",\"\",Configuração!B86)","v":""},null,null,null,null,null,null,null,null,null,{"$f":"IF(Configuração!H88=\"\",\"\",IF($E$12=\"\",\"\",IF(VLOOKUP($E$12,Configuração!$S$7:$U$16,3)=\"C\",Configuração!F88,\"\")))","v":""},null,null,null,null,null,null,1062013,41426]
["3/150",null,null,null,{"$f":"IF(Configuração!C87=\"\",\"\",Configuração!B87)","v":""},null,null,null,null,null,null,null,null,null,{"$f":"IF(Configuração!H89=\"\",\"\",IF($E$12=\"\",\"\",IF(VLOOKUP($E$12,Configuração!$S$7:$U$16,3)=\"C\",Configuração!F89,\"\")))","v":""},null,null,null,null,null,null,1062014,41791]
["4/150",null,null,null,{"$f":"IF(Configuração!C88=\"\",\"\",Configuração!B88)","v":""},null,null,null,null,null,null,null,null,null,{"$f":"IF(Configuração!H90=\"\",\"\",IF($E$12=\"\",\"\",IF(VLOOKUP($E$12,Configuração!$S$7:$U$16,3)=\"C\",Configuração!F90,\"\")))","v":""},null,null,null,null,null,null,1062015,42156]
["5/150",null,null,null,{"$f":"IF(Configuração!C89=\"\",\"\",Configuração!B89)","v":""},null,null,null,null,null,null,null,null,null,{"$f":"IF(Configuração!H91=\"\",\"\",IF($E$12=\"\",\"\",IF(VLOOKUP($E$12,Configuração!$S$7:$U$16,3)=\"C\",Configuração!F91,\"\")))","v":""},null,null,null,null,null,null,1062016,42522]
["6/150",null,null,null,{"$f":"IF(Configuração!C90=\"\",\"\",Configuração!B90)","v":""},null,null,null,null,null,null,null,null,null,{"$f":"IF(Configuração!H92=\"\",\"\",IF($E$12=\"\",\"\",IF(VLOOKUP($E$12,Configuração!$S$7:$U$16,3)=\"C\",Configuração!F92,\"\")))","v":""},null,null,null,null,null,null,1062017,42887]
["7/150",null,null,null,{"$f":"IF(Configuração!C91=\"\",\"\",Configuração!B91)","v":""},null,null,null,null,null,null,null,null,null,{"$f":"IF(Configuração!H93=\"\",\"\",IF($E$12=\"\",\"\",IF(VLOOKUP($E$12,Configuração!$S$7:$U$16,3)=\"C\",Configuração!F93,\"\")))","v":""},null,null,null,null,null,null,1062018,43252]
["8/150",null,null,null,{"$f":"IF(Configuração!C92=\"\",\"\",Configuração!B92)","v":""},null,null,null,null,null,null,null,null,null,{"$f":"IF(Configuração!H94=\"\",\"\",IF($E$12=\"\",\"\",IF(VLOOKUP($E$12,Configuração!$S$7:$U$16,3)=\"C\",Configuração!F94,\"\")))","v":""},null,null,null,null,null,null,1062019,43617]
["9/150",null,null,null,{"$f":"IF(Configuração!C93=\"\",\"\",Configuração!B93)","v":""},null,null,null,null,null,null,null,null,null,{"$f":"IF(Configuração!H95=\"\",\"\",IF($E$12=\"\",\"\",IF(VLOOKUP($E$12,Configuração!$S$7:$U$16,3)=\"C\",Configuração!F95,\"\")))","v":""},null,null,null,null,null,null,1062020,43983]
["10/150",null,null,null,{"$f":"IF(Configuração!C94=\"\",\"\",Configuração!B94)","v":""},null,null,null,null,null,null,null,null,null,{"$f":"IF(Configuração!H96=\"\",\"\",IF($E$12=\"\",\"\",IF(VLOOKUP($E$12,Configuração!$S$7:$U$16,3)=\"C\",Configuração!F96,\"\")))","v":""},null,null,null,null,null,null,1062021,44348]
["11/150",null,null,null,{"$f":"IF(Configuração!C95=\"\",\"\",Configuração!B95)","v":""},null,null,null,null,null,null,null,null,null,{"$f":"IF(Configuração!H97=\"\",\"\",IF($E$12=\"\",\"\",IF(VLOOKUP($E$12,Configuração!$S$7:$U$16,3)=\"C\",Configuração!F97,\"\")))","v":""},null,null,null,null,null,null,1062022,44713]
["12/150",null,null,null,{"$f":"IF(Configuração!C96=\"\",\"\",Configuração!B96)","v":""},null,null,null,null,null,null,null,null,null,{"$f":"IF(Configuração!H98=\"\",\"\",IF($E$12=\"\",\"\",IF(VLOOKUP($E$12,Configuração!$S$7:$U$16,3)=\"C\",Configuração!F98,\"\")))","v":""},null,null,null,null,null,null,1062023,45078]
["13/150",null,null,null,{"$f":"IF(Configuração!C97=\"\",\"\",Configuração!B97)","v":""},null,null,null,null,null,null,null,null,null,{"$f":"IF(Configuração!H99=\"\",\"\",IF($E$12=\"\",\"\",IF(VLOOKUP($E$12,Configuração!$S$7:$U$16,3)=\"C\",Configuração!F99,\"\")))","v":""},null,null,null,null,null,null,1072009,39995]
["14/150",null,null,null,{"$f":"IF(Configuração!C98=\"\",\"\",Configuração!B98)","v":""},null,null,null,null,null,null,null,null,null,{"$f":"IF(Configuração!H100=\"\",\"\",IF($E$12=\"\",\"\",IF(VLOOKUP($E$12,Configuração!$S$7:$U$16,3)=\"C\",Configuração!F100,\"\")))","v":""},null,null,null,null,null,null,1072010,40360]
["15/150",null,null,null,{"$f":"IF(Configuração!C99=\"\",\"\",Configuração!B99)","v":""},null,null,null,null,null,null,null,null,null,{"$f":"IF(Configuração!H101=\"\",\"\",IF($E$12=\"\",\"\",IF(VLOOKUP($E$12,Configuração!$S$7:$U$16,3)=\"C\",Configuração!F101,\"\")))","v":""},null,null,null,null,null,null,1072011,40725]
["16/150",null,null,null,{"$f":"IF(Configuração!C100=\"\",\"\",Configuração!B100)","v":""},null,null,null,null,null,null,null,null,null,{"$f":"IF(Configuração!H102=\"\",\"\",IF($E$12=\"\",\"\",IF(VLOOKUP($E$12,Configuração!$S$7:$U$16,3)=\"C\",Configuração!F102,\"\")))","v":""},null,null,null,null,null,null,1072012,41091]
["17/150",null,null,null,{"$f":"IF(Configuração!C101=\"\",\"\",Configuração!B101)","v":""},null,null,null,null,null,null,null,null,null,{"$f":"IF(Configuração!H103=\"\",\"\",IF($E$12=\"\",\"\",IF(VLOOKUP($E$12,Configuração!$S$7:$U$16,3)=\"C\",Configuração!F103,\"\")))","v":""},null,null,null,null,null,null,1072013,41456]
["18/150",null,null,null,{"$f":"IF(Configuração!C102=\"\",\"\",Configuração!B102)","v":""},null,null,null,null,null,null,null,null,null,{"$f":"IF(Configuração!H104=\"\",\"\",IF($E$12=\"\",\"\",IF(VLOOKUP($E$12,Configuração!$S$7:$U$16,3)=\"C\",Configuração!F104,\"\")))","v":""},null,null,null,null,null,null,1072014,41821]
["19/150",null,null,null,{"$f":"IF(Configuração!C103=\"\",\"\",Configuração!B103)","v":""},null,null,null,null,null,null,null,null,null,{"$f":"IF(Configuração!H105=\"\",\"\",IF($E$12=\"\",\"\",IF(VLOOKUP($E$12,Configuração!$S$7:$U$16,3)=\"C\",Configuração!F105,\"\")))","v":""},null,null,null,null,null,null,1072015,42186]
["20/150",null,null,null,{"$f":"IF(Configuração!C104=\"\",\"\",Configuração!B104)","v":""},null,null,null,null,null,null,null,null,null,{"$f":"IF(Configuração!H106=\"\",\"\",IF($E$12=\"\",\"\",IF(VLOOKUP($E$12,Configuração!$S$7:$U$16,3)=\"C\",Configuração!F106,\"\")))","v":""},null,null,null,null,null,null,1072016,42552]
["21/150",null,null,null,{"$f":"IF(Configuração!C105=\"\",\"\",Configuração!B105)","v":""},null,null,null,null,null,null,null,null,null,{"$f":"IF(Configuração!H107=\"\",\"\",IF($E$12=\"\",\"\",IF(VLOOKUP($E$12,Configuração!$S$7:$U$16,3)=\"C\",Configuração!F107,\"\")))","v":""},null,null,null,null,null,null,1072017,42917]
["22/150",null,null,null,{"$f":"IF(Configuração!C106=\"\",\"\",Configuração!B106)","v":""},null,null,null,null,null,null,null,null,null,{"$f":"IF(Configuração!H108=\"\",\"\",IF($E$12=\"\",\"\",IF(VLOOKUP($E$12,Configuração!$S$7:$U$16,3)=\"C\",Configuração!F108,\"\")))","v":""},null,null,null,null,null,null,1072018,43282]
["23/150",null,null,null,{"$f":"IF(Configuração!C107=\"\",\"\",Configuração!B107)","v":""},null,null,null,null,null,null,null,null,null,{"$f":"IF(Configuração!H109=\"\",\"\",IF($E$12=\"\",\"\",IF(VLOOKUP($E$12,Configuração!$S$7:$U$16,3)=\"C\",Configuração!F109,\"\")))","v":""},null,null,null,null,null,null,1072019,43647]
["24/150",null,null,null,{"$f":"IF(Configuração!C108=\"\",\"\",Configuração!B108)","v":""},null,null,null,null,null,null,null,null,null,null,null,null,null,null,null,null,1072020,44013]
["25/150",null,null,null,{"$f":"IF(Configuração!C109=\"\",\"\",Configuração!B109)","v":""},null,null,null,null,null,null,null,null,null,{"$f":"IF(Configuração!H111=\"\",\"\",IF($E$12=\"\",\"\",IF(VLOOKUP($E$12,Configuração!$S$7:$U$16,3)=\"C\",Configuração!F111,\"\")))","v":""},null,null,null,null,null,null,1072021,44378]
["26/150",null,null,null,{"$f":"IF(Configuração!C110=\"\",\"\",Configuração!B110)","v":""},null,null,null,null,null,null,null,null,null,{"$f":"IF(Configuração!H112=\"\",\"\",IF($E$12=\"\",\"\",IF(VLOOKUP($E$12,Configuração!$S$7:$U$16,3)=\"C\",Configuração!F112,\"\")))","v":""},null,null,null,null,null,null,1072022,44743]
["27/150",null,null,null,{"$f":"IF(Configuração!C111=\"\",\"\",Configuração!B111)","v":""},null,null,null,null,null,null,null,null,null,{"$f":"IF(Configuração!H113=\"\",\"\",IF($E$12=\"\",\"\",IF(VLOOKUP($E$12,Configuração!$S$7:$U$16,3)=\"C\",Configuração!F113,\"\")))","v":""},null,null,null,null,null,null,1072023,45108]
["28/150",null,null,null,{"$f":"IF(Configuração!C112=\"\",\"\",Configuração!B112)","v":""},null,null,null,null,null,null,null,null,null,{"$f":"IF(Configuração!H114=\"\",\"\",IF($E$12=\"\",\"\",IF(VLOOKUP($E$12,Configuração!$S$7:$U$16,3)=\"C\",Configuração!F114,\"\")))","v":""},null,null,null,null,null,null,1082009,40026]
["29/150",null,null,null,{"$f":"IF(Configuração!C113=\"\",\"\",Configuração!B113)","v":""},null,null,null,null,null,null,null,null,null,{"$f":"IF(Configuração!H115=\"\",\"\",IF($E$12=\"\",\"\",IF(VLOOKUP($E$12,Configuração!$S$7:$U$16,3)=\"C\",Configuração!F115,\"\")))","v":""},null,null,null,null,null,null,1082010,40391]
["30/150",null,null,null,{"$f":"IF(Configuração!C114=\"\",\"\",Configuração!B114)","v":""},null,null,null,null,null,null,null,null,null,{"$f":"IF(Configuração!H116=\"\",\"\",IF($E$12=\"\",\"\",IF(VLOOKUP($E$12,Configuração!$S$7:$U$16,3)=\"C\",Configuração!F116,\"\")))","v":""},null,null,null,null,null,null,1082011,40756]
["31/150",null,null,null,{"$f":"IF(Configuração!C115=\"\",\"\",Configuração!B115)","v":""},null,null,null,null,null,null,null,null,null,{"$f":"IF(Configuração!H117=\"\",\"\",IF($E$12=\"\",\"\",IF(VLOOKUP($E$12,Configuração!$S$7:$U$16,3)=\"C\",Configuração!F117,\"\")))","v":""},null,null,null,null,null,null,1082012,41122]
["32/150",null,null,null,{"$f":"IF(Configuração!C116=\"\",\"\",Configuração!B116)","v":""},null,null,null,null,null,null,null,null,null,{"$f":"IF(Configuração!H118=\"\",\"\",IF($E$12=\"\",\"\",IF(VLOOKUP($E$12,Configuração!$S$7:$U$16,3)=\"C\",Configuração!F118,\"\")))","v":""},null,null,null,null,null,null,1082013,41487]
["33/150",null,null,null,{"$f":"IF(Configuração!C117=\"\",\"\",Configuração!B117)","v":""},null,null,null,null,null,null,null,null,null,{"$f":"IF(Configuração!H119=\"\",\"\",IF($E$12=\"\",\"\",IF(VLOOKUP($E$12,Configuração!$S$7:$U$16,3)=\"C\",Configuração!F119,\"\")))","v":""},null,null,null,null,null,null,1082014,41852]
["34/150",null,null,null,{"$f":"IF(Configuração!C118=\"\",\"\",Configuração!B118)","v":""},null,null,null,null,null,null,null,null,null,{"$f":"IF(Configuração!H120=\"\",\"\",IF($E$12=\"\",\"\",IF(VLOOKUP($E$12,Configuração!$S$7:$U$16,3)=\"C\",Configuração!F120,\"\")))","v":""},null,null,null,null,null,null,1082015,42217]
["35/150",null,null,null,{"$f":"IF(Configuração!C119=\"\",\"\",Configuração!B119)","v":""},null,null,null,null,null,null,null,null,null,{"$f":"IF(Configuração!H121=\"\",\"\",IF($E$12=\"\",\"\",IF(VLOOKUP($E$12,Configuração!$S$7:$U$16,3)=\"C\",Configuração!F121,\"\")))","v":""},null,null,null,null,null,null,1082016,42583]
["36/150",null,null,null,{"$f":"IF(Configuração!C120=\"\",\"\",Configuração!B120)","v":""},null,null,null,null,null,null,null,null,null,{"$f":"IF(Configuração!H122=\"\",\"\",IF($E$12=\"\",\"\",IF(VLOOKUP($E$12,Configuração!$S$7:$U$16,3)=\"C\",Configuração!F122,\"\")))","v":""},null,null,null,null,null,null,1082017,42948]
["37/150",null,null,null,{"$f":"IF(Configuração!C121=\"\",\"\",Configuração!B121)","v":""},null,null,null,null,null,null,null,null,null,{"$f":"IF(Configuração!H123=\"\",\"\",IF($E$12=\"\",\"\",IF(VLOOKUP($E$12,Configuração!$S$7:$U$16,3)=\"C\",Configuração!F123,\"\")))","v":""},null,null,null,null,null,null,1082018,43313]
["38/150",null,null,null,{"$f":"IF(Configuração!C122=\"\",\"\",Configuração!B122)","v":""},null,null,null,null,null,null,null,null,null,{"$f":"IF(Configuração!H124=\"\",\"\",IF($E$12=\"\",\"\",IF(VLOOKUP($E$12,Configuração!$S$7:$U$16,3)=\"C\",Configuração!F124,\"\")))","v":""},null,null,null,null,null,null,1082019,43678]
["39/150",null,null,null,{"$f":"IF(Configuração!C123=\"\",\"\",Configuração!B123)","v":""},null,null,null,null,null,null,null,null,null,{"$f":"IF(Configuração!H125=\"\",\"\",IF($E$12=\"\",\"\",IF(VLOOKUP($E$12,Configuração!$S$7:$U$16,3)=\"C\",Configuração!F125,\"\")))","v":""},null,null,null,null,null,null,1082020,44044]
["40/150",null,null,null,{"$f":"IF(Configuração!C124=\"\",\"\",Configuração!B124)","v":""},null,null,null,null,null,null,null,null,null,{"$f":"IF(Configuração!H126=\"\",\"\",IF($E$12=\"\",\"\",IF(VLOOKUP($E$12,Configuração!$S$7:$U$16,3)=\"C\",Configuração!F126,\"\")))","v":""},null,null,null,null,null,null,1082021,44409]
["41/150",null,null,null,{"$f":"IF(Configuração!C125=\"\",\"\",Configuração!B125)","v":""},null,null,null,null,null,null,null,null,null,{"$f":"IF(Configuração!H127=\"\",\"\",IF($E$12=\"\",\"\",IF(VLOOKUP($E$12,Configuração!$S$7:$U$16,3)=\"C\",Configuração!F127,\"\")))","v":""},null,null,null,null,null,null,1082022,44774]
["42/150",null,null,null,{"$f":"IF(Configuração!C126=\"\",\"\",Configuração!B126)","v":""},null,null,null,null,null,null,null,null,null,{"$f":"IF(Configuração!H128=\"\",\"\",IF($E$12=\"\",\"\",IF(VLOOKUP($E$12,Configuração!$S$7:$U$16,3)=\"C\",Configuração!F128,\"\")))","v":""},null,null,null,null,null,null,1082023,45139]
["43/150",null,null,null,{"$f":"IF(Configuração!C127=\"\",\"\",Configuração!B127)","v":""},null,null,null,null,null,null,null,null,null,{"$f":"IF(Configuração!H129=\"\",\"\",IF($E$12=\"\",\"\",IF(VLOOKUP($E$12,Configuração!$S$7:$U$16,3)=\"C\",Configuração!F129,\"\")))","v":""},null,null,null,null,null,null,1092009,40057]
["44/150",null,null,null,{"$f":"IF(Configuração!C128=\"\",\"\",Configuração!B128)","v":""},null,null,null,null,null,null,null,null,null,{"$f":"IF(Configuração!H130=\"\",\"\",IF($E$12=\"\",\"\",IF(VLOOKUP($E$12,Configuração!$S$7:$U$16,3)=\"C\",Configuração!F130,\"\")))","v":""},null,null,null,null,null,null,1092010,40422]
["45/150",null,null,null,{"$f":"IF(Configuração!C129=\"\",\"\",Configuração!B129)","v":""},null,null,null,null,null,null,null,null,null,{"$f":"IF(Configuração!H131=\"\",\"\",IF($E$12=\"\",\"\",IF(VLOOKUP($E$12,Configuração!$S$7:$U$16,3)=\"C\",Configuração!F131,\"\")))","v":""},null,null,null,null,null,null,1092011,40787]
["46/150",null,null,null,{"$f":"IF(Configuração!C130=\"\",\"\",Configuração!B130)","v":""},null,null,null,null,null,null,null,null,null,{"$f":"IF(Configuração!H132=\"\",\"\",IF($E$12=\"\",\"\",IF(VLOOKUP($E$12,Configuração!$S$7:$U$16,3)=\"C\",Configuração!F132,\"\")))","v":""},null,null,null,null,null,null,1092012,41153]
["47/150",null,null,null,{"$f":"IF(Configuração!C131=\"\",\"\",Configuração!B131)","v":""},null,null,null,null,null,null,null,null,null,{"$f":"IF(Configuração!H133=\"\",\"\",IF($E$12=\"\",\"\",IF(VLOOKUP($E$12,Configuração!$S$7:$U$16,3)=\"C\",Configuração!F133,\"\")))","v":""},null,null,null,null,null,null,1092013,41518]
["48/150",null,null,null,{"$f":"IF(Configuração!C132=\"\",\"\",Configuração!B132)","v":""},null,null,null,null,null,null,null,null,null,{"$f":"IF(Configuração!H134=\"\",\"\",IF($E$12=\"\",\"\",IF(VLOOKUP($E$12,Configuração!$S$7:$U$16,3)=\"C\",Configuração!F134,\"\")))","v":""},null,null,null,null,null,null,1092014,41883]
["49/150",null,null,null,{"$f":"IF(Configuração!C133=\"\",\"\",Configuração!B133)","v":""},null,null,null,null,null,null,null,null,null,{"$f":"IF(Configuração!H135=\"\",\"\",IF($E$12=\"\",\"\",IF(VLOOKUP($E$12,Configuração!$S$7:$U$16,3)=\"C\",Configuração!F135,\"\")))","v":""},null,null,null,null,null,null,1092015,42248]
["50/150",null,null,null,{"$f":"IF(Configuração!C134=\"\",\"\",Configuração!B134)","v":""},null,null,null,null,null,null,null,null,null,{"$f":"IF(Configuração!H136=\"\",\"\",IF($E$12=\"\",\"\",IF(VLOOKUP($E$12,Configuração!$S$7:$U$16,3)=\"C\",Configuração!F136,\"\")))","v":""},null,null,null,null,null,null,1092016,42614]
["51/150",null,null,null,{"$f":"IF(Configuração!C135=\"\",\"\",Configuração!B135)","v":""},null,null,null,null,null,null,null,null,null,{"$f":"IF(Configuração!H137=\"\",\"\",IF($E$12=\"\",\"\",IF(VLOOKUP($E$12,Configuração!$S$7:$U$16,3)=\"C\",Configuração!F137,\"\")))","v":""},null,null,null,null,null,null,1092017,42979]
["52/150",null,null,null,{"$f":"IF(Configuração!C136=\"\",\"\",Configuração!B136)","v":""},null,null,null,null,null,null,null,null,null,{"$f":"IF(Configuração!H138=\"\",\"\",IF($E$12=\"\",\"\",IF(VLOOKUP($E$12,Configuração!$S$7:$U$16,3)=\"C\",Configuração!F138,\"\")))","v":""},null,null,null,null,null,null,1092018,43344]
["53/150",null,null,null,{"$f":"IF(Configuração!C137=\"\",\"\",Configuração!B137)","v":""},null,null,null,null,null,null,null,null,null,{"$f":"IF(Configuração!H139=\"\",\"\",IF($E$12=\"\",\"\",IF(VLOOKUP($E$12,Configuração!$S$7:$U$16,3)=\"C\",Configuração!F139,\"\")))","v":""},null,null,null,null,null,null,1092019,43709]
["54/150",null,null,null,{"$f":"IF(Configuração!C138=\"\",\"\",Configuração!B138)","v":""},null,null,null,null,null,null,null,null,null,{"$f":"IF(Configuração!H140=\"\",\"\",IF($E$12=\"\",\"\",IF(VLOOKUP($E$12,Configuração!$S$7:$U$16,3)=\"C\",Configuração!F140,\"\")))","v":""},null,null,null,null,null,null,1092020,44075]
["55/150",null,null,null,{"$f":"IF(Configuração!C139=\"\",\"\",Configuração!B139)","v":""},null,null,null,null,null,null,null,null,null,{"$f":"IF(Configuração!H141=\"\",\"\",IF($E$12=\"\",\"\",IF(VLOOKUP($E$12,Configuração!$S$7:$U$16,3)=\"C\",Configuração!F141,\"\")))","v":""},null,null,null,null,null,null,1092021,44440]
["56/150",null,null,null,{"$f":"IF(Configuração!C140=\"\",\"\",Configuração!B140)","v":""},null,null,null,null,null,null,null,null,null,{"$f":"IF(Configuração!H142=\"\",\"\",IF($E$12=\"\",\"\",IF(VLOOKUP($E$12,Configuração!$S$7:$U$16,3)=\"C\",Configuração!F142,\"\")))","v":""},null,null,null,null,null,null,1092022,44805]
["57/150",null,null,null,{"$f":"IF(Configuração!C141=\"\",\"\",Configuração!B141)","v":""},null,null,null,null,null,null,null,null,null,{"$f":"IF(Configuração!H143=\"\",\"\",IF($E$12=\"\",\"\",IF(VLOOKUP($E$12,Configuração!$S$7:$U$16,3)=\"C\",Configuração!F143,\"\")))","v":""},null,null,null,null,null,null,1092023,45170]
["58/150",null,null,null,{"$f":"IF(Configuração!C142=\"\",\"\",Configuração!B142)","v":""},null,null,null,null,null,null,null,null,null,{"$f":"IF(Configuração!H144=\"\",\"\",IF($E$12=\"\",\"\",IF(VLOOKUP($E$12,Configuração!$S$7:$U$16,3)=\"C\",Configuração!F144,\"\")))","v":""},null,null,null,null,null,null,1102009,40087]
["59/150",null,null,null,{"$f":"IF(Configuração!C143=\"\",\"\",Configuração!B143)","v":""},null,null,null,null,null,null,null,null,null,{"$f":"IF(Configuração!H145=\"\",\"\",IF($E$12=\"\",\"\",IF(VLOOKUP($E$12,Configuração!$S$7:$U$16,3)=\"C\",Configuração!F145,\"\")))","v":""},null,null,null,null,null,null,1102010,40452]
["60/150",null,null,null,{"$f":"IF(Configuração!C144=\"\",\"\",Configuração!B144)","v":""},null,null,null,null,null,null,null,null,null,{"$f":"IF(Configuração!H146=\"\",\"\",IF($E$12=\"\",\"\",IF(VLOOKUP($E$12,Configuração!$S$7:$U$16,3)=\"C\",Configuração!F146,\"\")))","v":""},null,null,null,null,null,null,1102011,40817]
["61/150",null,null,null,{"$f":"IF(Configuração!C145=\"\",\"\",Configuração!B145)","v":""},null,null,null,null,null,null,null,null,null,{"$f":"IF(Configuração!H147=\"\",\"\",IF($E$12=\"\",\"\",IF(VLOOKUP($E$12,Configuração!$S$7:$U$16,3)=\"C\",Configuração!F147,\"\")))","v":""},null,null,null,null,null,null,1102012,41183]
["62/150",null,null,null,{"$f":"IF(Configuração!C146=\"\",\"\",Configuração!B146)","v":""},null,null,null,null,null,null,null,null,null,{"$f":"IF(Configuração!H148=\"\",\"\",IF($E$12=\"\",\"\",IF(VLOOKUP($E$12,Configuração!$S$7:$U$16,3)=\"C\",Configuração!F148,\"\")))","v":""},null,null,null,null,null,null,1102013,41548]
["63/150",null,null,null,{"$f":"IF(Configuração!C147=\"\",\"\",Configuração!B147)","v":""},null,null,null,null,null,null,null,null,null,{"$f":"IF(Configuração!H149=\"\",\"\",IF($E$12=\"\",\"\",IF(VLOOKUP($E$12,Configuração!$S$7:$U$16,3)=\"C\",Configuração!F149,\"\")))","v":""},null,null,null,null,null,null,1102014,41913]
["64/150",null,null,null,{"$f":"IF(Configuração!C148=\"\",\"\",Configuração!B148)","v":""},null,null,null,null,null,null,null,null,null,{"$f":"IF(Configuração!H150=\"\",\"\",IF($E$12=\"\",\"\",IF(VLOOKUP($E$12,Configuração!$S$7:$U$16,3)=\"C\",Configuração!F150,\"\")))","v":""},null,null,null,null,null,null,1102015,42278]
["65/150",null,null,null,{"$f":"IF(Configuração!C149=\"\",\"\",Configuração!B149)","v":""},null,null,null,null,null,null,null,null,null,{"$f":"IF(Configuração!H151=\"\",\"\",IF($E$12=\"\",\"\",IF(VLOOKUP($E$12,Configuração!$S$7:$U$16,3)=\"C\",Configuração!F151,\"\")))","v":""},null,null,null,null,null,null,1102016,42644]
["66/150",null,null,null,{"$f":"IF(Configuração!C150=\"\",\"\",Configuração!B150)","v":""},null,null,null,null,null,null,null,null,null,{"$f":"IF(Configuração!H152=\"\",\"\",IF($E$12=\"\",\"\",IF(VLOOKUP($E$12,Configuração!$S$7:$U$16,3)=\"C\",Configuração!F152,\"\")))","v":""},null,null,null,null,null,null,1102017,43009]
["67/150",null,null,null,{"$f":"IF(Configuração!C151=\"\",\"\",Configuração!B151)","v":""},null,null,null,null,null,null,null,null,null,{"$f":"IF(Configuração!H153=\"\",\"\",IF($E$12=\"\",\"\",IF(VLOOKUP($E$12,Configuração!$S$7:$U$16,3)=\"C\",Configuração!F153,\"\")))","v":""},null,null,null,null,null,null,1102018,43374]
["68/150",null,null,null,{"$f":"IF(Configuração!C152=\"\",\"\",Configuração!B152)","v":""},null,null,null,null,null,null,null,null,null,{"$f":"IF(Configuração!H154=\"\",\"\",IF($E$12=\"\",\"\",IF(VLOOKUP($E$12,Configuração!$S$7:$U$16,3)=\"C\",Configuração!F154,\"\")))","v":""},null,null,null,null,null,null,1102019,43739]
["69/150",null,null,null,{"$f":"IF(Configuração!C153=\"\",\"\",Configuração!B153)","v":""},null,null,null,null,null,null,null,null,null,{"$f":"IF(Configuração!H155=\"\",\"\",IF($E$12=\"\",\"\",IF(VLOOKUP($E$12,Configuração!$S$7:$U$16,3)=\"C\",Configuração!F155,\"\")))","v":""},null,null,null,null,null,null,1102020,44105]
["70/150",null,null,null,{"$f":"IF(Configuração!C154=\"\",\"\",Configuração!B154)","v":""},null,null,null,null,null,null,null,null,null,{"$f":"IF(Configuração!H156=\"\",\"\",IF($E$12=\"\",\"\",IF(VLOOKUP($E$12,Configuração!$S$7:$U$16,3)=\"C\",Configuração!F156,\"\")))","v":""},null,null,null,null,null,null,1102021,44470]
["71/150",null,null,null,{"$f":"IF(Configuração!C155=\"\",\"\",Configuração!B155)","v":""},null,null,null,null,null,null,null,null,null,{"$f":"IF(Configuração!H157=\"\",\"\",IF($E$12=\"\",\"\",IF(VLOOKUP($E$12,Configuração!$S$7:$U$16,3)=\"C\",Configuração!F157,\"\")))","v":""},null,null,null,null,null,null,1102022,44835]
["72/150",null,null,null,{"$f":"IF(Configuração!C156=\"\",\"\",Configuração!B156)","v":""},null,null,null,null,null,null,null,null,null,{"$f":"IF(Configuração!H158=\"\",\"\",IF($E$12=\"\",\"\",IF(VLOOKUP($E$12,Configuração!$S$7:$U$16,3)=\"C\",Configuração!F158,\"\")))","v":""},null,null,null,null,null,null,1102023,45200]
["73/150",null,null,null,{"$f":"IF(Configuração!C157=\"\",\"\",Configuração!B157)","v":""},null,null,null,null,null,null,null,null,null,{"$f":"IF(Configuração!H159=\"\",\"\",IF($E$12=\"\",\"\",IF(VLOOKUP($E$12,Configuração!$S$7:$U$16,3)=\"C\",Configuração!F159,\"\")))","v":""},null,null,null,null,null,null,1112009,40118]
["74/150",null,null,null,{"$f":"IF(Configuração!C158=\"\",\"\",Configuração!B158)","v":""},null,null,null,null,null,null,null,null,null,{"$f":"IF(Configuração!H160=\"\",\"\",IF($E$12=\"\",\"\",IF(VLOOKUP($E$12,Configuração!$S$7:$U$16,3)=\"C\",Configuração!F160,\"\")))","v":""},null,null,null,null,null,null,1112010,40483]
["75/150",null,null,null,{"$f":"IF(Configuração!C159=\"\",\"\",Configuração!B159)","v":""},null,null,null,null,null,null,null,null,null,null,null,null,null,null,null,null,1112011,40848]
["76/150",null,null,null,{"$f":"IF(Configuração!C160=\"\",\"\",Configuração!B160)","v":""},null,null,null,null,null,null,null,null,null,null,null,null,null,null,null,null,1112012,41214]
["77/150",null,null,null,{"$f":"IF(Configuração!C161=\"\",\"\",Configuração!B161)","v":""},null,null,null,null,null,null,null,null,null,{"$f":"IF(Configuração!H163=\"\",\"\",IF($E$12=\"\",\"\",IF(VLOOKUP($E$12,Configuração!$S$7:$U$16,3)=\"D\",Configuração!F163,\"\")))","v":""},null,null,null,null,null,null,1112013,41579]
["78/150",null,null,null,{"$f":"IF(Configuração!C162=\"\",\"\",Configuração!B162)","v":""},null,null,null,null,null,null,null,null,null,{"$f":"IF(Configuração!H164=\"\",\"\",IF($E$12=\"\",\"\",IF(VLOOKUP($E$12,Configuração!$S$7:$U$16,3)=\"D\",Configuração!F164,\"\")))","v":""},null,null,null,null,null,null,1112014,41944]
["79/150",null,null,null,{"$f":"IF(Configuração!C163=\"\",\"\",Configuração!B163)","v":""},null,null,null,null,null,null,null,null,null,{"$f":"IF(Configuração!H165=\"\",\"\",IF($E$12=\"\",\"\",IF(VLOOKUP($E$12,Configuração!$S$7:$U$16,3)=\"D\",Configuração!F165,\"\")))","v":""},null,null,null,null,null,null,1112015,42309]
["80/150",null,null,null,{"$f":"IF(Configuração!C164=\"\",\"\",Configuração!B164)","v":""},null,null,null,null,null,null,null,null,null,{"$f":"IF(Configuração!H166=\"\",\"\",IF($E$12=\"\",\"\",IF(VLOOKUP($E$12,Configuração!$S$7:$U$16,3)=\"D\",Configuração!F166,\"\")))","v":""},null,null,null,null,null,null,1112016,42675]
["81/150",null,null,null,{"$f":"IF(Configuração!C165=\"\",\"\",Configuração!B165)","v":""},null,null,null,null,null,null,null,null,null,{"$f":"IF(Configuração!H167=\"\",\"\",IF($E$12=\"\",\"\",IF(VLOOKUP($E$12,Configuração!$S$7:$U$16,3)=\"D\",Configuração!F167,\"\")))","v":""},null,null,null,null,null,null,1112017,43040]
["82/150",null,null,null,{"$f":"IF(Configuração!C166=\"\",\"\",Configuração!B166)","v":""},null,null,null,null,null,null,null,null,null,{"$f":"IF(Configuração!H168=\"\",\"\",IF($E$12=\"\",\"\",IF(VLOOKUP($E$12,Configuração!$S$7:$U$16,3)=\"D\",Configuração!F168,\"\")))","v":""},null,null,null,null,null,null,1112018,43405]
["83/150",null,null,null,{"$f":"IF(Configuração!C167=\"\",\"\",Configuração!B167)","v":""},null,null,null,null,null,null,null,null,null,{"$f":"IF(Configuração!H169=\"\",\"\",IF($E$12=\"\",\"\",IF(VLOOKUP($E$12,Configuração!$S$7:$U$16,3)=\"D\",Configuração!F169,\"\")))","v":""},null,null,null,null,null,null,1112019,43770]
["84/150",null,null,null,{"$f":"IF(Configuração!C168=\"\",\"\",Configuração!B168)","v":""},null,null,null,null,null,null,null,null,null,{"$f":"IF(Configuração!H170=\"\",\"\",IF($E$12=\"\",\"\",IF(VLOOKUP($E$12,Configuração!$S$7:$U$16,3)=\"D\",Configuração!F170,\"\")))","v":""},null,null,null,null,null,null,1112020,44136]
["85/150",null,null,null,{"$f":"IF(Configuração!C169=\"\",\"\",Configuração!B169)","v":""},null,null,null,null,null,null,null,null,null,{"$f":"IF(Configuração!H171=\"\",\"\",IF($E$12=\"\",\"\",IF(VLOOKUP($E$12,Configuração!$S$7:$U$16,3)=\"D\",Configuração!F171,\"\")))","v":""},null,null,null,null,null,null,1112021,44501]
["86/150",null,null,null,{"$f":"IF(Configuração!C170=\"\",\"\",Configuração!B170)","v":""},null,null,null,null,null,null,null,null,null,{"$f":"IF(Configuração!H172=\"\",\"\",IF($E$12=\"\",\"\",IF(VLOOKUP($E$12,Configuração!$S$7:$U$16,3)=\"D\",Configuração!F172,\"\")))","v":""},null,null,null,null,null,null,1112022,44866]
["87/150",null,null,null,{"$f":"IF(Configuração!C171=\"\",\"\",Configuração!B171)","v":""},null,null,null,null,null,null,null,null,null,{"$f":"IF(Configuração!H173=\"\",\"\",IF($E$12=\"\",\"\",IF(VLOOKUP($E$12,Configuração!$S$7:$U$16,3)=\"D\",Configuração!F173,\"\")))","v":""},null,null,null,null,null,null,1112023,45231]
["88/150",null,null,null,{"$f":"IF(Configuração!C172=\"\",\"\",Configuração!B172)","v":""},null,null,null,null,null,null,null,null,null,{"$f":"IF(Configuração!H174=\"\",\"\",IF($E$12=\"\",\"\",IF(VLOOKUP($E$12,Configuração!$S$7:$U$16,3)=\"D\",Configuração!F174,\"\")))","v":""},null,null,null,null,null,null,1122009,40148]
["89/150",null,null,null,{"$f":"IF(Configuração!C173=\"\",\"\",Configuração!B173)","v":""},null,null,null,null,null,null,null,null,null,{"$f":"IF(Configuração!H175=\"\",\"\",IF($E$12=\"\",\"\",IF(VLOOKUP($E$12,Configuração!$S$7:$U$16,3)=\"D\",Configuração!F175,\"\")))","v":""},null,null,null,null,null,null,1122010,40513]
["90/150",null,null,null,{"$f":"IF(Configuração!C174=\"\",\"\",Configuração!B174)","v":""},null,null,null,null,null,null,null,null,null,{"$f":"IF(Configuração!H176=\"\",\"\",IF($E$12=\"\",\"\",IF(VLOOKUP($E$12,Configuração!$S$7:$U$16,3)=\"D\",Configuração!F176,\"\")))","v":""},null,null,null,null,null,null,1122011,40878]
["91/150",null,null,null,{"$f":"IF(Configuração!C175=\"\",\"\",Configuração!B175)","v":""},null,null,null,null,null,null,null,null,null,{"$f":"IF(Configuração!H177=\"\",\"\",IF($E$12=\"\",\"\",IF(VLOOKUP($E$12,Configuração!$S$7:$U$16,3)=\"D\",Configuração!F177,\"\")))","v":""},null,null,null,null,null,null,1122012,41244]
["92/150",null,null,null,{"$f":"IF(Configuração!C176=\"\",\"\",Configuração!B176)","v":""},null,null,null,null,null,null,null,null,null,{"$f":"IF(Configuração!H178=\"\",\"\",IF($E$12=\"\",\"\",IF(VLOOKUP($E$12,Configuração!$S$7:$U$16,3)=\"D\",Configuração!F178,\"\")))","v":""},null,null,null,null,null,null,1122013,41609]
["93/150",null,null,null,{"$f":"IF(Configuração!C177=\"\",\"\",Configuração!B177)","v":""},null,null,null,null,null,null,null,null,null,{"$f":"IF(Configuração!H179=\"\",\"\",IF($E$12=\"\",\"\",IF(VLOOKUP($E$12,Configuração!$S$7:$U$16,3)=\"D\",Configuração!F179,\"\")))","v":""},null,null,null,null,null,null,1122014,41974]
["94/150",null,null,null,{"$f":"IF(Configuração!C178=\"\",\"\",Configuração!B178)","v":""},null,null,null,null,null,null,null,null,null,{"$f":"IF(Configuração!H180=\"\",\"\",IF($E$12=\"\",\"\",IF(VLOOKUP($E$12,Configuração!$S$7:$U$16,3)=\"D\",Configuração!F180,\"\")))","v":""},null,null,null,null,null,null,1122015,42339]
["95/150",null,null,null,{"$f":"IF(Configuração!C179=\"\",\"\",Configuração!B179)","v":""},null,null,null,null,null,null,null,null,null,{"$f":"IF(Configuração!H181=\"\",\"\",IF($E$12=\"\",\"\",IF(VLOOKUP($E$12,Configuração!$S$7:$U$16,3)=\"D\",Configuração!F181,\"\")))","v":""},null,null,null,null,null,null,1122016,42705]
["96/150",null,null,null,{"$f":"IF(Configuração!C180=\"\",\"\",Configuração!B180)","v":""},null,null,null,null,null,null,null,null,null,{"$f":"IF(Configuração!H182=\"\",\"\",IF($E$12=\"\",\"\",IF(VLOOKUP($E$12,Configuração!$S$7:$U$16,3)=\"D\",Configuração!F182,\"\")))","v":""},null,null,null,null,null,null,1122017,43070]
["97/150",null,null,null,{"$f":"IF(Configuração!C181=\"\",\"\",Configuração!B181)","v":""},null,null,null,null,null,null,null,null,null,{"$f":"IF(Configuração!H183=\"\",\"\",IF($E$12=\"\",\"\",IF(VLOOKUP($E$12,Configuração!$S$7:$U$16,3)=\"D\",Configuração!F183,\"\")))","v":""},null,null,null,null,null,null,1122018,43435]
["98/150",null,null,null,{"$f":"IF(Configuração!C182=\"\",\"\",Configuração!B182)","v":""},null,null,null,null,null,null,null,null,null,{"$f":"IF(Configuração!H184=\"\",\"\",IF($E$12=\"\",\"\",IF(VLOOKUP($E$12,Configuração!$S$7:$U$16,3)=\"D\",Configuração!F184,\"\")))","v":""},null,null,null,null,null,null,1122019,43800]
["99/150",null,null,null,{"$f":"IF(Configuração!C183=\"\",\"\",Configuração!B183)","v":""},null,null,null,null,null,null,null,null,null,{"$f":"IF(Configuração!H185=\"\",\"\",IF($E$12=\"\",\"\",IF(VLOOKUP($E$12,Configuração!$S$7:$U$16,3)=\"D\",Configuração!F185,\"\")))","v":""},null,null,null,null,null,null,1122020,44166]
["100/150",null,null,null,{"$f":"IF(Configuração!C184=\"\",\"\",Configuração!B184)","v":""},null,null,null,null,null,null,null,null,null,{"$f":"IF(Configuração!H186=\"\",\"\",IF($E$12=\"\",\"\",IF(VLOOKUP($E$12,Configuração!$S$7:$U$16,3)=\"D\",Configuração!F186,\"\")))","v":""},null,null,null,null,null,null,1122021,44531]
["101/150",null,null,null,{"$f":"IF(Configuração!C185=\"\",\"\",Configuração!B185)","v":""},null,null,null,null,null,null,null,null,null,{"$f":"IF(Configuração!H187=\"\",\"\",IF($E$12=\"\",\"\",IF(VLOOKUP($E$12,Configuração!$S$7:$U$16,3)=\"D\",Configuração!F187,\"\")))","v":""},null,null,null,null,null,null,1122022,44896]
["102/150",null,null,null,{"$f":"IF(Configuração!C186=\"\",\"\",Configuração!B186)","v":""},null,null,null,null,null,null,null,null,null,{"$f":"IF(Configuração!H188=\"\",\"\",IF($E$12=\"\",\"\",IF(VLOOKUP($E$12,Configuração!$S$7:$U$16,3)=\"D\",Configuração!F188,\"\")))","v":""},null,null,null,null,null,null,1122023,45261]
["103/150",null,null,null,{"$f":"IF(Configuração!C187=\"\",\"\",Configuração!B187)","v":""},null,null,null,null,null,null,null,null,null,{"$f":"IF(Configuração!H189=\"\",\"\",IF($E$12=\"\",\"\",IF(VLOOKUP($E$12,Configuração!$S$7:$U$16,3)=\"D\",Configuração!F189,\"\")))","v":""},null,null,null,null,null,null,2012009,39815]
["104/150",null,null,null,{"$f":"IF(Configuração!C188=\"\",\"\",Configuração!B188)","v":""},null,null,null,null,null,null,null,null,null,{"$f":"IF(Configuração!H190=\"\",\"\",IF($E$12=\"\",\"\",IF(VLOOKUP($E$12,Configuração!$S$7:$U$16,3)=\"D\",Configuração!F190,\"\")))","v":""},null,null,null,null,null,null,2012010,40180]
["105/150",null,null,null,{"$f":"IF(Configuração!C189=\"\",\"\",Configuração!B189)","v":""},null,null,null,null,null,null,null,null,null,{"$f":"IF(Configuração!H191=\"\",\"\",IF($E$12=\"\",\"\",IF(VLOOKUP($E$12,Configuração!$S$7:$U$16,3)=\"D\",Configuração!F191,\"\")))","v":""},null,null,null,null,null,null,2012011,40545]
["106/150",null,null,null,{"$f":"IF(Configuração!C190=\"\",\"\",Configuração!B190)","v":""},null,null,null,null,null,null,null,null,null,{"$f":"IF(Configuração!H192=\"\",\"\",IF($E$12=\"\",\"\",IF(VLOOKUP($E$12,Configuração!$S$7:$U$16,3)=\"D\",Configuração!F192,\"\")))","v":""},null,null,null,null,null,null,2012012,40910]
["107/150",null,null,null,{"$f":"IF(Configuração!C191=\"\",\"\",Configuração!B191)","v":""},null,null,null,null,null,null,null,null,null,{"$f":"IF(Configuração!H193=\"\",\"\",IF($E$12=\"\",\"\",IF(VLOOKUP($E$12,Configuração!$S$7:$U$16,3)=\"D\",Configuração!F193,\"\")))","v":""},null,null,null,null,null,null,2012013,41276]
["108/150",null,null,null,{"$f":"IF(Configuração!C192=\"\",\"\",Configuração!B192)","v":""},null,null,null,null,null,null,null,null,null,{"$f":"IF(Configuração!H194=\"\",\"\",IF($E$12=\"\",\"\",IF(VLOOKUP($E$12,Configuração!$S$7:$U$16,3)=\"D\",Configuração!F194,\"\")))","v":""},null,null,null,null,null,null,2012014,41641]
["109/150",null,null,null,{"$f":"IF(Configuração!C193=\"\",\"\",Configuração!B193)","v":""},null,null,null,null,null,null,null,null,null,{"$f":"IF(Configuração!H195=\"\",\"\",IF($E$12=\"\",\"\",IF(VLOOKUP($E$12,Configuração!$S$7:$U$16,3)=\"D\",Configuração!F195,\"\")))","v":""},null,null,null,null,null,null,2012015,42006]
["110/150",null,null,null,{"$f":"IF(Configuração!C194=\"\",\"\",Configuração!B194)","v":""},null,null,null,null,null,null,null,null,null,{"$f":"IF(Configuração!H196=\"\",\"\",IF($E$12=\"\",\"\",IF(VLOOKUP($E$12,Configuração!$S$7:$U$16,3)=\"D\",Configuração!F196,\"\")))","v":""},null,null,null,null,null,null,2012016,42371]
["111/150",null,null,null,{"$f":"IF(Configuração!C195=\"\",\"\",Configuração!B195)","v":""},null,null,null,null,null,null,null,null,null,{"$f":"IF(Configuração!H197=\"\",\"\",IF($E$12=\"\",\"\",IF(VLOOKUP($E$12,Configuração!$S$7:$U$16,3)=\"D\",Configuração!F197,\"\")))","v":""},null,null,null,null,null,null,2012017,42737]
["112/150",null,null,null,{"$f":"IF(Configuração!C196=\"\",\"\",Configuração!B196)","v":""},null,null,null,null,null,null,null,null,null,{"$f":"IF(Configuração!H198=\"\",\"\",IF($E$12=\"\",\"\",IF(VLOOKUP($E$12,Configuração!$S$7:$U$16,3)=\"D\",Configuração!F198,\"\")))","v":""},null,null,null,null,null,null,2012018,43102]
["113/150",null,null,null,{"$f":"IF(Configuração!C197=\"\",\"\",Configuração!B197)","v":""},null,null,null,null,null,null,null,null,null,{"$f":"IF(Configuração!H199=\"\",\"\",IF($E$12=\"\",\"\",IF(VLOOKUP($E$12,Configuração!$S$7:$U$16,3)=\"D\",Configuração!F199,\"\")))","v":""},null,null,null,null,null,null,2012019,43467]
["114/150",null,null,null,{"$f":"IF(Configuração!C198=\"\",\"\",Configuração!B198)","v":""},null,null,null,null,null,null,null,null,null,{"$f":"IF(Configuração!H200=\"\",\"\",IF($E$12=\"\",\"\",IF(VLOOKUP($E$12,Configuração!$S$7:$U$16,3)=\"D\",Configuração!F200,\"\")))","v":""},null,null,null,null,null,null,2012020,43832]
["115/150",null,null,null,{"$f":"IF(Configuração!C199=\"\",\"\",Configuração!B199)","v":""},null,null,null,null,null,null,null,null,null,{"$f":"IF(Configuração!H201=\"\",\"\",IF($E$12=\"\",\"\",IF(VLOOKUP($E$12,Configuração!$S$7:$U$16,3)=\"D\",Configuração!F201,\"\")))","v":""},null,null,null,null,null,null,2012021,44198]
["116/150",null,null,null,{"$f":"IF(Configuração!C200=\"\",\"\",Configuração!B200)","v":""},null,null,null,null,null,null,null,null,null,{"$f":"IF(Configuração!H202=\"\",\"\",IF($E$12=\"\",\"\",IF(VLOOKUP($E$12,Configuração!$S$7:$U$16,3)=\"D\",Configuração!F202,\"\")))","v":""},null,null,null,null,null,null,2012022,44563]
["117/150",null,null,null,{"$f":"IF(Configuração!C201=\"\",\"\",Configuração!B201)","v":""},null,null,null,null,null,null,null,null,null,{"$f":"IF(Configuração!H203=\"\",\"\",IF($E$12=\"\",\"\",IF(VLOOKUP($E$12,Configuração!$S$7:$U$16,3)=\"D\",Configuração!F203,\"\")))","v":""},null,null,null,null,null,null,2012023,44928]
["118/150",null,null,null,{"$f":"IF(Configuração!C202=\"\",\"\",Configuração!B202)","v":""},null,null,null,null,null,null,null,null,null,{"$f":"IF(Configuração!H204=\"\",\"\",IF($E$12=\"\",\"\",IF(VLOOKUP($E$12,Configuração!$S$7:$U$16,3)=\"D\",Configuração!F204,\"\")))","v":""},null,null,null,null,null,null,2022009,39846]
["119/150",null,null,null,{"$f":"IF(Configuração!C203=\"\",\"\",Configuração!B203)","v":""},null,null,null,null,null,null,null,null,null,{"$f":"IF(Configuração!H205=\"\",\"\",IF($E$12=\"\",\"\",IF(VLOOKUP($E$12,Configuração!$S$7:$U$16,3)=\"D\",Configuração!F205,\"\")))","v":""},null,null,null,null,null,null,2022010,40211]
["120/150",null,null,null,{"$f":"IF(Configuração!C204=\"\",\"\",Configuração!B204)","v":""},null,null,null,null,null,null,null,null,null,{"$f":"IF(Configuração!H206=\"\",\"\",IF($E$12=\"\",\"\",IF(VLOOKUP($E$12,Configuração!$S$7:$U$16,3)=\"D\",Configuração!F206,\"\")))","v":""},null,null,null,null,null,null,2022011,40576]
["121/150",null,null,null,{"$f":"IF(Configuração!C205=\"\",\"\",Configuração!B205)","v":""},null,null,null,null,null,null,null,null,null,{"$f":"IF(Configuração!H207=\"\",\"\",IF($E$12=\"\",\"\",IF(VLOOKUP($E$12,Configuração!$S$7:$U$16,3)=\"D\",Configuração!F207,\"\")))","v":""},null,null,null,null,null,null,2022012,40941]
["122/150",null,null,null,{"$f":"IF(Configuração!C206=\"\",\"\",Configuração!B206)","v":""},null,null,null,null,null,null,null,null,null,{"$f":"IF(Configuração!H208=\"\",\"\",IF($E$12=\"\",\"\",IF(VLOOKUP($E$12,Configuração!$S$7:$U$16,3)=\"D\",Configuração!F208,\"\")))","v":""},null,null,null,null,null,null,2022013,41307]
["123/150",null,null,null,{"$f":"IF(Configuração!C207=\"\",\"\",Configuração!B207)","v":""},null,null,null,null,null,null,null,null,null,{"$f":"IF(Configuração!H209=\"\",\"\",IF($E$12=\"\",\"\",IF(VLOOKUP($E$12,Configuração!$S$7:$U$16,3)=\"D\",Configuração!F209,\"\")))","v":""},null,null,null,null,null,null,2022014,41672]
["124/150",null,null,null,{"$f":"IF(Configuração!C208=\"\",\"\",Configuração!B208)","v":""},null,null,null,null,null,null,null,null,null,{"$f":"IF(Configuração!H210=\"\",\"\",IF($E$12=\"\",\"\",IF(VLOOKUP($E$12,Configuração!$S$7:$U$16,3)=\"D\",Configuração!F210,\"\")))","v":""},null,null,null,null,null,null,2022015,42037]
["125/150",null,null,null,{"$f":"IF(Configuração!C209=\"\",\"\",Configuração!B209)","v":""},null,null,null,null,null,null,null,null,null,{"$f":"IF(Configuração!H211=\"\",\"\",IF($E$12=\"\",\"\",IF(VLOOKUP($E$12,Configuração!$S$7:$U$16,3)=\"D\",Configuração!F211,\"\")))","v":""},null,null,null,null,null,null,2022016,42402]
["126/150",null,null,null,{"$f":"IF(Configuração!C210=\"\",\"\",Configuração!B210)","v":""},null,null,null,null,null,null,null,null,null,{"$f":"IF(Configuração!H212=\"\",\"\",IF($E$12=\"\",\"\",IF(VLOOKUP($E$12,Configuração!$S$7:$U$16,3)=\"D\",Configuração!F212,\"\")))","v":""},null,null,null,null,null,null,2022017,42768]
["127/150",null,null,null,{"$f":"IF(Configuração!C211=\"\",\"\",Configuração!B211)","v":""},null,null,null,null,null,null,null,null,null,null,null,null,null,null,null,null,2022018,43133]
["128/150",null,null,null,{"$f":"IF(Configuração!C212=\"\",\"\",Configuração!B212)","v":""},null,null,null,null,null,null,null,null,null,{"$f":"IF(Configuração!H214=\"\",\"\",IF($E$12=\"\",\"\",IF(VLOOKUP($E$12,Configuração!$S$7:$U$16,3)=\"D\",Configuração!F214,\"\")))","v":""},null,null,null,null,null,null,2022019,43498]
["129/150",null,null,null,{"$f":"IF(Configuração!C213=\"\",\"\",Configuração!B213)","v":""},null,null,null,null,null,null,null,null,null,{"$f":"IF(Configuração!H215=\"\",\"\",IF($E$12=\"\",\"\",IF(VLOOKUP($E$12,Configuração!$S$7:$U$16,3)=\"D\",Configuração!F215,\"\")))","v":""},null,null,null,null,null,null,2022020,43863]
["130/150",null,null,null,{"$f":"IF(Configuração!C214=\"\",\"\",Configuração!B214)","v":""},null,null,null,null,null,null,null,null,null,{"$f":"IF(Configuração!H216=\"\",\"\",IF($E$12=\"\",\"\",IF(VLOOKUP($E$12,Configuração!$S$7:$U$16,3)=\"D\",Configuração!F216,\"\")))","v":""},null,null,null,null,null,null,2022021,44229]
["131/150",null,null,null,{"$f":"IF(Configuração!C215=\"\",\"\",Configuração!B215)","v":""},null,null,null,null,null,null,null,null,null,{"$f":"IF(Configuração!H217=\"\",\"\",IF($E$12=\"\",\"\",IF(VLOOKUP($E$12,Configuração!$S$7:$U$16,3)=\"D\",Configuração!F217,\"\")))","v":""},null,null,null,null,null,null,2022022,44594]
["132/150",null,null,null,{"$f":"IF(Configuração!C216=\"\",\"\",Configuração!B216)","v":""},null,null,null,null,null,null,null,null,null,{"$f":"IF(Configuração!H218=\"\",\"\",IF($E$12=\"\",\"\",IF(VLOOKUP($E$12,Configuração!$S$7:$U$16,3)=\"D\",Configuração!F218,\"\")))","v":""},null,null,null,null,null,null,2022023,44959]
["133/150",null,null,null,{"$f":"IF(Configuração!C217=\"\",\"\",Configuração!B217)","v":""},null,null,null,null,null,null,null,null,null,{"$f":"IF(Configuração!H219=\"\",\"\",IF($E$12=\"\",\"\",IF(VLOOKUP($E$12,Configuração!$S$7:$U$16,3)=\"D\",Configuração!F219,\"\")))","v":""},null,null,null,null,null,null,2032009,39874]
["134/150",null,null,null,{"$f":"IF(Configuração!C218=\"\",\"\",Configuração!B218)","v":""},null,null,null,null,null,null,null,null,null,{"$f":"IF(Configuração!H220=\"\",\"\",IF($E$12=\"\",\"\",IF(VLOOKUP($E$12,Configuração!$S$7:$U$16,3)=\"D\",Configuração!F220,\"\")))","v":""},null,null,null,null,null,null,2032010,40239]
["135/150",null,null,null,{"$f":"IF(Configuração!C219=\"\",\"\",Configuração!B219)","v":""},null,null,null,null,null,null,null,null,null,{"$f":"IF(Configuração!H221=\"\",\"\",IF($E$12=\"\",\"\",IF(VLOOKUP($E$12,Configuração!$S$7:$U$16,3)=\"D\",Configuração!F221,\"\")))","v":""},null,null,null,null,null,null,2032011,40604]
["136/150",null,null,null,{"$f":"IF(Configuração!C220=\"\",\"\",Configuração!B220)","v":""},null,null,null,null,null,null,null,null,null,{"$f":"IF(Configuração!H222=\"\",\"\",IF($E$12=\"\",\"\",IF(VLOOKUP($E$12,Configuração!$S$7:$U$16,3)=\"D\",Configuração!F222,\"\")))","v":""},null,null,null,null,null,null,2032012,40970]
["137/150",null,null,null,{"$f":"IF(Configuração!C221=\"\",\"\",Configuração!B221)","v":""},null,null,null,null,null,null,null,null,null,{"$f":"IF(Configuração!H223=\"\",\"\",IF($E$12=\"\",\"\",IF(VLOOKUP($E$12,Configuração!$S$7:$U$16,3)=\"D\",Configuração!F223,\"\")))","v":""},null,null,null,null,null,null,2032013,41335]
["138/150",null,null,null,{"$f":"IF(Configuração!C222=\"\",\"\",Configuração!B222)","v":""},null,null,null,null,null,null,null,null,null,{"$f":"IF(Configuração!H224=\"\",\"\",IF($E$12=\"\",\"\",IF(VLOOKUP($E$12,Configuração!$S$7:$U$16,3)=\"D\",Configuração!F224,\"\")))","v":""},null,null,null,null,null,null,2032014,41700]
["139/150",null,null,null,{"$f":"IF(Configuração!C223=\"\",\"\",Configuração!B223)","v":""},null,null,null,null,null,null,null,null,null,{"$f":"IF(Configuração!H225=\"\",\"\",IF($E$12=\"\",\"\",IF(VLOOKUP($E$12,Configuração!$S$7:$U$16,3)=\"D\",Configuração!F225,\"\")))","v":""},null,null,null,null,null,null,2032015,42065]
["140/150",null,null,null,{"$f":"IF(Configuração!C224=\"\",\"\",Configuração!B224)","v":""},null,null,null,null,null,null,null,null,null,{"$f":"IF(Configuração!H226=\"\",\"\",IF($E$12=\"\",\"\",IF(VLOOKUP($E$12,Configuração!$S$7:$U$16,3)=\"D\",Configuração!F226,\"\")))","v":""},null,null,null,null,null,null,2032016,42431]
["141/150",null,null,null,{"$f":"IF(Configuração!C225=\"\",\"\",Configuração!B225)","v":""},null,null,null,null,null,null,null,null,null,{"$f":"IF(Configuração!H227=\"\",\"\",IF($E$12=\"\",\"\",IF(VLOOKUP($E$12,Configuração!$S$7:$U$16,3)=\"D\",Configuração!F227,\"\")))","v":""},null,null,null,null,null,null,2032017,42796]
["142/150",null,null,null,{"$f":"IF(Configuração!C226=\"\",\"\",Configuração!B226)","v":""},null,null,null,null,null,null,null,null,null,{"$f":"IF(Configuração!H228=\"\",\"\",IF($E$12=\"\",\"\",IF(VLOOKUP($E$12,Configuração!$S$7:$U$16,3)=\"D\",Configuração!F228,\"\")))","v":""},null,null,null,null,null,null,2032018,43161]
["143/150",null,null,null,{"$f":"IF(Configuração!C227=\"\",\"\",Configuração!B227)","v":""},null,null,null,null,null,null,null,null,null,{"$f":"IF(Configuração!H229=\"\",\"\",IF($E$12=\"\",\"\",IF(VLOOKUP($E$12,Configuração!$S$7:$U$16,3)=\"D\",Configuração!F229,\"\")))","v":""},null,null,null,null,null,null,2032019,43526]
["144/150",null,null,null,{"$f":"IF(Configuração!C228=\"\",\"\",Configuração!B228)","v":""},null,null,null,null,null,null,null,null,null,{"$f":"IF(Configuração!H230=\"\",\"\",IF($E$12=\"\",\"\",IF(VLOOKUP($E$12,Configuração!$S$7:$U$16,3)=\"D\",Configuração!F230,\"\")))","v":""},null,null,null,null,null,null,2032020,43892]
["145/150",null,null,null,{"$f":"IF(Configuração!C229=\"\",\"\",Configuração!B229)","v":""},null,null,null,null,null,null,null,null,null,{"$f":"IF(Configuração!H231=\"\",\"\",IF($E$12=\"\",\"\",IF(VLOOKUP($E$12,Configuração!$S$7:$U$16,3)=\"D\",Configuração!F231,\"\")))","v":""},null,null,null,null,null,null,2032021,44257]
["146/150",null,null,null,{"$f":"IF(Configuração!C230=\"\",\"\",Configuração!B230)","v":""},null,null,null,null,null,null,null,null,null,{"$f":"IF(Configuração!H232=\"\",\"\",IF($E$12=\"\",\"\",IF(VLOOKUP($E$12,Configuração!$S$7:$U$16,3)=\"D\",Configuração!F232,\"\")))","v":""},null,null,null,null,null,null,2032022,44622]
["147/150",null,null,null,{"$f":"IF(Configuração!C231=\"\",\"\",Configuração!B231)","v":""},null,null,null,null,null,null,null,null,null,{"$f":"IF(Configuração!H233=\"\",\"\",IF($E$12=\"\",\"\",IF(VLOOKUP($E$12,Configuração!$S$7:$U$16,3)=\"D\",Configuração!F233,\"\")))","v":""},null,null,null,null,null,null,2032023,44987]
["148/150",null,null,null,{"$f":"IF(Configuração!C232=\"\",\"\",Configuração!B232)","v":""},null,null,null,null,null,null,null,null,null,{"$f":"IF(Configuração!H234=\"\",\"\",IF($E$12=\"\",\"\",IF(VLOOKUP($E$12,Configuração!$S$7:$U$16,3)=\"D\",Configuração!F234,\"\")))","v":""},null,null,null,null,null,null,2042009,39905]
["149/150",null,null,null,{"$f":"IF(Configuração!C233=\"\",\"\",Configuração!B233)","v":""},null,null,null,null,null,null,null,null,null,{"$f":"IF(Configuração!H235=\"\",\"\",IF($E$12=\"\",\"\",IF(VLOOKUP($E$12,Configuração!$S$7:$U$16,3)=\"D\",Configuração!F235,\"\")))","v":""},null,null,null,null,null,null,2042010,40270]
["150/150",null,null,null,{"$f":"IF(Configuração!C234=\"\",\"\",Configuração!B234)","v":""},null,null,null,null,null,null,null,null,null,{"$f":"IF(Configuração!H236=\"\",\"\",IF($E$12=\"\",\"\",IF(VLOOKUP($E$12,Configuração!$S$7:$U$16,3)=\"D\",Configuração!F236,\"\")))","v":""},null,null,null,null,null,null,2042011,40635]
["1/54",null,null,null,{"$f":"IF(Configuração!C235=\"\",\"\",Configuração!B235)","v":""},null,null,null,null,null,null,null,null,null,{"$f":"IF(Configuração!H237=\"\",\"\",IF($E$12=\"\",\"\",IF(VLOOKUP($E$12,Configuração!$S$7:$U$16,3)=\"D\",Configuração!F237,\"\")))","v":""},null,null,null,null,null,null,2042012,41001]
["2/54",null,null,null,{"$f":"IF(Configuração!C236=\"\",\"\",Configuração!B236)","v":""},null,null,null,null,null,null,null,null,null,{"$f":"IF(Configuração!H238=\"\",\"\",IF($E$12=\"\",\"\",IF(VLOOKUP($E$12,Configuração!$S$7:$U$16,3)=\"D\",Configuração!F238,\"\")))","v":""},null,null,null,null,null,null,2042013,41366]
["3/54",null,null,null,{"$f":"IF(Configuração!C237=\"\",\"\",Configuração!B237)","v":""},null,null,null,null,null,null,null,null,null,{"$f":"IF(Configuração!H239=\"\",\"\",IF($E$12=\"\",\"\",IF(VLOOKUP($E$12,Configuração!$S$7:$U$16,3)=\"D\",Configuração!F239,\"\")))","v":""},null,null,null,null,null,null,2042014,41731]
["4/54",null,null,null,{"$f":"IF(Configuração!C238=\"\",\"\",Configuração!B238)","v":""},null,null,null,null,null,null,null,null,null,{"$f":"IF(Configuração!H240=\"\",\"\",IF($E$12=\"\",\"\",IF(VLOOKUP($E$12,Configuração!$S$7:$U$16,3)=\"D\",Configuração!F240,\"\")))","v":""},null,null,null,null,null,null,2042015,42096]
["5/54",null,null,null,{"$f":"IF(Configuração!C239=\"\",\"\",Configuração!B239)","v":""},null,null,null,null,null,null,null,null,null,{"$f":"IF(Configuração!H241=\"\",\"\",IF($E$12=\"\",\"\",IF(VLOOKUP($E$12,Configuração!$S$7:$U$16,3)=\"D\",Configuração!F241,\"\")))","v":""},null,null,null,null,null,null,2042016,42462]
["6/54",null,null,null,{"$f":"IF(Configuração!C240=\"\",\"\",Configuração!B240)","v":""},null,null,null,null,null,null,null,null,null,{"$f":"IF(Configuração!H242=\"\",\"\",IF($E$12=\"\",\"\",IF(VLOOKUP($E$12,Configuração!$S$7:$U$16,3)=\"D\",Configuração!F242,\"\")))","v":""},null,null,null,null,null,null,2042017,42827]
["7/54",null,null,null,{"$f":"IF(Configuração!C241=\"\",\"\",Configuração!B241)","v":""},null,null,null,null,null,null,null,null,null,{"$f":"IF(Configuração!H243=\"\",\"\",IF($E$12=\"\",\"\",IF(VLOOKUP($E$12,Configuração!$S$7:$U$16,3)=\"D\",Configuração!F243,\"\")))","v":""},null,null,null,null,null,null,2042018,43192]
["8/54",null,null,null,{"$f":"IF(Configuração!C242=\"\",\"\",Configuração!B242)","v":""},null,null,null,null,null,null,null,null,null,{"$f":"IF(Configuração!H244=\"\",\"\",IF($E$12=\"\",\"\",IF(VLOOKUP($E$12,Configuração!$S$7:$U$16,3)=\"D\",Configuração!F244,\"\")))","v":""},null,null,null,null,null,null,2042019,43557]
["9/54",null,null,null,{"$f":"IF(Configuração!C243=\"\",\"\",Configuração!B243)","v":""},null,null,null,null,null,null,null,null,null,{"$f":"IF(Configuração!H245=\"\",\"\",IF($E$12=\"\",\"\",IF(VLOOKUP($E$12,Configuração!$S$7:$U$16,3)=\"D\",Configuração!F245,\"\")))","v":""},null,null,null,null,null,null,2042020,43923]
["10/54",null,null,null,{"$f":"IF(Configuração!C244=\"\",\"\",Configuração!B244)","v":""},null,null,null,null,null,null,null,null,null,{"$f":"IF(Configuração!H246=\"\",\"\",IF($E$12=\"\",\"\",IF(VLOOKUP($E$12,Configuração!$S$7:$U$16,3)=\"D\",Configuração!F246,\"\")))","v":""},null,null,null,null,null,null,2042021,44288]
["11/54",null,null,null,{"$f":"IF(Configuração!C245=\"\",\"\",Configuração!B245)","v":""},null,null,null,null,null,null,null,null,null,{"$f":"IF(Configuração!H247=\"\",\"\",IF($E$12=\"\",\"\",IF(VLOOKUP($E$12,Configuração!$S$7:$U$16,3)=\"D\",Configuração!F247,\"\")))","v":""},null,null,null,null,null,null,2042022,44653]
["12/54",null,null,null,{"$f":"IF(Configuração!C246=\"\",\"\",Configuração!B246)","v":""},null,null,null,null,null,null,null,null,null,{"$f":"IF(Configuração!H248=\"\",\"\",IF($E$12=\"\",\"\",IF(VLOOKUP($E$12,Configuração!$S$7:$U$16,3)=\"D\",Configuração!F248,\"\")))","v":""},null,null,null,null,null,null,2042023,45018]
["13/54",null,null,null,{"$f":"IF(Configuração!C247=\"\",\"\",Configuração!B247)","v":""},null,null,null,null,null,null,null,null,null,{"$f":"IF(Configuração!H249=\"\",\"\",IF($E$12=\"\",\"\",IF(VLOOKUP($E$12,Configuração!$S$7:$U$16,3)=\"D\",Configuração!F249,\"\")))","v":""},null,null,null,null,null,null,2052009,39935]
["14/54",null,null,null,{"$f":"IF(Configuração!C248=\"\",\"\",Configuração!B248)","v":""},null,null,null,null,null,null,null,null,null,{"$f":"IF(Configuração!H250=\"\",\"\",IF($E$12=\"\",\"\",IF(VLOOKUP($E$12,Configuração!$S$7:$U$16,3)=\"D\",Configuração!F250,\"\")))","v":""},null,null,null,null,null,null,2052010,40300]
["15/54",null,null,null,{"$f":"IF(Configuração!C249=\"\",\"\",Configuração!B249)","v":""},null,null,null,null,null,null,null,null,null,{"$f":"IF(Configuração!H251=\"\",\"\",IF($E$12=\"\",\"\",IF(VLOOKUP($E$12,Configuração!$S$7:$U$16,3)=\"D\",Configuração!F251,\"\")))","v":""},null,null,null,null,null,null,2052011,40665]
["16/54",null,null,null,{"$f":"IF(Configuração!C250=\"\",\"\",Configuração!B250)","v":""},null,null,null,null,null,null,null,null,null,{"$f":"IF(Configuração!H252=\"\",\"\",IF($E$12=\"\",\"\",IF(VLOOKUP($E$12,Configuração!$S$7:$U$16,3)=\"D\",Configuração!F252,\"\")))","v":""},null,null,null,null,null,null,2052012,41031]
["17/54",null,null,null,{"$f":"IF(Configuração!C251=\"\",\"\",Configuração!B251)","v":""},null,null,null,null,null,null,null,null,null,{"$f":"IF(Configuração!H253=\"\",\"\",IF($E$12=\"\",\"\",IF(VLOOKUP($E$12,Configuração!$S$7:$U$16,3)=\"D\",Configuração!F253,\"\")))","v":""},null,null,null,null,null,null,2052013,41396]
["18/54",null,null,null,{"$f":"IF(Configuração!C252=\"\",\"\",Configuração!B252)","v":""},null,null,null,null,null,null,null,null,null,{"$f":"IF(Configuração!H254=\"\",\"\",IF($E$12=\"\",\"\",IF(VLOOKUP($E$12,Configuração!$S$7:$U$16,3)=\"D\",Configuração!F254,\"\")))","v":""},null,null,null,null,null,null,2052014,41761]
["19/54",null,null,null,{"$f":"IF(Configuração!C253=\"\",\"\",Configuração!B253)","v":""},null,null,null,null,null,null,null,null,null,{"$f":"IF(Configuração!H255=\"\",\"\",IF($E$12=\"\",\"\",IF(VLOOKUP($E$12,Configuração!$S$7:$U$16,3)=\"D\",Configuração!F255,\"\")))","v":""},null,null,null,null,null,null,2052015,42126]
["20/54",null,null,null,{"$f":"IF(Configuração!C254=\"\",\"\",Configuração!B254)","v":""},null,null,null,null,null,null,null,null,null,{"$f":"IF(Configuração!H256=\"\",\"\",IF($E$12=\"\",\"\",IF(VLOOKUP($E$12,Configuração!$S$7:$U$16,3)=\"D\",Configuração!F256,\"\")))","v":""},null,null,null,null,null,null,2052016,42492]
["21/54",null,null,null,{"$f":"IF(Configuração!C255=\"\",\"\",Configuração!B255)","v":""},null,null,null,null,null,null,null,null,null,{"$f":"IF(Configuração!H257=\"\",\"\",IF($E$12=\"\",\"\",IF(VLOOKUP($E$12,Configuração!$S$7:$U$16,3)=\"D\",Configuração!F257,\"\")))","v":""},null,null,null,null,null,null,2052017,42857]
["22/54",null,null,null,{"$f":"IF(Configuração!C256=\"\",\"\",Configuração!B256)","v":""},null,null,null,null,null,null,null,null,null,{"$f":"IF(Configuração!H258=\"\",\"\",IF($E$12=\"\",\"\",IF(VLOOKUP($E$12,Configuração!$S$7:$U$16,3)=\"D\",Configuração!F258,\"\")))","v":""},null,null,null,null,null,null,2052018,43222]
["23/54",null,null,null,{"$f":"IF(Configuração!C257=\"\",\"\",Configuração!B257)","v":""},null,null,null,null,null,null,null,null,null,{"$f":"IF(Configuração!H259=\"\",\"\",IF($E$12=\"\",\"\",IF(VLOOKUP($E$12,Configuração!$S$7:$U$16,3)=\"D\",Configuração!F259,\"\")))","v":""},null,null,null,null,null,null,2052019,43587]
["24/54",null,null,null,{"$f":"IF(Configuração!C258=\"\",\"\",Configuração!B258)","v":""},null,null,null,null,null,null,null,null,null,{"$f":"IF(Configuração!H260=\"\",\"\",IF($E$12=\"\",\"\",IF(VLOOKUP($E$12,Configuração!$S$7:$U$16,3)=\"D\",Configuração!F260,\"\")))","v":""},null,null,null,null,null,null,2052020,43953]
["25/54",null,null,null,{"$f":"IF(Configuração!C259=\"\",\"\",Configuração!B259)","v":""},null,null,null,null,null,null,null,null,null,{"$f":"IF(Configuração!H261=\"\",\"\",IF($E$12=\"\",\"\",IF(VLOOKUP($E$12,Configuração!$S$7:$U$16,3)=\"D\",Configuração!F261,\"\")))","v":""},null,null,null,null,null,null,2052021,44318]
["26/54",null,null,null,{"$f":"IF(Configuração!C260=\"\",\"\",Configuração!B260)","v":""},null,null,null,null,null,null,null,null,null,{"$f":"IF(Configuração!H262=\"\",\"\",IF($E$12=\"\",\"\",IF(VLOOKUP($E$12,Configuração!$S$7:$U$16,3)=\"D\",Configuração!F262,\"\")))","v":""},null,null,null,null,null,null,2052022,44683]
["27/54",null,null,null,{"$f":"IF(Configuração!C261=\"\",\"\",Configuração!B261)","v":""},null,null,null,null,null,null,null,null,null,{"$f":"IF(Configuração!H263=\"\",\"\",IF($E$12=\"\",\"\",IF(VLOOKUP($E$12,Configuração!$S$7:$U$16,3)=\"D\",Configuração!F263,\"\")))","v":""},null,null,null,null,null,null,2052023,45048]
["28/54",null,null,null,{"$f":"IF(Configuração!C262=\"\",\"\",Configuração!B262)","v":""},null,null,null,null,null,null,null,null,null,null,null,null,null,null,null,null,2062009,39966]
["29/54",null,null,null,{"$f":"IF(Configuração!C263=\"\",\"\",Configuração!B263)","v":""},null,null,null,null,null,null,null,null,null,{"$f":"IF(Configuração!H265=\"\",\"\",IF($E$12=\"\",\"\",IF(VLOOKUP($E$12,Configuração!$S$7:$U$16,3)=\"D\",Configuração!F265,\"\")))","v":""},null,null,null,null,null,null,2062010,40331]
["30/54",null,null,null,{"$f":"IF(Configuração!C264=\"\",\"\",Configuração!B264)","v":""},null,null,null,null,null,null,null,null,null,{"$f":"IF(Configuração!H266=\"\",\"\",IF($E$12=\"\",\"\",IF(VLOOKUP($E$12,Configuração!$S$7:$U$16,3)=\"D\",Configuração!F266,\"\")))","v":""},null,null,null,null,null,null,2062011,40696]
["31/54",null,null,null,{"$f":"IF(Configuração!C265=\"\",\"\",Configuração!B265)","v":""},null,null,null,null,null,null,null,null,null,{"$f":"IF(Configuração!H267=\"\",\"\",IF($E$12=\"\",\"\",IF(VLOOKUP($E$12,Configuração!$S$7:$U$16,3)=\"D\",Configuração!F267,\"\")))","v":""},null,null,null,null,null,null,2062012,41062]
["32/54",null,null,null,{"$f":"IF(Configuração!C266=\"\",\"\",Configuração!B266)","v":""},null,null,null,null,null,null,null,null,null,{"$f":"IF(Configuração!H268=\"\",\"\",IF($E$12=\"\",\"\",IF(VLOOKUP($E$12,Configuração!$S$7:$U$16,3)=\"D\",Configuração!F268,\"\")))","v":""},null,null,null,null,null,null,2062013,41427]
["33/54",null,null,null,{"$f":"IF(Configuração!C267=\"\",\"\",Configuração!B267)","v":""},null,null,null,null,null,null,null,null,null,{"$f":"IF(Configuração!H269=\"\",\"\",IF($E$12=\"\",\"\",IF(VLOOKUP($E$12,Configuração!$S$7:$U$16,3)=\"D\",Configuração!F269,\"\")))","v":""},null,null,null,null,null,null,2062014,41792]
["34/54",null,null,null,{"$f":"IF(Configuração!C268=\"\",\"\",Configuração!B268)","v":""},null,null,null,null,null,null,null,null,null,{"$f":"IF(Configuração!H270=\"\",\"\",IF($E$12=\"\",\"\",IF(VLOOKUP($E$12,Configuração!$S$7:$U$16,3)=\"D\",Configuração!F270,\"\")))","v":""},null,null,null,null,null,null,2062015,42157]
["35/54",null,null,null,{"$f":"IF(Configuração!C269=\"\",\"\",Configuração!B269)","v":""},null,null,null,null,null,null,null,null,null,{"$f":"IF(Configuração!H271=\"\",\"\",IF($E$12=\"\",\"\",IF(VLOOKUP($E$12,Configuração!$S$7:$U$16,3)=\"D\",Configuração!F271,\"\")))","v":""},null,null,null,null,null,null,2062016,42523]
["36/54",null,null,null,{"$f":"IF(Configuração!C270=\"\",\"\",Configuração!B270)","v":""},null,null,null,null,null,null,null,null,null,{"$f":"IF(Configuração!H272=\"\",\"\",IF($E$12=\"\",\"\",IF(VLOOKUP($E$12,Configuração!$S$7:$U$16,3)=\"D\",Configuração!F272,\"\")))","v":""},null,null,null,null,null,null,2062017,42888]
["37/54",null,null,null,{"$f":"IF(Configuração!C271=\"\",\"\",Configuração!B271)","v":""},null,null,null,null,null,null,null,null,null,{"$f":"IF(Configuração!H273=\"\",\"\",IF($E$12=\"\",\"\",IF(VLOOKUP($E$12,Configuração!$S$7:$U$16,3)=\"D\",Configuração!F273,\"\")))","v":""},null,null,null,null,null,null,2062018,43253]
["38/54",null,null,null,{"$f":"IF(Configuração!C272=\"\",\"\",Configuração!B272)","v":""},null,null,null,null,null,null,null,null,null,{"$f":"IF(Configuração!H274=\"\",\"\",IF($E$12=\"\",\"\",IF(VLOOKUP($E$12,Configuração!$S$7:$U$16,3)=\"D\",Configuração!F274,\"\")))","v":""},null,null,null,null,null,null,2062019,43618]
["39/54",null,null,null,{"$f":"IF(Configuração!C273=\"\",\"\",Configuração!B273)","v":""},null,null,null,null,null,null,null,null,null,{"$f":"IF(Configuração!H275=\"\",\"\",IF($E$12=\"\",\"\",IF(VLOOKUP($E$12,Configuração!$S$7:$U$16,3)=\"D\",Configuração!F275,\"\")))","v":""},null,null,null,null,null,null,2062020,43984]
["40/54",null,null,null,{"$f":"IF(Configuração!C274=\"\",\"\",Configuração!B274)","v":""},null,null,null,null,null,null,null,null,null,{"$f":"IF(Configuração!H276=\"\",\"\",IF($E$12=\"\",\"\",IF(VLOOKUP($E$12,Configuração!$S$7:$U$16,3)=\"D\",Configuração!F276,\"\")))","v":""},null,null,null,null,null,null,2062021,44349]
["41/54",null,null,null,{"$f":"IF(Configuração!C275=\"\",\"\",Configuração!B275)","v":""},null,null,null,null,null,null,null,null,null,{"$f":"IF(Configuração!H277=\"\",\"\",IF($E$12=\"\",\"\",IF(VLOOKUP($E$12,Configuração!$S$7:$U$16,3)=\"D\",Configuração!F277,\"\")))","v":""},null,null,null,null,null,null,2062022,44714]
["42/54",null,null,null,{"$f":"IF(Configuração!C276=\"\",\"\",Configuração!B276)","v":""},null,null,null,null,null,null,null,null,null,{"$f":"IF(Configuração!H278=\"\",\"\",IF($E$12=\"\",\"\",IF(VLOOKUP($E$12,Configuração!$S$7:$U$16,3)=\"D\",Configuração!F278,\"\")))","v":""},null,null,null,null,null,null,2062023,45079]
["43/54",null,null,null,{"$f":"IF(Configuração!C277=\"\",\"\",Configuração!B277)","v":""},null,null,null,null,null,null,null,null,null,{"$f":"IF(Configuração!H279=\"\",\"\",IF($E$12=\"\",\"\",IF(VLOOKUP($E$12,Configuração!$S$7:$U$16,3)=\"D\",Configuração!F279,\"\")))","v":""},null,null,null,null,null,null,2072009,39996]
["44/54",null,null,null,{"$f":"IF(Configuração!C278=\"\",\"\",Configuração!B278)","v":""},null,null,null,null,null,null,null,null,null,{"$f":"IF(Configuração!H280=\"\",\"\",IF($E$12=\"\",\"\",IF(VLOOKUP($E$12,Configuração!$S$7:$U$16,3)=\"D\",Configuração!F280,\"\")))","v":""},null,null,null,null,null,null,2072010,40361]
["45/54",null,null,null,{"$f":"IF(Configuração!C279=\"\",\"\",Configuração!B279)","v":""},null,null,null,null,null,null,null,null,null,{"$f":"IF(Configuração!H281=\"\",\"\",IF($E$12=\"\",\"\",IF(VLOOKUP($E$12,Configuração!$S$7:$U$16,3)=\"D\",Configuração!F281,\"\")))","v":""},null,null,null,null,null,null,2072011,40726]
["46/54",null,null,null,{"$f":"IF(Configuração!C280=\"\",\"\",Configuração!B280)","v":""},null,null,null,null,null,null,null,null,null,{"$f":"IF(Configuração!H282=\"\",\"\",IF($E$12=\"\",\"\",IF(VLOOKUP($E$12,Configuração!$S$7:$U$16,3)=\"D\",Configuração!F282,\"\")))","v":""},null,null,null,null,null,null,2072012,41092]
["47/54",null,null,null,{"$f":"IF(Configuração!C281=\"\",\"\",Configuração!B281)","v":""},null,null,null,null,null,null,null,null,null,{"$f":"IF(Configuração!H283=\"\",\"\",IF($E$12=\"\",\"\",IF(VLOOKUP($E$12,Configuração!$S$7:$U$16,3)=\"D\",Configuração!F283,\"\")))","v":""},null,null,null,null,null,null,2072013,41457]
["48/54",null,null,null,{"$f":"IF(Configuração!C282=\"\",\"\",Configuração!B282)","v":""},null,null,null,null,null,null,null,null,null,{"$f":"IF(Configuração!H284=\"\",\"\",IF($E$12=\"\",\"\",IF(VLOOKUP($E$12,Configuração!$S$7:$U$16,3)=\"D\",Configuração!F284,\"\")))","v":""},null,null,null,null,null,null,2072014,41822]
["49/54",null,null,null,{"$f":"IF(Configuração!C283=\"\",\"\",Configuração!B283)","v":""},null,null,null,null,null,null,null,null,null,{"$f":"IF(Configuração!H285=\"\",\"\",IF($E$12=\"\",\"\",IF(VLOOKUP($E$12,Configuração!$S$7:$U$16,3)=\"D\",Configuração!F285,\"\")))","v":""},null,null,null,null,null,null,2072015,42187]
["50/54",null,null,null,{"$f":"IF(Configuração!C284=\"\",\"\",Configuração!B284)","v":""},null,null,null,null,null,null,null,null,null,{"$f":"IF(Configuração!H286=\"\",\"\",IF($E$12=\"\",\"\",IF(VLOOKUP($E$12,Configuração!$S$7:$U$16,3)=\"D\",Configuração!F286,\"\")))","v":""},null,null,null,null,null,null,2072016,42553]
["51/54",null,null,null,{"$f":"IF(Configuração!C285=\"\",\"\",Configuração!B285)","v":""},null,null,null,null,null,null,null,null,null,{"$f":"IF(Configuração!H287=\"\",\"\",IF($E$12=\"\",\"\",IF(VLOOKUP($E$12,Configuração!$S$7:$U$16,3)=\"D\",Configuração!F287,\"\")))","v":""},null,null,null,null,null,null,2072017,42918]
["52/54",null,null,null,{"$f":"IF(Configuração!C286=\"\",\"\",Configuração!B286)","v":""},null,null,null,null,null,null,null,null,null,{"$f":"IF(Configuração!H288=\"\",\"\",IF($E$12=\"\",\"\",IF(VLOOKUP($E$12,Configuração!$S$7:$U$16,3)=\"D\",Configuração!F288,\"\")))","v":""},null,null,null,null,null,null,2072018,43283]
["53/54",null,null,null,{"$f":"IF(Configuração!C287=\"\",\"\",Configuração!B287)","v":""},null,null,null,null,null,null,null,null,null,{"$f":"IF(Configuração!H289=\"\",\"\",IF($E$12=\"\",\"\",IF(VLOOKUP($E$12,Configuração!$S$7:$U$16,3)=\"D\",Configuração!F289,\"\")))","v":""},null,null,null,null,null,null,2072019,43648]
["54/54",null,null,null,{"$f":"IF(Configuração!C288=\"\",\"\",Configuração!B288)","v":""},null,null,null,null,null,null,null,null,null,{"$f":"IF(Configuração!H290=\"\",\"\",IF($E$12=\"\",\"\",IF(VLOOKUP($E$12,Configuração!$S$7:$U$16,3)=\"D\",Configuração!F290,\"\")))","v":""},null,null,null,null,null,null,2072020,44014]
["1/24",null,null,null,{"$f":"IF(Configuração!C289=\"\",\"\",Configuração!B289)","v":""},null,null,null,null,null,null,null,null,null,{"$f":"IF(Configuração!H291=\"\",\"\",IF($E$12=\"\",\"\",IF(VLOOKUP($E$12,Configuração!$S$7:$U$16,3)=\"D\",Configuração!F291,\"\")))","v":""},null,null,null,null,null,null,2072021,44379]
["2/24",null,null,null,{"$f":"IF(Configuração!C290=\"\",\"\",Configuração!B290)","v":""},null,null,null,null,null,null,null,null,null,{"$f":"IF(Configuração!H292=\"\",\"\",IF($E$12=\"\",\"\",IF(VLOOKUP($E$12,Configuração!$S$7:$U$16,3)=\"D\",Configuração!F292,\"\")))","v":""},null,null,null,null,null,null,2072022,44744]
["3/24",null,null,null,{"$f":"IF(Configuração!C291=\"\",\"\",Configuração!B291)","v":""},null,null,null,null,null,null,null,null,null,{"$f":"IF(Configuração!H293=\"\",\"\",IF($E$12=\"\",\"\",IF(VLOOKUP($E$12,Configuração!$S$7:$U$16,3)=\"D\",Configuração!F293,\"\")))","v":""},null,null,null,null,null,null,2072023,45109]
["4/24",null,null,null,{"$f":"IF(Configuração!C292=\"\",\"\",Configuração!B292)","v":""},null,null,null,null,null,null,null,null,null,{"$f":"IF(Configuração!H294=\"\",\"\",IF($E$12=\"\",\"\",IF(VLOOKUP($E$12,Configuração!$S$7:$U$16,3)=\"D\",Configuração!F294,\"\")))","v":""},null,null,null,null,null,null,2082009,40027]
["5/24",null,null,null,{"$f":"IF(Configuração!C293=\"\",\"\",Configuração!B293)","v":""},null,null,null,null,null,null,null,null,null,{"$f":"IF(Configuração!H295=\"\",\"\",IF($E$12=\"\",\"\",IF(VLOOKUP($E$12,Configuração!$S$7:$U$16,3)=\"D\",Configuração!F295,\"\")))","v":""},null,null,null,null,null,null,2082010,40392]
["6/24",null,null,null,{"$f":"IF(Configuração!C294=\"\",\"\",Configuração!B294)","v":""},null,null,null,null,null,null,null,null,null,{"$f":"IF(Configuração!H296=\"\",\"\",IF($E$12=\"\",\"\",IF(VLOOKUP($E$12,Configuração!$S$7:$U$16,3)=\"D\",Configuração!F296,\"\")))","v":""},null,null,null,null,null,null,2082011,40757]
["7/24",null,null,null,{"$f":"IF(Configuração!C295=\"\",\"\",Configuração!B295)","v":""},null,null,null,null,null,null,null,null,null,{"$f":"IF(Configuração!H297=\"\",\"\",IF($E$12=\"\",\"\",IF(VLOOKUP($E$12,Configuração!$S$7:$U$16,3)=\"D\",Configuração!F297,\"\")))","v":""},null,null,null,null,null,null,2082012,41123]
["8/24",null,null,null,{"$f":"IF(Configuração!C296=\"\",\"\",Configuração!B296)","v":""},null,null,null,null,null,null,null,null,null,{"$f":"IF(Configuração!H298=\"\",\"\",IF($E$12=\"\",\"\",IF(VLOOKUP($E$12,Configuração!$S$7:$U$16,3)=\"D\",Configuração!F298,\"\")))","v":""},null,null,null,null,null,null,2082013,41488]
["9/24",null,null,null,{"$f":"IF(Configuração!C297=\"\",\"\",Configuração!B297)","v":""},null,null,null,null,null,null,null,null,null,{"$f":"IF(Configuração!H299=\"\",\"\",IF($E$12=\"\",\"\",IF(VLOOKUP($E$12,Configuração!$S$7:$U$16,3)=\"D\",Configuração!F299,\"\")))","v":""},null,null,null,null,null,null,2082014,41853]
["10/24",null,null,null,{"$f":"IF(Configuração!C298=\"\",\"\",Configuração!B298)","v":""},null,null,null,null,null,null,null,null,null,{"$f":"IF(Configuração!H300=\"\",\"\",IF($E$12=\"\",\"\",IF(VLOOKUP($E$12,Configuração!$S$7:$U$16,3)=\"D\",Configuração!F300,\"\")))","v":""},null,null,null,null,null,null,2082015,42218]
["11/24",null,null,null,{"$f":"IF(Configuração!C299=\"\",\"\",Configuração!B299)","v":""},null,null,null,null,null,null,null,null,null,{"$f":"IF(Configuração!H301=\"\",\"\",IF($E$12=\"\",\"\",IF(VLOOKUP($E$12,Configuração!$S$7:$U$16,3)=\"D\",Configuração!F301,\"\")))","v":""},null,null,null,null,null,null,2082016,42584]
["12/24",null,null,null,{"$f":"IF(Configuração!C300=\"\",\"\",Configuração!B300)","v":""},null,null,null,null,null,null,null,null,null,{"$f":"IF(Configuração!H302=\"\",\"\",IF($E$12=\"\",\"\",IF(VLOOKUP($E$12,Configuração!$S$7:$U$16,3)=\"D\",Configuração!F302,\"\")))","v":""},null,null,null,null,null,null,2082017,42949]
["13/24",null,null,null,{"$f":"IF(Configuração!C301=\"\",\"\",Configuração!B301)","v":""},null,null,null,null,null,null,null,null,null,{"$f":"IF(Configuração!H303=\"\",\"\",IF($E$12=\"\",\"\",IF(VLOOKUP($E$12,Configuração!$S$7:$U$16,3)=\"D\",Configuração!F303,\"\")))","v":""},null,null,null,null,null,null,2082018,43314]
["14/24",null,null,null,{"$f":"IF(Configuração!C302=\"\",\"\",Configuração!B302)","v":""},null,null,null,null,null,null,null,null,null,{"$f":"IF(Configuração!H304=\"\",\"\",IF($E$12=\"\",\"\",IF(VLOOKUP($E$12,Configuração!$S$7:$U$16,3)=\"D\",Configuração!F304,\"\")))","v":""},null,null,null,null,null,null,2082019,43679]
["15/24",null,null,null,{"$f":"IF(Configuração!C303=\"\",\"\",Configuração!B303)","v":""},null,null,null,null,null,null,null,null,null,{"$f":"IF(Configuração!H305=\"\",\"\",IF($E$12=\"\",\"\",IF(VLOOKUP($E$12,Configuração!$S$7:$U$16,3)=\"D\",Configuração!F305,\"\")))","v":""},null,null,null,null,null,null,2082020,44045]
["16/24",null,null,null,{"$f":"IF(Configuração!C304=\"\",\"\",Configuração!B304)","v":""},null,null,null,null,null,null,null,null,null,{"$f":"IF(Configuração!H306=\"\",\"\",IF($E$12=\"\",\"\",IF(VLOOKUP($E$12,Configuração!$S$7:$U$16,3)=\"D\",Configuração!F306,\"\")))","v":""},null,null,null,null,null,null,2082021,44410]
["17/24",null,null,null,{"$f":"IF(Configuração!C305=\"\",\"\",Configuração!B305)","v":""},null,null,null,null,null,null,null,null,null,{"$f":"IF(Configuração!H307=\"\",\"\",IF($E$12=\"\",\"\",IF(VLOOKUP($E$12,Configuração!$S$7:$U$16,3)=\"D\",Configuração!F307,\"\")))","v":""},null,null,null,null,null,null,2082022,44775]
["18/24",null,null,null,{"$f":"IF(Configuração!C306=\"\",\"\",Configuração!B306)","v":""},null,null,null,null,null,null,null,null,null,{"$f":"IF(Configuração!H308=\"\",\"\",IF($E$12=\"\",\"\",IF(VLOOKUP($E$12,Configuração!$S$7:$U$16,3)=\"D\",Configuração!F308,\"\")))","v":""},null,null,null,null,null,null,2082023,45140]
["19/24",null,null,null,{"$f":"IF(Configuração!C307=\"\",\"\",Configuração!B307)","v":""},null,null,null,null,null,null,null,null,null,{"$f":"IF(Configuração!H309=\"\",\"\",IF($E$12=\"\",\"\",IF(VLOOKUP($E$12,Configuração!$S$7:$U$16,3)=\"D\",Configuração!F309,\"\")))","v":""},null,null,null,null,null,null,2092009,40058]
["20/24",null,null,null,{"$f":"IF(Configuração!C308=\"\",\"\",Configuração!B308)","v":""},null,null,null,null,null,null,null,null,null,{"$f":"IF(Configuração!H310=\"\",\"\",IF($E$12=\"\",\"\",IF(VLOOKUP($E$12,Configuração!$S$7:$U$16,3)=\"D\",Configuração!F310,\"\")))","v":""},null,null,null,null,null,null,2092010,40423]
["21/24",null,null,null,{"$f":"IF(Configuração!C309=\"\",\"\",Configuração!B309)","v":""},null,null,null,null,null,null,null,null,null,{"$f":"IF(Configuração!H311=\"\",\"\",IF($E$12=\"\",\"\",IF(VLOOKUP($E$12,Configuração!$S$7:$U$16,3)=\"D\",Configuração!F311,\"\")))","v":""},null,null,null,null,null,null,2092011,40788]
["22/24",null,null,null,{"$f":"IF(Configuração!C310=\"\",\"\",Configuração!B310)","v":""},null,null,null,null,null,null,null,null,null,{"$f":"IF(Configuração!H312=\"\",\"\",IF($E$12=\"\",\"\",IF(VLOOKUP($E$12,Configuração!$S$7:$U$16,3)=\"D\",Configuração!F312,\"\")))","v":""},null,null,null,null,null,null,2092012,41154]
["23/24",null,null,null,{"$f":"IF(Configuração!C311=\"\",\"\",Configuração!B311)","v":""},null,null,null,null,null,null,null,null,null,{"$f":"IF(Configuração!H313=\"\",\"\",IF($E$12=\"\",\"\",IF(VLOOKUP($E$12,Configuração!$S$7:$U$16,3)=\"D\",Configuração!F313,\"\")))","v":""},null,null,null,null,null,null,2092013,41519]
["24/24",null,null,null,{"$f":"IF(Configuração!C312=\"\",\"\",Configuração!B312)","v":""},null,null,null,null,null,null,null,null,null,{"$f":"IF(Configuração!H314=\"\",\"\",IF($E$12=\"\",\"\",IF(VLOOKUP($E$12,Configuração!$S$7:$U$16,3)=\"D\",Configuração!F314,\"\")))","v":""},null,null,null,null,null,null,2092014,41884]
["1/13",null,null,null,{"$f":"IF(Configuração!C313=\"\",\"\",Configuração!B313)","v":""},null,null,null,null,null,null,null,null,null,null,null,null,null,null,null,null,2092015,42249]
["2/13",null,null,null,{"$f":"IF(Configuração!C314=\"\",\"\",Configuração!B314)","v":""},null,null,null,null,null,null,null,null,null,{"$f":"IF(Configuração!H316=\"\",\"\",IF($E$12=\"\",\"\",IF(VLOOKUP($E$12,Configuração!$S$7:$U$16,3)=\"D\",Configuração!F316,\"\")))","v":""},null,null,null,null,null,null,2092016,42615]
["3/13",null,null,null,{"$f":"IF(Configuração!C315=\"\",\"\",Configuração!B315)","v":""},null,null,null,null,null,null,null,null,null,{"$f":"IF(Configuração!H317=\"\",\"\",IF($E$12=\"\",\"\",IF(VLOOKUP($E$12,Configuração!$S$7:$U$16,3)=\"D\",Configuração!F317,\"\")))","v":""},null,null,null,null,null,null,2092017,42980]
["4/13",null,null,null,{"$f":"IF(Configuração!C316=\"\",\"\",Configuração!B316)","v":""},null,null,null,null,null,null,null,null,null,{"$f":"IF(Configuração!H318=\"\",\"\",IF($E$12=\"\",\"\",IF(VLOOKUP($E$12,Configuração!$S$7:$U$16,3)=\"D\",Configuração!F318,\"\")))","v":""},null,null,null,null,null,null,2092018,43345]
["5/13",null,null,null,{"$f":"IF(Configuração!C317=\"\",\"\",Configuração!B317)","v":""},null,null,null,null,null,null,null,null,null,{"$f":"IF(Configuração!H319=\"\",\"\",IF($E$12=\"\",\"\",IF(VLOOKUP($E$12,Configuração!$S$7:$U$16,3)=\"D\",Configuração!F319,\"\")))","v":""},null,null,null,null,null,null,2092019,43710]
["6/13",null,null,null,{"$f":"IF(Configuração!C318=\"\",\"\",Configuração!B318)","v":""},null,null,null,null,null,null,null,null,null,{"$f":"IF(Configuração!H320=\"\",\"\",IF($E$12=\"\",\"\",IF(VLOOKUP($E$12,Configuração!$S$7:$U$16,3)=\"D\",Configuração!F320,\"\")))","v":""},null,null,null,null,null,null,2092020,44076]
["7/13",null,null,null,{"$f":"IF(Configuração!C319=\"\",\"\",Configuração!B319)","v":""},null,null,null,null,null,null,null,null,null,{"$f":"IF(Configuração!H321=\"\",\"\",IF($E$12=\"\",\"\",IF(VLOOKUP($E$12,Configuração!$S$7:$U$16,3)=\"D\",Configuração!F321,\"\")))","v":""},null,null,null,null,null,null,2092021,44441]
["8/13",null,null,null,{"$f":"IF(Configuração!C320=\"\",\"\",Configuração!B320)","v":""},null,null,null,null,null,null,null,null,null,{"$f":"IF(Configuração!H322=\"\",\"\",IF($E$12=\"\",\"\",IF(VLOOKUP($E$12,Configuração!$S$7:$U$16,3)=\"D\",Configuração!F322,\"\")))","v":""},null,null,null,null,null,null,2092022,44806]
["9/13",null,null,null,{"$f":"IF(Configuração!C321=\"\",\"\",Configuração!B321)","v":""},null,null,null,null,null,null,null,null,null,{"$f":"IF(Configuração!H323=\"\",\"\",IF($E$12=\"\",\"\",IF(VLOOKUP($E$12,Configuração!$S$7:$U$16,3)=\"D\",Configuração!F323,\"\")))","v":""},null,null,null,null,null,null,2092023,45171]
["10/13",null,null,null,{"$f":"IF(Configuração!C322=\"\",\"\",Configuração!B322)","v":""},null,null,null,null,null,null,null,null,null,{"$f":"IF(Configuração!H324=\"\",\"\",IF($E$12=\"\",\"\",IF(VLOOKUP($E$12,Configuração!$S$7:$U$16,3)=\"D\",Configuração!F324,\"\")))","v":""},null,null,null,null,null,null,2102009,40088]
["11/13",null,null,null,{"$f":"IF(Configuração!C323=\"\",\"\",Configuração!B323)","v":""},null,null,null,null,null,null,null,null,null,{"$f":"IF(Configuração!H325=\"\",\"\",IF($E$12=\"\",\"\",IF(VLOOKUP($E$12,Configuração!$S$7:$U$16,3)=\"D\",Configuração!F325,\"\")))","v":""},null,null,null,null,null,null,2102010,40453]
["12/13",null,null,null,{"$f":"IF(Configuração!C324=\"\",\"\",Configuração!B324)","v":""},null,null,null,null,null,null,null,null,null,{"$f":"IF(Configuração!H326=\"\",\"\",IF($E$12=\"\",\"\",IF(VLOOKUP($E$12,Configuração!$S$7:$U$16,3)=\"D\",Configuração!F326,\"\")))","v":""},null,null,null,null,null,null,2102011,40818]
["13/13",null,null,null,{"$f":"IF(Configuração!C325=\"\",\"\",Configuração!B325)","v":""},null,null,null,null,null,null,null,null,null,{"$f":"IF(Configuração!H327=\"\",\"\",IF($E$12=\"\",\"\",IF(VLOOKUP($E$12,Configuração!$S$7:$U$16,3)=\"D\",Configuração!F327,\"\")))","v":""},null,null,null,null,null,null,2102012,41184]
["13/14",null,null,null,{"$f":"IF(Configuração!C326=\"\",\"\",Configuração!B326)","v":""},null,null,null,null,null,null,null,null,null,{"$f":"IF(Configuração!H328=\"\",\"\",IF($E$12=\"\",\"\",IF(VLOOKUP($E$12,Configuração!$S$7:$U$16,3)=\"D\",Configuração!F328,\"\")))","v":""},null,null,null,null,null,null,2102013,41549]
["14/16",null,null,null,{"$f":"IF(Configuração!C327=\"\",\"\",Configuração!B327)","v":""},null,null,null,null,null,null,null,null,null,{"$f":"IF(Configuração!H329=\"\",\"\",IF($E$12=\"\",\"\",IF(VLOOKUP($E$12,Configuração!$S$7:$U$16,3)=\"D\",Configuração!F329,\"\")))","v":""},null,null,null,null,null,null,2102014,41914]
["15/16",null,null,null,{"$f":"IF(Configuração!C328=\"\",\"\",Configuração!B328)","v":""},null,null,null,null,null,null,null,null,null,{"$f":"IF(Configuração!H330=\"\",\"\",IF($E$12=\"\",\"\",IF(VLOOKUP($E$12,Configuração!$S$7:$U$16,3)=\"D\",Configuração!F330,\"\")))","v":""},null,null,null,null,null,null,2102015,42279]
["16/16",null,null,null,{"$f":"IF(Configuração!C329=\"\",\"\",Configuração!B329)","v":""},null,null,null,null,null,null,null,null,null,{"$f":"IF(Configuração!H331=\"\",\"\",IF($E$12=\"\",\"\",IF(VLOOKUP($E$12,Configuração!$S$7:$U$16,3)=\"D\",Configuração!F331,\"\")))","v":""},null,null,null,null,null,null,2102016,42645]
["1/17",null,null,null,{"$f":"IF(Configuração!C330=\"\",\"\",Configuração!B330)","v":""},null,null,null,null,null,null,null,null,null,{"$f":"IF(Configuração!H332=\"\",\"\",IF($E$12=\"\",\"\",IF(VLOOKUP($E$12,Configuração!$S$7:$U$16,3)=\"D\",Configuração!F332,\"\")))","v":""},null,null,null,null,null,null,2102017,43010]
["2/17",null,null,null,{"$f":"IF(Configuração!C331=\"\",\"\",Configuração!B331)","v":""},null,null,null,null,null,null,null,null,null,{"$f":"IF(Configuração!H333=\"\",\"\",IF($E$12=\"\",\"\",IF(VLOOKUP($E$12,Configuração!$S$7:$U$16,3)=\"D\",Configuração!F333,\"\")))","v":""},null,null,null,null,null,null,2102018,43375]
["3/17",null,null,null,{"$f":"IF(Configuração!C332=\"\",\"\",Configuração!B332)","v":""},null,null,null,null,null,null,null,null,null,{"$f":"IF(Configuração!H334=\"\",\"\",IF($E$12=\"\",\"\",IF(VLOOKUP($E$12,Configuração!$S$7:$U$16,3)=\"D\",Configuração!F334,\"\")))","v":""},null,null,null,null,null,null,2102019,43740]
["4/17",null,null,null,{"$f":"IF(Configuração!C333=\"\",\"\",Configuração!B333)","v":""},null,null,null,null,null,null,null,null,null,{"$f":"IF(Configuração!H335=\"\",\"\",IF($E$12=\"\",\"\",IF(VLOOKUP($E$12,Configuração!$S$7:$U$16,3)=\"D\",Configuração!F335,\"\")))","v":""},null,null,null,null,null,null,2102020,44106]
["5/17",null,null,null,{"$f":"IF(Configuração!C334=\"\",\"\",Configuração!B334)","v":""},null,null,null,null,null,null,null,null,null,{"$f":"IF(Configuração!H336=\"\",\"\",IF($E$12=\"\",\"\",IF(VLOOKUP($E$12,Configuração!$S$7:$U$16,3)=\"D\",Configuração!F336,\"\")))","v":""},null,null,null,null,null,null,2102021,44471]
["6/17",null,null,null,{"$f":"IF(Configuração!C335=\"\",\"\",Configuração!B335)","v":""},null,null,null,null,null,null,null,null,null,{"$f":"IF(Configuração!H337=\"\",\"\",IF($E$12=\"\",\"\",IF(VLOOKUP($E$12,Configuração!$S$7:$U$16,3)=\"D\",Configuração!F337,\"\")))","v":""},null,null,null,null,null,null,2102022,44836]
["7/17",null,null,null,{"$f":"IF(Configuração!C336=\"\",\"\",Configuração!B336)","v":""},null,null,null,null,null,null,null,null,null,{"$f":"IF(Configuração!H338=\"\",\"\",IF($E$12=\"\",\"\",IF(VLOOKUP($E$12,Configuração!$S$7:$U$16,3)=\"D\",Configuração!F338,\"\")))","v":""},null,null,null,null,null,null,2102023,45201]
["8/17",null,null,null,{"$f":"IF(Configuração!C337=\"\",\"\",Configuração!B337)","v":""},null,null,null,null,null,null,null,null,null,{"$f":"IF(Configuração!H339=\"\",\"\",IF($E$12=\"\",\"\",IF(VLOOKUP($E$12,Configuração!$S$7:$U$16,3)=\"D\",Configuração!F339,\"\")))","v":""},null,null,null,null,null,null,2112009,40119]
["9/17",null,null,null,{"$f":"IF(Configuração!C338=\"\",\"\",Configuração!B338)","v":""},null,null,null,null,null,null,null,null,null,{"$f":"IF(Configuração!H340=\"\",\"\",IF($E$12=\"\",\"\",IF(VLOOKUP($E$12,Configuração!$S$7:$U$16,3)=\"D\",Configuração!F340,\"\")))","v":""},null,null,null,null,null,null,2112010,40484]
["10/17",null,null,null,{"$f":"IF(Configuração!C339=\"\",\"\",Configuração!B339)","v":""},null,null,null,null,null,null,null,null,null,{"$f":"IF(Configuração!H341=\"\",\"\",IF($E$12=\"\",\"\",IF(VLOOKUP($E$12,Configuração!$S$7:$U$16,3)=\"D\",Configuração!F341,\"\")))","v":""},null,null,null,null,null,null,2112011,40849]
["11/17",null,null,null,{"$f":"IF(Configuração!C340=\"\",\"\",Configuração!B340)","v":""},null,null,null,null,null,null,null,null,null,{"$f":"IF(Configuração!H342=\"\",\"\",IF($E$12=\"\",\"\",IF(VLOOKUP($E$12,Configuração!$S$7:$U$16,3)=\"D\",Configuração!F342,\"\")))","v":""},null,null,null,null,null,null,2112012,41215]
["12/17",null,null,null,{"$f":"IF(Configuração!C341=\"\",\"\",Configuração!B341)","v":""},null,null,null,null,null,null,null,null,null,{"$f":"IF(Configuração!H343=\"\",\"\",IF($E$12=\"\",\"\",IF(VLOOKUP($E$12,Configuração!$S$7:$U$16,3)=\"D\",Configuração!F343,\"\")))","v":""},null,null,null,null,null,null,2112013,41580]
["13/17",null,null,null,{"$f":"IF(Configuração!C342=\"\",\"\",Configuração!B342)","v":""},null,null,null,null,null,null,null,null,null,{"$f":"IF(Configuração!H344=\"\",\"\",IF($E$12=\"\",\"\",IF(VLOOKUP($E$12,Configuração!$S$7:$U$16,3)=\"D\",Configuração!F344,\"\")))","v":""},null,null,null,null,null,null,2112014,41945]
["14/17",null,null,null,{"$f":"IF(Configuração!C343=\"\",\"\",Configuração!B343)","v":""},null,null,null,null,null,null,null,null,null,{"$f":"IF(Configuração!H345=\"\",\"\",IF($E$12=\"\",\"\",IF(VLOOKUP($E$12,Configuração!$S$7:$U$16,3)=\"D\",Configuração!F345,\"\")))","v":""},null,null,null,null,null,null,2112015,42310]
["15/17",null,null,null,{"$f":"IF(Configuração!C344=\"\",\"\",Configuração!B344)","v":""},null,null,null,null,null,null,null,null,null,{"$f":"IF(Configuração!H346=\"\",\"\",IF($E$12=\"\",\"\",IF(VLOOKUP($E$12,Configuração!$S$7:$U$16,3)=\"D\",Configuração!F346,\"\")))","v":""},null,null,null,null,null,null,2112016,42676]
["16/17",null,null,null,{"$f":"IF(Configuração!C345=\"\",\"\",Configuração!B345)","v":""},null,null,null,null,null,null,null,null,null,{"$f":"IF(Configuração!H347=\"\",\"\",IF($E$12=\"\",\"\",IF(VLOOKUP($E$12,Configuração!$S$7:$U$16,3)=\"D\",Configuração!F347,\"\")))","v":""},null,null,null,null,null,null,2112017,43041]
["17/17",null,null,null,{"$f":"IF(Configuração!C346=\"\",\"\",Configuração!B346)","v":""},null,null,null,null,null,null,null,null,null,{"$f":"IF(Configuração!H348=\"\",\"\",IF($E$12=\"\",\"\",IF(VLOOKUP($E$12,Configuração!$S$7:$U$16,3)=\"D\",Configuração!F348,\"\")))","v":""},null,null,null,null,null,null,2112018,43406]
["1/16",null,null,null,{"$f":"IF(Configuração!C347=\"\",\"\",Configuração!B347)","v":""},null,null,null,null,null,null,null,null,null,{"$f":"IF(Configuração!H349=\"\",\"\",IF($E$12=\"\",\"\",IF(VLOOKUP($E$12,Configuração!$S$7:$U$16,3)=\"D\",Configuração!F349,\"\")))","v":""},null,null,null,null,null,null,2112019,43771]
["2/16",null,null,null,{"$f":"IF(Configuração!C348=\"\",\"\",Configuração!B348)","v":""},null,null,null,null,null,null,null,null,null,{"$f":"IF(Configuração!H350=\"\",\"\",IF($E$12=\"\",\"\",IF(VLOOKUP($E$12,Configuração!$S$7:$U$16,3)=\"D\",Configuração!F350,\"\")))","v":""},null,null,null,null,null,null,2112020,44137]
["3/16",null,null,null,{"$f":"IF(Configuração!C349=\"\",\"\",Configuração!B349)","v":""},null,null,null,null,null,null,null,null,null,{"$f":"IF(Configuração!H351=\"\",\"\",IF($E$12=\"\",\"\",IF(VLOOKUP($E$12,Configuração!$S$7:$U$16,3)=\"D\",Configuração!F351,\"\")))","v":""},null,null,null,null,null,null,2112021,44502]
["4/16",null,null,null,{"$f":"IF(Configuração!C350=\"\",\"\",Configuração!B350)","v":""},null,null,null,null,null,null,null,null,null,{"$f":"IF(Configuração!H352=\"\",\"\",IF($E$12=\"\",\"\",IF(VLOOKUP($E$12,Configuração!$S$7:$U$16,3)=\"D\",Configuração!F352,\"\")))","v":""},null,null,null,null,null,null,2112022,44867]
["5/16",null,null,null,{"$f":"IF(Configuração!C351=\"\",\"\",Configuração!B351)","v":""},null,null,null,null,null,null,null,null,null,{"$f":"IF(Configuração!H353=\"\",\"\",IF($E$12=\"\",\"\",IF(VLOOKUP($E$12,Configuração!$S$7:$U$16,3)=\"D\",Configuração!F353,\"\")))","v":""},null,null,null,null,null,null,2112023,45232]
["6/16",null,null,null,{"$f":"IF(Configuração!C352=\"\",\"\",Configuração!B352)","v":""},null,null,null,null,null,null,null,null,null,{"$f":"IF(Configuração!H354=\"\",\"\",IF($E$12=\"\",\"\",IF(VLOOKUP($E$12,Configuração!$S$7:$U$16,3)=\"D\",Configuração!F354,\"\")))","v":""},null,null,null,null,null,null,2122009,40149]
["7/16",null,null,null,{"$f":"IF(Configuração!C353=\"\",\"\",Configuração!B353)","v":""},null,null,null,null,null,null,null,null,null,{"$f":"IF(Configuração!H355=\"\",\"\",IF($E$12=\"\",\"\",IF(VLOOKUP($E$12,Configuração!$S$7:$U$16,3)=\"D\",Configuração!F355,\"\")))","v":""},null,null,null,null,null,null,2122010,40514]
["8/16",null,null,null,{"$f":"IF(Configuração!C354=\"\",\"\",Configuração!B354)","v":""},null,null,null,null,null,null,null,null,null,{"$f":"IF(Configuração!H356=\"\",\"\",IF($E$12=\"\",\"\",IF(VLOOKUP($E$12,Configuração!$S$7:$U$16,3)=\"D\",Configuração!F356,\"\")))","v":""},null,null,null,null,null,null,2122011,40879]
["9/16",null,null,null,{"$f":"IF(Configuração!C355=\"\",\"\",Configuração!B355)","v":""},null,null,null,null,null,null,null,null,null,{"$f":"IF(Configuração!H357=\"\",\"\",IF($E$12=\"\",\"\",IF(VLOOKUP($E$12,Configuração!$S$7:$U$16,3)=\"D\",Configuração!F357,\"\")))","v":""},null,null,null,null,null,null,2122012,41245]
["10/16",null,null,null,{"$f":"IF(Configuração!C356=\"\",\"\",Configuração!B356)","v":""},null,null,null,null,null,null,null,null,null,{"$f":"IF(Configuração!H358=\"\",\"\",IF($E$12=\"\",\"\",IF(VLOOKUP($E$12,Configuração!$S$7:$U$16,3)=\"D\",Configuração!F358,\"\")))","v":""},null,null,null,null,null,null,2122013,41610]
["11/16",null,null,null,{"$f":"IF(Configuração!C357=\"\",\"\",Configuração!B357)","v":""},null,null,null,null,null,null,null,null,null,{"$f":"IF(Configuração!H359=\"\",\"\",IF($E$12=\"\",\"\",IF(VLOOKUP($E$12,Configuração!$S$7:$U$16,3)=\"D\",Configuração!F359,\"\")))","v":""},null,null,null,null,null,null,2122014,41975]
["12/16",null,null,null,{"$f":"IF(Configuração!C358=\"\",\"\",Configuração!B358)","v":""},null,null,null,null,null,null,null,null,null,{"$f":"IF(Configuração!H360=\"\",\"\",IF($E$12=\"\",\"\",IF(VLOOKUP($E$12,Configuração!$S$7:$U$16,3)=\"D\",Configuração!F360,\"\")))","v":""},null,null,null,null,null,null,2122015,42340]
["13/16",null,null,null,{"$f":"IF(Configuração!C359=\"\",\"\",Configuração!B359)","v":""},null,null,null,null,null,null,null,null,null,{"$f":"IF(Configuração!H361=\"\",\"\",IF($E$12=\"\",\"\",IF(VLOOKUP($E$12,Configuração!$S$7:$U$16,3)=\"D\",Configuração!F361,\"\")))","v":""},null,null,null,null,null,null,2122016,42706]
["14/16",null,null,null,{"$f":"IF(Configuração!C360=\"\",\"\",Configuração!B360)","v":""},null,null,null,null,null,null,null,null,null,{"$f":"IF(Configuração!H362=\"\",\"\",IF($E$12=\"\",\"\",IF(VLOOKUP($E$12,Configuração!$S$7:$U$16,3)=\"D\",Configuração!F362,\"\")))","v":""},null,null,null,null,null,null,2122017,43071]
["15/16",null,null,null,{"$f":"IF(Configuração!C361=\"\",\"\",Configuração!B361)","v":""},null,null,null,null,null,null,null,null,null,{"$f":"IF(Configuração!H363=\"\",\"\",IF($E$12=\"\",\"\",IF(VLOOKUP($E$12,Configuração!$S$7:$U$16,3)=\"D\",Configuração!F363,\"\")))","v":""},null,null,null,null,null,null,2122018,43436]
["16/16",null,null,null,{"$f":"IF(Configuração!C362=\"\",\"\",Configuração!B362)","v":""},null,null,null,null,null,null,null,null,null,{"$f":"IF(Configuração!H364=\"\",\"\",IF($E$12=\"\",\"\",IF(VLOOKUP($E$12,Configuração!$S$7:$U$16,3)=\"D\",Configuração!F364,\"\")))","v":""},null,null,null,null,null,null,2122019,43801]
["1/20",null,null,null,{"$f":"IF(Configuração!C363=\"\",\"\",Configuração!B363)","v":""},null,null,null,null,null,null,null,null,null,{"$f":"IF(Configuração!H365=\"\",\"\",IF($E$12=\"\",\"\",IF(VLOOKUP($E$12,Configuração!$S$7:$U$16,3)=\"D\",Configuração!F365,\"\")))","v":""},null,null,null,null,null,null,2122020,44167]
["2/20",null,null,null,{"$f":"IF(Configuração!C364=\"\",\"\",Configuração!B364)","v":""},null,null,null,null,null,null,null,null,null,null,null,null,null,null,null,null,2122021,44532]
["3/20",null,null,null,{"$f":"IF(Configuração!C365=\"\",\"\",Configuração!B365)","v":""},null,null,null,null,null,null,null,null,null,{"$f":"IF(Configuração!H367=\"\",\"\",IF($E$12=\"\",\"\",IF(VLOOKUP($E$12,Configuração!$S$7:$U$16,3)=\"D\",Configuração!F367,\"\")))","v":""},null,null,null,null,null,null,2122022,44897]
["4/20",null,null,null,{"$f":"IF(Configuração!C366=\"\",\"\",Configuração!B366)","v":""},null,null,null,null,null,null,null,null,null,{"$f":"IF(Configuração!H368=\"\",\"\",IF($E$12=\"\",\"\",IF(VLOOKUP($E$12,Configuração!$S$7:$U$16,3)=\"D\",Configuração!F368,\"\")))","v":""},null,null,null,null,null,null,2122023,45262]
["5/20",null,null,null,{"$f":"IF(Configuração!C367=\"\",\"\",Configuração!B367)","v":""},null,null,null,null,null,null,null,null,null,{"$f":"IF(Configuração!H369=\"\",\"\",IF($E$12=\"\",\"\",IF(VLOOKUP($E$12,Configuração!$S$7:$U$16,3)=\"D\",Configuração!F369,\"\")))","v":""},null,null,null,null,null,null,3012009,39816]
["6/20",null,null,null,{"$f":"IF(Configuração!C368=\"\",\"\",Configuração!B368)","v":""},null,null,null,null,null,null,null,null,null,{"$f":"IF(Configuração!H370=\"\",\"\",IF($E$12=\"\",\"\",IF(VLOOKUP($E$12,Configuração!$S$7:$U$16,3)=\"D\",Configuração!F370,\"\")))","v":""},null,null,null,null,null,null,3012010,40181]
["7/20",null,null,null,{"$f":"IF(Configuração!C369=\"\",\"\",Configuração!B369)","v":""},null,null,null,null,null,null,null,null,null,{"$f":"IF(Configuração!H371=\"\",\"\",IF($E$12=\"\",\"\",IF(VLOOKUP($E$12,Configuração!$S$7:$U$16,3)=\"D\",Configuração!F371,\"\")))","v":""},null,null,null,null,null,null,3012011,40546]
["8/20",null,null,null,{"$f":"IF(Configuração!C370=\"\",\"\",Configuração!B370)","v":""},null,null,null,null,null,null,null,null,null,{"$f":"IF(Configuração!H372=\"\",\"\",IF($E$12=\"\",\"\",IF(VLOOKUP($E$12,Configuração!$S$7:$U$16,3)=\"D\",Configuração!F372,\"\")))","v":""},null,null,null,null,null,null,3012012,40911]
["9/20",null,null,null,{"$f":"IF(Configuração!C371=\"\",\"\",Configuração!B371)","v":""},null,null,null,null,null,null,null,null,null,{"$f":"IF(Configuração!H373=\"\",\"\",IF($E$12=\"\",\"\",IF(VLOOKUP($E$12,Configuração!$S$7:$U$16,3)=\"D\",Configuração!F373,\"\")))","v":""},null,null,null,null,null,null,3012013,41277]
["10/20",null,null,null,{"$f":"IF(Configuração!C372=\"\",\"\",Configuração!B372)","v":""},null,null,null,null,null,null,null,null,null,{"$f":"IF(Configuração!H374=\"\",\"\",IF($E$12=\"\",\"\",IF(VLOOKUP($E$12,Configuração!$S$7:$U$16,3)=\"D\",Configuração!F374,\"\")))","v":""},null,null,null,null,null,null,3012014,41642]
["11/20",null,null,null,{"$f":"IF(Configuração!C373=\"\",\"\",Configuração!B373)","v":""},null,null,null,null,null,null,null,null,null,{"$f":"IF(Configuração!H375=\"\",\"\",IF($E$12=\"\",\"\",IF(VLOOKUP($E$12,Configuração!$S$7:$U$16,3)=\"D\",Configuração!F375,\"\")))","v":""},null,null,null,null,null,null,3012015,42007]
["12/20",null,null,null,{"$f":"IF(Configuração!C374=\"\",\"\",Configuração!B374)","v":""},null,null,null,null,null,null,null,null,null,{"$f":"IF(Configuração!H376=\"\",\"\",IF($E$12=\"\",\"\",IF(VLOOKUP($E$12,Configuração!$S$7:$U$16,3)=\"D\",Configuração!F376,\"\")))","v":""},null,null,null,null,null,null,3012016,42372]
["13/20",null,null,null,{"$f":"IF(Configuração!C375=\"\",\"\",Configuração!B375)","v":""},null,null,null,null,null,null,null,null,null,{"$f":"IF(Configuração!H377=\"\",\"\",IF($E$12=\"\",\"\",IF(VLOOKUP($E$12,Configuração!$S$7:$U$16,3)=\"D\",Configuração!F377,\"\")))","v":""},null,null,null,null,null,null,3012017,42738]
["14/20",null,null,null,{"$f":"IF(Configuração!C376=\"\",\"\",Configuração!B376)","v":""},null,null,null,null,null,null,null,null,null,{"$f":"IF(Configuração!H378=\"\",\"\",IF($E$12=\"\",\"\",IF(VLOOKUP($E$12,Configuração!$S$7:$U$16,3)=\"D\",Configuração!F378,\"\")))","v":""},null,null,null,null,null,null,3012018,43103]
["15/20",null,null,null,{"$f":"IF(Configuração!C377=\"\",\"\",Configuração!B377)","v":""},null,null,null,null,null,null,null,null,null,{"$f":"IF(Configuração!H379=\"\",\"\",IF($E$12=\"\",\"\",IF(VLOOKUP($E$12,Configuração!$S$7:$U$16,3)=\"D\",Configuração!F379,\"\")))","v":""},null,null,null,null,null,null,3012019,43468]
["16/20",null,null,null,{"$f":"IF(Configuração!C378=\"\",\"\",Configuração!B378)","v":""},null,null,null,null,null,null,null,null,null,{"$f":"IF(Configuração!H380=\"\",\"\",IF($E$12=\"\",\"\",IF(VLOOKUP($E$12,Configuração!$S$7:$U$16,3)=\"D\",Configuração!F380,\"\")))","v":""},null,null,null,null,null,null,3012020,43833]
["17/20",null,null,null,{"$f":"IF(Configuração!C379=\"\",\"\",Configuração!B379)","v":""},null,null,null,null,null,null,null,null,null,{"$f":"IF(Configuração!H381=\"\",\"\",IF($E$12=\"\",\"\",IF(VLOOKUP($E$12,Configuração!$S$7:$U$16,3)=\"D\",Configuração!F381,\"\")))","v":""},null,null,null,null,null,null,3012021,44199]
["18/20",null,null,null,{"$f":"IF(Configuração!C380=\"\",\"\",Configuração!B380)","v":""},null,null,null,null,null,null,null,null,null,{"$f":"IF(Configuração!H382=\"\",\"\",IF($E$12=\"\",\"\",IF(VLOOKUP($E$12,Configuração!$S$7:$U$16,3)=\"D\",Configuração!F382,\"\")))","v":""},null,null,null,null,null,null,3012022,44564]
["19/20",null,null,null,{"$f":"IF(Configuração!C381=\"\",\"\",Configuração!B381)","v":""},null,null,null,null,null,null,null,null,null,{"$f":"IF(Configuração!H383=\"\",\"\",IF($E$12=\"\",\"\",IF(VLOOKUP($E$12,Configuração!$S$7:$U$16,3)=\"D\",Configuração!F383,\"\")))","v":""},null,null,null,null,null,null,3012023,44929]
["20/20",null,null,null,{"$f":"IF(Configuração!C382=\"\",\"\",Configuração!B382)","v":""},null,null,null,null,null,null,null,null,null,{"$f":"IF(Configuração!H384=\"\",\"\",IF($E$12=\"\",\"\",IF(VLOOKUP($E$12,Configuração!$S$7:$U$16,3)=\"D\",Configuração!F384,\"\")))","v":""},null,null,null,null,null,null,3022009,39847]
["1/14",null,null,null,{"$f":"IF(Configuração!C383=\"\",\"\",Configuração!B383)","v":""},null,null,null,null,null,null,null,null,null,{"$f":"IF(Configuração!H385=\"\",\"\",IF($E$12=\"\",\"\",IF(VLOOKUP($E$12,Configuração!$S$7:$U$16,3)=\"D\",Configuração!F385,\"\")))","v":""},null,null,null,null,null,null,3022010,40212]
["2/14",null,null,null,{"$f":"IF(Configuração!C384=\"\",\"\",Configuração!B384)","v":""},null,null,null,null,null,null,null,null,null,{"$f":"IF(Configuração!H386=\"\",\"\",IF($E$12=\"\",\"\",IF(VLOOKUP($E$12,Configuração!$S$7:$U$16,3)=\"D\",Configuração!F386,\"\")))","v":""},null,null,null,null,null,null,3022011,40577]
["3/14",null,null,null,{"$f":"IF(Configuração!C385=\"\",\"\",Configuração!B385)","v":""},null,null,null,null,null,null,null,null,null,{"$f":"IF(Configuração!H387=\"\",\"\",IF($E$12=\"\",\"\",IF(VLOOKUP($E$12,Configuração!$S$7:$U$16,3)=\"D\",Configuração!F387,\"\")))","v":""},null,null,null,null,null,null,3022012,40942]
["4/14",null,null,null,{"$f":"IF(Configuração!C386=\"\",\"\",Configuração!B386)","v":""},null,null,null,null,null,null,null,null,null,{"$f":"IF(Configuração!H388=\"\",\"\",IF($E$12=\"\",\"\",IF(VLOOKUP($E$12,Configuração!$S$7:$U$16,3)=\"D\",Configuração!F388,\"\")))","v":""},null,null,null,null,null,null,3022013,41308]
["5/14",null,null,null,{"$f":"IF(Configuração!C387=\"\",\"\",Configuração!B387)","v":""},null,null,null,null,null,null,null,null,null,{"$f":"IF(Configuração!H389=\"\",\"\",IF($E$12=\"\",\"\",IF(VLOOKUP($E$12,Configuração!$S$7:$U$16,3)=\"D\",Configuração!F389,\"\")))","v":""},null,null,null,null,null,null,3022014,41673]
["6/14",null,null,null,{"$f":"IF(Configuração!C388=\"\",\"\",Configuração!B388)","v":""},null,null,null,null,null,null,null,null,null,{"$f":"IF(Configuração!H390=\"\",\"\",IF($E$12=\"\",\"\",IF(VLOOKUP($E$12,Configuração!$S$7:$U$16,3)=\"D\",Configuração!F390,\"\")))","v":""},null,null,null,null,null,null,3022015,42038]
["7/14",null,null,null,{"$f":"IF(Configuração!C389=\"\",\"\",Configuração!B389)","v":""},null,null,null,null,null,null,null,null,null,{"$f":"IF(Configuração!H391=\"\",\"\",IF($E$12=\"\",\"\",IF(VLOOKUP($E$12,Configuração!$S$7:$U$16,3)=\"D\",Configuração!F391,\"\")))","v":""},null,null,null,null,null,null,3022016,42403]
["8/14",null,null,null,{"$f":"IF(Configuração!C390=\"\",\"\",Configuração!B390)","v":""},null,null,null,null,null,null,null,null,null,{"$f":"IF(Configuração!H392=\"\",\"\",IF($E$12=\"\",\"\",IF(VLOOKUP($E$12,Configuração!$S$7:$U$16,3)=\"D\",Configuração!F392,\"\")))","v":""},null,null,null,null,null,null,3022017,42769]
["9/14",null,null,null,{"$f":"IF(Configuração!C391=\"\",\"\",Configuração!B391)","v":""},null,null,null,null,null,null,null,null,null,{"$f":"IF(Configuração!H393=\"\",\"\",IF($E$12=\"\",\"\",IF(VLOOKUP($E$12,Configuração!$S$7:$U$16,3)=\"D\",Configuração!F393,\"\")))","v":""},null,null,null,null,null,null,3022018,43134]
["10/14",null,null,null,{"$f":"IF(Configuração!C392=\"\",\"\",Configuração!B392)","v":""},null,null,null,null,null,null,null,null,null,{"$f":"IF(Configuração!H394=\"\",\"\",IF($E$12=\"\",\"\",IF(VLOOKUP($E$12,Configuração!$S$7:$U$16,3)=\"D\",Configuração!F394,\"\")))","v":""},null,null,null,null,null,null,3022019,43499]
["11/14",null,null,null,{"$f":"IF(Configuração!C393=\"\",\"\",Configuração!B393)","v":""},null,null,null,null,null,null,null,null,null,{"$f":"IF(Configuração!H395=\"\",\"\",IF($E$12=\"\",\"\",IF(VLOOKUP($E$12,Configuração!$S$7:$U$16,3)=\"D\",Configuração!F395,\"\")))","v":""},null,null,null,null,null,null,3022020,43864]
["12/14",null,null,null,{"$f":"IF(Configuração!C394=\"\",\"\",Configuração!B394)","v":""},null,null,null,null,null,null,null,null,null,{"$f":"IF(Configuração!H396=\"\",\"\",IF($E$12=\"\",\"\",IF(VLOOKUP($E$12,Configuração!$S$7:$U$16,3)=\"D\",Configuração!F396,\"\")))","v":""},null,null,null,null,null,null,3022021,44230]
["13/14",null,null,null,{"$f":"IF(Configuração!C395=\"\",\"\",Configuração!B395)","v":""},null,null,null,null,null,null,null,null,null,{"$f":"IF(Configuração!H397=\"\",\"\",IF($E$12=\"\",\"\",IF(VLOOKUP($E$12,Configuração!$S$7:$U$16,3)=\"D\",Configuração!F397,\"\")))","v":""},null,null,null,null,null,null,3022022,44595]
["14/14",null,null,null,{"$f":"IF(Configuração!C396=\"\",\"\",Configuração!B396)","v":""},null,null,null,null,null,null,null,null,null,{"$f":"IF(Configuração!H398=\"\",\"\",IF($E$12=\"\",\"\",IF(VLOOKUP($E$12,Configuração!$S$7:$U$16,3)=\"D\",Configuração!F398,\"\")))","v":""},null,null,null,null,null,null,3022023,44960]
["1/25",null,null,null,{"$f":"IF(Configuração!C397=\"\",\"\",Configuração!B397)","v":""},null,null,null,null,null,null,null,null,null,{"$f":"IF(Configuração!H399=\"\",\"\",IF($E$12=\"\",\"\",IF(VLOOKUP($E$12,Configuração!$S$7:$U$16,3)=\"D\",Configuração!F399,\"\")))","v":""},null,null,null,null,null,null,3032009,39875]
["2/25",null,null,null,{"$f":"IF(Configuração!C398=\"\",\"\",Configuração!B398)","v":""},null,null,null,null,null,null,null,null,null,{"$f":"IF(Configuração!H400=\"\",\"\",IF($E$12=\"\",\"\",IF(VLOOKUP($E$12,Configuração!$S$7:$U$16,3)=\"D\",Configuração!F400,\"\")))","v":""},null,null,null,null,null,null,3032010,40240]
["3/25",null,null,null,{"$f":"IF(Configuração!C399=\"\",\"\",Configuração!B399)","v":""},null,null,null,null,null,null,null,null,null,{"$f":"IF(Configuração!H401=\"\",\"\",IF($E$12=\"\",\"\",IF(VLOOKUP($E$12,Configuração!$S$7:$U$16,3)=\"D\",Configuração!F401,\"\")))","v":""},null,null,null,null,null,null,3032011,40605]
["4/25",null,null,null,{"$f":"IF(Configuração!C400=\"\",\"\",Configuração!B400)","v":""},null,null,null,null,null,null,null,null,null,{"$f":"IF(Configuração!H402=\"\",\"\",IF($E$12=\"\",\"\",IF(VLOOKUP($E$12,Configuração!$S$7:$U$16,3)=\"D\",Configuração!F402,\"\")))","v":""},null,null,null,null,null,null,3032012,40971]
["5/25",null,null,null,{"$f":"IF(Configuração!C401=\"\",\"\",Configuração!B401)","v":""},null,null,null,null,null,null,null,null,null,{"$f":"IF(Configuração!H403=\"\",\"\",IF($E$12=\"\",\"\",IF(VLOOKUP($E$12,Configuração!$S$7:$U$16,3)=\"D\",Configuração!F403,\"\")))","v":""},null,null,null,null,null,null,3032013,41336]
["6/25",null,null,null,{"$f":"IF(Configuração!C402=\"\",\"\",Configuração!B402)","v":""},null,null,null,null,null,null,null,null,null,{"$f":"IF(Configuração!H404=\"\",\"\",IF($E$12=\"\",\"\",IF(VLOOKUP($E$12,Configuração!$S$7:$U$16,3)=\"D\",Configuração!F404,\"\")))","v":""},null,null,null,null,null,null,3032014,41701]
["7/25",null,null,null,{"$f":"IF(Configuração!C403=\"\",\"\",Configuração!B403)","v":""},null,null,null,null,null,null,null,null,null,{"$f":"IF(Configuração!H405=\"\",\"\",IF($E$12=\"\",\"\",IF(VLOOKUP($E$12,Configuração!$S$7:$U$16,3)=\"D\",Configuração!F405,\"\")))","v":""},null,null,null,null,null,null,3032015,42066]
["8/25",null,null,null,{"$f":"IF(Configuração!C404=\"\",\"\",Configuração!B404)","v":""},null,null,null,null,null,null,null,null,null,{"$f":"IF(Configuração!H406=\"\",\"\",IF($E$12=\"\",\"\",IF(VLOOKUP($E$12,Configuração!$S$7:$U$16,3)=\"D\",Configuração!F406,\"\")))","v":""},null,null,null,null,null,null,3032016,42432]
["9/25",null,null,null,{"$f":"IF(Configuração!C405=\"\",\"\",Configuração!B405)","v":""},null,null,null,null,null,null,null,null,null,{"$f":"IF(Configuração!H407=\"\",\"\",IF($E$12=\"\",\"\",IF(VLOOKUP($E$12,Configuração!$S$7:$U$16,3)=\"D\",Configuração!F407,\"\")))","v":""},null,null,null,null,null,null,3032017,42797]
["10/25",null,null,null,{"$f":"IF(Configuração!C406=\"\",\"\",Configuração!B406)","v":""},null,null,null,null,null,null,null,null,null,{"$f":"IF(Configuração!H408=\"\",\"\",IF($E$12=\"\",\"\",IF(VLOOKUP($E$12,Configuração!$S$7:$U$16,3)=\"D\",Configuração!F408,\"\")))","v":""},null,null,null,null,null,null,3032018,43162]
["11/25",null,null,null,{"$f":"IF(Configuração!C407=\"\",\"\",Configuração!B407)","v":""},null,null,null,null,null,null,null,null,null,{"$f":"IF(Configuração!H409=\"\",\"\",IF($E$12=\"\",\"\",IF(VLOOKUP($E$12,Configuração!$S$7:$U$16,3)=\"D\",Configuração!F409,\"\")))","v":""},null,null,null,null,null,null,3032019,43527]
["12/25",null,null,null,{"$f":"IF(Configuração!C408=\"\",\"\",Configuração!B408)","v":""},null,null,null,null,null,null,null,null,null,{"$f":"IF(Configuração!H410=\"\",\"\",IF($E$12=\"\",\"\",IF(VLOOKUP($E$12,Configuração!$S$7:$U$16,3)=\"D\",Configuração!F410,\"\")))","v":""},null,null,null,null,null,null,3032020,43893]
["13/25",null,null,null,{"$f":"IF(Configuração!C409=\"\",\"\",Configuração!B409)","v":""},null,null,null,null,null,null,null,null,null,{"$f":"IF(Configuração!H411=\"\",\"\",IF($E$12=\"\",\"\",IF(VLOOKUP($E$12,Configuração!$S$7:$U$16,3)=\"D\",Configuração!F411,\"\")))","v":""},null,null,null,null,null,null,3032021,44258]
["14/25",null,null,null,{"$f":"IF(Configuração!C410=\"\",\"\",Configuração!B410)","v":""},null,null,null,null,null,null,null,null,null,{"$f":"IF(Configuração!H412=\"\",\"\",IF($E$12=\"\",\"\",IF(VLOOKUP($E$12,Configuração!$S$7:$U$16,3)=\"D\",Configuração!F412,\"\")))","v":""},null,null,null,null,null,null,3032022,44623]
["15/25",null,null,null,{"$f":"IF(Configuração!C411=\"\",\"\",Configuração!B411)","v":""},null,null,null,null,null,null,null,null,null,{"$f":"IF(Configuração!H413=\"\",\"\",IF($E$12=\"\",\"\",IF(VLOOKUP($E$12,Configuração!$S$7:$U$16,3)=\"D\",Configuração!F413,\"\")))","v":""},null,null,null,null,null,null,3032023,44988]
["16/25",null,null,null,{"$f":"IF(Configuração!C412=\"\",\"\",Configuração!B412)","v":""},null,null,null,null,null,null,null,null,null,{"$f":"IF(Configuração!H414=\"\",\"\",IF($E$12=\"\",\"\",IF(VLOOKUP($E$12,Configuração!$S$7:$U$16,3)=\"D\",Configuração!F414,\"\")))","v":""},null,null,null,null,null,null,3042009,39906]
["17/25",null,null,null,{"$f":"IF(Configuração!C413=\"\",\"\",Configuração!B413)","v":""},null,null,null,null,null,null,null,null,null,{"$f":"IF(Configuração!H415=\"\",\"\",IF($E$12=\"\",\"\",IF(VLOOKUP($E$12,Configuração!$S$7:$U$16,3)=\"D\",Configuração!F415,\"\")))","v":""},null,null,null,null,null,null,3042010,40271]
["18/25",null,null,null,{"$f":"IF(Configuração!C414=\"\",\"\",Configuração!B414)","v":""},null,null,null,null,null,null,null,null,null,{"$f":"IF(Configuração!H416=\"\",\"\",IF($E$12=\"\",\"\",IF(VLOOKUP($E$12,Configuração!$S$7:$U$16,3)=\"D\",Configuração!F416,\"\")))","v":""},null,null,null,null,null,null,3042011,40636]
["19/25",null,null,null,{"$f":"IF(Configuração!C415=\"\",\"\",Configuração!B415)","v":""},null,null,null,null,null,null,null,null,null,null,null,null,null,null,null,null,3042012,41002]
["20/25",null,null,null,{"$f":"IF(Configuração!C416=\"\",\"\",Configuração!B416)","v":""},null,null,null,null,null,null,null,null,null,{"$f":"IF(Configuração!H418=\"\",\"\",IF($E$12=\"\",\"\",IF(VLOOKUP($E$12,Configuração!$S$7:$U$16,3)=\"D\",Configuração!F418,\"\")))","v":""},null,null,null,null,null,null,3042013,41367]
["21/25",null,null,null,{"$f":"IF(Configuração!C417=\"\",\"\",Configuração!B417)","v":""},null,null,null,null,null,null,null,null,null,{"$f":"IF(Configuração!H419=\"\",\"\",IF($E$12=\"\",\"\",IF(VLOOKUP($E$12,Configuração!$S$7:$U$16,3)=\"D\",Configuração!F419,\"\")))","v":""},null,null,null,null,null,null,3042014,41732]
["22/25",null,null,null,{"$f":"IF(Configuração!C418=\"\",\"\",Configuração!B418)","v":""},null,null,null,null,null,null,null,null,null,{"$f":"IF(Configuração!H420=\"\",\"\",IF($E$12=\"\",\"\",IF(VLOOKUP($E$12,Configuração!$S$7:$U$16,3)=\"D\",Configuração!F420,\"\")))","v":""},null,null,null,null,null,null,3042015,42097]
["23/25",null,null,null,{"$f":"IF(Configuração!C419=\"\",\"\",Configuração!B419)","v":""},null,null,null,null,null,null,null,null,null,{"$f":"IF(Configuração!H421=\"\",\"\",IF($E$12=\"\",\"\",IF(VLOOKUP($E$12,Configuração!$S$7:$U$16,3)=\"D\",Configuração!F421,\"\")))","v":""},null,null,null,null,null,null,3042016,42463]
["24/25",null,null,null,{"$f":"IF(Configuração!C420=\"\",\"\",Configuração!B420)","v":""},null,null,null,null,null,null,null,null,null,{"$f":"IF(Configuração!H422=\"\",\"\",IF($E$12=\"\",\"\",IF(VLOOKUP($E$12,Configuração!$S$7:$U$16,3)=\"D\",Configuração!F422,\"\")))","v":""},null,null,null,null,null,null,3042017,42828]
["25/25",null,null,null,{"$f":"IF(Configuração!C421=\"\",\"\",Configuração!B421)","v":""},null,null,null,null,null,null,null,null,null,{"$f":"IF(Configuração!H423=\"\",\"\",IF($E$12=\"\",\"\",IF(VLOOKUP($E$12,Configuração!$S$7:$U$16,3)=\"D\",Configuração!F423,\"\")))","v":""},null,null,null,null,null,null,3042018,43193]
["1/22",null,null,null,{"$f":"IF(Configuração!C422=\"\",\"\",Configuração!B422)","v":""},null,null,null,null,null,null,null,null,null,{"$f":"IF(Configuração!H424=\"\",\"\",IF($E$12=\"\",\"\",IF(VLOOKUP($E$12,Configuração!$S$7:$U$16,3)=\"D\",Configuração!F424,\"\")))","v":""},null,null,null,null,null,null,3042019,43558]
["2/22",null,null,null,{"$f":"IF(Configuração!C423=\"\",\"\",Configuração!B423)","v":""},null,null,null,null,null,null,null,null,null,{"$f":"IF(Configuração!H425=\"\",\"\",IF($E$12=\"\",\"\",IF(VLOOKUP($E$12,Configuração!$S$7:$U$16,3)=\"D\",Configuração!F425,\"\")))","v":""},null,null,null,null,null,null,3042020,43924]
["3/22",null,null,null,{"$f":"IF(Configuração!C424=\"\",\"\",Configuração!B424)","v":""},null,null,null,null,null,null,null,null,null,{"$f":"IF(Configuração!H426=\"\",\"\",IF($E$12=\"\",\"\",IF(VLOOKUP($E$12,Configuração!$S$7:$U$16,3)=\"D\",Configuração!F426,\"\")))","v":""},null,null,null,null,null,null,3042021,44289]
["4/22",null,null,null,{"$f":"IF(Configuração!C425=\"\",\"\",Configuração!B425)","v":""},null,null,null,null,null,null,null,null,null,{"$f":"IF(Configuração!H427=\"\",\"\",IF($E$12=\"\",\"\",IF(VLOOKUP($E$12,Configuração!$S$7:$U$16,3)=\"D\",Configuração!F427,\"\")))","v":""},null,null,null,null,null,null,3042022,44654]
["5/22",null,null,null,{"$f":"IF(Configuração!C426=\"\",\"\",Configuração!B426)","v":""},null,null,null,null,null,null,null,null,null,{"$f":"IF(Configuração!H428=\"\",\"\",IF($E$12=\"\",\"\",IF(VLOOKUP($E$12,Configuração!$S$7:$U$16,3)=\"D\",Configuração!F428,\"\")))","v":""},null,null,null,null,null,null,3042023,45019]
["6/22",null,null,null,{"$f":"IF(Configuração!C427=\"\",\"\",Configuração!B427)","v":""},null,null,null,null,null,null,null,null,null,{"$f":"IF(Configuração!H429=\"\",\"\",IF($E$12=\"\",\"\",IF(VLOOKUP($E$12,Configuração!$S$7:$U$16,3)=\"D\",Configuração!F429,\"\")))","v":""},null,null,null,null,null,null,3052009,39936]
["7/22",null,null,null,{"$f":"IF(Configuração!C428=\"\",\"\",Configuração!B428)","v":""},null,null,null,null,null,null,null,null,null,{"$f":"IF(Configuração!H430=\"\",\"\",IF($E$12=\"\",\"\",IF(VLOOKUP($E$12,Configuração!$S$7:$U$16,3)=\"D\",Configuração!F430,\"\")))","v":""},null,null,null,null,null,null,3052010,40301]
["8/22",null,null,null,{"$f":"IF(Configuração!C429=\"\",\"\",Configuração!B429)","v":""},null,null,null,null,null,null,null,null,null,{"$f":"IF(Configuração!H431=\"\",\"\",IF($E$12=\"\",\"\",IF(VLOOKUP($E$12,Configuração!$S$7:$U$16,3)=\"D\",Configuração!F431,\"\")))","v":""},null,null,null,null,null,null,3052011,40666]
["9/22",null,null,null,{"$f":"IF(Configuração!C430=\"\",\"\",Configuração!B430)","v":""},null,null,null,null,null,null,null,null,null,{"$f":"IF(Configuração!H432=\"\",\"\",IF($E$12=\"\",\"\",IF(VLOOKUP($E$12,Configuração!$S$7:$U$16,3)=\"D\",Configuração!F432,\"\")))","v":""},null,null,null,null,null,null,3052012,41032]
["10/22",null,null,null,{"$f":"IF(Configuração!C431=\"\",\"\",Configuração!B431)","v":""},null,null,null,null,null,null,null,null,null,{"$f":"IF(Configuração!H433=\"\",\"\",IF($E$12=\"\",\"\",IF(VLOOKUP($E$12,Configuração!$S$7:$U$16,3)=\"D\",Configuração!F433,\"\")))","v":""},null,null,null,null,null,null,3052013,41397]
["11/22",null,null,null,{"$f":"IF(Configuração!C432=\"\",\"\",Configuração!B432)","v":""},null,null,null,null,null,null,null,null,null,{"$f":"IF(Configuração!H434=\"\",\"\",IF($E$12=\"\",\"\",IF(VLOOKUP($E$12,Configuração!$S$7:$U$16,3)=\"D\",Configuração!F434,\"\")))","v":""},null,null,null,null,null,null,3052014,41762]
["12/22",null,null,null,{"$f":"IF(Configuração!C433=\"\",\"\",Configuração!B433)","v":""},null,null,null,null,null,null,null,null,null,{"$f":"IF(Configuração!H435=\"\",\"\",IF($E$12=\"\",\"\",IF(VLOOKUP($E$12,Configuração!$S$7:$U$16,3)=\"D\",Configuração!F435,\"\")))","v":""},null,null,null,null,null,null,3052015,42127]
["13/22",null,null,null,{"$f":"IF(Configuração!C434=\"\",\"\",Configuração!B434)","v":""},null,null,null,null,null,null,null,null,null,{"$f":"IF(Configuração!H436=\"\",\"\",IF($E$12=\"\",\"\",IF(VLOOKUP($E$12,Configuração!$S$7:$U$16,3)=\"D\",Configuração!F436,\"\")))","v":""},null,null,null,null,null,null,3052016,42493]
["14/22",null,null,null,{"$f":"IF(Configuração!C435=\"\",\"\",Configuração!B435)","v":""},null,null,null,null,null,null,null,null,null,{"$f":"IF(Configuração!H437=\"\",\"\",IF($E$12=\"\",\"\",IF(VLOOKUP($E$12,Configuração!$S$7:$U$16,3)=\"D\",Configuração!F437,\"\")))","v":""},null,null,null,null,null,null,3052017,42858]
["15/22",null,null,null,{"$f":"IF(Configuração!C436=\"\",\"\",Configuração!B436)","v":""},null,null,null,null,null,null,null,null,null,{"$f":"IF(Configuração!H438=\"\",\"\",IF($E$12=\"\",\"\",IF(VLOOKUP($E$12,Configuração!$S$7:$U$16,3)=\"D\",Configuração!F438,\"\")))","v":""},null,null,null,null,null,null,3052018,43223]
["16/22",null,null,null,{"$f":"IF(Configuração!C437=\"\",\"\",Configuração!B437)","v":""},null,null,null,null,null,null,null,null,null,{"$f":"IF(Configuração!H439=\"\",\"\",IF($E$12=\"\",\"\",IF(VLOOKUP($E$12,Configuração!$S$7:$U$16,3)=\"D\",Configuração!F439,\"\")))","v":""},null,null,null,null,null,null,3052019,43588]
["17/22",null,null,null,{"$f":"IF(Configuração!C438=\"\",\"\",Configuração!B438)","v":""},null,null,null,null,null,null,null,null,null,{"$f":"IF(Configuração!H440=\"\",\"\",IF($E$12=\"\",\"\",IF(VLOOKUP($E$12,Configuração!$S$7:$U$16,3)=\"D\",Configuração!F440,\"\")))","v":""},null,null,null,null,null,null,3052020,43954]
["18/22",null,null,null,{"$f":"IF(Configuração!C439=\"\",\"\",Configuração!B439)","v":""},null,null,null,null,null,null,null,null,null,{"$f":"IF(Configuração!H441=\"\",\"\",IF($E$12=\"\",\"\",IF(VLOOKUP($E$12,Configuração!$S$7:$U$16,3)=\"D\",Configuração!F441,\"\")))","v":""},null,null,null,null,null,null,3052021,44319]
["19/22",null,null,null,{"$f":"IF(Configuração!C440=\"\",\"\",Configuração!B440)","v":""},null,null,null,null,null,null,null,null,null,{"$f":"IF(Configuração!H442=\"\",\"\",IF($E$12=\"\",\"\",IF(VLOOKUP($E$12,Configuração!$S$7:$U$16,3)=\"D\",Configuração!F442,\"\")))","v":""},null,null,null,null,null,null,3052022,44684]
["20/22",null,null,null,{"$f":"IF(Configuração!C441=\"\",\"\",Configuração!B441)","v":""},null,null,null,null,null,null,null,null,null,{"$f":"IF(Configuração!H443=\"\",\"\",IF($E$12=\"\",\"\",IF(VLOOKUP($E$12,Configuração!$S$7:$U$16,3)=\"D\",Configuração!F443,\"\")))","v":""},null,null,null,null,null,null,3052023,45049]
["21/22",null,null,null,{"$f":"IF(Configuração!C442=\"\",\"\",Configuração!B442)","v":""},null,null,null,null,null,null,null,null,null,{"$f":"IF(Configuração!H444=\"\",\"\",IF($E$12=\"\",\"\",IF(VLOOKUP($E$12,Configuração!$S$7:$U$16,3)=\"D\",Configuração!F444,\"\")))","v":""},null,null,null,null,null,null,3062009,39967]
["22/22",null,null,null,{"$f":"IF(Configuração!C443=\"\",\"\",Configuração!B443)","v":""},null,null,null,null,null,null,null,null,null,{"$f":"IF(Configuração!H445=\"\",\"\",IF($E$12=\"\",\"\",IF(VLOOKUP($E$12,Configuração!$S$7:$U$16,3)=\"D\",Configuração!F445,\"\")))","v":""},null,null,null,null,null,null,3062010,40332]
[null,null,null,null,{"$f":"IF(Configuração!C444=\"\",\"\",Configuração!B444)","v":""},null,null,null,null,null,null,null,null,null,{"$f":"IF(Configuração!H446=\"\",\"\",IF($E$12=\"\",\"\",IF(VLOOKUP($E$12,Configuração!$S$7:$U$16,3)=\"D\",Configuração!F446,\"\")))","v":""},null,null,null,null,null,null,3062011,40697]
[null,null,null,null,{"$f":"IF(Configuração!C445=\"\",\"\",Configuração!B445)","v":""},null,null,null,null,null,null,null,null,null,{"$f":"IF(Configuração!H447=\"\",\"\",IF($E$12=\"\",\"\",IF(VLOOKUP($E$12,Configuração!$S$7:$U$16,3)=\"D\",Configuração!F447,\"\")))","v":""},null,null,null,null,null,null,3062012,41063]
[null,null,null,null,{"$f":"IF(Configuração!C446=\"\",\"\",Configuração!B446)","v":""},null,null,null,null,null,null,null,null,null,{"$f":"IF(Configuração!H448=\"\",\"\",IF($E$12=\"\",\"\",IF(VLOOKUP($E$12,Configuração!$S$7:$U$16,3)=\"D\",Configuração!F448,\"\")))","v":""},null,null,null,null,null,null,3062013,41428]
[null,null,null,null,{"$f":"IF(Configuração!C447=\"\",\"\",Configuração!B447)","v":""},null,null,null,null,null,null,null,null,null,{"$f":"IF(Configuração!H449=\"\",\"\",IF($E$12=\"\",\"\",IF(VLOOKUP($E$12,Configuração!$S$7:$U$16,3)=\"D\",Configuração!F449,\"\")))","v":""},null,null,null,null,null,null,3062014,41793]
[null,null,null,null,{"$f":"IF(Configuração!C448=\"\",\"\",Configuração!B448)","v":""},null,null,null,null,null,null,null,null,null,{"$f":"IF(Configuração!H450=\"\",\"\",IF($E$12=\"\",\"\",IF(VLOOKUP($E$12,Configuração!$S$7:$U$16,3)=\"D\",Configuração!F450,\"\")))","v":""},null,null,null,null,null,null,3062015,42158]
[null,null,null,null,{"$f":"IF(Configuração!C449=\"\",\"\",Configuração!B449)","v":""},null,null,null,null,null,null,null,null,null,{"$f":"IF(Configuração!H451=\"\",\"\",IF($E$12=\"\",\"\",IF(VLOOKUP($E$12,Configuração!$S$7:$U$16,3)=\"D\",Configuração!F451,\"\")))","v":""},null,null,null,null,null,null,3062016,42524]
[null,null,null,null,{"$f":"IF(Configuração!C450=\"\",\"\",Configuração!B450)","v":""},null,null,null,null,null,null,null,null,null,{"$f":"IF(Configuração!H452=\"\",\"\",IF($E$12=\"\",\"\",IF(VLOOKUP($E$12,Configuração!$S$7:$U$16,3)=\"D\",Configuração!F452,\"\")))","v":""},null,null,null,null,null,null,3062017,42889]
[null,null,null,null,{"$f":"IF(Configuração!C451=\"\",\"\",Configuração!B451)","v":""},null,null,null,null,null,null,null,null,null,{"$f":"IF(Configuração!H453=\"\",\"\",IF($E$12=\"\",\"\",IF(VLOOKUP($E$12,Configuração!$S$7:$U$16,3)=\"D\",Configuração!F453,\"\")))","v":""},null,null,null,null,null,null,3062018,43254]
[null,null,null,null,{"$f":"IF(Configuração!C452=\"\",\"\",Configuração!B452)","v":""},null,null,null,null,null,null,null,null,null,{"$f":"IF(Configuração!H454=\"\",\"\",IF($E$12=\"\",\"\",IF(VLOOKUP($E$12,Configuração!$S$7:$U$16,3)=\"D\",Configuração!F454,\"\")))","v":""},null,null,null,null,null,null,3062019,43619]
[null,null,null,null,{"$f":"IF(Configuração!C453=\"\",\"\",Configuração!B453)","v":""},null,null,null,null,null,null,null,null,null,{"$f":"IF(Configuração!H455=\"\",\"\",IF($E$12=\"\",\"\",IF(VLOOKUP($E$12,Configuração!$S$7:$U$16,3)=\"D\",Configuração!F455,\"\")))","v":""},null,null,null,null,null,null,3062020,43985]
[null,null,null,null,{"$f":"IF(Configuração!C454=\"\",\"\",Configuração!B454)","v":""},null,null,null,null,null,null,null,null,null,{"$f":"IF(Configuração!H456=\"\",\"\",IF($E$12=\"\",\"\",IF(VLOOKUP($E$12,Configuração!$S$7:$U$16,3)=\"D\",Configuração!F456,\"\")))","v":""},null,null,null,null,null,null,3062021,44350]
[null,null,null,null,{"$f":"IF(Configuração!C455=\"\",\"\",Configuração!B455)","v":""},null,null,null,null,null,null,null,null,null,{"$f":"IF(Configuração!H457=\"\",\"\",IF($E$12=\"\",\"\",IF(VLOOKUP($E$12,Configuração!$S$7:$U$16,3)=\"D\",Configuração!F457,\"\")))","v":""},null,null,null,null,null,null,3062022,44715]
[null,null,null,null,{"$f":"IF(Configuração!C456=\"\",\"\",Configuração!B456)","v":""},null,null,null,null,null,null,null,null,null,{"$f":"IF(Configuração!H458=\"\",\"\",IF($E$12=\"\",\"\",IF(VLOOKUP($E$12,Configuração!$S$7:$U$16,3)=\"D\",Configuração!F458,\"\")))","v":""},null,null,null,null,null,null,3062023,45080]
[null,null,null,null,{"$f":"IF(Configuração!C457=\"\",\"\",Configuração!B457)","v":""},null,null,null,null,null,null,null,null,null,{"$f":"IF(Configuração!H459=\"\",\"\",IF($E$12=\"\",\"\",IF(VLOOKUP($E$12,Configuração!$S$7:$U$16,3)=\"D\",Configuração!F459,\"\")))","v":""},null,null,null,null,null,null,3072009,39997]
[null,null,null,null,{"$f":"IF(Configuração!C458=\"\",\"\",Configuração!B458)","v":""},null,null,null,null,null,null,null,null,null,{"$f":"IF(Configuração!H460=\"\",\"\",IF($E$12=\"\",\"\",IF(VLOOKUP($E$12,Configuração!$S$7:$U$16,3)=\"D\",Configuração!F460,\"\")))","v":""},null,null,null,null,null,null,3072010,40362]
[null,null,null,null,{"$f":"IF(Configuração!C459=\"\",\"\",Configuração!B459)","v":""},null,null,null,null,null,null,null,null,null,{"$f":"IF(Configuração!H461=\"\",\"\",IF($E$12=\"\",\"\",IF(VLOOKUP($E$12,Configuração!$S$7:$U$16,3)=\"D\",Configuração!F461,\"\")))","v":""},null,null,null,null,null,null,3072011,40727]
[null,null,null,null,{"$f":"IF(Configuração!C460=\"\",\"\",Configuração!B460)","v":""},null,null,null,null,null,null,null,null,null,{"$f":"IF(Configuração!H462=\"\",\"\",IF($E$12=\"\",\"\",IF(VLOOKUP($E$12,Configuração!$S$7:$U$16,3)=\"D\",Configuração!F462,\"\")))","v":""},null,null,null,null,null,null,3072012,41093]
[null,null,null,null,{"$f":"IF(Configuração!C461=\"\",\"\",Configuração!B461)","v":""},null,null,null,null,null,null,null,null,null,{"$f":"IF(Configuração!H463=\"\",\"\",IF($E$12=\"\",\"\",IF(VLOOKUP($E$12,Configuração!$S$7:$U$16,3)=\"D\",Configuração!F463,\"\")))","v":""},null,null,null,null,null,null,3072013,41458]
[null,null,null,null,{"$f":"IF(Configuração!C462=\"\",\"\",Configuração!B462)","v":""},null,null,null,null,null,null,null,null,null,{"$f":"IF(Configuração!H464=\"\",\"\",IF($E$12=\"\",\"\",IF(VLOOKUP($E$12,Configuração!$S$7:$U$16,3)=\"D\",Configuração!F464,\"\")))","v":""},null,null,null,null,null,null,3072014,41823]
[null,null,null,null,{"$f":"IF(Configuração!C463=\"\",\"\",Configuração!B463)","v":""},null,null,null,null,null,null,null,null,null,{"$f":"IF(Configuração!H465=\"\",\"\",IF($E$12=\"\",\"\",IF(VLOOKUP($E$12,Configuração!$S$7:$U$16,3)=\"D\",Configuração!F465,\"\")))","v":""},null,null,null,null,null,null,3072015,42188]
[null,null,null,null,{"$f":"IF(Configuração!C464=\"\",\"\",Configuração!B464)","v":""},null,null,null,null,null,null,null,null,null,{"$f":"IF(Configuração!H466=\"\",\"\",IF($E$12=\"\",\"\",IF(VLOOKUP($E$12,Configuração!$S$7:$U$16,3)=\"D\",Configuração!F466,\"\")))","v":""},null,null,null,null,null,null,3072016,42554]
[null,null,null,null,{"$f":"IF(Configuração!C465=\"\",\"\",Configuração!B465)","v":""},null,null,null,null,null,null,null,null,null,{"$f":"IF(Configuração!H467=\"\",\"\",IF($E$12=\"\",\"\",IF(VLOOKUP($E$12,Configuração!$S$7:$U$16,3)=\"D\",Configuração!F467,\"\")))","v":""},null,null,null,null,null,null,3072017,42919]
[null,null,null,null,{"$f":"IF(Configuração!C466=\"\",\"\",Configuração!B466)","v":""},null,null,null,null,null,null,null,null,null,null,null,null,null,null,null,null,3072018,43284]
[null,null,null,null,{"$f":"IF(Configuração!C467=\"\",\"\",Configuração!B467)","v":""},null,null,null,null,null,null,null,null,null,{"$f":"IF(Configuração!H469=\"\",\"\",IF($E$12=\"\",\"\",IF(VLOOKUP($E$12,Configuração!$S$7:$U$16,3)=\"D\",Configuração!F469,\"\")))","v":""},null,null,null,null,null,null,3072019,43649]
[null,null,null,null,{"$f":"IF(Configuração!C468=\"\",\"\",Configuração!B468)","v":""},null,null,null,null,null,null,null,null,null,{"$f":"IF(Configuração!H470=\"\",\"\",IF($E$12=\"\",\"\",IF(VLOOKUP($E$12,Configuração!$S$7:$U$16,3)=\"D\",Configuração!F470,\"\")))","v":""},null,null,null,null,null,null,3072020,44015]
[null,null,null,null,{"$f":"IF(Configuração!C469=\"\",\"\",Configuração!B469)","v":""},null,null,null,null,null,null,null,null,null,{"$f":"IF(Configuração!H471=\"\",\"\",IF($E$12=\"\",\"\",IF(VLOOKUP($E$12,Configuração!$S$7:$U$16,3)=\"D\",Configuração!F471,\"\")))","v":""},null,null,null,null,null,null,3072021,44380]
[null,null,null,null,{"$f":"IF(Configuração!C470=\"\",\"\",Configuração!B470)","v":""},null,null,null,null,null,null,null,null,null,{"$f":"IF(Configuração!H472=\"\",\"\",IF($E$12=\"\",\"\",IF(VLOOKUP($E$12,Configuração!$S$7:$U$16,3)=\"D\",Configuração!F472,\"\")))","v":""},null,null,null,null,null,null,3072022,44745]
[null,null,null,null,{"$f":"IF(Configuração!C471=\"\",\"\",Configuração!B471)","v":""},null,null,null,null,null,null,null,null,null,{"$f":"IF(Configuração!H473=\"\",\"\",IF($E$12=\"\",\"\",IF(VLOOKUP($E$12,Configuração!$S$7:$U$16,3)=\"D\",Configuração!F473,\"\")))","v":""},null,null,null,null,null,null,3072023,45110]
[null,null,null,null,{"$f":"IF(Configuração!C472=\"\",\"\",Configuração!B472)","v":""},null,null,null,null,null,null,null,null,null,{"$f":"IF(Configuração!H474=\"\",\"\",IF($E$12=\"\",\"\",IF(VLOOKUP($E$12,Configuração!$S$7:$U$16,3)=\"D\",Configuração!F474,\"\")))","v":""},null,null,null,null,null,null,3082009,40028]
[null,null,null,null,{"$f":"IF(Configuração!C473=\"\",\"\",Configuração!B473)","v":""},null,null,null,null,null,null,null,null,null,{"$f":"IF(Configuração!H475=\"\",\"\",IF($E$12=\"\",\"\",IF(VLOOKUP($E$12,Configuração!$S$7:$U$16,3)=\"D\",Configuração!F475,\"\")))","v":""},null,null,null,null,null,null,3082010,40393]
[null,null,null,null,{"$f":"IF(Configuração!C474=\"\",\"\",Configuração!B474)","v":""},null,null,null,null,null,null,null,null,null,{"$f":"IF(Configuração!H476=\"\",\"\",IF($E$12=\"\",\"\",IF(VLOOKUP($E$12,Configuração!$S$7:$U$16,3)=\"D\",Configuração!F476,\"\")))","v":""},null,null,null,null,null,null,3082011,40758]
[null,null,null,null,{"$f":"IF(Configuração!C475=\"\",\"\",Configuração!B475)","v":""},null,null,null,null,null,null,null,null,null,{"$f":"IF(Configuração!H477=\"\",\"\",IF($E$12=\"\",\"\",IF(VLOOKUP($E$12,Configuração!$S$7:$U$16,3)=\"D\",Configuração!F477,\"\")))","v":""},null,null,null,null,null,null,3082012,41124]
[null,null,null,null,{"$f":"IF(Configuração!C476=\"\",\"\",Configuração!B476)","v":""},null,null,null,null,null,null,null,null,null,{"$f":"IF(Configuração!H478=\"\",\"\",IF($E$12=\"\",\"\",IF(VLOOKUP($E$12,Configuração!$S$7:$U$16,3)=\"D\",Configuração!F478,\"\")))","v":""},null,null,null,null,null,null,3082013,41489]
[null,null,null,null,{"$f":"IF(Configuração!C477=\"\",\"\",Configuração!B477)","v":""},null,null,null,null,null,null,null,null,null,{"$f":"IF(Configuração!H479=\"\",\"\",IF($E$12=\"\",\"\",IF(VLOOKUP($E$12,Configuração!$S$7:$U$16,3)=\"D\",Configuração!F479,\"\")))","v":""},null,null,null,null,null,null,3082014,41854]
[null,null,null,null,{"$f":"IF(Configuração!C478=\"\",\"\",Configuração!B478)","v":""},null,null,null,null,null,null,null,null,null,{"$f":"IF(Configuração!H480=\"\",\"\",IF($E$12=\"\",\"\",IF(VLOOKUP($E$12,Configuração!$S$7:$U$16,3)=\"D\",Configuração!F480,\"\")))","v":""},null,null,null,null,null,null,3082015,42219]
[null,null,null,null,{"$f":"IF(Configuração!C479=\"\",\"\",Configuração!B479)","v":""},null,null,null,null,null,null,null,null,null,{"$f":"IF(Configuração!H481=\"\",\"\",IF($E$12=\"\",\"\",IF(VLOOKUP($E$12,Configuração!$S$7:$U$16,3)=\"D\",Configuração!F481,\"\")))","v":""},null,null,null,null,null,null,3082016,42585]
[null,null,null,null,{"$f":"IF(Configuração!C480=\"\",\"\",Configuração!B480)","v":""},null,null,null,null,null,null,null,null,null,{"$f":"IF(Configuração!H482=\"\",\"\",IF($E$12=\"\",\"\",IF(VLOOKUP($E$12,Configuração!$S$7:$U$16,3)=\"D\",Configuração!F482,\"\")))","v":""},null,null,null,null,null,null,3082017,42950]
[null,null,null,null,{"$f":"IF(Configuração!C481=\"\",\"\",Configuração!B481)","v":""},null,null,null,null,null,null,null,null,null,{"$f":"IF(Configuração!H483=\"\",\"\",IF($E$12=\"\",\"\",IF(VLOOKUP($E$12,Configuração!$S$7:$U$16,3)=\"D\",Configuração!F483,\"\")))","v":""},null,null,null,null,null,null,3082018,43315]
[null,null,null,null,{"$f":"IF(Configuração!C482=\"\",\"\",Configuração!B482)","v":""},null,null,null,null,null,null,null,null,null,{"$f":"IF(Configuração!H484=\"\",\"\",IF($E$12=\"\",\"\",IF(VLOOKUP($E$12,Configuração!$S$7:$U$16,3)=\"D\",Configuração!F484,\"\")))","v":""},null,null,null,null,null,null,3082019,43680]
[null,null,null,null,{"$f":"IF(Configuração!C483=\"\",\"\",Configuração!B483)","v":""},null,null,null,null,null,null,null,null,null,{"$f":"IF(Configuração!H485=\"\",\"\",IF($E$12=\"\",\"\",IF(VLOOKUP($E$12,Configuração!$S$7:$U$16,3)=\"D\",Configuração!F485,\"\")))","v":""},null,null,null,null,null,null,3082020,44046]
[null,null,null,null,{"$f":"IF(Configuração!C484=\"\",\"\",Configuração!B484)","v":""},null,null,null,null,null,null,null,null,null,{"$f":"IF(Configuração!H486=\"\",\"\",IF($E$12=\"\",\"\",IF(VLOOKUP($E$12,Configuração!$S$7:$U$16,3)=\"D\",Configuração!F486,\"\")))","v":""},null,null,null,null,null,null,3082021,44411]
[null,null,null,null,{"$f":"IF(Configuração!C485=\"\",\"\",Configuração!B485)","v":""},null,null,null,null,null,null,null,null,null,{"$f":"IF(Configuração!H487=\"\",\"\",IF($E$12=\"\",\"\",IF(VLOOKUP($E$12,Configuração!$S$7:$U$16,3)=\"D\",Configuração!F487,\"\")))","v":""},null,null,null,null,null,null,3082022,44776]
[null,null,null,null,{"$f":"IF(Configuração!C486=\"\",\"\",Configuração!B486)","v":""},null,null,null,null,null,null,null,null,null,{"$f":"IF(Configuração!H488=\"\",\"\",IF($E$12=\"\",\"\",IF(VLOOKUP($E$12,Configuração!$S$7:$U$16,3)=\"D\",Configuração!F488,\"\")))","v":""},null,null,null,null,null,null,3082023,45141]
[null,null,null,null,{"$f":"IF(Configuração!C487=\"\",\"\",Configuração!B487)","v":""},null,null,null,null,null,null,null,null,null,{"$f":"IF(Configuração!H489=\"\",\"\",IF($E$12=\"\",\"\",IF(VLOOKUP($E$12,Configuração!$S$7:$U$16,3)=\"D\",Configuração!F489,\"\")))","v":""},null,null,null,null,null,null,3092009,40059]
[null,null,null,null,{"$f":"IF(Configuração!C488=\"\",\"\",Configuração!B488)","v":""},null,null,null,null,null,null,null,null,null,{"$f":"IF(Configuração!H490=\"\",\"\",IF($E$12=\"\",\"\",IF(VLOOKUP($E$12,Configuração!$S$7:$U$16,3)=\"D\",Configuração!F490,\"\")))","v":""},null,null,null,null,null,null,3092010,40424]
[null,null,null,null,{"$f":"IF(Configuração!C489=\"\",\"\",Configuração!B489)","v":""},null,null,null,null,null,null,null,null,null,{"$f":"IF(Configuração!H491=\"\",\"\",IF($E$12=\"\",\"\",IF(VLOOKUP($E$12,Configuração!$S$7:$U$16,3)=\"D\",Configuração!F491,\"\")))","v":""},null,null,null,null,null,null,3092011,40789]
[null,null,null,null,{"$f":"IF(Configuração!C490=\"\",\"\",Configuração!B490)","v":""},null,null,null,null,null,null,null,null,null,{"$f":"IF(Configuração!H492=\"\",\"\",IF($E$12=\"\",\"\",IF(VLOOKUP($E$12,Configuração!$S$7:$U$16,3)=\"D\",Configuração!F492,\"\")))","v":""},null,null,null,null,null,null,3092012,41155]
[null,null,null,null,{"$f":"IF(Configuração!C491=\"\",\"\",Configuração!B491)","v":""},null,null,null,null,null,null,null,null,null,{"$f":"IF(Configuração!H493=\"\",\"\",IF($E$12=\"\",\"\",IF(VLOOKUP($E$12,Configuração!$S$7:$U$16,3)=\"D\",Configuração!F493,\"\")))","v":""},null,null,null,null,null,null,3092013,41520]
[null,null,null,null,{"$f":"IF(Configuração!C492=\"\",\"\",Configuração!B492)","v":""},null,null,null,null,null,null,null,null,null,{"$f":"IF(Configuração!H494=\"\",\"\",IF($E$12=\"\",\"\",IF(VLOOKUP($E$12,Configuração!$S$7:$U$16,3)=\"D\",Configuração!F494,\"\")))","v":""},null,null,null,null,null,null,3092014,41885]
[null,null,null,null,{"$f":"IF(Configuração!C493=\"\",\"\",Configuração!B493)","v":""},null,null,null,null,null,null,null,null,null,{"$f":"IF(Configuração!H495=\"\",\"\",IF($E$12=\"\",\"\",IF(VLOOKUP($E$12,Configuração!$S$7:$U$16,3)=\"D\",Configuração!F495,\"\")))","v":""},null,null,null,null,null,null,3092015,42250]
[null,null,null,null,{"$f":"IF(Configuração!C494=\"\",\"\",Configuração!B494)","v":""},null,null,null,null,null,null,null,null,null,{"$f":"IF(Configuração!H496=\"\",\"\",IF($E$12=\"\",\"\",IF(VLOOKUP($E$12,Configuração!$S$7:$U$16,3)=\"D\",Configuração!F496,\"\")))","v":""},null,null,null,null,null,null,3092016,42616]
[null,null,null,null,{"$f":"IF(Configuração!C495=\"\",\"\",Configuração!B495)","v":""},null,null,null,null,null,null,null,null,null,{"$f":"IF(Configuração!H497=\"\",\"\",IF($E$12=\"\",\"\",IF(VLOOKUP($E$12,Configuração!$S$7:$U$16,3)=\"D\",Configuração!F497,\"\")))","v":""},null,null,null,null,null,null,3092017,42981]
[null,null,null,null,{"$f":"IF(Configuração!C496=\"\",\"\",Configuração!B496)","v":""},null,null,null,null,null,null,null,null,null,{"$f":"IF(Configuração!H498=\"\",\"\",IF($E$12=\"\",\"\",IF(VLOOKUP($E$12,Configuração!$S$7:$U$16,3)=\"D\",Configuração!F498,\"\")))","v":""},null,null,null,null,null,null,3092018,43346]
[null,null,null,null,{"$f":"IF(Configuração!C497=\"\",\"\",Configuração!B497)","v":""},null,null,null,null,null,null,null,null,null,{"$f":"IF(Configuração!H499=\"\",\"\",IF($E$12=\"\",\"\",IF(VLOOKUP($E$12,Configuração!$S$7:$U$16,3)=\"D\",Configuração!F499,\"\")))","v":""},null,null,null,null,null,null,3092019,43711]
[null,null,null,null,{"$f":"IF(Configuração!C498=\"\",\"\",Configuração!B498)","v":""},null,null,null,null,null,null,null,null,null,{"$f":"IF(Configuração!H500=\"\",\"\",IF($E$12=\"\",\"\",IF(VLOOKUP($E$12,Configuração!$S$7:$U$16,3)=\"D\",Configuração!F500,\"\")))","v":""},null,null,null,null,null,null,3092020,44077]
[null,null,null,null,{"$f":"IF(Configuração!C499=\"\",\"\",Configuração!B499)","v":""},null,null,null,null,null,null,null,null,null,{"$f":"IF(Configuração!H501=\"\",\"\",IF($E$12=\"\",\"\",IF(VLOOKUP($E$12,Configuração!$S$7:$U$16,3)=\"D\",Configuração!F501,\"\")))","v":""},null,null,null,null,null,null,3092021,44442]
[null,null,null,null,{"$f":"IF(Configuração!C500=\"\",\"\",Configuração!B500)","v":""},null,null,null,null,null,null,null,null,null,{"$f":"IF(Configuração!H502=\"\",\"\",IF($E$12=\"\",\"\",IF(VLOOKUP($E$12,Configuração!$S$7:$U$16,3)=\"D\",Configuração!F502,\"\")))","v":""},null,null,null,null,null,null,3092022,44807]
[null,null,null,null,{"$f":"IF(Configuração!C501=\"\",\"\",Configuração!B501)","v":""},null,null,null,null,null,null,null,null,null,{"$f":"IF(Configuração!H503=\"\",\"\",IF($E$12=\"\",\"\",IF(VLOOKUP($E$12,Configuração!$S$7:$U$16,3)=\"D\",Configuração!F503,\"\")))","v":""},null,null,null,null,null,null,3092023,45172]
[null,null,null,null,{"$f":"IF(Configuração!C502=\"\",\"\",Configuração!B502)","v":""},null,null,null,null,null,null,null,null,null,{"$f":"IF(Configuração!H504=\"\",\"\",IF($E$12=\"\",\"\",IF(VLOOKUP($E$12,Configuração!$S$7:$U$16,3)=\"D\",Configuração!F504,\"\")))","v":""},null,null,null,null,null,null,3102009,40089]
[null,null,null,null,{"$f":"IF(Configuração!C503=\"\",\"\",Configuração!B503)","v":""},null,null,null,null,null,null,null,null,null,{"$f":"IF(Configuração!H505=\"\",\"\",IF($E$12=\"\",\"\",IF(VLOOKUP($E$12,Configuração!$S$7:$U$16,3)=\"D\",Configuração!F505,\"\")))","v":""},null,null,null,null,null,null,3102010,40454]
[null,null,null,null,{"$f":"IF(Configuração!C504=\"\",\"\",Configuração!B504)","v":""},null,null,null,null,null,null,null,null,null,{"$f":"IF(Configuração!H506=\"\",\"\",IF($E$12=\"\",\"\",IF(VLOOKUP($E$12,Configuração!$S$7:$U$16,3)=\"D\",Configuração!F506,\"\")))","v":""},null,null,null,null,null,null,3102011,40819]
[null,null,null,null,{"$f":"IF(Configuração!C505=\"\",\"\",Configuração!B505)","v":""},null,null,null,null,null,null,null,null,null,{"$f":"IF(Configuração!H507=\"\",\"\",IF($E$12=\"\",\"\",IF(VLOOKUP($E$12,Configuração!$S$7:$U$16,3)=\"D\",Configuração!F507,\"\")))","v":""},null,null,null,null,null,null,3102012,41185]
[null,null,null,null,{"$f":"IF(Configuração!C506=\"\",\"\",Configuração!B506)","v":""},null,null,null,null,null,null,null,null,null,{"$f":"IF(Configuração!H508=\"\",\"\",IF($E$12=\"\",\"\",IF(VLOOKUP($E$12,Configuração!$S$7:$U$16,3)=\"D\",Configuração!F508,\"\")))","v":""},null,null,null,null,null,null,3102013,41550]
[null,null,null,null,{"$f":"IF(Configuração!C507=\"\",\"\",Configuração!B507)","v":""},null,null,null,null,null,null,null,null,null,{"$f":"IF(Configuração!H509=\"\",\"\",IF($E$12=\"\",\"\",IF(VLOOKUP($E$12,Configuração!$S$7:$U$16,3)=\"D\",Configuração!F509,\"\")))","v":""},null,null,null,null,null,null,3102014,41915]
[null,null,null,null,{"$f":"IF(Configuração!C508=\"\",\"\",Configuração!B508)","v":""},null,null,null,null,null,null,null,null,null,{"$f":"IF(Configuração!H510=\"\",\"\",IF($E$12=\"\",\"\",IF(VLOOKUP($E$12,Configuração!$S$7:$U$16,3)=\"D\",Configuração!F510,\"\")))","v":""},null,null,null,null,null,null,3102015,42280]
[null,null,null,null,{"$f":"IF(Configuração!C509=\"\",\"\",Configuração!B509)","v":""},null,null,null,null,null,null,null,null,null,{"$f":"IF(Configuração!H511=\"\",\"\",IF($E$12=\"\",\"\",IF(VLOOKUP($E$12,Configuração!$S$7:$U$16,3)=\"D\",Configuração!F511,\"\")))","v":""},null,null,null,null,null,null,3102016,42646]
[null,null,null,null,{"$f":"IF(Configuração!C510=\"\",\"\",Configuração!B510)","v":""},null,null,null,null,null,null,null,null,null,{"$f":"IF(Configuração!H512=\"\",\"\",IF($E$12=\"\",\"\",IF(VLOOKUP($E$12,Configuração!$S$7:$U$16,3)=\"D\",Configuração!F512,\"\")))","v":""},null,null,null,null,null,null,3102017,43011]
[null,null,null,null,{"$f":"IF(Configuração!C511=\"\",\"\",Configuração!B511)","v":""},null,null,null,null,null,null,null,null,null,{"$f":"IF(Configuração!H513=\"\",\"\",IF($E$12=\"\",\"\",IF(VLOOKUP($E$12,Configuração!$S$7:$U$16,3)=\"D\",Configuração!F513,\"\")))","v":""},null,null,null,null,null,null,3102018,43376]
[null,null,null,null,{"$f":"IF(Configuração!C512=\"\",\"\",Configuração!B512)","v":""},null,null,null,null,null,null,null,null,null,{"$f":"IF(Configuração!H514=\"\",\"\",IF($E$12=\"\",\"\",IF(VLOOKUP($E$12,Configuração!$S$7:$U$16,3)=\"D\",Configuração!F514,\"\")))","v":""},null,null,null,null,null,null,3102019,43741]
[null,null,null,null,{"$f":"IF(Configuração!C513=\"\",\"\",Configuração!B513)","v":""},null,null,null,null,null,null,null,null,null,{"$f":"IF(Configuração!H515=\"\",\"\",IF($E$12=\"\",\"\",IF(VLOOKUP($E$12,Configuração!$S$7:$U$16,3)=\"D\",Configuração!F515,\"\")))","v":""},null,null,null,null,null,null,3102020,44107]
[null,null,null,null,{"$f":"IF(Configuração!C514=\"\",\"\",Configuração!B514)","v":""},null,null,null,null,null,null,null,null,null,{"$f":"IF(Configuração!H516=\"\",\"\",IF($E$12=\"\",\"\",IF(VLOOKUP($E$12,Configuração!$S$7:$U$16,3)=\"D\",Configuração!F516,\"\")))","v":""},null,null,null,null,null,null,3102021,44472]
[null,null,null,null,{"$f":"IF(Configuração!C515=\"\",\"\",Configuração!B515)","v":""},null,null,null,null,null,null,null,null,null,{"$f":"IF(Configuração!H517=\"\",\"\",IF($E$12=\"\",\"\",IF(VLOOKUP($E$12,Configuração!$S$7:$U$16,3)=\"D\",Configuração!F517,\"\")))","v":""},null,null,null,null,null,null,3102022,44837]
[null,null,null,null,{"$f":"IF(Configuração!C516=\"\",\"\",Configuração!B516)","v":""},null,null,null,null,null,null,null,null,null,{"$f":"IF(Configuração!H518=\"\",\"\",IF($E$12=\"\",\"\",IF(VLOOKUP($E$12,Configuração!$S$7:$U$16,3)=\"D\",Configuração!F518,\"\")))","v":""},null,null,null,null,null,null,3102023,45202]
[null,null,null,null,{"$f":"IF(Configuração!C517=\"\",\"\",Configuração!B517)","v":""},null,null,null,null,null,null,null,null,null,null,null,null,null,null,null,null,3112009,40120]
[null,null,null,null,{"$f":"IF(Configuração!C518=\"\",\"\",Configuração!B518)","v":""},null,null,null,null,null,null,null,null,null,{"$f":"IF(Configuração!H520=\"\",\"\",IF($E$12=\"\",\"\",IF(VLOOKUP($E$12,Configuração!$S$7:$U$16,3)=\"D\",Configuração!F520,\"\")))","v":""},null,null,null,null,null,null,3112010,40485]
[null,null,null,null,{"$f":"IF(Configuração!C519=\"\",\"\",Configuração!B519)","v":""},null,null,null,null,null,null,null,null,null,{"$f":"IF(Configuração!H521=\"\",\"\",IF($E$12=\"\",\"\",IF(VLOOKUP($E$12,Configuração!$S$7:$U$16,3)=\"D\",Configuração!F521,\"\")))","v":""},null,null,null,null,null,null,3112011,40850]
[null,null,null,null,{"$f":"IF(Configuração!C520=\"\",\"\",Configuração!B520)","v":""},null,null,null,null,null,null,null,null,null,{"$f":"IF(Configuração!H522=\"\",\"\",IF($E$12=\"\",\"\",IF(VLOOKUP($E$12,Configuração!$S$7:$U$16,3)=\"D\",Configuração!F522,\"\")))","v":""},null,null,null,null,null,null,3112012,41216]
[null,null,null,null,{"$f":"IF(Configuração!C521=\"\",\"\",Configuração!B521)","v":""},null,null,null,null,null,null,null,null,null,{"$f":"IF(Configuração!H523=\"\",\"\",IF($E$12=\"\",\"\",IF(VLOOKUP($E$12,Configuração!$S$7:$U$16,3)=\"D\",Configuração!F523,\"\")))","v":""},null,null,null,null,null,null,3112013,41581]
[null,null,null,null,{"$f":"IF(Configuração!C522=\"\",\"\",Configuração!B522)","v":""},null,null,null,null,null,null,null,null,null,{"$f":"IF(Configuração!H524=\"\",\"\",IF($E$12=\"\",\"\",IF(VLOOKUP($E$12,Configuração!$S$7:$U$16,3)=\"D\",Configuração!F524,\"\")))","v":""},null,null,null,null,null,null,3112014,41946]
[null,null,null,null,{"$f":"IF(Configuração!C523=\"\",\"\",Configuração!B523)","v":""},null,null,null,null,null,null,null,null,null,{"$f":"IF(Configuração!H525=\"\",\"\",IF($E$12=\"\",\"\",IF(VLOOKUP($E$12,Configuração!$S$7:$U$16,3)=\"D\",Configuração!F525,\"\")))","v":""},null,null,null,null,null,null,3112015,42311]
[null,null,null,null,{"$f":"IF(Configuração!C524=\"\",\"\",Configuração!B524)","v":""},null,null,null,null,null,null,null,null,null,{"$f":"IF(Configuração!H526=\"\",\"\",IF($E$12=\"\",\"\",IF(VLOOKUP($E$12,Configuração!$S$7:$U$16,3)=\"D\",Configuração!F526,\"\")))","v":""},null,null,null,null,null,null,3112016,42677]
[null,null,null,null,{"$f":"IF(Configuração!C525=\"\",\"\",Configuração!B525)","v":""},null,null,null,null,null,null,null,null,null,{"$f":"IF(Configuração!H527=\"\",\"\",IF($E$12=\"\",\"\",IF(VLOOKUP($E$12,Configuração!$S$7:$U$16,3)=\"D\",Configuração!F527,\"\")))","v":""},null,null,null,null,null,null,3112017,43042]
[null,null,null,null,{"$f":"IF(Configuração!C526=\"\",\"\",Configuração!B526)","v":""},null,null,null,null,null,null,null,null,null,{"$f":"IF(Configuração!H528=\"\",\"\",IF($E$12=\"\",\"\",IF(VLOOKUP($E$12,Configuração!$S$7:$U$16,3)=\"D\",Configuração!F528,\"\")))","v":""},null,null,null,null,null,null,3112018,43407]
[null,null,null,null,{"$f":"IF(Configuração!C527=\"\",\"\",Configuração!B527)","v":""},null,null,null,null,null,null,null,null,null,{"$f":"IF(Configuração!H529=\"\",\"\",IF($E$12=\"\",\"\",IF(VLOOKUP($E$12,Configuração!$S$7:$U$16,3)=\"D\",Configuração!F529,\"\")))","v":""},null,null,null,null,null,null,3112019,43772]
[null,null,null,null,{"$f":"IF(Configuração!C528=\"\",\"\",Configuração!B528)","v":""},null,null,null,null,null,null,null,null,null,{"$f":"IF(Configuração!H530=\"\",\"\",IF($E$12=\"\",\"\",IF(VLOOKUP($E$12,Configuração!$S$7:$U$16,3)=\"D\",Configuração!F530,\"\")))","v":""},null,null,null,null,null,null,3112020,44138]
[null,null,null,null,{"$f":"IF(Configuração!C529=\"\",\"\",Configuração!B529)","v":""},null,null,null,null,null,null,null,null,null,{"$f":"IF(Configuração!H531=\"\",\"\",IF($E$12=\"\",\"\",IF(VLOOKUP($E$12,Configuração!$S$7:$U$16,3)=\"D\",Configuração!F531,\"\")))","v":""},null,null,null,null,null,null,3112021,44503]
[null,null,null,null,{"$f":"IF(Configuração!C530=\"\",\"\",Configuração!B530)","v":""},null,null,null,null,null,null,null,null,null,{"$f":"IF(Configuração!H532=\"\",\"\",IF($E$12=\"\",\"\",IF(VLOOKUP($E$12,Configuração!$S$7:$U$16,3)=\"D\",Configuração!F532,\"\")))","v":""},null,null,null,null,null,null,3112022,44868]
[null,null,null,null,{"$f":"IF(Configuração!C531=\"\",\"\",Configuração!B531)","v":""},null,null,null,null,null,null,null,null,null,{"$f":"IF(Configuração!H533=\"\",\"\",IF($E$12=\"\",\"\",IF(VLOOKUP($E$12,Configuração!$S$7:$U$16,3)=\"D\",Configuração!F533,\"\")))","v":""},null,null,null,null,null,null,3112023,45233]
[null,null,null,null,{"$f":"IF(Configuração!C532=\"\",\"\",Configuração!B532)","v":""},null,null,null,null,null,null,null,null,null,{"$f":"IF(Configuração!H534=\"\",\"\",IF($E$12=\"\",\"\",IF(VLOOKUP($E$12,Configuração!$S$7:$U$16,3)=\"D\",Configuração!F534,\"\")))","v":""},null,null,null,null,null,null,3122009,40150]
[null,null,null,null,{"$f":"IF(Configuração!C533=\"\",\"\",Configuração!B533)","v":""},null,null,null,null,null,null,null,null,null,{"$f":"IF(Configuração!H535=\"\",\"\",IF($E$12=\"\",\"\",IF(VLOOKUP($E$12,Configuração!$S$7:$U$16,3)=\"D\",Configuração!F535,\"\")))","v":""},null,null,null,null,null,null,3122010,40515]
[null,null,null,null,{"$f":"IF(Configuração!C534=\"\",\"\",Configuração!B534)","v":""},null,null,null,null,null,null,null,null,null,{"$f":"IF(Configuração!H536=\"\",\"\",IF($E$12=\"\",\"\",IF(VLOOKUP($E$12,Configuração!$S$7:$U$16,3)=\"D\",Configuração!F536,\"\")))","v":""},null,null,null,null,null,null,3122011,40880]
[null,null,null,null,{"$f":"IF(Configuração!C535=\"\",\"\",Configuração!B535)","v":""},null,null,null,null,null,null,null,null,null,{"$f":"IF(Configuração!H537=\"\",\"\",IF($E$12=\"\",\"\",IF(VLOOKUP($E$12,Configuração!$S$7:$U$16,3)=\"D\",Configuração!F537,\"\")))","v":""},null,null,null,null,null,null,3122012,41246]
[null,null,null,null,{"$f":"IF(Configuração!C536=\"\",\"\",Configuração!B536)","v":""},null,null,null,null,null,null,null,null,null,{"$f":"IF(Configuração!H538=\"\",\"\",IF($E$12=\"\",\"\",IF(VLOOKUP($E$12,Configuração!$S$7:$U$16,3)=\"D\",Configuração!F538,\"\")))","v":""},null,null,null,null,null,null,3122013,41611]
[null,null,null,null,{"$f":"IF(Configuração!C537=\"\",\"\",Configuração!B537)","v":""},null,null,null,null,null,null,null,null,null,{"$f":"IF(Configuração!H539=\"\",\"\",IF($E$12=\"\",\"\",IF(VLOOKUP($E$12,Configuração!$S$7:$U$16,3)=\"D\",Configuração!F539,\"\")))","v":""},null,null,null,null,null,null,3122014,41976]
[null,null,null,null,{"$f":"IF(Configuração!C538=\"\",\"\",Configuração!B538)","v":""},null,null,null,null,null,null,null,null,null,{"$f":"IF(Configuração!H540=\"\",\"\",IF($E$12=\"\",\"\",IF(VLOOKUP($E$12,Configuração!$S$7:$U$16,3)=\"D\",Configuração!F540,\"\")))","v":""},null,null,null,null,null,null,3122015,42341]
[null,null,null,null,{"$f":"IF(Configuração!C539=\"\",\"\",Configuração!B539)","v":""},null,null,null,null,null,null,null,null,null,{"$f":"IF(Configuração!H541=\"\",\"\",IF($E$12=\"\",\"\",IF(VLOOKUP($E$12,Configuração!$S$7:$U$16,3)=\"D\",Configuração!F541,\"\")))","v":""},null,null,null,null,null,null,3122016,42707]
[null,null,null,null,{"$f":"IF(Configuração!C540=\"\",\"\",Configuração!B540)","v":""},null,null,null,null,null,null,null,null,null,{"$f":"IF(Configuração!H542=\"\",\"\",IF($E$12=\"\",\"\",IF(VLOOKUP($E$12,Configuração!$S$7:$U$16,3)=\"D\",Configuração!F542,\"\")))","v":""},null,null,null,null,null,null,3122017,43072]
[null,null,null,null,{"$f":"IF(Configuração!C541=\"\",\"\",Configuração!B541)","v":""},null,null,null,null,null,null,null,null,null,{"$f":"IF(Configuração!H543=\"\",\"\",IF($E$12=\"\",\"\",IF(VLOOKUP($E$12,Configuração!$S$7:$U$16,3)=\"D\",Configuração!F543,\"\")))","v":""},null,null,null,null,null,null,3122018,43437]
[null,null,null,null,{"$f":"IF(Configuração!C542=\"\",\"\",Configuração!B542)","v":""},null,null,null,null,null,null,null,null,null,{"$f":"IF(Configuração!H544=\"\",\"\",IF($E$12=\"\",\"\",IF(VLOOKUP($E$12,Configuração!$S$7:$U$16,3)=\"D\",Configuração!F544,\"\")))","v":""},null,null,null,null,null,null,3122019,43802]
[null,null,null,null,{"$f":"IF(Configuração!C543=\"\",\"\",Configuração!B543)","v":""},null,null,null,null,null,null,null,null,null,{"$f":"IF(Configuração!H545=\"\",\"\",IF($E$12=\"\",\"\",IF(VLOOKUP($E$12,Configuração!$S$7:$U$16,3)=\"D\",Configuração!F545,\"\")))","v":""},null,null,null,null,null,null,3122020,44168]
[null,null,null,null,{"$f":"IF(Configuração!C544=\"\",\"\",Configuração!B544)","v":""},null,null,null,null,null,null,null,null,null,{"$f":"IF(Configuração!H546=\"\",\"\",IF($E$12=\"\",\"\",IF(VLOOKUP($E$12,Configuração!$S$7:$U$16,3)=\"D\",Configuração!F546,\"\")))","v":""},null,null,null,null,null,null,3122021,44533]
[null,null,null,null,{"$f":"IF(Configuração!C545=\"\",\"\",Configuração!B545)","v":""},null,null,null,null,null,null,null,null,null,{"$f":"IF(Configuração!H547=\"\",\"\",IF($E$12=\"\",\"\",IF(VLOOKUP($E$12,Configuração!$S$7:$U$16,3)=\"D\",Configuração!F547,\"\")))","v":""},null,null,null,null,null,null,3122022,44898]
[null,null,null,null,{"$f":"IF(Configuração!C546=\"\",\"\",Configuração!B546)","v":""},null,null,null,null,null,null,null,null,null,{"$f":"IF(Configuração!H548=\"\",\"\",IF($E$12=\"\",\"\",IF(VLOOKUP($E$12,Configuração!$S$7:$U$16,3)=\"D\",Configuração!F548,\"\")))","v":""},null,null,null,null,null,null,3122023,45263]
[null,null,null,null,{"$f":"IF(Configuração!C547=\"\",\"\",Configuração!B547)","v":""},null,null,null,null,null,null,null,null,null,{"$f":"IF(Configuração!H549=\"\",\"\",IF($E$12=\"\",\"\",IF(VLOOKUP($E$12,Configuração!$S$7:$U$16,3)=\"D\",Configuração!F549,\"\")))","v":""},null,null,null,null,null,null,4012009,39817]
[null,null,null,null,{"$f":"IF(Configuração!C548=\"\",\"\",Configuração!B548)","v":""},null,null,null,null,null,null,null,null,null,{"$f":"IF(Configuração!H550=\"\",\"\",IF($E$12=\"\",\"\",IF(VLOOKUP($E$12,Configuração!$S$7:$U$16,3)=\"D\",Configuração!F550,\"\")))","v":""},null,null,null,null,null,null,4012010,40182]
[null,null,null,null,{"$f":"IF(Configuração!C549=\"\",\"\",Configuração!B549)","v":""},null,null,null,null,null,null,null,null,null,{"$f":"IF(Configuração!H551=\"\",\"\",IF($E$12=\"\",\"\",IF(VLOOKUP($E$12,Configuração!$S$7:$U$16,3)=\"D\",Configuração!F551,\"\")))","v":""},null,null,null,null,null,null,4012011,40547]
[null,null,null,null,{"$f":"IF(Configuração!C550=\"\",\"\",Configuração!B550)","v":""},null,null,null,null,null,null,null,null,null,{"$f":"IF(Configuração!H552=\"\",\"\",IF($E$12=\"\",\"\",IF(VLOOKUP($E$12,Configuração!$S$7:$U$16,3)=\"D\",Configuração!F552,\"\")))","v":""},null,null,null,null,null,null,4012012,40912]
[null,null,null,null,{"$f":"IF(Configuração!C551=\"\",\"\",Configuração!B551)","v":""},null,null,null,null,null,null,null,null,null,{"$f":"IF(Configuração!H553=\"\",\"\",IF($E$12=\"\",\"\",IF(VLOOKUP($E$12,Configuração!$S$7:$U$16,3)=\"D\",Configuração!F553,\"\")))","v":""},null,null,null,null,null,null,4012013,41278]
[null,null,null,null,{"$f":"IF(Configuração!C552=\"\",\"\",Configuração!B552)","v":""},null,null,null,null,null,null,null,null,null,{"$f":"IF(Configuração!H554=\"\",\"\",IF($E$12=\"\",\"\",IF(VLOOKUP($E$12,Configuração!$S$7:$U$16,3)=\"D\",Configuração!F554,\"\")))","v":""},null,null,null,null,null,null,4012014,41643]
[null,null,null,null,{"$f":"IF(Configuração!C553=\"\",\"\",Configuração!B553)","v":""},null,null,null,null,null,null,null,null,null,{"$f":"IF(Configuração!H555=\"\",\"\",IF($E$12=\"\",\"\",IF(VLOOKUP($E$12,Configuração!$S$7:$U$16,3)=\"D\",Configuração!F555,\"\")))","v":""},null,null,null,null,null,null,4012015,42008]
[null,null,null,null,{"$f":"IF(Configuração!C554=\"\",\"\",Configuração!B554)","v":""},null,null,null,null,null,null,null,null,null,{"$f":"IF(Configuração!H556=\"\",\"\",IF($E$12=\"\",\"\",IF(VLOOKUP($E$12,Configuração!$S$7:$U$16,3)=\"D\",Configuração!F556,\"\")))","v":""},null,null,null,null,null,null,4012016,42373]
[null,null,null,null,{"$f":"IF(Configuração!C555=\"\",\"\",Configuração!B555)","v":""},null,null,null,null,null,null,null,null,null,{"$f":"IF(Configuração!H557=\"\",\"\",IF($E$12=\"\",\"\",IF(VLOOKUP($E$12,Configuração!$S$7:$U$16,3)=\"D\",Configuração!F557,\"\")))","v":""},null,null,null,null,null,null,4012017,42739]
[null,null,null,null,{"$f":"IF(Configuração!C556=\"\",\"\",Configuração!B556)","v":""},null,null,null,null,null,null,null,null,null,{"$f":"IF(Configuração!H558=\"\",\"\",IF($E$12=\"\",\"\",IF(VLOOKUP($E$12,Configuração!$S$7:$U$16,3)=\"D\",Configuração!F558,\"\")))","v":""},null,null,null,null,null,null,4012018,43104]
[null,null,null,null,{"$f":"IF(Configuração!C557=\"\",\"\",Configuração!B557)","v":""},null,null,null,null,null,null,null,null,null,{"$f":"IF(Configuração!H559=\"\",\"\",IF($E$12=\"\",\"\",IF(VLOOKUP($E$12,Configuração!$S$7:$U$16,3)=\"D\",Configuração!F559,\"\")))","v":""},null,null,null,null,null,null,4012019,43469]
[null,null,null,null,{"$f":"IF(Configuração!C558=\"\",\"\",Configuração!B558)","v":""},null,null,null,null,null,null,null,null,null,{"$f":"IF(Configuração!H560=\"\",\"\",IF($E$12=\"\",\"\",IF(VLOOKUP($E$12,Configuração!$S$7:$U$16,3)=\"D\",Configuração!F560,\"\")))","v":""},null,null,null,null,null,null,4012020,43834]
[null,null,null,null,{"$f":"IF(Configuração!C559=\"\",\"\",Configuração!B559)","v":""},null,null,null,null,null,null,null,null,null,{"$f":"IF(Configuração!H561=\"\",\"\",IF($E$12=\"\",\"\",IF(VLOOKUP($E$12,Configuração!$S$7:$U$16,3)=\"D\",Configuração!F561,\"\")))","v":""},null,null,null,null,null,null,4012021,44200]
[null,null,null,null,{"$f":"IF(Configuração!C560=\"\",\"\",Configuração!B560)","v":""},null,null,null,null,null,null,null,null,null,{"$f":"IF(Configuração!H562=\"\",\"\",IF($E$12=\"\",\"\",IF(VLOOKUP($E$12,Configuração!$S$7:$U$16,3)=\"D\",Configuração!F562,\"\")))","v":""},null,null,null,null,null,null,4012022,44565]
[null,null,null,null,{"$f":"IF(Configuração!C561=\"\",\"\",Configuração!B561)","v":""},null,null,null,null,null,null,null,null,null,{"$f":"IF(Configuração!H563=\"\",\"\",IF($E$12=\"\",\"\",IF(VLOOKUP($E$12,Configuração!$S$7:$U$16,3)=\"D\",Configuração!F563,\"\")))","v":""},null,null,null,null,null,null,4012023,44930]
[null,null,null,null,{"$f":"IF(Configuração!C562=\"\",\"\",Configuração!B562)","v":""},null,null,null,null,null,null,null,null,null,{"$f":"IF(Configuração!H564=\"\",\"\",IF($E$12=\"\",\"\",IF(VLOOKUP($E$12,Configuração!$S$7:$U$16,3)=\"D\",Configuração!F564,\"\")))","v":""},null,null,null,null,null,null,4022009,39848]
[null,null,null,null,{"$f":"IF(Configuração!C563=\"\",\"\",Configuração!B563)","v":""},null,null,null,null,null,null,null,null,null,{"$f":"IF(Configuração!H565=\"\",\"\",IF($E$12=\"\",\"\",IF(VLOOKUP($E$12,Configuração!$S$7:$U$16,3)=\"D\",Configuração!F565,\"\")))","v":""},null,null,null,null,null,null,4022010,40213]
[null,null,null,null,{"$f":"IF(Configuração!C564=\"\",\"\",Configuração!B564)","v":""},null,null,null,null,null,null,null,null,null,{"$f":"IF(Configuração!H566=\"\",\"\",IF($E$12=\"\",\"\",IF(VLOOKUP($E$12,Configuração!$S$7:$U$16,3)=\"D\",Configuração!F566,\"\")))","v":""},null,null,null,null,null,null,4022011,40578]
[null,null,null,null,{"$f":"IF(Configuração!C565=\"\",\"\",Configuração!B565)","v":""},null,null,null,null,null,null,null,null,null,{"$f":"IF(Configuração!H567=\"\",\"\",IF($E$12=\"\",\"\",IF(VLOOKUP($E$12,Configuração!$S$7:$U$16,3)=\"D\",Configuração!F567,\"\")))","v":""},null,null,null,null,null,null,4022012,40943]
[null,null,null,null,{"$f":"IF(Configuração!C566=\"\",\"\",Configuração!B566)","v":""},null,null,null,null,null,null,null,null,null,{"$f":"IF(Configuração!H568=\"\",\"\",IF($E$12=\"\",\"\",IF(VLOOKUP($E$12,Configuração!$S$7:$U$16,3)=\"D\",Configuração!F568,\"\")))","v":""},null,null,null,null,null,null,4022013,41309]
[null,null,null,null,{"$f":"IF(Configuração!C567=\"\",\"\",Configuração!B567)","v":""},null,null,null,null,null,null,null,null,null,{"$f":"IF(Configuração!H569=\"\",\"\",IF($E$12=\"\",\"\",IF(VLOOKUP($E$12,Configuração!$S$7:$U$16,3)=\"D\",Configuração!F569,\"\")))","v":""},null,null,null,null,null,null,4022014,41674]
[null,null,null,null,{"$f":"IF(Configuração!C568=\"\",\"\",Configuração!B568)","v":""},null,null,null,null,null,null,null,null,null,null,null,null,null,null,null,null,4022015,42039]
[null,null,null,null,{"$f":"IF(Configuração!C569=\"\",\"\",Configuração!B569)","v":""},null,null,null,null,null,null,null,null,null,{"$f":"IF(Configuração!H571=\"\",\"\",IF($E$12=\"\",\"\",IF(VLOOKUP($E$12,Configuração!$S$7:$U$16,3)=\"D\",Configuração!F571,\"\")))","v":""},null,null,null,null,null,null,4022016,42404]
[null,null,null,null,{"$f":"IF(Configuração!C570=\"\",\"\",Configuração!B570)","v":""},null,null,null,null,null,null,null,null,null,{"$f":"IF(Configuração!H572=\"\",\"\",IF($E$12=\"\",\"\",IF(VLOOKUP($E$12,Configuração!$S$7:$U$16,3)=\"D\",Configuração!F572,\"\")))","v":""},null,null,null,null,null,null,4022017,42770]
[null,null,null,null,{"$f":"IF(Configuração!C571=\"\",\"\",Configuração!B571)","v":""},null,null,null,null,null,null,null,null,null,{"$f":"IF(Configuração!H573=\"\",\"\",IF($E$12=\"\",\"\",IF(VLOOKUP($E$12,Configuração!$S$7:$U$16,3)=\"D\",Configuração!F573,\"\")))","v":""},null,null,null,null,null,null,4022018,43135]
[null,null,null,null,{"$f":"IF(Configuração!C572=\"\",\"\",Configuração!B572)","v":""},null,null,null,null,null,null,null,null,null,{"$f":"IF(Configuração!H574=\"\",\"\",IF($E$12=\"\",\"\",IF(VLOOKUP($E$12,Configuração!$S$7:$U$16,3)=\"D\",Configuração!F574,\"\")))","v":""},null,null,null,null,null,null,4022019,43500]
[null,null,null,null,{"$f":"IF(Configuração!C573=\"\",\"\",Configuração!B573)","v":""},null,null,null,null,null,null,null,null,null,{"$f":"IF(Configuração!H575=\"\",\"\",IF($E$12=\"\",\"\",IF(VLOOKUP($E$12,Configuração!$S$7:$U$16,3)=\"D\",Configuração!F575,\"\")))","v":""},null,null,null,null,null,null,4022020,43865]
[null,null,null,null,{"$f":"IF(Configuração!C574=\"\",\"\",Configuração!B574)","v":""},null,null,null,null,null,null,null,null,null,{"$f":"IF(Configuração!H576=\"\",\"\",IF($E$12=\"\",\"\",IF(VLOOKUP($E$12,Configuração!$S$7:$U$16,3)=\"D\",Configuração!F576,\"\")))","v":""},null,null,null,null,null,null,4022021,44231]
[null,null,null,null,{"$f":"IF(Configuração!C575=\"\",\"\",Configuração!B575)","v":""},null,null,null,null,null,null,null,null,null,{"$f":"IF(Configuração!H577=\"\",\"\",IF($E$12=\"\",\"\",IF(VLOOKUP($E$12,Configuração!$S$7:$U$16,3)=\"D\",Configuração!F577,\"\")))","v":""},null,null,null,null,null,null,4022022,44596]
[null,null,null,null,{"$f":"IF(Configuração!C576=\"\",\"\",Configuração!B576)","v":""},null,null,null,null,null,null,null,null,null,{"$f":"IF(Configuração!H578=\"\",\"\",IF($E$12=\"\",\"\",IF(VLOOKUP($E$12,Configuração!$S$7:$U$16,3)=\"D\",Configuração!F578,\"\")))","v":""},null,null,null,null,null,null,4022023,44961]
[null,null,null,null,{"$f":"IF(Configuração!C577=\"\",\"\",Configuração!B577)","v":""},null,null,null,null,null,null,null,null,null,{"$f":"IF(Configuração!H579=\"\",\"\",IF($E$12=\"\",\"\",IF(VLOOKUP($E$12,Configuração!$S$7:$U$16,3)=\"D\",Configuração!F579,\"\")))","v":""},null,null,null,null,null,null,4032009,39876]
[null,null,null,null,{"$f":"IF(Configuração!C578=\"\",\"\",Configuração!B578)","v":""},null,null,null,null,null,null,null,null,null,{"$f":"IF(Configuração!H580=\"\",\"\",IF($E$12=\"\",\"\",IF(VLOOKUP($E$12,Configuração!$S$7:$U$16,3)=\"D\",Configuração!F580,\"\")))","v":""},null,null,null,null,null,null,4032010,40241]
[null,null,null,null,{"$f":"IF(Configuração!C579=\"\",\"\",Configuração!B579)","v":""},null,null,null,null,null,null,null,null,null,{"$f":"IF(Configuração!H581=\"\",\"\",IF($E$12=\"\",\"\",IF(VLOOKUP($E$12,Configuração!$S$7:$U$16,3)=\"D\",Configuração!F581,\"\")))","v":""},null,null,null,null,null,null,4032011,40606]
[null,null,null,null,{"$f":"IF(Configuração!C580=\"\",\"\",Configuração!B580)","v":""},null,null,null,null,null,null,null,null,null,{"$f":"IF(Configuração!H582=\"\",\"\",IF($E$12=\"\",\"\",IF(VLOOKUP($E$12,Configuração!$S$7:$U$16,3)=\"D\",Configuração!F582,\"\")))","v":""},null,null,null,null,null,null,4032012,40972]
[null,null,null,null,{"$f":"IF(Configuração!C581=\"\",\"\",Configuração!B581)","v":""},null,null,null,null,null,null,null,null,null,{"$f":"IF(Configuração!H583=\"\",\"\",IF($E$12=\"\",\"\",IF(VLOOKUP($E$12,Configuração!$S$7:$U$16,3)=\"D\",Configuração!F583,\"\")))","v":""},null,null,null,null,null,null,4032013,41337]
[null,null,null,null,{"$f":"IF(Configuração!C582=\"\",\"\",Configuração!B582)","v":""},null,null,null,null,null,null,null,null,null,{"$f":"IF(Configuração!H584=\"\",\"\",IF($E$12=\"\",\"\",IF(VLOOKUP($E$12,Configuração!$S$7:$U$16,3)=\"D\",Configuração!F584,\"\")))","v":""},null,null,null,null,null,null,4032014,41702]
[null,null,null,null,{"$f":"IF(Configuração!C583=\"\",\"\",Configuração!B583)","v":""},null,null,null,null,null,null,null,null,null,{"$f":"IF(Configuração!H585=\"\",\"\",IF($E$12=\"\",\"\",IF(VLOOKUP($E$12,Configuração!$S$7:$U$16,3)=\"D\",Configuração!F585,\"\")))","v":""},null,null,null,null,null,null,4032015,42067]
[null,null,null,null,{"$f":"IF(Configuração!C584=\"\",\"\",Configuração!B584)","v":""},null,null,null,null,null,null,null,null,null,{"$f":"IF(Configuração!H586=\"\",\"\",IF($E$12=\"\",\"\",IF(VLOOKUP($E$12,Configuração!$S$7:$U$16,3)=\"D\",Configuração!F586,\"\")))","v":""},null,null,null,null,null,null,4032016,42433]
[null,null,null,null,{"$f":"IF(Configuração!C585=\"\",\"\",Configuração!B585)","v":""},null,null,null,null,null,null,null,null,null,{"$f":"IF(Configuração!H587=\"\",\"\",IF($E$12=\"\",\"\",IF(VLOOKUP($E$12,Configuração!$S$7:$U$16,3)=\"D\",Configuração!F587,\"\")))","v":""},null,null,null,null,null,null,4032017,42798]
[null,null,null,null,{"$f":"IF(Configuração!C586=\"\",\"\",Configuração!B586)","v":""},null,null,null,null,null,null,null,null,null,{"$f":"IF(Configuração!H588=\"\",\"\",IF($E$12=\"\",\"\",IF(VLOOKUP($E$12,Configuração!$S$7:$U$16,3)=\"D\",Configuração!F588,\"\")))","v":""},null,null,null,null,null,null,4032018,43163]
[null,null,null,null,{"$f":"IF(Configuração!C587=\"\",\"\",Configuração!B587)","v":""},null,null,null,null,null,null,null,null,null,{"$f":"IF(Configuração!H589=\"\",\"\",IF($E$12=\"\",\"\",IF(VLOOKUP($E$12,Configuração!$S$7:$U$16,3)=\"D\",Configuração!F589,\"\")))","v":""},null,null,null,null,null,null,4032019,43528]
[null,null,null,null,{"$f":"IF(Configuração!C588=\"\",\"\",Configuração!B588)","v":""},null,null,null,null,null,null,null,null,null,{"$f":"IF(Configuração!H590=\"\",\"\",IF($E$12=\"\",\"\",IF(VLOOKUP($E$12,Configuração!$S$7:$U$16,3)=\"D\",Configuração!F590,\"\")))","v":""},null,null,null,null,null,null,4032020,43894]
[null,null,null,null,{"$f":"IF(Configuração!C589=\"\",\"\",Configuração!B589)","v":""},null,null,null,null,null,null,null,null,null,{"$f":"IF(Configuração!H591=\"\",\"\",IF($E$12=\"\",\"\",IF(VLOOKUP($E$12,Configuração!$S$7:$U$16,3)=\"D\",Configuração!F591,\"\")))","v":""},null,null,null,null,null,null,4032021,44259]
[null,null,null,null,{"$f":"IF(Configuração!C590=\"\",\"\",Configuração!B590)","v":""},null,null,null,null,null,null,null,null,null,{"$f":"IF(Configuração!H592=\"\",\"\",IF($E$12=\"\",\"\",IF(VLOOKUP($E$12,Configuração!$S$7:$U$16,3)=\"D\",Configuração!F592,\"\")))","v":""},null,null,null,null,null,null,4032022,44624]
[null,null,null,null,{"$f":"IF(Configuração!C591=\"\",\"\",Configuração!B591)","v":""},null,null,null,null,null,null,null,null,null,{"$f":"IF(Configuração!H593=\"\",\"\",IF($E$12=\"\",\"\",IF(VLOOKUP($E$12,Configuração!$S$7:$U$16,3)=\"D\",Configuração!F593,\"\")))","v":""},null,null,null,null,null,null,4032023,44989]
[null,null,null,null,{"$f":"IF(Configuração!C592=\"\",\"\",Configuração!B592)","v":""},null,null,null,null,null,null,null,null,null,{"$f":"IF(Configuração!H594=\"\",\"\",IF($E$12=\"\",\"\",IF(VLOOKUP($E$12,Configuração!$S$7:$U$16,3)=\"D\",Configuração!F594,\"\")))","v":""},null,null,null,null,null,null,4042009,39907]
[null,null,null,null,{"$f":"IF(Configuração!C593=\"\",\"\",Configuração!B593)","v":""},null,null,null,null,null,null,null,null,null,{"$f":"IF(Configuração!H595=\"\",\"\",IF($E$12=\"\",\"\",IF(VLOOKUP($E$12,Configuração!$S$7:$U$16,3)=\"D\",Configuração!F595,\"\")))","v":""},null,null,null,null,null,null,4042010,40272]
[null,null,null,null,{"$f":"IF(Configuração!C594=\"\",\"\",Configuração!B594)","v":""},null,null,null,null,null,null,null,null,null,{"$f":"IF(Configuração!H596=\"\",\"\",IF($E$12=\"\",\"\",IF(VLOOKUP($E$12,Configuração!$S$7:$U$16,3)=\"D\",Configuração!F596,\"\")))","v":""},null,null,null,null,null,null,4042011,40637]
[null,null,null,null,{"$f":"IF(Configuração!C595=\"\",\"\",Configuração!B595)","v":""},null,null,null,null,null,null,null,null,null,{"$f":"IF(Configuração!H597=\"\",\"\",IF($E$12=\"\",\"\",IF(VLOOKUP($E$12,Configuração!$S$7:$U$16,3)=\"D\",Configuração!F597,\"\")))","v":""},null,null,null,null,null,null,4042012,41003]
[null,null,null,null,{"$f":"IF(Configuração!C596=\"\",\"\",Configuração!B596)","v":""},null,null,null,null,null,null,null,null,null,{"$f":"IF(Configuração!H598=\"\",\"\",IF($E$12=\"\",\"\",IF(VLOOKUP($E$12,Configuração!$S$7:$U$16,3)=\"D\",Configuração!F598,\"\")))","v":""},null,null,null,null,null,null,4042013,41368]
[null,null,null,null,{"$f":"IF(Configuração!C597=\"\",\"\",Configuração!B597)","v":""},null,null,null,null,null,null,null,null,null,{"$f":"IF(Configuração!H599=\"\",\"\",IF($E$12=\"\",\"\",IF(VLOOKUP($E$12,Configuração!$S$7:$U$16,3)=\"D\",Configuração!F599,\"\")))","v":""},null,null,null,null,null,null,4042014,41733]
[null,null,null,null,{"$f":"IF(Configuração!C598=\"\",\"\",Configuração!B598)","v":""},null,null,null,null,null,null,null,null,null,{"$f":"IF(Configuração!H600=\"\",\"\",IF($E$12=\"\",\"\",IF(VLOOKUP($E$12,Configuração!$S$7:$U$16,3)=\"D\",Configuração!F600,\"\")))","v":""},null,null,null,null,null,null,4042015,42098]
[null,null,null,null,{"$f":"IF(Configuração!C599=\"\",\"\",Configuração!B599)","v":""},null,null,null,null,null,null,null,null,null,{"$f":"IF(Configuração!H601=\"\",\"\",IF($E$12=\"\",\"\",IF(VLOOKUP($E$12,Configuração!$S$7:$U$16,3)=\"D\",Configuração!F601,\"\")))","v":""},null,null,null,null,null,null,4042016,42464]
[null,null,null,null,{"$f":"IF(Configuração!C600=\"\",\"\",Configuração!B600)","v":""},null,null,null,null,null,null,null,null,null,{"$f":"IF(Configuração!H602=\"\",\"\",IF($E$12=\"\",\"\",IF(VLOOKUP($E$12,Configuração!$S$7:$U$16,3)=\"D\",Configuração!F602,\"\")))","v":""},null,null,null,null,null,null,4042017,42829]
[null,null,null,null,{"$f":"IF(Configuração!C601=\"\",\"\",Configuração!B601)","v":""},null,null,null,null,null,null,null,null,null,{"$f":"IF(Configuração!H603=\"\",\"\",IF($E$12=\"\",\"\",IF(VLOOKUP($E$12,Configuração!$S$7:$U$16,3)=\"D\",Configuração!F603,\"\")))","v":""},null,null,null,null,null,null,4042018,43194]
[null,null,null,null,{"$f":"IF(Configuração!C602=\"\",\"\",Configuração!B602)","v":""},null,null,null,null,null,null,null,null,null,{"$f":"IF(Configuração!H604=\"\",\"\",IF($E$12=\"\",\"\",IF(VLOOKUP($E$12,Configuração!$S$7:$U$16,3)=\"D\",Configuração!F604,\"\")))","v":""},null,null,null,null,null,null,4042019,43559]
[null,null,null,null,{"$f":"IF(Configuração!C603=\"\",\"\",Configuração!B603)","v":""},null,null,null,null,null,null,null,null,null,{"$f":"IF(Configuração!H605=\"\",\"\",IF($E$12=\"\",\"\",IF(VLOOKUP($E$12,Configuração!$S$7:$U$16,3)=\"D\",Configuração!F605,\"\")))","v":""},null,null,null,null,null,null,4042020,43925]
[null,null,null,null,{"$f":"IF(Configuração!C604=\"\",\"\",Configuração!B604)","v":""},null,null,null,null,null,null,null,null,null,{"$f":"IF(Configuração!H606=\"\",\"\",IF($E$12=\"\",\"\",IF(VLOOKUP($E$12,Configuração!$S$7:$U$16,3)=\"D\",Configuração!F606,\"\")))","v":""},null,null,null,null,null,null,4042021,44290]
[null,null,null,null,{"$f":"IF(Configuração!C605=\"\",\"\",Configuração!B605)","v":""},null,null,null,null,null,null,null,null,null,{"$f":"IF(Configuração!H607=\"\",\"\",IF($E$12=\"\",\"\",IF(VLOOKUP($E$12,Configuração!$S$7:$U$16,3)=\"D\",Configuração!F607,\"\")))","v":""},null,null,null,null,null,null,4042022,44655]
[null,null,null,null,{"$f":"IF(Configuração!C606=\"\",\"\",Configuração!B606)","v":""},null,null,null,null,null,null,null,null,null,{"$f":"IF(Configuração!H608=\"\",\"\",IF($E$12=\"\",\"\",IF(VLOOKUP($E$12,Configuração!$S$7:$U$16,3)=\"D\",Configuração!F608,\"\")))","v":""},null,null,null,null,null,null,4042023,45020]
[null,null,null,null,{"$f":"IF(Configuração!C607=\"\",\"\",Configuração!B607)","v":""},null,null,null,null,null,null,null,null,null,{"$f":"IF(Configuração!H609=\"\",\"\",IF($E$12=\"\",\"\",IF(VLOOKUP($E$12,Configuração!$S$7:$U$16,3)=\"D\",Configuração!F609,\"\")))","v":""},null,null,null,null,null,null,4052009,39937]
[null,null,null,null,{"$f":"IF(Configuração!C608=\"\",\"\",Configuração!B608)","v":""},null,null,null,null,null,null,null,null,null,{"$f":"IF(Configuração!H610=\"\",\"\",IF($E$12=\"\",\"\",IF(VLOOKUP($E$12,Configuração!$S$7:$U$16,3)=\"D\",Configuração!F610,\"\")))","v":""},null,null,null,null,null,null,4052010,40302]
[null,null,null,null,{"$f":"IF(Configuração!C609=\"\",\"\",Configuração!B609)","v":""},null,null,null,null,null,null,null,null,null,{"$f":"IF(Configuração!H611=\"\",\"\",IF($E$12=\"\",\"\",IF(VLOOKUP($E$12,Configuração!$S$7:$U$16,3)=\"D\",Configuração!F611,\"\")))","v":""},null,null,null,null,null,null,4052011,40667]
[null,null,null,null,{"$f":"IF(Configuração!C610=\"\",\"\",Configuração!B610)","v":""},null,null,null,null,null,null,null,null,null,{"$f":"IF(Configuração!H612=\"\",\"\",IF($E$12=\"\",\"\",IF(VLOOKUP($E$12,Configuração!$S$7:$U$16,3)=\"D\",Configuração!F612,\"\")))","v":""},null,null,null,null,null,null,4052012,41033]
[null,null,null,null,{"$f":"IF(Configuração!C611=\"\",\"\",Configuração!B611)","v":""},null,null,null,null,null,null,null,null,null,{"$f":"IF(Configuração!H613=\"\",\"\",IF($E$12=\"\",\"\",IF(VLOOKUP($E$12,Configuração!$S$7:$U$16,3)=\"D\",Configuração!F613,\"\")))","v":""},null,null,null,null,null,null,4052013,41398]
[null,null,null,null,{"$f":"IF(Configuração!C612=\"\",\"\",Configuração!B612)","v":""},null,null,null,null,null,null,null,null,null,{"$f":"IF(Configuração!H614=\"\",\"\",IF($E$12=\"\",\"\",IF(VLOOKUP($E$12,Configuração!$S$7:$U$16,3)=\"D\",Configuração!F614,\"\")))","v":""},null,null,null,null,null,null,4052014,41763]
[null,null,null,null,{"$f":"IF(Configuração!C613=\"\",\"\",Configuração!B613)","v":""},null,null,null,null,null,null,null,null,null,{"$f":"IF(Configuração!H615=\"\",\"\",IF($E$12=\"\",\"\",IF(VLOOKUP($E$12,Configuração!$S$7:$U$16,3)=\"D\",Configuração!F615,\"\")))","v":""},null,null,null,null,null,null,4052015,42128]
[null,null,null,null,{"$f":"IF(Configuração!C614=\"\",\"\",Configuração!B614)","v":""},null,null,null,null,null,null,null,null,null,{"$f":"IF(Configuração!H616=\"\",\"\",IF($E$12=\"\",\"\",IF(VLOOKUP($E$12,Configuração!$S$7:$U$16,3)=\"D\",Configuração!F616,\"\")))","v":""},null,null,null,null,null,null,4052016,42494]
[null,null,null,null,{"$f":"IF(Configuração!C615=\"\",\"\",Configuração!B615)","v":""},null,null,null,null,null,null,null,null,null,{"$f":"IF(Configuração!H617=\"\",\"\",IF($E$12=\"\",\"\",IF(VLOOKUP($E$12,Configuração!$S$7:$U$16,3)=\"D\",Configuração!F617,\"\")))","v":""},null,null,null,null,null,null,4052017,42859]
[null,null,null,null,{"$f":"IF(Configuração!C616=\"\",\"\",Configuração!B616)","v":""},null,null,null,null,null,null,null,null,null,{"$f":"IF(Configuração!H618=\"\",\"\",IF($E$12=\"\",\"\",IF(VLOOKUP($E$12,Configuração!$S$7:$U$16,3)=\"D\",Configuração!F618,\"\")))","v":""},null,null,null,null,null,null,4052018,43224]
[null,null,null,null,{"$f":"IF(Configuração!C617=\"\",\"\",Configuração!B617)","v":""},null,null,null,null,null,null,null,null,null,{"$f":"IF(Configuração!H619=\"\",\"\",IF($E$12=\"\",\"\",IF(VLOOKUP($E$12,Configuração!$S$7:$U$16,3)=\"D\",Configuração!F619,\"\")))","v":""},null,null,null,null,null,null,4052019,43589]
[null,null,null,null,{"$f":"IF(Configuração!C618=\"\",\"\",Configuração!B618)","v":""},null,null,null,null,null,null,null,null,null,{"$f":"IF(Configuração!H620=\"\",\"\",IF($E$12=\"\",\"\",IF(VLOOKUP($E$12,Configuração!$S$7:$U$16,3)=\"D\",Configuração!F620,\"\")))","v":""},null,null,null,null,null,null,4052020,43955]
[null,null,null,null,{"$f":"IF(Configuração!C619=\"\",\"\",Configuração!B619)","v":""},null,null,null,null,null,null,null,null,null,null,null,null,null,null,null,null,4052021,44320]
[null,null,null,null,{"$f":"IF(Configuração!C620=\"\",\"\",Configuração!B620)","v":""},null,null,null,null,null,null,null,null,null,{"$f":"IF(Configuração!H622=\"\",\"\",IF($E$12=\"\",\"\",IF(VLOOKUP($E$12,Configuração!$S$7:$U$16,3)=\"D\",Configuração!F622,\"\")))","v":""},null,null,null,null,null,null,4052022,44685]
[null,null,null,null,{"$f":"IF(Configuração!C621=\"\",\"\",Configuração!B621)","v":""},null,null,null,null,null,null,null,null,null,{"$f":"IF(Configuração!H623=\"\",\"\",IF($E$12=\"\",\"\",IF(VLOOKUP($E$12,Configuração!$S$7:$U$16,3)=\"D\",Configuração!F623,\"\")))","v":""},null,null,null,null,null,null,4052023,45050]
[null,null,null,null,{"$f":"IF(Configuração!C622=\"\",\"\",Configuração!B622)","v":""},null,null,null,null,null,null,null,null,null,{"$f":"IF(Configuração!H624=\"\",\"\",IF($E$12=\"\",\"\",IF(VLOOKUP($E$12,Configuração!$S$7:$U$16,3)=\"D\",Configuração!F624,\"\")))","v":""},null,null,null,null,null,null,4062009,39968]
[null,null,null,null,{"$f":"IF(Configuração!C623=\"\",\"\",Configuração!B623)","v":""},null,null,null,null,null,null,null,null,null,{"$f":"IF(Configuração!H625=\"\",\"\",IF($E$12=\"\",\"\",IF(VLOOKUP($E$12,Configuração!$S$7:$U$16,3)=\"D\",Configuração!F625,\"\")))","v":""},null,null,null,null,null,null,4062010,40333]
[null,null,null,null,{"$f":"IF(Configuração!C624=\"\",\"\",Configuração!B624)","v":""},null,null,null,null,null,null,null,null,null,{"$f":"IF(Configuração!H626=\"\",\"\",IF($E$12=\"\",\"\",IF(VLOOKUP($E$12,Configuração!$S$7:$U$16,3)=\"D\",Configuração!F626,\"\")))","v":""},null,null,null,null,null,null,4062011,40698]
[null,null,null,null,{"$f":"IF(Configuração!C625=\"\",\"\",Configuração!B625)","v":""},null,null,null,null,null,null,null,null,null,{"$f":"IF(Configuração!H627=\"\",\"\",IF($E$12=\"\",\"\",IF(VLOOKUP($E$12,Configuração!$S$7:$U$16,3)=\"D\",Configuração!F627,\"\")))","v":""},null,null,null,null,null,null,4062012,41064]
[null,null,null,null,{"$f":"IF(Configuração!C626=\"\",\"\",Configuração!B626)","v":""},null,null,null,null,null,null,null,null,null,{"$f":"IF(Configuração!H628=\"\",\"\",IF($E$12=\"\",\"\",IF(VLOOKUP($E$12,Configuração!$S$7:$U$16,3)=\"D\",Configuração!F628,\"\")))","v":""},null,null,null,null,null,null,4062013,41429]
[null,null,null,null,{"$f":"IF(Configuração!C627=\"\",\"\",Configuração!B627)","v":""},null,null,null,null,null,null,null,null,null,{"$f":"IF(Configuração!H629=\"\",\"\",IF($E$12=\"\",\"\",IF(VLOOKUP($E$12,Configuração!$S$7:$U$16,3)=\"D\",Configuração!F629,\"\")))","v":""},null,null,null,null,null,null,4062014,41794]
[null,null,null,null,{"$f":"IF(Configuração!C628=\"\",\"\",Configuração!B628)","v":""},null,null,null,null,null,null,null,null,null,{"$f":"IF(Configuração!H630=\"\",\"\",IF($E$12=\"\",\"\",IF(VLOOKUP($E$12,Configuração!$S$7:$U$16,3)=\"D\",Configuração!F630,\"\")))","v":""},null,null,null,null,null,null,4062015,42159]
[null,null,null,null,{"$f":"IF(Configuração!C629=\"\",\"\",Configuração!B629)","v":""},null,null,null,null,null,null,null,null,null,{"$f":"IF(Configuração!H631=\"\",\"\",IF($E$12=\"\",\"\",IF(VLOOKUP($E$12,Configuração!$S$7:$U$16,3)=\"D\",Configuração!F631,\"\")))","v":""},null,null,null,null,null,null,4062016,42525]
[null,null,null,null,{"$f":"IF(Configuração!C630=\"\",\"\",Configuração!B630)","v":""},null,null,null,null,null,null,null,null,null,{"$f":"IF(Configuração!H632=\"\",\"\",IF($E$12=\"\",\"\",IF(VLOOKUP($E$12,Configuração!$S$7:$U$16,3)=\"D\",Configuração!F632,\"\")))","v":""},null,null,null,null,null,null,4062017,42890]
[null,null,null,null,{"$f":"IF(Configuração!C631=\"\",\"\",Configuração!B631)","v":""},null,null,null,null,null,null,null,null,null,{"$f":"IF(Configuração!H633=\"\",\"\",IF($E$12=\"\",\"\",IF(VLOOKUP($E$12,Configuração!$S$7:$U$16,3)=\"D\",Configuração!F633,\"\")))","v":""},null,null,null,null,null,null,4062018,43255]
[null,null,null,null,{"$f":"IF(Configuração!C632=\"\",\"\",Configuração!B632)","v":""},null,null,null,null,null,null,null,null,null,{"$f":"IF(Configuração!H634=\"\",\"\",IF($E$12=\"\",\"\",IF(VLOOKUP($E$12,Configuração!$S$7:$U$16,3)=\"D\",Configuração!F634,\"\")))","v":""},null,null,null,null,null,null,4062019,43620]
[null,null,null,null,{"$f":"IF(Configuração!C633=\"\",\"\",Configuração!B633)","v":""},null,null,null,null,null,null,null,null,null,{"$f":"IF(Configuração!H635=\"\",\"\",IF($E$12=\"\",\"\",IF(VLOOKUP($E$12,Configuração!$S$7:$U$16,3)=\"D\",Configuração!F635,\"\")))","v":""},null,null,null,null,null,null,4062020,43986]
[null,null,null,null,{"$f":"IF(Configuração!C634=\"\",\"\",Configuração!B634)","v":""},null,null,null,null,null,null,null,null,null,{"$f":"IF(Configuração!H636=\"\",\"\",IF($E$12=\"\",\"\",IF(VLOOKUP($E$12,Configuração!$S$7:$U$16,3)=\"D\",Configuração!F636,\"\")))","v":""},null,null,null,null,null,null,4062021,44351]
[null,null,null,null,{"$f":"IF(Configuração!C635=\"\",\"\",Configuração!B635)","v":""},null,null,null,null,null,null,null,null,null,{"$f":"IF(Configuração!H637=\"\",\"\",IF($E$12=\"\",\"\",IF(VLOOKUP($E$12,Configuração!$S$7:$U$16,3)=\"D\",Configuração!F637,\"\")))","v":""},null,null,null,null,null,null,4062022,44716]
[null,null,null,null,{"$f":"IF(Configuração!C636=\"\",\"\",Configuração!B636)","v":""},null,null,null,null,null,null,null,null,null,{"$f":"IF(Configuração!H638=\"\",\"\",IF($E$12=\"\",\"\",IF(VLOOKUP($E$12,Configuração!$S$7:$U$16,3)=\"D\",Configuração!F638,\"\")))","v":""},null,null,null,null,null,null,4062023,45081]
[null,null,null,null,{"$f":"IF(Configuração!C637=\"\",\"\",Configuração!B637)","v":""},null,null,null,null,null,null,null,null,null,{"$f":"IF(Configuração!H639=\"\",\"\",IF($E$12=\"\",\"\",IF(VLOOKUP($E$12,Configuração!$S$7:$U$16,3)=\"D\",Configuração!F639,\"\")))","v":""},null,null,null,null,null,null,4072009,39998]
[null,null,null,null,{"$f":"IF(Configuração!C638=\"\",\"\",Configuração!B638)","v":""},null,null,null,null,null,null,null,null,null,{"$f":"IF(Configuração!H640=\"\",\"\",IF($E$12=\"\",\"\",IF(VLOOKUP($E$12,Configuração!$S$7:$U$16,3)=\"D\",Configuração!F640,\"\")))","v":""},null,null,null,null,null,null,4072010,40363]
[null,null,null,null,{"$f":"IF(Configuração!C639=\"\",\"\",Configuração!B639)","v":""},null,null,null,null,null,null,null,null,null,{"$f":"IF(Configuração!H641=\"\",\"\",IF($E$12=\"\",\"\",IF(VLOOKUP($E$12,Configuração!$S$7:$U$16,3)=\"D\",Configuração!F641,\"\")))","v":""},null,null,null,null,null,null,4072011,40728]
[null,null,null,null,{"$f":"IF(Configuração!C640=\"\",\"\",Configuração!B640)","v":""},null,null,null,null,null,null,null,null,null,{"$f":"IF(Configuração!H642=\"\",\"\",IF($E$12=\"\",\"\",IF(VLOOKUP($E$12,Configuração!$S$7:$U$16,3)=\"D\",Configuração!F642,\"\")))","v":""},null,null,null,null,null,null,4072012,41094]
[null,null,null,null,{"$f":"IF(Configuração!C641=\"\",\"\",Configuração!B641)","v":""},null,null,null,null,null,null,null,null,null,{"$f":"IF(Configuração!H643=\"\",\"\",IF($E$12=\"\",\"\",IF(VLOOKUP($E$12,Configuração!$S$7:$U$16,3)=\"D\",Configuração!F643,\"\")))","v":""},null,null,null,null,null,null,4072013,41459]
[null,null,null,null,{"$f":"IF(Configuração!C642=\"\",\"\",Configuração!B642)","v":""},null,null,null,null,null,null,null,null,null,{"$f":"IF(Configuração!H644=\"\",\"\",IF($E$12=\"\",\"\",IF(VLOOKUP($E$12,Configuração!$S$7:$U$16,3)=\"D\",Configuração!F644,\"\")))","v":""},null,null,null,null,null,null,4072014,41824]
[null,null,null,null,{"$f":"IF(Configuração!C643=\"\",\"\",Configuração!B643)","v":""},null,null,null,null,null,null,null,null,null,{"$f":"IF(Configuração!H645=\"\",\"\",IF($E$12=\"\",\"\",IF(VLOOKUP($E$12,Configuração!$S$7:$U$16,3)=\"D\",Configuração!F645,\"\")))","v":""},null,null,null,null,null,null,4072015,42189]
[null,null,null,null,{"$f":"IF(Configuração!C644=\"\",\"\",Configuração!B644)","v":""},null,null,null,null,null,null,null,null,null,{"$f":"IF(Configuração!H646=\"\",\"\",IF($E$12=\"\",\"\",IF(VLOOKUP($E$12,Configuração!$S$7:$U$16,3)=\"D\",Configuração!F646,\"\")))","v":""},null,null,null,null,null,null,4072016,42555]
[null,null,null,null,{"$f":"IF(Configuração!C645=\"\",\"\",Configuração!B645)","v":""},null,null,null,null,null,null,null,null,null,{"$f":"IF(Configuração!H647=\"\",\"\",IF($E$12=\"\",\"\",IF(VLOOKUP($E$12,Configuração!$S$7:$U$16,3)=\"D\",Configuração!F647,\"\")))","v":""},null,null,null,null,null,null,4072017,42920]
[null,null,null,null,{"$f":"IF(Configuração!C646=\"\",\"\",Configuração!B646)","v":""},null,null,null,null,null,null,null,null,null,{"$f":"IF(Configuração!H648=\"\",\"\",IF($E$12=\"\",\"\",IF(VLOOKUP($E$12,Configuração!$S$7:$U$16,3)=\"D\",Configuração!F648,\"\")))","v":""},null,null,null,null,null,null,4072018,43285]
[null,null,null,null,{"$f":"IF(Configuração!C647=\"\",\"\",Configuração!B647)","v":""},null,null,null,null,null,null,null,null,null,{"$f":"IF(Configuração!H649=\"\",\"\",IF($E$12=\"\",\"\",IF(VLOOKUP($E$12,Configuração!$S$7:$U$16,3)=\"D\",Configuração!F649,\"\")))","v":""},null,null,null,null,null,null,4072019,43650]
[null,null,null,null,{"$f":"IF(Configuração!C648=\"\",\"\",Configuração!B648)","v":""},null,null,null,null,null,null,null,null,null,{"$f":"IF(Configuração!H650=\"\",\"\",IF($E$12=\"\",\"\",IF(VLOOKUP($E$12,Configuração!$S$7:$U$16,3)=\"D\",Configuração!F650,\"\")))","v":""},null,null,null,null,null,null,4072020,44016]
[null,null,null,null,{"$f":"IF(Configuração!C649=\"\",\"\",Configuração!B649)","v":""},null,null,null,null,null,null,null,null,null,{"$f":"IF(Configuração!H651=\"\",\"\",IF($E$12=\"\",\"\",IF(VLOOKUP($E$12,Configuração!$S$7:$U$16,3)=\"D\",Configuração!F651,\"\")))","v":""},null,null,null,null,null,null,4072021,44381]
[null,null,null,null,{"$f":"IF(Configuração!C650=\"\",\"\",Configuração!B650)","v":""},null,null,null,null,null,null,null,null,null,{"$f":"IF(Configuração!H652=\"\",\"\",IF($E$12=\"\",\"\",IF(VLOOKUP($E$12,Configuração!$S$7:$U$16,3)=\"D\",Configuração!F652,\"\")))","v":""},null,null,null,null,null,null,4072022,44746]
[null,null,null,null,{"$f":"IF(Configuração!C651=\"\",\"\",Configuração!B651)","v":""},null,null,null,null,null,null,null,null,null,{"$f":"IF(Configuração!H653=\"\",\"\",IF($E$12=\"\",\"\",IF(VLOOKUP($E$12,Configuração!$S$7:$U$16,3)=\"D\",Configuração!F653,\"\")))","v":""},null,null,null,null,null,null,4072023,45111]
[null,null,null,null,{"$f":"IF(Configuração!C652=\"\",\"\",Configuração!B652)","v":""},null,null,null,null,null,null,null,null,null,{"$f":"IF(Configuração!H654=\"\",\"\",IF($E$12=\"\",\"\",IF(VLOOKUP($E$12,Configuração!$S$7:$U$16,3)=\"D\",Configuração!F654,\"\")))","v":""},null,null,null,null,null,null,4082009,40029]
[null,null,null,null,{"$f":"IF(Configuração!C653=\"\",\"\",Configuração!B653)","v":""},null,null,null,null,null,null,null,null,null,{"$f":"IF(Configuração!H655=\"\",\"\",IF($E$12=\"\",\"\",IF(VLOOKUP($E$12,Configuração!$S$7:$U$16,3)=\"D\",Configuração!F655,\"\")))","v":""},null,null,null,null,null,null,4082010,40394]
[null,null,null,null,{"$f":"IF(Configuração!C654=\"\",\"\",Configuração!B654)","v":""},null,null,null,null,null,null,null,null,null,{"$f":"IF(Configuração!H656=\"\",\"\",IF($E$12=\"\",\"\",IF(VLOOKUP($E$12,Configuração!$S$7:$U$16,3)=\"D\",Configuração!F656,\"\")))","v":""},null,null,null,null,null,null,4082011,40759]
[null,null,null,null,{"$f":"IF(Configuração!C655=\"\",\"\",Configuração!B655)","v":""},null,null,null,null,null,null,null,null,null,{"$f":"IF(Configuração!H657=\"\",\"\",IF($E$12=\"\",\"\",IF(VLOOKUP($E$12,Configuração!$S$7:$U$16,3)=\"D\",Configuração!F657,\"\")))","v":""},null,null,null,null,null,null,4082012,41125]
[null,null,null,null,{"$f":"IF(Configuração!C656=\"\",\"\",Configuração!B656)","v":""},null,null,null,null,null,null,null,null,null,{"$f":"IF(Configuração!H658=\"\",\"\",IF($E$12=\"\",\"\",IF(VLOOKUP($E$12,Configuração!$S$7:$U$16,3)=\"D\",Configuração!F658,\"\")))","v":""},null,null,null,null,null,null,4082013,41490]
[null,null,null,null,{"$f":"IF(Configuração!C657=\"\",\"\",Configuração!B657)","v":""},null,null,null,null,null,null,null,null,null,{"$f":"IF(Configuração!H659=\"\",\"\",IF($E$12=\"\",\"\",IF(VLOOKUP($E$12,Configuração!$S$7:$U$16,3)=\"D\",Configuração!F659,\"\")))","v":""},null,null,null,null,null,null,4082014,41855]
[null,null,null,null,{"$f":"IF(Configuração!C658=\"\",\"\",Configuração!B658)","v":""},null,null,null,null,null,null,null,null,null,{"$f":"IF(Configuração!H660=\"\",\"\",IF($E$12=\"\",\"\",IF(VLOOKUP($E$12,Configuração!$S$7:$U$16,3)=\"D\",Configuração!F660,\"\")))","v":""},null,null,null,null,null,null,4082015,42220]
[null,null,null,null,{"$f":"IF(Configuração!C659=\"\",\"\",Configuração!B659)","v":""},null,null,null,null,null,null,null,null,null,{"$f":"IF(Configuração!H661=\"\",\"\",IF($E$12=\"\",\"\",IF(VLOOKUP($E$12,Configuração!$S$7:$U$16,3)=\"D\",Configuração!F661,\"\")))","v":""},null,null,null,null,null,null,4082016,42586]
[null,null,null,null,{"$f":"IF(Configuração!C660=\"\",\"\",Configuração!B660)","v":""},null,null,null,null,null,null,null,null,null,{"$f":"IF(Configuração!H662=\"\",\"\",IF($E$12=\"\",\"\",IF(VLOOKUP($E$12,Configuração!$S$7:$U$16,3)=\"D\",Configuração!F662,\"\")))","v":""},null,null,null,null,null,null,4082017,42951]
[null,null,null,null,{"$f":"IF(Configuração!C661=\"\",\"\",Configuração!B661)","v":""},null,null,null,null,null,null,null,null,null,{"$f":"IF(Configuração!H663=\"\",\"\",IF($E$12=\"\",\"\",IF(VLOOKUP($E$12,Configuração!$S$7:$U$16,3)=\"D\",Configuração!F663,\"\")))","v":""},null,null,null,null,null,null,4082018,43316]
[null,null,null,null,{"$f":"IF(Configuração!C662=\"\",\"\",Configuração!B662)","v":""},null,null,null,null,null,null,null,null,null,{"$f":"IF(Configuração!H664=\"\",\"\",IF($E$12=\"\",\"\",IF(VLOOKUP($E$12,Configuração!$S$7:$U$16,3)=\"D\",Configuração!F664,\"\")))","v":""},null,null,null,null,null,null,4082019,43681]
[null,null,null,null,{"$f":"IF(Configuração!C663=\"\",\"\",Configuração!B663)","v":""},null,null,null,null,null,null,null,null,null,{"$f":"IF(Configuração!H665=\"\",\"\",IF($E$12=\"\",\"\",IF(VLOOKUP($E$12,Configuração!$S$7:$U$16,3)=\"D\",Configuração!F665,\"\")))","v":""},null,null,null,null,null,null,4082020,44047]
[null,null,null,null,{"$f":"IF(Configuração!C664=\"\",\"\",Configuração!B664)","v":""},null,null,null,null,null,null,null,null,null,{"$f":"IF(Configuração!H666=\"\",\"\",IF($E$12=\"\",\"\",IF(VLOOKUP($E$12,Configuração!$S$7:$U$16,3)=\"D\",Configuração!F666,\"\")))","v":""},null,null,null,null,null,null,4082021,44412]
[null,null,null,null,{"$f":"IF(Configuração!C665=\"\",\"\",Configuração!B665)","v":""},null,null,null,null,null,null,null,null,null,{"$f":"IF(Configuração!H667=\"\",\"\",IF($E$12=\"\",\"\",IF(VLOOKUP($E$12,Configuração!$S$7:$U$16,3)=\"D\",Configuração!F667,\"\")))","v":""},null,null,null,null,null,null,4082022,44777]
[null,null,null,null,{"$f":"IF(Configuração!C666=\"\",\"\",Configuração!B666)","v":""},null,null,null,null,null,null,null,null,null,{"$f":"IF(Configuração!H668=\"\",\"\",IF($E$12=\"\",\"\",IF(VLOOKUP($E$12,Configuração!$S$7:$U$16,3)=\"D\",Configuração!F668,\"\")))","v":""},null,null,null,null,null,null,4082023,45142]
[null,null,null,null,{"$f":"IF(Configuração!C667=\"\",\"\",Configuração!B667)","v":""},null,null,null,null,null,null,null,null,null,{"$f":"IF(Configuração!H669=\"\",\"\",IF($E$12=\"\",\"\",IF(VLOOKUP($E$12,Configuração!$S$7:$U$16,3)=\"D\",Configuração!F669,\"\")))","v":""},null,null,null,null,null,null,4092009,40060]
[null,null,null,null,{"$f":"IF(Configuração!C668=\"\",\"\",Configuração!B668)","v":""},null,null,null,null,null,null,null,null,null,{"$f":"IF(Configuração!H670=\"\",\"\",IF($E$12=\"\",\"\",IF(VLOOKUP($E$12,Configuração!$S$7:$U$16,3)=\"D\",Configuração!F670,\"\")))","v":""},null,null,null,null,null,null,4092010,40425]
[null,null,null,null,{"$f":"IF(Configuração!C669=\"\",\"\",Configuração!B669)","v":""},null,null,null,null,null,null,null,null,null,{"$f":"IF(Configuração!H671=\"\",\"\",IF($E$12=\"\",\"\",IF(VLOOKUP($E$12,Configuração!$S$7:$U$16,3)=\"D\",Configuração!F671,\"\")))","v":""},null,null,null,null,null,null,4092011,40790]
[null,null,null,null,{"$f":"IF(Configuração!C670=\"\",\"\",Configuração!B670)","v":""},null,null,null,null,null,null,null,null,null,null,null,null,null,null,null,null,4092012,41156]
[null,null,null,null,{"$f":"IF(Configuração!C671=\"\",\"\",Configuração!B671)","v":""},null,null,null,null,null,null,null,null,null,{"$f":"IF(Configuração!H673=\"\",\"\",IF($E$12=\"\",\"\",IF(VLOOKUP($E$12,Configuração!$S$7:$U$16,3)=\"D\",Configuração!F673,\"\")))","v":""},null,null,null,null,null,null,4092013,41521]
[null,null,null,null,{"$f":"IF(Configuração!C672=\"\",\"\",Configuração!B672)","v":""},null,null,null,null,null,null,null,null,null,{"$f":"IF(Configuração!H674=\"\",\"\",IF($E$12=\"\",\"\",IF(VLOOKUP($E$12,Configuração!$S$7:$U$16,3)=\"D\",Configuração!F674,\"\")))","v":""},null,null,null,null,null,null,4092014,41886]
[null,null,null,null,{"$f":"IF(Configuração!C673=\"\",\"\",Configuração!B673)","v":""},null,null,null,null,null,null,null,null,null,{"$f":"IF(Configuração!H675=\"\",\"\",IF($E$12=\"\",\"\",IF(VLOOKUP($E$12,Configuração!$S$7:$U$16,3)=\"D\",Configuração!F675,\"\")))","v":""},null,null,null,null,null,null,4092015,42251]
[null,null,null,null,{"$f":"IF(Configuração!C674=\"\",\"\",Configuração!B674)","v":""},null,null,null,null,null,null,null,null,null,{"$f":"IF(Configuração!H676=\"\",\"\",IF($E$12=\"\",\"\",IF(VLOOKUP($E$12,Configuração!$S$7:$U$16,3)=\"D\",Configuração!F676,\"\")))","v":""},null,null,null,null,null,null,4092016,42617]
[null,null,null,null,{"$f":"IF(Configuração!C675=\"\",\"\",Configuração!B675)","v":""},null,null,null,null,null,null,null,null,null,{"$f":"IF(Configuração!H677=\"\",\"\",IF($E$12=\"\",\"\",IF(VLOOKUP($E$12,Configuração!$S$7:$U$16,3)=\"D\",Configuração!F677,\"\")))","v":""},null,null,null,null,null,null,4092017,42982]
[null,null,null,null,{"$f":"IF(Configuração!C676=\"\",\"\",Configuração!B676)","v":""},null,null,null,null,null,null,null,null,null,{"$f":"IF(Configuração!H678=\"\",\"\",IF($E$12=\"\",\"\",IF(VLOOKUP($E$12,Configuração!$S$7:$U$16,3)=\"D\",Configuração!F678,\"\")))","v":""},null,null,null,null,null,null,4092018,43347]
[null,null,null,null,{"$f":"IF(Configuração!C677=\"\",\"\",Configuração!B677)","v":""},null,null,null,null,null,null,null,null,null,{"$f":"IF(Configuração!H679=\"\",\"\",IF($E$12=\"\",\"\",IF(VLOOKUP($E$12,Configuração!$S$7:$U$16,3)=\"D\",Configuração!F679,\"\")))","v":""},null,null,null,null,null,null,4092019,43712]
[null,null,null,null,{"$f":"IF(Configuração!C678=\"\",\"\",Configuração!B678)","v":""},null,null,null,null,null,null,null,null,null,{"$f":"IF(Configuração!H680=\"\",\"\",IF($E$12=\"\",\"\",IF(VLOOKUP($E$12,Configuração!$S$7:$U$16,3)=\"D\",Configuração!F680,\"\")))","v":""},null,null,null,null,null,null,4092020,44078]
[null,null,null,null,{"$f":"IF(Configuração!C679=\"\",\"\",Configuração!B679)","v":""},null,null,null,null,null,null,null,null,null,{"$f":"IF(Configuração!H681=\"\",\"\",IF($E$12=\"\",\"\",IF(VLOOKUP($E$12,Configuração!$S$7:$U$16,3)=\"D\",Configuração!F681,\"\")))","v":""},null,null,null,null,null,null,4092021,44443]
[null,null,null,null,{"$f":"IF(Configuração!C680=\"\",\"\",Configuração!B680)","v":""},null,null,null,null,null,null,null,null,null,{"$f":"IF(Configuração!H682=\"\",\"\",IF($E$12=\"\",\"\",IF(VLOOKUP($E$12,Configuração!$S$7:$U$16,3)=\"D\",Configuração!F682,\"\")))","v":""},null,null,null,null,null,null,4092022,44808]
[null,null,null,null,{"$f":"IF(Configuração!C681=\"\",\"\",Configuração!B681)","v":""},null,null,null,null,null,null,null,null,null,{"$f":"IF(Configuração!H683=\"\",\"\",IF($E$12=\"\",\"\",IF(VLOOKUP($E$12,Configuração!$S$7:$U$16,3)=\"D\",Configuração!F683,\"\")))","v":""},null,null,null,null,null,null,4092023,45173]
[null,null,null,null,{"$f":"IF(Configuração!C682=\"\",\"\",Configuração!B682)","v":""},null,null,null,null,null,null,null,null,null,{"$f":"IF(Configuração!H684=\"\",\"\",IF($E$12=\"\",\"\",IF(VLOOKUP($E$12,Configuração!$S$7:$U$16,3)=\"D\",Configuração!F684,\"\")))","v":""},null,null,null,null,null,null,4102009,40090]
[null,null,null,null,{"$f":"IF(Configuração!C683=\"\",\"\",Configuração!B683)","v":""},null,null,null,null,null,null,null,null,null,{"$f":"IF(Configuração!H685=\"\",\"\",IF($E$12=\"\",\"\",IF(VLOOKUP($E$12,Configuração!$S$7:$U$16,3)=\"D\",Configuração!F685,\"\")))","v":""},null,null,null,null,null,null,4102010,40455]
[null,null,null,null,{"$f":"IF(Configuração!C684=\"\",\"\",Configuração!B684)","v":""},null,null,null,null,null,null,null,null,null,{"$f":"IF(Configuração!H686=\"\",\"\",IF($E$12=\"\",\"\",IF(VLOOKUP($E$12,Configuração!$S$7:$U$16,3)=\"D\",Configuração!F686,\"\")))","v":""},null,null,null,null,null,null,4102011,40820]
[null,null,null,null,{"$f":"IF(Configuração!C685=\"\",\"\",Configuração!B685)","v":""},null,null,null,null,null,null,null,null,null,{"$f":"IF(Configuração!H687=\"\",\"\",IF($E$12=\"\",\"\",IF(VLOOKUP($E$12,Configuração!$S$7:$U$16,3)=\"D\",Configuração!F687,\"\")))","v":""},null,null,null,null,null,null,4102012,41186]
[null,null,null,null,{"$f":"IF(Configuração!C686=\"\",\"\",Configuração!B686)","v":""},null,null,null,null,null,null,null,null,null,{"$f":"IF(Configuração!H688=\"\",\"\",IF($E$12=\"\",\"\",IF(VLOOKUP($E$12,Configuração!$S$7:$U$16,3)=\"D\",Configuração!F688,\"\")))","v":""},null,null,null,null,null,null,4102013,41551]
[null,null,null,null,{"$f":"IF(Configuração!C687=\"\",\"\",Configuração!B687)","v":""},null,null,null,null,null,null,null,null,null,{"$f":"IF(Configuração!H689=\"\",\"\",IF($E$12=\"\",\"\",IF(VLOOKUP($E$12,Configuração!$S$7:$U$16,3)=\"D\",Configuração!F689,\"\")))","v":""},null,null,null,null,null,null,4102014,41916]
[null,null,null,null,{"$f":"IF(Configuração!C688=\"\",\"\",Configuração!B688)","v":""},null,null,null,null,null,null,null,null,null,{"$f":"IF(Configuração!H690=\"\",\"\",IF($E$12=\"\",\"\",IF(VLOOKUP($E$12,Configuração!$S$7:$U$16,3)=\"D\",Configuração!F690,\"\")))","v":""},null,null,null,null,null,null,4102015,42281]
[null,null,null,null,{"$f":"IF(Configuração!C689=\"\",\"\",Configuração!B689)","v":""},null,null,null,null,null,null,null,null,null,{"$f":"IF(Configuração!H691=\"\",\"\",IF($E$12=\"\",\"\",IF(VLOOKUP($E$12,Configuração!$S$7:$U$16,3)=\"D\",Configuração!F691,\"\")))","v":""},null,null,null,null,null,null,4102016,42647]
[null,null,null,null,{"$f":"IF(Configuração!C690=\"\",\"\",Configuração!B690)","v":""},null,null,null,null,null,null,null,null,null,{"$f":"IF(Configuração!H692=\"\",\"\",IF($E$12=\"\",\"\",IF(VLOOKUP($E$12,Configuração!$S$7:$U$16,3)=\"D\",Configuração!F692,\"\")))","v":""},null,null,null,null,null,null,4102017,43012]
[null,null,null,null,{"$f":"IF(Configuração!C691=\"\",\"\",Configuração!B691)","v":""},null,null,null,null,null,null,null,null,null,{"$f":"IF(Configuração!H693=\"\",\"\",IF($E$12=\"\",\"\",IF(VLOOKUP($E$12,Configuração!$S$7:$U$16,3)=\"D\",Configuração!F693,\"\")))","v":""},null,null,null,null,null,null,4102018,43377]
[null,null,null,null,{"$f":"IF(Configuração!C692=\"\",\"\",Configuração!B692)","v":""},null,null,null,null,null,null,null,null,null,{"$f":"IF(Configuração!H694=\"\",\"\",IF($E$12=\"\",\"\",IF(VLOOKUP($E$12,Configuração!$S$7:$U$16,3)=\"D\",Configuração!F694,\"\")))","v":""},null,null,null,null,null,null,4102019,43742]
[null,null,null,null,{"$f":"IF(Configuração!C693=\"\",\"\",Configuração!B693)","v":""},null,null,null,null,null,null,null,null,null,{"$f":"IF(Configuração!H695=\"\",\"\",IF($E$12=\"\",\"\",IF(VLOOKUP($E$12,Configuração!$S$7:$U$16,3)=\"D\",Configuração!F695,\"\")))","v":""},null,null,null,null,null,null,4102020,44108]
[null,null,null,null,{"$f":"IF(Configuração!C694=\"\",\"\",Configuração!B694)","v":""},null,null,null,null,null,null,null,null,null,{"$f":"IF(Configuração!H696=\"\",\"\",IF($E$12=\"\",\"\",IF(VLOOKUP($E$12,Configuração!$S$7:$U$16,3)=\"D\",Configuração!F696,\"\")))","v":""},null,null,null,null,null,null,4102021,44473]
[null,null,null,null,{"$f":"IF(Configuração!C695=\"\",\"\",Configuração!B695)","v":""},null,null,null,null,null,null,null,null,null,{"$f":"IF(Configuração!H697=\"\",\"\",IF($E$12=\"\",\"\",IF(VLOOKUP($E$12,Configuração!$S$7:$U$16,3)=\"D\",Configuração!F697,\"\")))","v":""},null,null,null,null,null,null,4102022,44838]
[null,null,null,null,{"$f":"IF(Configuração!C696=\"\",\"\",Configuração!B696)","v":""},null,null,null,null,null,null,null,null,null,{"$f":"IF(Configuração!H698=\"\",\"\",IF($E$12=\"\",\"\",IF(VLOOKUP($E$12,Configuração!$S$7:$U$16,3)=\"D\",Configuração!F698,\"\")))","v":""},null,null,null,null,null,null,4102023,45203]
[null,null,null,null,{"$f":"IF(Configuração!C697=\"\",\"\",Configuração!B697)","v":""},null,null,null,null,null,null,null,null,null,{"$f":"IF(Configuração!H699=\"\",\"\",IF($E$12=\"\",\"\",IF(VLOOKUP($E$12,Configuração!$S$7:$U$16,3)=\"D\",Configuração!F699,\"\")))","v":""},null,null,null,null,null,null,4112009,40121]
[null,null,null,null,{"$f":"IF(Configuração!C698=\"\",\"\",Configuração!B698)","v":""},null,null,null,null,null,null,null,null,null,{"$f":"IF(Configuração!H700=\"\",\"\",IF($E$12=\"\",\"\",IF(VLOOKUP($E$12,Configuração!$S$7:$U$16,3)=\"D\",Configuração!F700,\"\")))","v":""},null,null,null,null,null,null,4112010,40486]
[null,null,null,null,{"$f":"IF(Configuração!C699=\"\",\"\",Configuração!B699)","v":""},null,null,null,null,null,null,null,null,null,{"$f":"IF(Configuração!H701=\"\",\"\",IF($E$12=\"\",\"\",IF(VLOOKUP($E$12,Configuração!$S$7:$U$16,3)=\"D\",Configuração!F701,\"\")))","v":""},null,null,null,null,null,null,4112011,40851]
[null,null,null,null,{"$f":"IF(Configuração!C700=\"\",\"\",Configuração!B700)","v":""},null,null,null,null,null,null,null,null,null,{"$f":"IF(Configuração!H702=\"\",\"\",IF($E$12=\"\",\"\",IF(VLOOKUP($E$12,Configuração!$S$7:$U$16,3)=\"D\",Configuração!F702,\"\")))","v":""},null,null,null,null,null,null,4112012,41217]
[null,null,null,null,{"$f":"IF(Configuração!C701=\"\",\"\",Configuração!B701)","v":""},null,null,null,null,null,null,null,null,null,{"$f":"IF(Configuração!H703=\"\",\"\",IF($E$12=\"\",\"\",IF(VLOOKUP($E$12,Configuração!$S$7:$U$16,3)=\"D\",Configuração!F703,\"\")))","v":""},null,null,null,null,null,null,4112013,41582]
[null,null,null,null,{"$f":"IF(Configuração!C702=\"\",\"\",Configuração!B702)","v":""},null,null,null,null,null,null,null,null,null,{"$f":"IF(Configuração!H704=\"\",\"\",IF($E$12=\"\",\"\",IF(VLOOKUP($E$12,Configuração!$S$7:$U$16,3)=\"D\",Configuração!F704,\"\")))","v":""},null,null,null,null,null,null,4112014,41947]
[null,null,null,null,{"$f":"IF(Configuração!C703=\"\",\"\",Configuração!B703)","v":""},null,null,null,null,null,null,null,null,null,{"$f":"IF(Configuração!H705=\"\",\"\",IF($E$12=\"\",\"\",IF(VLOOKUP($E$12,Configuração!$S$7:$U$16,3)=\"D\",Configuração!F705,\"\")))","v":""},null,null,null,null,null,null,4112015,42312]
[null,null,null,null,{"$f":"IF(Configuração!C704=\"\",\"\",Configuração!B704)","v":""},null,null,null,null,null,null,null,null,null,{"$f":"IF(Configuração!H706=\"\",\"\",IF($E$12=\"\",\"\",IF(VLOOKUP($E$12,Configuração!$S$7:$U$16,3)=\"D\",Configuração!F706,\"\")))","v":""},null,null,null,null,null,null,4112016,42678]
[null,null,null,null,{"$f":"IF(Configuração!C705=\"\",\"\",Configuração!B705)","v":""},null,null,null,null,null,null,null,null,null,{"$f":"IF(Configuração!H707=\"\",\"\",IF($E$12=\"\",\"\",IF(VLOOKUP($E$12,Configuração!$S$7:$U$16,3)=\"D\",Configuração!F707,\"\")))","v":""},null,null,null,null,null,null,4112017,43043]
[null,null,null,null,{"$f":"IF(Configuração!C706=\"\",\"\",Configuração!B706)","v":""},null,null,null,null,null,null,null,null,null,{"$f":"IF(Configuração!H708=\"\",\"\",IF($E$12=\"\",\"\",IF(VLOOKUP($E$12,Configuração!$S$7:$U$16,3)=\"D\",Configuração!F708,\"\")))","v":""},null,null,null,null,null,null,4112018,43408]
[null,null,null,null,{"$f":"IF(Configuração!C707=\"\",\"\",Configuração!B707)","v":""},null,null,null,null,null,null,null,null,null,{"$f":"IF(Configuração!H709=\"\",\"\",IF($E$12=\"\",\"\",IF(VLOOKUP($E$12,Configuração!$S$7:$U$16,3)=\"D\",Configuração!F709,\"\")))","v":""},null,null,null,null,null,null,4112019,43773]
[null,null,null,null,{"$f":"IF(Configuração!C708=\"\",\"\",Configuração!B708)","v":""},null,null,null,null,null,null,null,null,null,{"$f":"IF(Configuração!H710=\"\",\"\",IF($E$12=\"\",\"\",IF(VLOOKUP($E$12,Configuração!$S$7:$U$16,3)=\"D\",Configuração!F710,\"\")))","v":""},null,null,null,null,null,null,4112020,44139]
[null,null,null,null,{"$f":"IF(Configuração!C709=\"\",\"\",Configuração!B709)","v":""},null,null,null,null,null,null,null,null,null,{"$f":"IF(Configuração!H711=\"\",\"\",IF($E$12=\"\",\"\",IF(VLOOKUP($E$12,Configuração!$S$7:$U$16,3)=\"D\",Configuração!F711,\"\")))","v":""},null,null,null,null,null,null,4112021,44504]
[null,null,null,null,{"$f":"IF(Configuração!C710=\"\",\"\",Configuração!B710)","v":""},null,null,null,null,null,null,null,null,null,{"$f":"IF(Configuração!H712=\"\",\"\",IF($E$12=\"\",\"\",IF(VLOOKUP($E$12,Configuração!$S$7:$U$16,3)=\"D\",Configuração!F712,\"\")))","v":""},null,null,null,null,null,null,4112022,44869]
[null,null,null,null,{"$f":"IF(Configuração!C711=\"\",\"\",Configuração!B711)","v":""},null,null,null,null,null,null,null,null,null,{"$f":"IF(Configuração!H713=\"\",\"\",IF($E$12=\"\",\"\",IF(VLOOKUP($E$12,Configuração!$S$7:$U$16,3)=\"D\",Configuração!F713,\"\")))","v":""},null,null,null,null,null,null,4112023,45234]
[null,null,null,null,{"$f":"IF(Configuração!C712=\"\",\"\",Configuração!B712)","v":""},null,null,null,null,null,null,null,null,null,{"$f":"IF(Configuração!H714=\"\",\"\",IF($E$12=\"\",\"\",IF(VLOOKUP($E$12,Configuração!$S$7:$U$16,3)=\"D\",Configuração!F714,\"\")))","v":""},null,null,null,null,null,null,4122009,40151]
[null,null,null,null,{"$f":"IF(Configuração!C713=\"\",\"\",Configuração!B713)","v":""},null,null,null,null,null,null,null,null,null,{"$f":"IF(Configuração!H715=\"\",\"\",IF($E$12=\"\",\"\",IF(VLOOKUP($E$12,Configuração!$S$7:$U$16,3)=\"D\",Configuração!F715,\"\")))","v":""},null,null,null,null,null,null,4122010,40516]
[null,null,null,null,{"$f":"IF(Configuração!C714=\"\",\"\",Configuração!B714)","v":""},null,null,null,null,null,null,null,null,null,{"$f":"IF(Configuração!H716=\"\",\"\",IF($E$12=\"\",\"\",IF(VLOOKUP($E$12,Configuração!$S$7:$U$16,3)=\"D\",Configuração!F716,\"\")))","v":""},null,null,null,null,null,null,4122011,40881]
[null,null,null,null,{"$f":"IF(Configuração!C715=\"\",\"\",Configuração!B715)","v":""},null,null,null,null,null,null,null,null,null,{"$f":"IF(Configuração!H717=\"\",\"\",IF($E$12=\"\",\"\",IF(VLOOKUP($E$12,Configuração!$S$7:$U$16,3)=\"D\",Configuração!F717,\"\")))","v":""},null,null,null,null,null,null,4122012,41247]
[null,null,null,null,{"$f":"IF(Configuração!C716=\"\",\"\",Configuração!B716)","v":""},null,null,null,null,null,null,null,null,null,{"$f":"IF(Configuração!H718=\"\",\"\",IF($E$12=\"\",\"\",IF(VLOOKUP($E$12,Configuração!$S$7:$U$16,3)=\"D\",Configuração!F718,\"\")))","v":""},null,null,null,null,null,null,4122013,41612]
[null,null,null,null,{"$f":"IF(Configuração!C717=\"\",\"\",Configuração!B717)","v":""},null,null,null,null,null,null,null,null,null,{"$f":"IF(Configuração!H719=\"\",\"\",IF($E$12=\"\",\"\",IF(VLOOKUP($E$12,Configuração!$S$7:$U$16,3)=\"D\",Configuração!F719,\"\")))","v":""},null,null,null,null,null,null,4122014,41977]
[null,null,null,null,{"$f":"IF(Configuração!C718=\"\",\"\",Configuração!B718)","v":""},null,null,null,null,null,null,null,null,null,{"$f":"IF(Configuração!H720=\"\",\"\",IF($E$12=\"\",\"\",IF(VLOOKUP($E$12,Configuração!$S$7:$U$16,3)=\"D\",Configuração!F720,\"\")))","v":""},null,null,null,null,null,null,4122015,42342]
[null,null,null,null,{"$f":"IF(Configuração!C719=\"\",\"\",Configuração!B719)","v":""},null,null,null,null,null,null,null,null,null,{"$f":"IF(Configuração!H721=\"\",\"\",IF($E$12=\"\",\"\",IF(VLOOKUP($E$12,Configuração!$S$7:$U$16,3)=\"D\",Configuração!F721,\"\")))","v":""},null,null,null,null,null,null,4122016,42708]
[null,null,null,null,{"$f":"IF(Configuração!C720=\"\",\"\",Configuração!B720)","v":""},null,null,null,null,null,null,null,null,null,{"$f":"IF(Configuração!H722=\"\",\"\",IF($E$12=\"\",\"\",IF(VLOOKUP($E$12,Configuração!$S$7:$U$16,3)=\"D\",Configuração!F722,\"\")))","v":""},null,null,null,null,null,null,4122017,43073]
[null,null,null,null,{"$f":"IF(Configuração!C721=\"\",\"\",Configuração!B721)","v":""},null,null,null,null,null,null,null,null,null,null,null,null,null,null,null,null,4122018,43438]
[null,null,null,null,{"$f":"IF(Configuração!C722=\"\",\"\",Configuração!B722)","v":""},null,null,null,null,null,null,null,null,null,{"$f":"IF(Configuração!H724=\"\",\"\",IF($E$12=\"\",\"\",IF(VLOOKUP($E$12,Configuração!$S$7:$U$16,3)=\"D\",Configuração!F724,\"\")))","v":""},null,null,null,null,null,null,4122019,43803]
[null,null,null,null,{"$f":"IF(Configuração!C723=\"\",\"\",Configuração!B723)","v":""},null,null,null,null,null,null,null,null,null,{"$f":"IF(Configuração!H725=\"\",\"\",IF($E$12=\"\",\"\",IF(VLOOKUP($E$12,Configuração!$S$7:$U$16,3)=\"D\",Configuração!F725,\"\")))","v":""},null,null,null,null,null,null,4122020,44169]
[null,null,null,null,{"$f":"IF(Configuração!C724=\"\",\"\",Configuração!B724)","v":""},null,null,null,null,null,null,null,null,null,{"$f":"IF(Configuração!H726=\"\",\"\",IF($E$12=\"\",\"\",IF(VLOOKUP($E$12,Configuração!$S$7:$U$16,3)=\"D\",Configuração!F726,\"\")))","v":""},null,null,null,null,null,null,4122021,44534]
[null,null,null,null,{"$f":"IF(Configuração!C725=\"\",\"\",Configuração!B725)","v":""},null,null,null,null,null,null,null,null,null,{"$f":"IF(Configuração!H727=\"\",\"\",IF($E$12=\"\",\"\",IF(VLOOKUP($E$12,Configuração!$S$7:$U$16,3)=\"D\",Configuração!F727,\"\")))","v":""},null,null,null,null,null,null,4122022,44899]
[null,null,null,null,{"$f":"IF(Configuração!C726=\"\",\"\",Configuração!B726)","v":""},null,null,null,null,null,null,null,null,null,{"$f":"IF(Configuração!H728=\"\",\"\",IF($E$12=\"\",\"\",IF(VLOOKUP($E$12,Configuração!$S$7:$U$16,3)=\"D\",Configuração!F728,\"\")))","v":""},null,null,null,null,null,null,4122023,45264]
[null,null,null,null,{"$f":"IF(Configuração!C727=\"\",\"\",Configuração!B727)","v":""},null,null,null,null,null,null,null,null,null,{"$f":"IF(Configuração!H729=\"\",\"\",IF($E$12=\"\",\"\",IF(VLOOKUP($E$12,Configuração!$S$7:$U$16,3)=\"D\",Configuração!F729,\"\")))","v":""},null,null,null,null,null,null,5012009,39818]
[null,null,null,null,{"$f":"IF(Configuração!C728=\"\",\"\",Configuração!B728)","v":""},null,null,null,null,null,null,null,null,null,{"$f":"IF(Configuração!H730=\"\",\"\",IF($E$12=\"\",\"\",IF(VLOOKUP($E$12,Configuração!$S$7:$U$16,3)=\"D\",Configuração!F730,\"\")))","v":""},null,null,null,null,null,null,5012010,40183]
[null,null,null,null,{"$f":"IF(Configuração!C729=\"\",\"\",Configuração!B729)","v":""},null,null,null,null,null,null,null,null,null,{"$f":"IF(Configuração!H731=\"\",\"\",IF($E$12=\"\",\"\",IF(VLOOKUP($E$12,Configuração!$S$7:$U$16,3)=\"D\",Configuração!F731,\"\")))","v":""},null,null,null,null,null,null,5012011,40548]
[null,null,null,null,{"$f":"IF(Configuração!C730=\"\",\"\",Configuração!B730)","v":""},null,null,null,null,null,null,null,null,null,{"$f":"IF(Configuração!H732=\"\",\"\",IF($E$12=\"\",\"\",IF(VLOOKUP($E$12,Configuração!$S$7:$U$16,3)=\"D\",Configuração!F732,\"\")))","v":""},null,null,null,null,null,null,5012012,40913]
[null,null,null,null,{"$f":"IF(Configuração!C731=\"\",\"\",Configuração!B731)","v":""},null,null,null,null,null,null,null,null,null,{"$f":"IF(Configuração!H733=\"\",\"\",IF($E$12=\"\",\"\",IF(VLOOKUP($E$12,Configuração!$S$7:$U$16,3)=\"D\",Configuração!F733,\"\")))","v":""},null,null,null,null,null,null,5012013,41279]
[null,null,null,null,{"$f":"IF(Configuração!C732=\"\",\"\",Configuração!B732)","v":""},null,null,null,null,null,null,null,null,null,{"$f":"IF(Configuração!H734=\"\",\"\",IF($E$12=\"\",\"\",IF(VLOOKUP($E$12,Configuração!$S$7:$U$16,3)=\"D\",Configuração!F734,\"\")))","v":""},null,null,null,null,null,null,5012014,41644]
[null,null,null,null,{"$f":"IF(Configuração!C733=\"\",\"\",Configuração!B733)","v":""},null,null,null,null,null,null,null,null,null,{"$f":"IF(Configuração!H735=\"\",\"\",IF($E$12=\"\",\"\",IF(VLOOKUP($E$12,Configuração!$S$7:$U$16,3)=\"D\",Configuração!F735,\"\")))","v":""},null,null,null,null,null,null,5012015,42009]
[null,null,null,null,{"$f":"IF(Configuração!C734=\"\",\"\",Configuração!B734)","v":""},null,null,null,null,null,null,null,null,null,{"$f":"IF(Configuração!H736=\"\",\"\",IF($E$12=\"\",\"\",IF(VLOOKUP($E$12,Configuração!$S$7:$U$16,3)=\"D\",Configuração!F736,\"\")))","v":""},null,null,null,null,null,null,5012016,42374]
[null,null,null,null,{"$f":"IF(Configuração!C735=\"\",\"\",Configuração!B735)","v":""},null,null,null,null,null,null,null,null,null,{"$f":"IF(Configuração!H737=\"\",\"\",IF($E$12=\"\",\"\",IF(VLOOKUP($E$12,Configuração!$S$7:$U$16,3)=\"D\",Configuração!F737,\"\")))","v":""},null,null,null,null,null,null,5012017,42740]
[null,null,null,null,{"$f":"IF(Configuração!C736=\"\",\"\",Configuração!B736)","v":""},null,null,null,null,null,null,null,null,null,{"$f":"IF(Configuração!H738=\"\",\"\",IF($E$12=\"\",\"\",IF(VLOOKUP($E$12,Configuração!$S$7:$U$16,3)=\"D\",Configuração!F738,\"\")))","v":""},null,null,null,null,null,null,5012018,43105]
[null,null,null,null,{"$f":"IF(Configuração!C737=\"\",\"\",Configuração!B737)","v":""},null,null,null,null,null,null,null,null,null,{"$f":"IF(Configuração!H739=\"\",\"\",IF($E$12=\"\",\"\",IF(VLOOKUP($E$12,Configuração!$S$7:$U$16,3)=\"D\",Configuração!F739,\"\")))","v":""},null,null,null,null,null,null,5012019,43470]
[null,null,null,null,{"$f":"IF(Configuração!C738=\"\",\"\",Configuração!B738)","v":""},null,null,null,null,null,null,null,null,null,{"$f":"IF(Configuração!H740=\"\",\"\",IF($E$12=\"\",\"\",IF(VLOOKUP($E$12,Configuração!$S$7:$U$16,3)=\"D\",Configuração!F740,\"\")))","v":""},null,null,null,null,null,null,5012020,43835]
[null,null,null,null,{"$f":"IF(Configuração!C739=\"\",\"\",Configuração!B739)","v":""},null,null,null,null,null,null,null,null,null,{"$f":"IF(Configuração!H741=\"\",\"\",IF($E$12=\"\",\"\",IF(VLOOKUP($E$12,Configuração!$S$7:$U$16,3)=\"D\",Configuração!F741,\"\")))","v":""},null,null,null,null,null,null,5012021,44201]
[null,null,null,null,{"$f":"IF(Configuração!C740=\"\",\"\",Configuração!B740)","v":""},null,null,null,null,null,null,null,null,null,{"$f":"IF(Configuração!H742=\"\",\"\",IF($E$12=\"\",\"\",IF(VLOOKUP($E$12,Configuração!$S$7:$U$16,3)=\"D\",Configuração!F742,\"\")))","v":""},null,null,null,null,null,null,5012022,44566]
[null,null,null,null,{"$f":"IF(Configuração!C741=\"\",\"\",Configuração!B741)","v":""},null,null,null,null,null,null,null,null,null,{"$f":"IF(Configuração!H743=\"\",\"\",IF($E$12=\"\",\"\",IF(VLOOKUP($E$12,Configuração!$S$7:$U$16,3)=\"D\",Configuração!F743,\"\")))","v":""},null,null,null,null,null,null,5012023,44931]
[null,null,null,null,{"$f":"IF(Configuração!C742=\"\",\"\",Configuração!B742)","v":""},null,null,null,null,null,null,null,null,null,{"$f":"IF(Configuração!H744=\"\",\"\",IF($E$12=\"\",\"\",IF(VLOOKUP($E$12,Configuração!$S$7:$U$16,3)=\"D\",Configuração!F744,\"\")))","v":""},null,null,null,null,null,null,5022009,39849]
[null,null,null,null,{"$f":"IF(Configuração!C743=\"\",\"\",Configuração!B743)","v":""},null,null,null,null,null,null,null,null,null,{"$f":"IF(Configuração!H745=\"\",\"\",IF($E$12=\"\",\"\",IF(VLOOKUP($E$12,Configuração!$S$7:$U$16,3)=\"D\",Configuração!F745,\"\")))","v":""},null,null,null,null,null,null,5022010,40214]
[null,null,null,null,{"$f":"IF(Configuração!C744=\"\",\"\",Configuração!B744)","v":""},null,null,null,null,null,null,null,null,null,{"$f":"IF(Configuração!H746=\"\",\"\",IF($E$12=\"\",\"\",IF(VLOOKUP($E$12,Configuração!$S$7:$U$16,3)=\"D\",Configuração!F746,\"\")))","v":""},null,null,null,null,null,null,5022011,40579]
[null,null,null,null,{"$f":"IF(Configuração!C745=\"\",\"\",Configuração!B745)","v":""},null,null,null,null,null,null,null,null,null,{"$f":"IF(Configuração!H747=\"\",\"\",IF($E$12=\"\",\"\",IF(VLOOKUP($E$12,Configuração!$S$7:$U$16,3)=\"D\",Configuração!F747,\"\")))","v":""},null,null,null,null,null,null,5022012,40944]
[null,null,null,null,{"$f":"IF(Configuração!C746=\"\",\"\",Configuração!B746)","v":""},null,null,null,null,null,null,null,null,null,{"$f":"IF(Configuração!H748=\"\",\"\",IF($E$12=\"\",\"\",IF(VLOOKUP($E$12,Configuração!$S$7:$U$16,3)=\"D\",Configuração!F748,\"\")))","v":""},null,null,null,null,null,null,5022013,41310]
[null,null,null,null,{"$f":"IF(Configuração!C747=\"\",\"\",Configuração!B747)","v":""},null,null,null,null,null,null,null,null,null,{"$f":"IF(Configuração!H749=\"\",\"\",IF($E$12=\"\",\"\",IF(VLOOKUP($E$12,Configuração!$S$7:$U$16,3)=\"D\",Configuração!F749,\"\")))","v":""},null,null,null,null,null,null,5022014,41675]
[null,null,null,null,{"$f":"IF(Configuração!C748=\"\",\"\",Configuração!B748)","v":""},null,null,null,null,null,null,null,null,null,{"$f":"IF(Configuração!H750=\"\",\"\",IF($E$12=\"\",\"\",IF(VLOOKUP($E$12,Configuração!$S$7:$U$16,3)=\"D\",Configuração!F750,\"\")))","v":""},null,null,null,null,null,null,5022015,42040]
[null,null,null,null,{"$f":"IF(Configuração!C749=\"\",\"\",Configuração!B749)","v":""},null,null,null,null,null,null,null,null,null,{"$f":"IF(Configuração!H751=\"\",\"\",IF($E$12=\"\",\"\",IF(VLOOKUP($E$12,Configuração!$S$7:$U$16,3)=\"D\",Configuração!F751,\"\")))","v":""},null,null,null,null,null,null,5022016,42405]
[null,null,null,null,{"$f":"IF(Configuração!C750=\"\",\"\",Configuração!B750)","v":""},null,null,null,null,null,null,null,null,null,{"$f":"IF(Configuração!H752=\"\",\"\",IF($E$12=\"\",\"\",IF(VLOOKUP($E$12,Configuração!$S$7:$U$16,3)=\"D\",Configuração!F752,\"\")))","v":""},null,null,null,null,null,null,5022017,42771]
[null,null,null,null,{"$f":"IF(Configuração!C751=\"\",\"\",Configuração!B751)","v":""},null,null,null,null,null,null,null,null,null,{"$f":"IF(Configuração!H753=\"\",\"\",IF($E$12=\"\",\"\",IF(VLOOKUP($E$12,Configuração!$S$7:$U$16,3)=\"D\",Configuração!F753,\"\")))","v":""},null,null,null,null,null,null,5022018,43136]
[null,null,null,null,{"$f":"IF(Configuração!C752=\"\",\"\",Configuração!B752)","v":""},null,null,null,null,null,null,null,null,null,{"$f":"IF(Configuração!H754=\"\",\"\",IF($E$12=\"\",\"\",IF(VLOOKUP($E$12,Configuração!$S$7:$U$16,3)=\"D\",Configuração!F754,\"\")))","v":""},null,null,null,null,null,null,5022019,43501]
[null,null,null,null,{"$f":"IF(Configuração!C753=\"\",\"\",Configuração!B753)","v":""},null,null,null,null,null,null,null,null,null,{"$f":"IF(Configuração!H755=\"\",\"\",IF($E$12=\"\",\"\",IF(VLOOKUP($E$12,Configuração!$S$7:$U$16,3)=\"D\",Configuração!F755,\"\")))","v":""},null,null,null,null,null,null,5022020,43866]
[null,null,null,null,{"$f":"IF(Configuração!C754=\"\",\"\",Configuração!B754)","v":""},null,null,null,null,null,null,null,null,null,{"$f":"IF(Configuração!H756=\"\",\"\",IF($E$12=\"\",\"\",IF(VLOOKUP($E$12,Configuração!$S$7:$U$16,3)=\"D\",Configuração!F756,\"\")))","v":""},null,null,null,null,null,null,5022021,44232]
[null,null,null,null,{"$f":"IF(Configuração!C755=\"\",\"\",Configuração!B755)","v":""},null,null,null,null,null,null,null,null,null,{"$f":"IF(Configuração!H757=\"\",\"\",IF($E$12=\"\",\"\",IF(VLOOKUP($E$12,Configuração!$S$7:$U$16,3)=\"D\",Configuração!F757,\"\")))","v":""},null,null,null,null,null,null,5022022,44597]
[null,null,null,null,{"$f":"IF(Configuração!C756=\"\",\"\",Configuração!B756)","v":""},null,null,null,null,null,null,null,null,null,{"$f":"IF(Configuração!H758=\"\",\"\",IF($E$12=\"\",\"\",IF(VLOOKUP($E$12,Configuração!$S$7:$U$16,3)=\"D\",Configuração!F758,\"\")))","v":""},null,null,null,null,null,null,5022023,44962]
[null,null,null,null,{"$f":"IF(Configuração!C757=\"\",\"\",Configuração!B757)","v":""},null,null,null,null,null,null,null,null,null,{"$f":"IF(Configuração!H759=\"\",\"\",IF($E$12=\"\",\"\",IF(VLOOKUP($E$12,Configuração!$S$7:$U$16,3)=\"D\",Configuração!F759,\"\")))","v":""},null,null,null,null,null,null,5032009,39877]
[null,null,null,null,{"$f":"IF(Configuração!C758=\"\",\"\",Configuração!B758)","v":""},null,null,null,null,null,null,null,null,null,{"$f":"IF(Configuração!H760=\"\",\"\",IF($E$12=\"\",\"\",IF(VLOOKUP($E$12,Configuração!$S$7:$U$16,3)=\"D\",Configuração!F760,\"\")))","v":""},null,null,null,null,null,null,5032010,40242]
[null,null,null,null,{"$f":"IF(Configuração!C759=\"\",\"\",Configuração!B759)","v":""},null,null,null,null,null,null,null,null,null,{"$f":"IF(Configuração!H761=\"\",\"\",IF($E$12=\"\",\"\",IF(VLOOKUP($E$12,Configuração!$S$7:$U$16,3)=\"D\",Configuração!F761,\"\")))","v":""},null,null,null,null,null,null,5032011,40607]
[null,null,null,null,{"$f":"IF(Configuração!C760=\"\",\"\",Configuração!B760)","v":""},null,null,null,null,null,null,null,null,null,{"$f":"IF(Configuração!H762=\"\",\"\",IF($E$12=\"\",\"\",IF(VLOOKUP($E$12,Configuração!$S$7:$U$16,3)=\"D\",Configuração!F762,\"\")))","v":""},null,null,null,null,null,null,5032012,40973]
[null,null,null,null,{"$f":"IF(Configuração!C761=\"\",\"\",Configuração!B761)","v":""},null,null,null,null,null,null,null,null,null,{"$f":"IF(Configuração!H763=\"\",\"\",IF($E$12=\"\",\"\",IF(VLOOKUP($E$12,Configuração!$S$7:$U$16,3)=\"D\",Configuração!F763,\"\")))","v":""},null,null,null,null,null,null,5032013,41338]
[null,null,null,null,{"$f":"IF(Configuração!C762=\"\",\"\",Configuração!B762)","v":""},null,null,null,null,null,null,null,null,null,{"$f":"IF(Configuração!H764=\"\",\"\",IF($E$12=\"\",\"\",IF(VLOOKUP($E$12,Configuração!$S$7:$U$16,3)=\"D\",Configuração!F764,\"\")))","v":""},null,null,null,null,null,null,5032014,41703]
[null,null,null,null,{"$f":"IF(Configuração!C763=\"\",\"\",Configuração!B763)","v":""},null,null,null,null,null,null,null,null,null,{"$f":"IF(Configuração!H765=\"\",\"\",IF($E$12=\"\",\"\",IF(VLOOKUP($E$12,Configuração!$S$7:$U$16,3)=\"D\",Configuração!F765,\"\")))","v":""},null,null,null,null,null,null,5032015,42068]
[null,null,null,null,{"$f":"IF(Configuração!C764=\"\",\"\",Configuração!B764)","v":""},null,null,null,null,null,null,null,null,null,{"$f":"IF(Configuração!H766=\"\",\"\",IF($E$12=\"\",\"\",IF(VLOOKUP($E$12,Configuração!$S$7:$U$16,3)=\"D\",Configuração!F766,\"\")))","v":""},null,null,null,null,null,null,5032016,42434]
[null,null,null,null,{"$f":"IF(Configuração!C765=\"\",\"\",Configuração!B765)","v":""},null,null,null,null,null,null,null,null,null,{"$f":"IF(Configuração!H767=\"\",\"\",IF($E$12=\"\",\"\",IF(VLOOKUP($E$12,Configuração!$S$7:$U$16,3)=\"D\",Configuração!F767,\"\")))","v":""},null,null,null,null,null,null,5032017,42799]
[null,null,null,null,{"$f":"IF(Configuração!C766=\"\",\"\",Configuração!B766)","v":""},null,null,null,null,null,null,null,null,null,{"$f":"IF(Configuração!H768=\"\",\"\",IF($E$12=\"\",\"\",IF(VLOOKUP($E$12,Configuração!$S$7:$U$16,3)=\"D\",Configuração!F768,\"\")))","v":""},null,null,null,null,null,null,5032018,43164]
[null,null,null,null,{"$f":"IF(Configuração!C767=\"\",\"\",Configuração!B767)","v":""},null,null,null,null,null,null,null,null,null,{"$f":"IF(Configuração!H769=\"\",\"\",IF($E$12=\"\",\"\",IF(VLOOKUP($E$12,Configuração!$S$7:$U$16,3)=\"D\",Configuração!F769,\"\")))","v":""},null,null,null,null,null,null,5032019,43529]
[null,null,null,null,{"$f":"IF(Configuração!C768=\"\",\"\",Configuração!B768)","v":""},null,null,null,null,null,null,null,null,null,{"$f":"IF(Configuração!H770=\"\",\"\",IF($E$12=\"\",\"\",IF(VLOOKUP($E$12,Configuração!$S$7:$U$16,3)=\"D\",Configuração!F770,\"\")))","v":""},null,null,null,null,null,null,5032020,43895]
[null,null,null,null,{"$f":"IF(Configuração!C769=\"\",\"\",Configuração!B769)","v":""},null,null,null,null,null,null,null,null,null,{"$f":"IF(Configuração!H771=\"\",\"\",IF($E$12=\"\",\"\",IF(VLOOKUP($E$12,Configuração!$S$7:$U$16,3)=\"D\",Configuração!F771,\"\")))","v":""},null,null,null,null,null,null,5032021,44260]
[null,null,null,null,{"$f":"IF(Configuração!C770=\"\",\"\",Configuração!B770)","v":""},null,null,null,null,null,null,null,null,null,{"$f":"IF(Configuração!H772=\"\",\"\",IF($E$12=\"\",\"\",IF(VLOOKUP($E$12,Configuração!$S$7:$U$16,3)=\"D\",Configuração!F772,\"\")))","v":""},null,null,null,null,null,null,5032022,44625]
[null,null,null,null,{"$f":"IF(Configuração!C771=\"\",\"\",Configuração!B771)","v":""},null,null,null,null,null,null,null,null,null,{"$f":"IF(Configuração!H773=\"\",\"\",IF($E$12=\"\",\"\",IF(VLOOKUP($E$12,Configuração!$S$7:$U$16,3)=\"D\",Configuração!F773,\"\")))","v":""},null,null,null,null,null,null,5032023,44990]
[null,null,null,null,{"$f":"IF(Configuração!C772=\"\",\"\",Configuração!B772)","v":""},null,null,null,null,null,null,null,null,null,null,null,null,null,null,null,null,5042009,39908]
[null,null,null,null,{"$f":"IF(Configuração!C773=\"\",\"\",Configuração!B773)","v":""},null,null,null,null,null,null,null,null,null,{"$f":"IF(Configuração!H775=\"\",\"\",IF($E$12=\"\",\"\",IF(VLOOKUP($E$12,Configuração!$S$7:$U$16,3)=\"D\",Configuração!F775,\"\")))","v":""},null,null,null,null,null,null,5042010,40273]
[null,null,null,null,{"$f":"IF(Configuração!C774=\"\",\"\",Configuração!B774)","v":""},null,null,null,null,null,null,null,null,null,{"$f":"IF(Configuração!H776=\"\",\"\",IF($E$12=\"\",\"\",IF(VLOOKUP($E$12,Configuração!$S$7:$U$16,3)=\"D\",Configuração!F776,\"\")))","v":""},null,null,null,null,null,null,5042011,40638]
[null,null,null,null,{"$f":"IF(Configuração!C775=\"\",\"\",Configuração!B775)","v":""},null,null,null,null,null,null,null,null,null,{"$f":"IF(Configuração!H777=\"\",\"\",IF($E$12=\"\",\"\",IF(VLOOKUP($E$12,Configuração!$S$7:$U$16,3)=\"D\",Configuração!F777,\"\")))","v":""},null,null,null,null,null,null,5042012,41004]
[null,null,null,null,{"$f":"IF(Configuração!C776=\"\",\"\",Configuração!B776)","v":""},null,null,null,null,null,null,null,null,null,{"$f":"IF(Configuração!H778=\"\",\"\",IF($E$12=\"\",\"\",IF(VLOOKUP($E$12,Configuração!$S$7:$U$16,3)=\"D\",Configuração!F778,\"\")))","v":""},null,null,null,null,null,null,5042013,41369]
[null,null,null,null,{"$f":"IF(Configuração!C777=\"\",\"\",Configuração!B777)","v":""},null,null,null,null,null,null,null,null,null,{"$f":"IF(Configuração!H779=\"\",\"\",IF($E$12=\"\",\"\",IF(VLOOKUP($E$12,Configuração!$S$7:$U$16,3)=\"D\",Configuração!F779,\"\")))","v":""},null,null,null,null,null,null,5042014,41734]
[null,null,null,null,{"$f":"IF(Configuração!C778=\"\",\"\",Configuração!B778)","v":""},null,null,null,null,null,null,null,null,null,{"$f":"IF(Configuração!H780=\"\",\"\",IF($E$12=\"\",\"\",IF(VLOOKUP($E$12,Configuração!$S$7:$U$16,3)=\"D\",Configuração!F780,\"\")))","v":""},null,null,null,null,null,null,5042015,42099]
[null,null,null,null,{"$f":"IF(Configuração!C779=\"\",\"\",Configuração!B779)","v":""},null,null,null,null,null,null,null,null,null,{"$f":"IF(Configuração!H781=\"\",\"\",IF($E$12=\"\",\"\",IF(VLOOKUP($E$12,Configuração!$S$7:$U$16,3)=\"D\",Configuração!F781,\"\")))","v":""},null,null,null,null,null,null,5042016,42465]
[null,null,null,null,{"$f":"IF(Configuração!C780=\"\",\"\",Configuração!B780)","v":""},null,null,null,null,null,null,null,null,null,{"$f":"IF(Configuração!H782=\"\",\"\",IF($E$12=\"\",\"\",IF(VLOOKUP($E$12,Configuração!$S$7:$U$16,3)=\"D\",Configuração!F782,\"\")))","v":""},null,null,null,null,null,null,5042017,42830]
[null,null,null,null,{"$f":"IF(Configuração!C781=\"\",\"\",Configuração!B781)","v":""},null,null,null,null,null,null,null,null,null,{"$f":"IF(Configuração!H783=\"\",\"\",IF($E$12=\"\",\"\",IF(VLOOKUP($E$12,Configuração!$S$7:$U$16,3)=\"D\",Configuração!F783,\"\")))","v":""},null,null,null,null,null,null,5042018,43195]
[null,null,null,null,{"$f":"IF(Configuração!C782=\"\",\"\",Configuração!B782)","v":""},null,null,null,null,null,null,null,null,null,{"$f":"IF(Configuração!H784=\"\",\"\",IF($E$12=\"\",\"\",IF(VLOOKUP($E$12,Configuração!$S$7:$U$16,3)=\"D\",Configuração!F784,\"\")))","v":""},null,null,null,null,null,null,5042019,43560]
[null,null,null,null,{"$f":"IF(Configuração!C783=\"\",\"\",Configuração!B783)","v":""},null,null,null,null,null,null,null,null,null,{"$f":"IF(Configuração!H785=\"\",\"\",IF($E$12=\"\",\"\",IF(VLOOKUP($E$12,Configuração!$S$7:$U$16,3)=\"D\",Configuração!F785,\"\")))","v":""},null,null,null,null,null,null,5042020,43926]
[null,null,null,null,{"$f":"IF(Configuração!C784=\"\",\"\",Configuração!B784)","v":""},null,null,null,null,null,null,null,null,null,{"$f":"IF(Configuração!H786=\"\",\"\",IF($E$12=\"\",\"\",IF(VLOOKUP($E$12,Configuração!$S$7:$U$16,3)=\"D\",Configuração!F786,\"\")))","v":""},null,null,null,null,null,null,5042021,44291]
[null,null,null,null,{"$f":"IF(Configuração!C785=\"\",\"\",Configuração!B785)","v":""},null,null,null,null,null,null,null,null,null,{"$f":"IF(Configuração!H787=\"\",\"\",IF($E$12=\"\",\"\",IF(VLOOKUP($E$12,Configuração!$S$7:$U$16,3)=\"D\",Configuração!F787,\"\")))","v":""},null,null,null,null,null,null,5042022,44656]
[null,null,null,null,{"$f":"IF(Configuração!C786=\"\",\"\",Configuração!B786)","v":""},null,null,null,null,null,null,null,null,null,{"$f":"IF(Configuração!H788=\"\",\"\",IF($E$12=\"\",\"\",IF(VLOOKUP($E$12,Configuração!$S$7:$U$16,3)=\"D\",Configuração!F788,\"\")))","v":""},null,null,null,null,null,null,5042023,45021]
[null,null,null,null,{"$f":"IF(Configuração!C787=\"\",\"\",Configuração!B787)","v":""},null,null,null,null,null,null,null,null,null,{"$f":"IF(Configuração!H789=\"\",\"\",IF($E$12=\"\",\"\",IF(VLOOKUP($E$12,Configuração!$S$7:$U$16,3)=\"D\",Configuração!F789,\"\")))","v":""},null,null,null,null,null,null,5052009,39938]
[null,null,null,null,{"$f":"IF(Configuração!C788=\"\",\"\",Configuração!B788)","v":""},null,null,null,null,null,null,null,null,null,{"$f":"IF(Configuração!H790=\"\",\"\",IF($E$12=\"\",\"\",IF(VLOOKUP($E$12,Configuração!$S$7:$U$16,3)=\"D\",Configuração!F790,\"\")))","v":""},null,null,null,null,null,null,5052010,40303]
[null,null,null,null,{"$f":"IF(Configuração!C789=\"\",\"\",Configuração!B789)","v":""},null,null,null,null,null,null,null,null,null,{"$f":"IF(Configuração!H791=\"\",\"\",IF($E$12=\"\",\"\",IF(VLOOKUP($E$12,Configuração!$S$7:$U$16,3)=\"D\",Configuração!F791,\"\")))","v":""},null,null,null,null,null,null,5052011,40668]
[null,null,null,null,{"$f":"IF(Configuração!C790=\"\",\"\",Configuração!B790)","v":""},null,null,null,null,null,null,null,null,null,{"$f":"IF(Configuração!H792=\"\",\"\",IF($E$12=\"\",\"\",IF(VLOOKUP($E$12,Configuração!$S$7:$U$16,3)=\"D\",Configuração!F792,\"\")))","v":""},null,null,null,null,null,null,5052012,41034]
[null,null,null,null,{"$f":"IF(Configuração!C791=\"\",\"\",Configuração!B791)","v":""},null,null,null,null,null,null,null,null,null,{"$f":"IF(Configuração!H793=\"\",\"\",IF($E$12=\"\",\"\",IF(VLOOKUP($E$12,Configuração!$S$7:$U$16,3)=\"D\",Configuração!F793,\"\")))","v":""},null,null,null,null,null,null,5052013,41399]
[null,null,null,null,{"$f":"IF(Configuração!C792=\"\",\"\",Configuração!B792)","v":""},null,null,null,null,null,null,null,null,null,{"$f":"IF(Configuração!H794=\"\",\"\",IF($E$12=\"\",\"\",IF(VLOOKUP($E$12,Configuração!$S$7:$U$16,3)=\"D\",Configuração!F794,\"\")))","v":""},null,null,null,null,null,null,5052014,41764]
[null,null,null,null,{"$f":"IF(Configuração!C793=\"\",\"\",Configuração!B793)","v":""},null,null,null,null,null,null,null,null,null,{"$f":"IF(Configuração!H795=\"\",\"\",IF($E$12=\"\",\"\",IF(VLOOKUP($E$12,Configuração!$S$7:$U$16,3)=\"D\",Configuração!F795,\"\")))","v":""},null,null,null,null,null,null,5052015,42129]
[null,null,null,null,{"$f":"IF(Configuração!C794=\"\",\"\",Configuração!B794)","v":""},null,null,null,null,null,null,null,null,null,{"$f":"IF(Configuração!H796=\"\",\"\",IF($E$12=\"\",\"\",IF(VLOOKUP($E$12,Configuração!$S$7:$U$16,3)=\"D\",Configuração!F796,\"\")))","v":""},null,null,null,null,null,null,5052016,42495]
[null,null,null,null,{"$f":"IF(Configuração!C795=\"\",\"\",Configuração!B795)","v":""},null,null,null,null,null,null,null,null,null,{"$f":"IF(Configuração!H797=\"\",\"\",IF($E$12=\"\",\"\",IF(VLOOKUP($E$12,Configuração!$S$7:$U$16,3)=\"D\",Configuração!F797,\"\")))","v":""},null,null,null,null,null,null,5052017,42860]
[null,null,null,null,{"$f":"IF(Configuração!C796=\"\",\"\",Configuração!B796)","v":""},null,null,null,null,null,null,null,null,null,{"$f":"IF(Configuração!H798=\"\",\"\",IF($E$12=\"\",\"\",IF(VLOOKUP($E$12,Configuração!$S$7:$U$16,3)=\"D\",Configuração!F798,\"\")))","v":""},null,null,null,null,null,null,5052018,43225]
[null,null,null,null,{"$f":"IF(Configuração!C797=\"\",\"\",Configuração!B797)","v":""},null,null,null,null,null,null,null,null,null,{"$f":"IF(Configuração!H799=\"\",\"\",IF($E$12=\"\",\"\",IF(VLOOKUP($E$12,Configuração!$S$7:$U$16,3)=\"D\",Configuração!F799,\"\")))","v":""},null,null,null,null,null,null,5052019,43590]
[null,null,null,null,{"$f":"IF(Configuração!C798=\"\",\"\",Configuração!B798)","v":""},null,null,null,null,null,null,null,null,null,{"$f":"IF(Configuração!H800=\"\",\"\",IF($E$12=\"\",\"\",IF(VLOOKUP($E$12,Configuração!$S$7:$U$16,3)=\"D\",Configuração!F800,\"\")))","v":""},null,null,null,null,null,null,5052020,43956]
[null,null,null,null,{"$f":"IF(Configuração!C799=\"\",\"\",Configuração!B799)","v":""},null,null,null,null,null,null,null,null,null,{"$f":"IF(Configuração!H801=\"\",\"\",IF($E$12=\"\",\"\",IF(VLOOKUP($E$12,Configuração!$S$7:$U$16,3)=\"D\",Configuração!F801,\"\")))","v":""},null,null,null,null,null,null,5052021,44321]
[null,null,null,null,{"$f":"IF(Configuração!C800=\"\",\"\",Configuração!B800)","v":""},null,null,null,null,null,null,null,null,null,{"$f":"IF(Configuração!H802=\"\",\"\",IF($E$12=\"\",\"\",IF(VLOOKUP($E$12,Configuração!$S$7:$U$16,3)=\"D\",Configuração!F802,\"\")))","v":""},null,null,null,null,null,null,5052022,44686]
[null,null,null,null,{"$f":"IF(Configuração!C801=\"\",\"\",Configuração!B801)","v":""},null,null,null,null,null,null,null,null,null,{"$f":"IF(Configuração!H803=\"\",\"\",IF($E$12=\"\",\"\",IF(VLOOKUP($E$12,Configuração!$S$7:$U$16,3)=\"D\",Configuração!F803,\"\")))","v":""},null,null,null,null,null,null,5052023,45051]
[null,null,null,null,{"$f":"IF(Configuração!C802=\"\",\"\",Configuração!B802)","v":""},null,null,null,null,null,null,null,null,null,{"$f":"IF(Configuração!H804=\"\",\"\",IF($E$12=\"\",\"\",IF(VLOOKUP($E$12,Configuração!$S$7:$U$16,3)=\"D\",Configuração!F804,\"\")))","v":""},null,null,null,null,null,null,5062009,39969]
[null,null,null,null,{"$f":"IF(Configuração!C803=\"\",\"\",Configuração!B803)","v":""},null,null,null,null,null,null,null,null,null,{"$f":"IF(Configuração!H805=\"\",\"\",IF($E$12=\"\",\"\",IF(VLOOKUP($E$12,Configuração!$S$7:$U$16,3)=\"D\",Configuração!F805,\"\")))","v":""},null,null,null,null,null,null,5062010,40334]
[null,null,null,null,{"$f":"IF(Configuração!C804=\"\",\"\",Configuração!B804)","v":""},null,null,null,null,null,null,null,null,null,{"$f":"IF(Configuração!H806=\"\",\"\",IF($E$12=\"\",\"\",IF(VLOOKUP($E$12,Configuração!$S$7:$U$16,3)=\"D\",Configuração!F806,\"\")))","v":""},null,null,null,null,null,null,5062011,40699]
[null,null,null,null,{"$f":"IF(Configuração!C805=\"\",\"\",Configuração!B805)","v":""},null,null,null,null,null,null,null,null,null,{"$f":"IF(Configuração!H807=\"\",\"\",IF($E$12=\"\",\"\",IF(VLOOKUP($E$12,Configuração!$S$7:$U$16,3)=\"D\",Configuração!F807,\"\")))","v":""},null,null,null,null,null,null,5062012,41065]
[null,null,null,null,{"$f":"IF(Configuração!C806=\"\",\"\",Configuração!B806)","v":""},null,null,null,null,null,null,null,null,null,{"$f":"IF(Configuração!H808=\"\",\"\",IF($E$12=\"\",\"\",IF(VLOOKUP($E$12,Configuração!$S$7:$U$16,3)=\"D\",Configuração!F808,\"\")))","v":""},null,null,null,null,null,null,5062013,41430]
[null,null,null,null,{"$f":"IF(Configuração!C807=\"\",\"\",Configuração!B807)","v":""},null,null,null,null,null,null,null,null,null,{"$f":"IF(Configuração!H809=\"\",\"\",IF($E$12=\"\",\"\",IF(VLOOKUP($E$12,Configuração!$S$7:$U$16,3)=\"D\",Configuração!F809,\"\")))","v":""},null,null,null,null,null,null,5062014,41795]
[null,null,null,null,{"$f":"IF(Configuração!C808=\"\",\"\",Configuração!B808)","v":""},null,null,null,null,null,null,null,null,null,{"$f":"IF(Configuração!H810=\"\",\"\",IF($E$12=\"\",\"\",IF(VLOOKUP($E$12,Configuração!$S$7:$U$16,3)=\"D\",Configuração!F810,\"\")))","v":""},null,null,null,null,null,null,5062015,42160]
[null,null,null,null,{"$f":"IF(Configuração!C809=\"\",\"\",Configuração!B809)","v":""},null,null,null,null,null,null,null,null,null,{"$f":"IF(Configuração!H811=\"\",\"\",IF($E$12=\"\",\"\",IF(VLOOKUP($E$12,Configuração!$S$7:$U$16,3)=\"D\",Configuração!F811,\"\")))","v":""},null,null,null,null,null,null,5062016,42526]
[null,null,null,null,{"$f":"IF(Configuração!C810=\"\",\"\",Configuração!B810)","v":""},null,null,null,null,null,null,null,null,null,{"$f":"IF(Configuração!H812=\"\",\"\",IF($E$12=\"\",\"\",IF(VLOOKUP($E$12,Configuração!$S$7:$U$16,3)=\"D\",Configuração!F812,\"\")))","v":""},null,null,null,null,null,null,5062017,42891]
[null,null,null,null,{"$f":"IF(Configuração!C811=\"\",\"\",Configuração!B811)","v":""},null,null,null,null,null,null,null,null,null,{"$f":"IF(Configuração!H813=\"\",\"\",IF($E$12=\"\",\"\",IF(VLOOKUP($E$12,Configuração!$S$7:$U$16,3)=\"D\",Configuração!F813,\"\")))","v":""},null,null,null,null,null,null,5062018,43256]
[null,null,null,null,{"$f":"IF(Configuração!C812=\"\",\"\",Configuração!B812)","v":""},null,null,null,null,null,null,null,null,null,{"$f":"IF(Configuração!H814=\"\",\"\",IF($E$12=\"\",\"\",IF(VLOOKUP($E$12,Configuração!$S$7:$U$16,3)=\"D\",Configuração!F814,\"\")))","v":""},null,null,null,null,null,null,5062019,43621]
[null,null,null,null,{"$f":"IF(Configuração!C813=\"\",\"\",Configuração!B813)","v":""},null,null,null,null,null,null,null,null,null,{"$f":"IF(Configuração!H815=\"\",\"\",IF($E$12=\"\",\"\",IF(VLOOKUP($E$12,Configuração!$S$7:$U$16,3)=\"D\",Configuração!F815,\"\")))","v":""},null,null,null,null,null,null,5062020,43987]
[null,null,null,null,{"$f":"IF(Configuração!C814=\"\",\"\",Configuração!B814)","v":""},null,null,null,null,null,null,null,null,null,{"$f":"IF(Configuração!H816=\"\",\"\",IF($E$12=\"\",\"\",IF(VLOOKUP($E$12,Configuração!$S$7:$U$16,3)=\"D\",Configuração!F816,\"\")))","v":""},null,null,null,null,null,null,5062021,44352]
[null,null,null,null,{"$f":"IF(Configuração!C815=\"\",\"\",Configuração!B815)","v":""},null,null,null,null,null,null,null,null,null,{"$f":"IF(Configuração!H817=\"\",\"\",IF($E$12=\"\",\"\",IF(VLOOKUP($E$12,Configuração!$S$7:$U$16,3)=\"D\",Configuração!F817,\"\")))","v":""},null,null,null,null,null,null,5062022,44717]
[null,null,null,null,{"$f":"IF(Configuração!C816=\"\",\"\",Configuração!B816)","v":""},null,null,null,null,null,null,null,null,null,{"$f":"IF(Configuração!H818=\"\",\"\",IF($E$12=\"\",\"\",IF(VLOOKUP($E$12,Configuração!$S$7:$U$16,3)=\"D\",Configuração!F818,\"\")))","v":""},null,null,null,null,null,null,5062023,45082]
[null,null,null,null,{"$f":"IF(Configuração!C817=\"\",\"\",Configuração!B817)","v":""},null,null,null,null,null,null,null,null,null,{"$f":"IF(Configuração!H819=\"\",\"\",IF($E$12=\"\",\"\",IF(VLOOKUP($E$12,Configuração!$S$7:$U$16,3)=\"D\",Configuração!F819,\"\")))","v":""},null,null,null,null,null,null,5072009,39999]
[null,null,null,null,{"$f":"IF(Configuração!C818=\"\",\"\",Configuração!B818)","v":""},null,null,null,null,null,null,null,null,null,{"$f":"IF(Configuração!H820=\"\",\"\",IF($E$12=\"\",\"\",IF(VLOOKUP($E$12,Configuração!$S$7:$U$16,3)=\"D\",Configuração!F820,\"\")))","v":""},null,null,null,null,null,null,5072010,40364]
[null,null,null,null,{"$f":"IF(Configuração!C819=\"\",\"\",Configuração!B819)","v":""},null,null,null,null,null,null,null,null,null,{"$f":"IF(Configuração!H821=\"\",\"\",IF($E$12=\"\",\"\",IF(VLOOKUP($E$12,Configuração!$S$7:$U$16,3)=\"D\",Configuração!F821,\"\")))","v":""},null,null,null,null,null,null,5072011,40729]
[null,null,null,null,{"$f":"IF(Configuração!C820=\"\",\"\",Configuração!B820)","v":""},null,null,null,null,null,null,null,null,null,{"$f":"IF(Configuração!H822=\"\",\"\",IF($E$12=\"\",\"\",IF(VLOOKUP($E$12,Configuração!$S$7:$U$16,3)=\"D\",Configuração!F822,\"\")))","v":""},null,null,null,null,null,null,5072012,41095]
[null,null,null,null,{"$f":"IF(Configuração!C821=\"\",\"\",Configuração!B821)","v":""},null,null,null,null,null,null,null,null,null,{"$f":"IF(Configuração!H823=\"\",\"\",IF($E$12=\"\",\"\",IF(VLOOKUP($E$12,Configuração!$S$7:$U$16,3)=\"D\",Configuração!F823,\"\")))","v":""},null,null,null,null,null,null,5072013,41460]
[null,null,null,null,{"$f":"IF(Configuração!C822=\"\",\"\",Configuração!B822)","v":""},null,null,null,null,null,null,null,null,null,{"$f":"IF(Configuração!H824=\"\",\"\",IF($E$12=\"\",\"\",IF(VLOOKUP($E$12,Configuração!$S$7:$U$16,3)=\"D\",Configuração!F824,\"\")))","v":""},null,null,null,null,null,null,5072014,41825]
[null,null,null,null,{"$f":"IF(Configuração!C823=\"\",\"\",Configuração!B823)","v":""},null,null,null,null,null,null,null,null,null,null,null,null,null,null,null,null,5072015,42190]
[null,null,null,null,{"$f":"IF(Configuração!C824=\"\",\"\",Configuração!B824)","v":""},null,null,null,null,null,null,null,null,null,{"$f":"IF(Configuração!H826=\"\",\"\",IF($E$12=\"\",\"\",IF(VLOOKUP($E$12,Configuração!$S$7:$U$16,3)=\"D\",Configuração!F826,\"\")))","v":""},null,null,null,null,null,null,5072016,42556]
[null,null,null,null,{"$f":"IF(Configuração!C825=\"\",\"\",Configuração!B825)","v":""},null,null,null,null,null,null,null,null,null,{"$f":"IF(Configuração!H827=\"\",\"\",IF($E$12=\"\",\"\",IF(VLOOKUP($E$12,Configuração!$S$7:$U$16,3)=\"D\",Configuração!F827,\"\")))","v":""},null,null,null,null,null,null,5072017,42921]
[null,null,null,null,{"$f":"IF(Configuração!C826=\"\",\"\",Configuração!B826)","v":""},null,null,null,null,null,null,null,null,null,{"$f":"IF(Configuração!H828=\"\",\"\",IF($E$12=\"\",\"\",IF(VLOOKUP($E$12,Configuração!$S$7:$U$16,3)=\"D\",Configuração!F828,\"\")))","v":""},null,null,null,null,null,null,5072018,43286]
[null,null,null,null,{"$f":"IF(Configuração!C827=\"\",\"\",Configuração!B827)","v":""},null,null,null,null,null,null,null,null,null,{"$f":"IF(Configuração!H829=\"\",\"\",IF($E$12=\"\",\"\",IF(VLOOKUP($E$12,Configuração!$S$7:$U$16,3)=\"D\",Configuração!F829,\"\")))","v":""},null,null,null,null,null,null,5072019,43651]
[null,null,null,null,{"$f":"IF(Configuração!C828=\"\",\"\",Configuração!B828)","v":""},null,null,null,null,null,null,null,null,null,{"$f":"IF(Configuração!H830=\"\",\"\",IF($E$12=\"\",\"\",IF(VLOOKUP($E$12,Configuração!$S$7:$U$16,3)=\"D\",Configuração!F830,\"\")))","v":""},null,null,null,null,null,null,5072020,44017]
[null,null,null,null,{"$f":"IF(Configuração!C829=\"\",\"\",Configuração!B829)","v":""},null,null,null,null,null,null,null,null,null,{"$f":"IF(Configuração!H831=\"\",\"\",IF($E$12=\"\",\"\",IF(VLOOKUP($E$12,Configuração!$S$7:$U$16,3)=\"D\",Configuração!F831,\"\")))","v":""},null,null,null,null,null,null,5072021,44382]
[null,null,null,null,{"$f":"IF(Configuração!C830=\"\",\"\",Configuração!B830)","v":""},null,null,null,null,null,null,null,null,null,{"$f":"IF(Configuração!H832=\"\",\"\",IF($E$12=\"\",\"\",IF(VLOOKUP($E$12,Configuração!$S$7:$U$16,3)=\"D\",Configuração!F832,\"\")))","v":""},null,null,null,null,null,null,5072022,44747]
[null,null,null,null,{"$f":"IF(Configuração!C831=\"\",\"\",Configuração!B831)","v":""},null,null,null,null,null,null,null,null,null,{"$f":"IF(Configuração!H833=\"\",\"\",IF($E$12=\"\",\"\",IF(VLOOKUP($E$12,Configuração!$S$7:$U$16,3)=\"D\",Configuração!F833,\"\")))","v":""},null,null,null,null,null,null,5072023,45112]
[null,null,null,null,{"$f":"IF(Configuração!C832=\"\",\"\",Configuração!B832)","v":""},null,null,null,null,null,null,null,null,null,{"$f":"IF(Configuração!H834=\"\",\"\",IF($E$12=\"\",\"\",IF(VLOOKUP($E$12,Configuração!$S$7:$U$16,3)=\"D\",Configuração!F834,\"\")))","v":""},null,null,null,null,null,null,5082009,40030]
[null,null,null,null,{"$f":"IF(Configuração!C833=\"\",\"\",Configuração!B833)","v":""},null,null,null,null,null,null,null,null,null,{"$f":"IF(Configuração!H835=\"\",\"\",IF($E$12=\"\",\"\",IF(VLOOKUP($E$12,Configuração!$S$7:$U$16,3)=\"D\",Configuração!F835,\"\")))","v":""},null,null,null,null,null,null,5082010,40395]
[null,null,null,null,{"$f":"IF(Configuração!C834=\"\",\"\",Configuração!B834)","v":""},null,null,null,null,null,null,null,null,null,{"$f":"IF(Configuração!H836=\"\",\"\",IF($E$12=\"\",\"\",IF(VLOOKUP($E$12,Configuração!$S$7:$U$16,3)=\"D\",Configuração!F836,\"\")))","v":""},null,null,null,null,null,null,5082011,40760]
[null,null,null,null,{"$f":"IF(Configuração!C835=\"\",\"\",Configuração!B835)","v":""},null,null,null,null,null,null,null,null,null,{"$f":"IF(Configuração!H837=\"\",\"\",IF($E$12=\"\",\"\",IF(VLOOKUP($E$12,Configuração!$S$7:$U$16,3)=\"D\",Configuração!F837,\"\")))","v":""},null,null,null,null,null,null,5082012,41126]
[null,null,null,null,{"$f":"IF(Configuração!C836=\"\",\"\",Configuração!B836)","v":""},null,null,null,null,null,null,null,null,null,{"$f":"IF(Configuração!H838=\"\",\"\",IF($E$12=\"\",\"\",IF(VLOOKUP($E$12,Configuração!$S$7:$U$16,3)=\"D\",Configuração!F838,\"\")))","v":""},null,null,null,null,null,null,5082013,41491]
[null,null,null,null,{"$f":"IF(Configuração!C837=\"\",\"\",Configuração!B837)","v":""},null,null,null,null,null,null,null,null,null,{"$f":"IF(Configuração!H839=\"\",\"\",IF($E$12=\"\",\"\",IF(VLOOKUP($E$12,Configuração!$S$7:$U$16,3)=\"D\",Configuração!F839,\"\")))","v":""},null,null,null,null,null,null,5082014,41856]
[null,null,null,null,{"$f":"IF(Configuração!C838=\"\",\"\",Configuração!B838)","v":""},null,null,null,null,null,null,null,null,null,{"$f":"IF(Configuração!H840=\"\",\"\",IF($E$12=\"\",\"\",IF(VLOOKUP($E$12,Configuração!$S$7:$U$16,3)=\"D\",Configuração!F840,\"\")))","v":""},null,null,null,null,null,null,5082015,42221]
[null,null,null,null,{"$f":"IF(Configuração!C839=\"\",\"\",Configuração!B839)","v":""},null,null,null,null,null,null,null,null,null,{"$f":"IF(Configuração!H841=\"\",\"\",IF($E$12=\"\",\"\",IF(VLOOKUP($E$12,Configuração!$S$7:$U$16,3)=\"D\",Configuração!F841,\"\")))","v":""},null,null,null,null,null,null,5082016,42587]
[null,null,null,null,{"$f":"IF(Configuração!C840=\"\",\"\",Configuração!B840)","v":""},null,null,null,null,null,null,null,null,null,{"$f":"IF(Configuração!H842=\"\",\"\",IF($E$12=\"\",\"\",IF(VLOOKUP($E$12,Configuração!$S$7:$U$16,3)=\"D\",Configuração!F842,\"\")))","v":""},null,null,null,null,null,null,5082017,42952]
[null,null,null,null,{"$f":"IF(Configuração!C841=\"\",\"\",Configuração!B841)","v":""},null,null,null,null,null,null,null,null,null,{"$f":"IF(Configuração!H843=\"\",\"\",IF($E$12=\"\",\"\",IF(VLOOKUP($E$12,Configuração!$S$7:$U$16,3)=\"D\",Configuração!F843,\"\")))","v":""},null,null,null,null,null,null,5082018,43317]
[null,null,null,null,{"$f":"IF(Configuração!C842=\"\",\"\",Configuração!B842)","v":""},null,null,null,null,null,null,null,null,null,{"$f":"IF(Configuração!H844=\"\",\"\",IF($E$12=\"\",\"\",IF(VLOOKUP($E$12,Configuração!$S$7:$U$16,3)=\"D\",Configuração!F844,\"\")))","v":""},null,null,null,null,null,null,5082019,43682]
[null,null,null,null,{"$f":"IF(Configuração!C843=\"\",\"\",Configuração!B843)","v":""},null,null,null,null,null,null,null,null,null,{"$f":"IF(Configuração!H845=\"\",\"\",IF($E$12=\"\",\"\",IF(VLOOKUP($E$12,Configuração!$S$7:$U$16,3)=\"D\",Configuração!F845,\"\")))","v":""},null,null,null,null,null,null,5082020,44048]
[null,null,null,null,{"$f":"IF(Configuração!C844=\"\",\"\",Configuração!B844)","v":""},null,null,null,null,null,null,null,null,null,{"$f":"IF(Configuração!H846=\"\",\"\",IF($E$12=\"\",\"\",IF(VLOOKUP($E$12,Configuração!$S$7:$U$16,3)=\"D\",Configuração!F846,\"\")))","v":""},null,null,null,null,null,null,5082021,44413]
[null,null,null,null,{"$f":"IF(Configuração!C845=\"\",\"\",Configuração!B845)","v":""},null,null,null,null,null,null,null,null,null,{"$f":"IF(Configuração!H847=\"\",\"\",IF($E$12=\"\",\"\",IF(VLOOKUP($E$12,Configuração!$S$7:$U$16,3)=\"D\",Configuração!F847,\"\")))","v":""},null,null,null,null,null,null,5082022,44778]
[null,null,null,null,{"$f":"IF(Configuração!C846=\"\",\"\",Configuração!B846)","v":""},null,null,null,null,null,null,null,null,null,{"$f":"IF(Configuração!H848=\"\",\"\",IF($E$12=\"\",\"\",IF(VLOOKUP($E$12,Configuração!$S$7:$U$16,3)=\"D\",Configuração!F848,\"\")))","v":""},null,null,null,null,null,null,5082023,45143]
[null,null,null,null,{"$f":"IF(Configuração!C847=\"\",\"\",Configuração!B847)","v":""},null,null,null,null,null,null,null,null,null,{"$f":"IF(Configuração!H849=\"\",\"\",IF($E$12=\"\",\"\",IF(VLOOKUP($E$12,Configuração!$S$7:$U$16,3)=\"D\",Configuração!F849,\"\")))","v":""},null,null,null,null,null,null,5092009,40061]
[null,null,null,null,{"$f":"IF(Configuração!C848=\"\",\"\",Configuração!B848)","v":""},null,null,null,null,null,null,null,null,null,{"$f":"IF(Configuração!H850=\"\",\"\",IF($E$12=\"\",\"\",IF(VLOOKUP($E$12,Configuração!$S$7:$U$16,3)=\"D\",Configuração!F850,\"\")))","v":""},null,null,null,null,null,null,5092010,40426]
[null,null,null,null,{"$f":"IF(Configuração!C849=\"\",\"\",Configuração!B849)","v":""},null,null,null,null,null,null,null,null,null,{"$f":"IF(Configuração!H851=\"\",\"\",IF($E$12=\"\",\"\",IF(VLOOKUP($E$12,Configuração!$S$7:$U$16,3)=\"D\",Configuração!F851,\"\")))","v":""},null,null,null,null,null,null,5092011,40791]
[null,null,null,null,{"$f":"IF(Configuração!C850=\"\",\"\",Configuração!B850)","v":""},null,null,null,null,null,null,null,null,null,{"$f":"IF(Configuração!H852=\"\",\"\",IF($E$12=\"\",\"\",IF(VLOOKUP($E$12,Configuração!$S$7:$U$16,3)=\"D\",Configuração!F852,\"\")))","v":""},null,null,null,null,null,null,5092012,41157]
[null,null,null,null,{"$f":"IF(Configuração!C851=\"\",\"\",Configuração!B851)","v":""},null,null,null,null,null,null,null,null,null,{"$f":"IF(Configuração!H853=\"\",\"\",IF($E$12=\"\",\"\",IF(VLOOKUP($E$12,Configuração!$S$7:$U$16,3)=\"D\",Configuração!F853,\"\")))","v":""},null,null,null,null,null,null,5092013,41522]
[null,null,null,null,{"$f":"IF(Configuração!C852=\"\",\"\",Configuração!B852)","v":""},null,null,null,null,null,null,null,null,null,{"$f":"IF(Configuração!H854=\"\",\"\",IF($E$12=\"\",\"\",IF(VLOOKUP($E$12,Configuração!$S$7:$U$16,3)=\"D\",Configuração!F854,\"\")))","v":""},null,null,null,null,null,null,5092014,41887]
[null,null,null,null,{"$f":"IF(Configuração!C853=\"\",\"\",Configuração!B853)","v":""},null,null,null,null,null,null,null,null,null,{"$f":"IF(Configuração!H855=\"\",\"\",IF($E$12=\"\",\"\",IF(VLOOKUP($E$12,Configuração!$S$7:$U$16,3)=\"D\",Configuração!F855,\"\")))","v":""},null,null,null,null,null,null,5092015,42252]
[null,null,null,null,{"$f":"IF(Configuração!C854=\"\",\"\",Configuração!B854)","v":""},null,null,null,null,null,null,null,null,null,{"$f":"IF(Configuração!H856=\"\",\"\",IF($E$12=\"\",\"\",IF(VLOOKUP($E$12,Configuração!$S$7:$U$16,3)=\"D\",Configuração!F856,\"\")))","v":""},null,null,null,null,null,null,5092016,42618]
[null,null,null,null,{"$f":"IF(Configuração!C855=\"\",\"\",Configuração!B855)","v":""},null,null,null,null,null,null,null,null,null,{"$f":"IF(Configuração!H857=\"\",\"\",IF($E$12=\"\",\"\",IF(VLOOKUP($E$12,Configuração!$S$7:$U$16,3)=\"D\",Configuração!F857,\"\")))","v":""},null,null,null,null,null,null,5092017,42983]
[null,null,null,null,{"$f":"IF(Configuração!C856=\"\",\"\",Configuração!B856)","v":""},null,null,null,null,null,null,null,null,null,{"$f":"IF(Configuração!H858=\"\",\"\",IF($E$12=\"\",\"\",IF(VLOOKUP($E$12,Configuração!$S$7:$U$16,3)=\"D\",Configuração!F858,\"\")))","v":""},null,null,null,null,null,null,5092018,43348]
[null,null,null,null,{"$f":"IF(Configuração!C857=\"\",\"\",Configuração!B857)","v":""},null,null,null,null,null,null,null,null,null,{"$f":"IF(Configuração!H859=\"\",\"\",IF($E$12=\"\",\"\",IF(VLOOKUP($E$12,Configuração!$S$7:$U$16,3)=\"D\",Configuração!F859,\"\")))","v":""},null,null,null,null,null,null,5092019,43713]
[null,null,null,null,{"$f":"IF(Configuração!C858=\"\",\"\",Configuração!B858)","v":""},null,null,null,null,null,null,null,null,null,{"$f":"IF(Configuração!H860=\"\",\"\",IF($E$12=\"\",\"\",IF(VLOOKUP($E$12,Configuração!$S$7:$U$16,3)=\"D\",Configuração!F860,\"\")))","v":""},null,null,null,null,null,null,5092020,44079]
[null,null,null,null,{"$f":"IF(Configuração!C859=\"\",\"\",Configuração!B859)","v":""},null,null,null,null,null,null,null,null,null,{"$f":"IF(Configuração!H861=\"\",\"\",IF($E$12=\"\",\"\",IF(VLOOKUP($E$12,Configuração!$S$7:$U$16,3)=\"D\",Configuração!F861,\"\")))","v":""},null,null,null,null,null,null,5092021,44444]
[null,null,null,null,{"$f":"IF(Configuração!C860=\"\",\"\",Configuração!B860)","v":""},null,null,null,null,null,null,null,null,null,{"$f":"IF(Configuração!H862=\"\",\"\",IF($E$12=\"\",\"\",IF(VLOOKUP($E$12,Configuração!$S$7:$U$16,3)=\"D\",Configuração!F862,\"\")))","v":""},null,null,null,null,null,null,5092022,44809]
[null,null,null,null,{"$f":"IF(Configuração!C861=\"\",\"\",Configuração!B861)","v":""},null,null,null,null,null,null,null,null,null,{"$f":"IF(Configuração!H863=\"\",\"\",IF($E$12=\"\",\"\",IF(VLOOKUP($E$12,Configuração!$S$7:$U$16,3)=\"D\",Configuração!F863,\"\")))","v":""},null,null,null,null,null,null,5092023,45174]
[null,null,null,null,{"$f":"IF(Configuração!C862=\"\",\"\",Configuração!B862)","v":""},null,null,null,null,null,null,null,null,null,{"$f":"IF(Configuração!H864=\"\",\"\",IF($E$12=\"\",\"\",IF(VLOOKUP($E$12,Configuração!$S$7:$U$16,3)=\"D\",Configuração!F864,\"\")))","v":""},null,null,null,null,null,null,5102009,40091]
[null,null,null,null,{"$f":"IF(Configuração!C863=\"\",\"\",Configuração!B863)","v":""},null,null,null,null,null,null,null,null,null,{"$f":"IF(Configuração!H865=\"\",\"\",IF($E$12=\"\",\"\",IF(VLOOKUP($E$12,Configuração!$S$7:$U$16,3)=\"D\",Configuração!F865,\"\")))","v":""},null,null,null,null,null,null,5102010,40456]
[null,null,null,null,{"$f":"IF(Configuração!C864=\"\",\"\",Configuração!B864)","v":""},null,null,null,null,null,null,null,null,null,{"$f":"IF(Configuração!H866=\"\",\"\",IF($E$12=\"\",\"\",IF(VLOOKUP($E$12,Configuração!$S$7:$U$16,3)=\"D\",Configuração!F866,\"\")))","v":""},null,null,null,null,null,null,5102011,40821]
[null,null,null,null,{"$f":"IF(Configuração!C865=\"\",\"\",Configuração!B865)","v":""},null,null,null,null,null,null,null,null,null,{"$f":"IF(Configuração!H867=\"\",\"\",IF($E$12=\"\",\"\",IF(VLOOKUP($E$12,Configuração!$S$7:$U$16,3)=\"D\",Configuração!F867,\"\")))","v":""},null,null,null,null,null,null,5102012,41187]
[null,null,null,null,{"$f":"IF(Configuração!C866=\"\",\"\",Configuração!B866)","v":""},null,null,null,null,null,null,null,null,null,{"$f":"IF(Configuração!H868=\"\",\"\",IF($E$12=\"\",\"\",IF(VLOOKUP($E$12,Configuração!$S$7:$U$16,3)=\"D\",Configuração!F868,\"\")))","v":""},null,null,null,null,null,null,5102013,41552]
[null,null,null,null,{"$f":"IF(Configuração!C867=\"\",\"\",Configuração!B867)","v":""},null,null,null,null,null,null,null,null,null,{"$f":"IF(Configuração!H869=\"\",\"\",IF($E$12=\"\",\"\",IF(VLOOKUP($E$12,Configuração!$S$7:$U$16,3)=\"D\",Configuração!F869,\"\")))","v":""},null,null,null,null,null,null,5102014,41917]
[null,null,null,null,{"$f":"IF(Configuração!C868=\"\",\"\",Configuração!B868)","v":""},null,null,null,null,null,null,null,null,null,{"$f":"IF(Configuração!H870=\"\",\"\",IF($E$12=\"\",\"\",IF(VLOOKUP($E$12,Configuração!$S$7:$U$16,3)=\"D\",Configuração!F870,\"\")))","v":""},null,null,null,null,null,null,5102015,42282]
[null,null,null,null,{"$f":"IF(Configuração!C869=\"\",\"\",Configuração!B869)","v":""},null,null,null,null,null,null,null,null,null,{"$f":"IF(Configuração!H871=\"\",\"\",IF($E$12=\"\",\"\",IF(VLOOKUP($E$12,Configuração!$S$7:$U$16,3)=\"D\",Configuração!F871,\"\")))","v":""},null,null,null,null,null,null,5102016,42648]
[null,null,null,null,{"$f":"IF(Configuração!C870=\"\",\"\",Configuração!B870)","v":""},null,null,null,null,null,null,null,null,null,{"$f":"IF(Configuração!H872=\"\",\"\",IF($E$12=\"\",\"\",IF(VLOOKUP($E$12,Configuração!$S$7:$U$16,3)=\"D\",Configuração!F872,\"\")))","v":""},null,null,null,null,null,null,5102017,43013]
[null,null,null,null,{"$f":"IF(Configuração!C871=\"\",\"\",Configuração!B871)","v":""},null,null,null,null,null,null,null,null,null,{"$f":"IF(Configuração!H873=\"\",\"\",IF($E$12=\"\",\"\",IF(VLOOKUP($E$12,Configuração!$S$7:$U$16,3)=\"D\",Configuração!F873,\"\")))","v":""},null,null,null,null,null,null,5102018,43378]
[null,null,null,null,{"$f":"IF(Configuração!C872=\"\",\"\",Configuração!B872)","v":""},null,null,null,null,null,null,null,null,null,{"$f":"IF(Configuração!H874=\"\",\"\",IF($E$12=\"\",\"\",IF(VLOOKUP($E$12,Configuração!$S$7:$U$16,3)=\"D\",Configuração!F874,\"\")))","v":""},null,null,null,null,null,null,5102019,43743]
[null,null,null,null,{"$f":"IF(Configuração!C873=\"\",\"\",Configuração!B873)","v":""},null,null,null,null,null,null,null,null,null,{"$f":"IF(Configuração!H875=\"\",\"\",IF($E$12=\"\",\"\",IF(VLOOKUP($E$12,Configuração!$S$7:$U$16,3)=\"D\",Configuração!F875,\"\")))","v":""},null,null,null,null,null,null,5102020,44109]
[null,null,null,null,{"$f":"IF(Configuração!C874=\"\",\"\",Configuração!B874)","v":""},null,null,null,null,null,null,null,null,null,null,null,null,null,null,null,null,5102021,44474]
[null,null,null,null,{"$f":"IF(Configuração!C875=\"\",\"\",Configuração!B875)","v":""},null,null,null,null,null,null,null,null,null,null,null,null,null,null,null,null,5102022,44839]
[null,null,null,null,{"$f":"IF(Configuração!C876=\"\",\"\",Configuração!B876)","v":""},null,null,null,null,null,null,null,null,null,{"$f":"IF(Configuração!H878=\"\",\"\",IF($E$12=\"\",\"\", IF(VLOOKUP($E$12,Configuração!$S$7:$U$16,3)=\"D (T)\",Configuração!F878,IF(VLOOKUP($E$12,Configuração!$S$7:$U$16,3)=\"C (T)\",Configuração!F878,\"\"))))","v":""},null,null,null,null,null,null,5102023,45204]
[null,null,null,null,{"$f":"IF(Configuração!C877=\"\",\"\",Configuração!B877)","v":""},null,null,null,null,null,null,null,null,null,{"$f":"IF(Configuração!H879=\"\",\"\",IF($E$12=\"\",\"\", IF(VLOOKUP($E$12,Configuração!$S$7:$U$16,3)=\"D (T)\",Configuração!F879,IF(VLOOKUP($E$12,Configuração!$S$7:$U$16,3)=\"C (T)\",Configuração!F879,\"\"))))","v":""},null,null,null,null,null,null,5112009,40122]
[null,null,null,null,{"$f":"IF(Configuração!C878=\"\",\"\",Configuração!B878)","v":""},null,null,null,null,null,null,null,null,null,{"$f":"IF(Configuração!H880=\"\",\"\",IF($E$12=\"\",\"\", IF(VLOOKUP($E$12,Configuração!$S$7:$U$16,3)=\"D (T)\",Configuração!F880,IF(VLOOKUP($E$12,Configuração!$S$7:$U$16,3)=\"C (T)\",Configuração!F880,\"\"))))","v":""},null,null,null,null,null,null,5112010,40487]
[null,null,null,null,{"$f":"IF(Configuração!C879=\"\",\"\",Configuração!B879)","v":""},null,null,null,null,null,null,null,null,null,{"$f":"IF(Configuração!H881=\"\",\"\",IF($E$12=\"\",\"\", IF(VLOOKUP($E$12,Configuração!$S$7:$U$16,3)=\"D (T)\",Configuração!F881,IF(VLOOKUP($E$12,Configuração!$S$7:$U$16,3)=\"C (T)\",Configuração!F881,\"\"))))","v":""},null,null,null,null,null,null,5112011,40852]
[null,null,null,null,{"$f":"IF(Configuração!C880=\"\",\"\",Configuração!B880)","v":""},null,null,null,null,null,null,null,null,null,{"$f":"IF(Configuração!H882=\"\",\"\",IF($E$12=\"\",\"\", IF(VLOOKUP($E$12,Configuração!$S$7:$U$16,3)=\"D (T)\",Configuração!F882,IF(VLOOKUP($E$12,Configuração!$S$7:$U$16,3)=\"C (T)\",Configuração!F882,\"\"))))","v":""},null,null,null,null,null,null,5112012,41218]
[null,null,null,null,{"$f":"IF(Configuração!C881=\"\",\"\",Configuração!B881)","v":""},null,null,null,null,null,null,null,null,null,{"$f":"IF(Configuração!H883=\"\",\"\",IF($E$12=\"\",\"\", IF(VLOOKUP($E$12,Configuração!$S$7:$U$16,3)=\"D (T)\",Configuração!F883,IF(VLOOKUP($E$12,Configuração!$S$7:$U$16,3)=\"C (T)\",Configuração!F883,\"\"))))","v":""},null,null,null,null,null,null,5112013,41583]
[null,null,null,null,{"$f":"IF(Configuração!C882=\"\",\"\",Configuração!B882)","v":""},null,null,null,null,null,null,null,null,null,{"$f":"IF(Configuração!H884=\"\",\"\",IF($E$12=\"\",\"\", IF(VLOOKUP($E$12,Configuração!$S$7:$U$16,3)=\"D (T)\",Configuração!F884,IF(VLOOKUP($E$12,Configuração!$S$7:$U$16,3)=\"C (T)\",Configuração!F884,\"\"))))","v":""},null,null,null,null,null,null,5112014,41948]
[null,null,null,null,{"$f":"IF(Configuração!C883=\"\",\"\",Configuração!B883)","v":""},null,null,null,null,null,null,null,null,null,{"$f":"IF(Configuração!H885=\"\",\"\",IF($E$12=\"\",\"\", IF(VLOOKUP($E$12,Configuração!$S$7:$U$16,3)=\"D (T)\",Configuração!F885,IF(VLOOKUP($E$12,Configuração!$S$7:$U$16,3)=\"C (T)\",Configuração!F885,\"\"))))","v":""},null,null,null,null,null,null,5112015,42313]
[null,null,null,null,{"$f":"IF(Configuração!C884=\"\",\"\",Configuração!B884)","v":""},null,null,null,null,null,null,null,null,null,{"$f":"IF(Configuração!H886=\"\",\"\",IF($E$12=\"\",\"\", IF(VLOOKUP($E$12,Configuração!$S$7:$U$16,3)=\"D (T)\",Configuração!F886,IF(VLOOKUP($E$12,Configuração!$S$7:$U$16,3)=\"C (T)\",Configuração!F886,\"\"))))","v":""},null,null,null,null,null,null,5112016,42679]
[null,null,null,null,{"$f":"IF(Configuração!C885=\"\",\"\",Configuração!B885)","v":""},null,null,null,null,null,null,null,null,null,{"$f":"IF(Configuração!H887=\"\",\"\",IF($E$12=\"\",\"\", IF(VLOOKUP($E$12,Configuração!$S$7:$U$16,3)=\"D (T)\",Configuração!F887,IF(VLOOKUP($E$12,Configuração!$S$7:$U$16,3)=\"C (T)\",Configuração!F887,\"\"))))","v":""},null,null,null,null,null,null,5112017,43044]
[null,null,null,null,{"$f":"IF(Configuração!C886=\"\",\"\",Configuração!B886)","v":""},null,null,null,null,null,null,null,null,null,{"$f":"IF(Configuração!H888=\"\",\"\",IF($E$12=\"\",\"\", IF(VLOOKUP($E$12,Configuração!$S$7:$U$16,3)=\"D (T)\",Configuração!F888,IF(VLOOKUP($E$12,Configuração!$S$7:$U$16,3)=\"C (T)\",Configuração!F888,\"\"))))","v":""},null,null,null,null,null,null,5112018,43409]
[null,null,null,null,{"$f":"IF(Configuração!C887=\"\",\"\",Configuração!B887)","v":""},null,null,null,null,null,null,null,null,null,{"$f":"IF(Configuração!H889=\"\",\"\",IF($E$12=\"\",\"\", IF(VLOOKUP($E$12,Configuração!$S$7:$U$16,3)=\"D (T)\",Configuração!F889,IF(VLOOKUP($E$12,Configuração!$S$7:$U$16,3)=\"C (T)\",Configuração!F889,\"\"))))","v":""},null,null,null,null,null,null,5112019,43774]
[null,null,null,null,{"$f":"IF(Configuração!C888=\"\",\"\",Configuração!B888)","v":""},null,null,null,null,null,null,null,null,null,{"$f":"IF(Configuração!H890=\"\",\"\",IF($E$12=\"\",\"\", IF(VLOOKUP($E$12,Configuração!$S$7:$U$16,3)=\"D (T)\",Configuração!F890,IF(VLOOKUP($E$12,Configuração!$S$7:$U$16,3)=\"C (T)\",Configuração!F890,\"\"))))","v":""},null,null,null,null,null,null,5112020,44140]
[null,null,null,null,{"$f":"IF(Configuração!C889=\"\",\"\",Configuração!B889)","v":""},null,null,null,null,null,null,null,null,null,{"$f":"IF(Configuração!H891=\"\",\"\",IF($E$12=\"\",\"\", IF(VLOOKUP($E$12,Configuração!$S$7:$U$16,3)=\"D (T)\",Configuração!F891,IF(VLOOKUP($E$12,Configuração!$S$7:$U$16,3)=\"C (T)\",Configuração!F891,\"\"))))","v":""},null,null,null,null,null,null,5112021,44505]
[null,null,null,null,{"$f":"IF(Configuração!C890=\"\",\"\",Configuração!B890)","v":""},null,null,null,null,null,null,null,null,null,{"$f":"IF(Configuração!H892=\"\",\"\",IF($E$12=\"\",\"\", IF(VLOOKUP($E$12,Configuração!$S$7:$U$16,3)=\"D (T)\",Configuração!F892,IF(VLOOKUP($E$12,Configuração!$S$7:$U$16,3)=\"C (T)\",Configuração!F892,\"\"))))","v":""},null,null,null,null,null,null,5112022,44870]
[null,null,null,null,{"$f":"IF(Configuração!C891=\"\",\"\",Configuração!B891)","v":""},null,null,null,null,null,null,null,null,null,{"$f":"IF(Configuração!H893=\"\",\"\",IF($E$12=\"\",\"\", IF(VLOOKUP($E$12,Configuração!$S$7:$U$16,3)=\"D (T)\",Configuração!F893,IF(VLOOKUP($E$12,Configuração!$S$7:$U$16,3)=\"C (T)\",Configuração!F893,\"\"))))","v":""},null,null,null,null,null,null,5112023,45235]
[null,null,null,null,{"$f":"IF(Configuração!C892=\"\",\"\",Configuração!B892)","v":""},null,null,null,null,null,null,null,null,null,{"$f":"IF(Configuração!H894=\"\",\"\",IF($E$12=\"\",\"\", IF(VLOOKUP($E$12,Configuração!$S$7:$U$16,3)=\"D (T)\",Configuração!F894,IF(VLOOKUP($E$12,Configuração!$S$7:$U$16,3)=\"C (T)\",Configuração!F894,\"\"))))","v":""},null,null,null,null,null,null,5122009,40152]
[null,null,null,null,{"$f":"IF(Configuração!C893=\"\",\"\",Configuração!B893)","v":""},null,null,null,null,null,null,null,null,null,{"$f":"IF(Configuração!H895=\"\",\"\",IF($E$12=\"\",\"\", IF(VLOOKUP($E$12,Configuração!$S$7:$U$16,3)=\"D (T)\",Configuração!F895,IF(VLOOKUP($E$12,Configuração!$S$7:$U$16,3)=\"C (T)\",Configuração!F895,\"\"))))","v":""},null,null,null,null,null,null,5122010,40517]
[null,null,null,null,{"$f":"IF(Configuração!C894=\"\",\"\",Configuração!B894)","v":""},null,null,null,null,null,null,null,null,null,{"$f":"IF(Configuração!H896=\"\",\"\",IF($E$12=\"\",\"\", IF(VLOOKUP($E$12,Configuração!$S$7:$U$16,3)=\"D (T)\",Configuração!F896,IF(VLOOKUP($E$12,Configuração!$S$7:$U$16,3)=\"C (T)\",Configuração!F896,\"\"))))","v":""},null,null,null,null,null,null,5122011,40882]
[null,null,null,null,{"$f":"IF(Configuração!C895=\"\",\"\",Configuração!B895)","v":""},null,null,null,null,null,null,null,null,null,{"$f":"IF(Configuração!H897=\"\",\"\",IF($E$12=\"\",\"\", IF(VLOOKUP($E$12,Configuração!$S$7:$U$16,3)=\"D (T)\",Configuração!F897,IF(VLOOKUP($E$12,Configuração!$S$7:$U$16,3)=\"C (T)\",Configuração!F897,\"\"))))","v":""},null,null,null,null,null,null,5122012,41248]
[null,null,null,null,{"$f":"IF(Configuração!C896=\"\",\"\",Configuração!B896)","v":""},null,null,null,null,null,null,null,null,null,{"$f":"IF(Configuração!H898=\"\",\"\",IF($E$12=\"\",\"\", IF(VLOOKUP($E$12,Configuração!$S$7:$U$16,3)=\"D (T)\",Configuração!F898,IF(VLOOKUP($E$12,Configuração!$S$7:$U$16,3)=\"C (T)\",Configuração!F898,\"\"))))","v":""},null,null,null,null,null,null,5122013,41613]
[null,null,null,null,{"$f":"IF(Configuração!C897=\"\",\"\",Configuração!B897)","v":""},null,null,null,null,null,null,null,null,null,{"$f":"IF(Configuração!H899=\"\",\"\",IF($E$12=\"\",\"\", IF(VLOOKUP($E$12,Configuração!$S$7:$U$16,3)=\"D (T)\",Configuração!F899,IF(VLOOKUP($E$12,Configuração!$S$7:$U$16,3)=\"C (T)\",Configuração!F899,\"\"))))","v":""},null,null,null,null,null,null,5122014,41978]
[null,null,null,null,{"$f":"IF(Configuração!C898=\"\",\"\",Configuração!B898)","v":""},null,null,null,null,null,null,null,null,null,{"$f":"IF(Configuração!H900=\"\",\"\",IF($E$12=\"\",\"\", IF(VLOOKUP($E$12,Configuração!$S$7:$U$16,3)=\"D (T)\",Configuração!F900,IF(VLOOKUP($E$12,Configuração!$S$7:$U$16,3)=\"C (T)\",Configuração!F900,\"\"))))","v":""},null,null,null,null,null,null,5122015,42343]
[null,null,null,null,{"$f":"IF(Configuração!C899=\"\",\"\",Configuração!B899)","v":""},null,null,null,null,null,null,null,null,null,{"$f":"IF(Configuração!H901=\"\",\"\",IF($E$12=\"\",\"\", IF(VLOOKUP($E$12,Configuração!$S$7:$U$16,3)=\"D (T)\",Configuração!F901,IF(VLOOKUP($E$12,Configuração!$S$7:$U$16,3)=\"C (T)\",Configuração!F901,\"\"))))","v":""},null,null,null,null,null,null,5122016,42709]
[null,null,null,null,{"$f":"IF(Configuração!C900=\"\",\"\",Configuração!B900)","v":""},null,null,null,null,null,null,null,null,null,{"$f":"IF(Configuração!H902=\"\",\"\",IF($E$12=\"\",\"\", IF(VLOOKUP($E$12,Configuração!$S$7:$U$16,3)=\"D (T)\",Configuração!F902,IF(VLOOKUP($E$12,Configuração!$S$7:$U$16,3)=\"C (T)\",Configuração!F902,\"\"))))","v":""},null,null,null,null,null,null,5122017,43074]
[null,null,null,null,{"$f":"IF(Configuração!C901=\"\",\"\",Configuração!B901)","v":""},null,null,null,null,null,null,null,null,null,{"$f":"IF(Configuração!H903=\"\",\"\",IF($E$12=\"\",\"\", IF(VLOOKUP($E$12,Configuração!$S$7:$U$16,3)=\"D (T)\",Configuração!F903,IF(VLOOKUP($E$12,Configuração!$S$7:$U$16,3)=\"C (T)\",Configuração!F903,\"\"))))","v":""},null,null,null,null,null,null,5122018,43439]
[null,null,null,null,{"$f":"IF(Configuração!C902=\"\",\"\",Configuração!B902)","v":""},null,null,null,null,null,null,null,null,null,{"$f":"IF(Configuração!H904=\"\",\"\",IF($E$12=\"\",\"\", IF(VLOOKUP($E$12,Configuração!$S$7:$U$16,3)=\"D (T)\",Configuração!F904,IF(VLOOKUP($E$12,Configuração!$S$7:$U$16,3)=\"C (T)\",Configuração!F904,\"\"))))","v":""},null,null,null,null,null,null,5122019,43804]
[null,null,null,null,{"$f":"IF(Configuração!C903=\"\",\"\",Configuração!B903)","v":""},null,null,null,null,null,null,null,null,null,{"$f":"IF(Configuração!H905=\"\",\"\",IF($E$12=\"\",\"\", IF(VLOOKUP($E$12,Configuração!$S$7:$U$16,3)=\"D (T)\",Configuração!F905,IF(VLOOKUP($E$12,Configuração!$S$7:$U$16,3)=\"C (T)\",Configuração!F905,\"\"))))","v":""},null,null,null,null,null,null,5122020,44170]
[null,null,null,null,{"$f":"IF(Configuração!C904=\"\",\"\",Configuração!B904)","v":""},null,null,null,null,null,null,null,null,null,{"$f":"IF(Configuração!H906=\"\",\"\",IF($E$12=\"\",\"\", IF(VLOOKUP($E$12,Configuração!$S$7:$U$16,3)=\"D (T)\",Configuração!F906,IF(VLOOKUP($E$12,Configuração!$S$7:$U$16,3)=\"C (T)\",Configuração!F906,\"\"))))","v":""},null,null,null,null,null,null,5122021,44535]
[null,null,null,null,{"$f":"IF(Configuração!C905=\"\",\"\",Configuração!B905)","v":""},null,null,null,null,null,null,null,null,null,{"$f":"IF(Configuração!H907=\"\",\"\",IF($E$12=\"\",\"\", IF(VLOOKUP($E$12,Configuração!$S$7:$U$16,3)=\"D (T)\",Configuração!F907,IF(VLOOKUP($E$12,Configuração!$S$7:$U$16,3)=\"C (T)\",Configuração!F907,\"\"))))","v":""},null,null,null,null,null,null,5122022,44900]
[null,null,null,null,{"$f":"IF(Configuração!C906=\"\",\"\",Configuração!B906)","v":""},null,null,null,null,null,null,null,null,null,{"$f":"IF(Configuração!H908=\"\",\"\",IF($E$12=\"\",\"\", IF(VLOOKUP($E$12,Configuração!$S$7:$U$16,3)=\"D (T)\",Configuração!F908,IF(VLOOKUP($E$12,Configuração!$S$7:$U$16,3)=\"C (T)\",Configuração!F908,\"\"))))","v":""},null,null,null,null,null,null,5122023,45265]
[null,null,null,null,{"$f":"IF(Configuração!C907=\"\",\"\",Configuração!B907)","v":""},null,null,null,null,null,null,null,null,null,{"$f":"IF(Configuração!H909=\"\",\"\",IF($E$12=\"\",\"\", IF(VLOOKUP($E$12,Configuração!$S$7:$U$16,3)=\"D (T)\",Configuração!F909,IF(VLOOKUP($E$12,Configuração!$S$7:$U$16,3)=\"C (T)\",Configuração!F909,\"\"))))","v":""},null,null,null,null,null,null,6012009,39819]
[null,null,null,null,{"$f":"IF(Configuração!C908=\"\",\"\",Configuração!B908)","v":""},null,null,null,null,null,null,null,null,null,{"$f":"IF(Configuração!H910=\"\",\"\",IF($E$12=\"\",\"\", IF(VLOOKUP($E$12,Configuração!$S$7:$U$16,3)=\"D (T)\",Configuração!F910,IF(VLOOKUP($E$12,Configuração!$S$7:$U$16,3)=\"C (T)\",Configuração!F910,\"\"))))","v":""},null,null,null,null,null,null,6012010,40184]
[null,null,null,null,{"$f":"IF(Configuração!C909=\"\",\"\",Configuração!B909)","v":""},null,null,null,null,null,null,null,null,null,{"$f":"IF(Configuração!H911=\"\",\"\",IF($E$12=\"\",\"\", IF(VLOOKUP($E$12,Configuração!$S$7:$U$16,3)=\"D (T)\",Configuração!F911,IF(VLOOKUP($E$12,Configuração!$S$7:$U$16,3)=\"C (T)\",Configuração!F911,\"\"))))","v":""},null,null,null,null,null,null,6012011,40549]
[null,null,null,null,{"$f":"IF(Configuração!C910=\"\",\"\",Configuração!B910)","v":""},null,null,null,null,null,null,null,null,null,{"$f":"IF(Configuração!H912=\"\",\"\",IF($E$12=\"\",\"\", IF(VLOOKUP($E$12,Configuração!$S$7:$U$16,3)=\"D (T)\",Configuração!F912,IF(VLOOKUP($E$12,Configuração!$S$7:$U$16,3)=\"C (T)\",Configuração!F912,\"\"))))","v":""},null,null,null,null,null,null,6012012,40914]
[null,null,null,null,{"$f":"IF(Configuração!C911=\"\",\"\",Configuração!B911)","v":""},null,null,null,null,null,null,null,null,null,{"$f":"IF(Configuração!H913=\"\",\"\",IF($E$12=\"\",\"\", IF(VLOOKUP($E$12,Configuração!$S$7:$U$16,3)=\"D (T)\",Configuração!F913,IF(VLOOKUP($E$12,Configuração!$S$7:$U$16,3)=\"C (T)\",Configuração!F913,\"\"))))","v":""},null,null,null,null,null,null,6012013,41280]
[null,null,null,null,{"$f":"IF(Configuração!C912=\"\",\"\",Configuração!B912)","v":""},null,null,null,null,null,null,null,null,null,{"$f":"IF(Configuração!H914=\"\",\"\",IF($E$12=\"\",\"\", IF(VLOOKUP($E$12,Configuração!$S$7:$U$16,3)=\"D (T)\",Configuração!F914,IF(VLOOKUP($E$12,Configuração!$S$7:$U$16,3)=\"C (T)\",Configuração!F914,\"\"))))","v":""},null,null,null,null,null,null,6012014,41645]
[null,null,null,null,{"$f":"IF(Configuração!C913=\"\",\"\",Configuração!B913)","v":""},null,null,null,null,null,null,null,null,null,{"$f":"IF(Configuração!H915=\"\",\"\",IF($E$12=\"\",\"\", IF(VLOOKUP($E$12,Configuração!$S$7:$U$16,3)=\"D (T)\",Configuração!F915,IF(VLOOKUP($E$12,Configuração!$S$7:$U$16,3)=\"C (T)\",Configuração!F915,\"\"))))","v":""},null,null,null,null,null,null,6012015,42010]
[null,null,null,null,{"$f":"IF(Configuração!C914=\"\",\"\",Configuração!B914)","v":""},null,null,null,null,null,null,null,null,null,{"$f":"IF(Configuração!H916=\"\",\"\",IF($E$12=\"\",\"\", IF(VLOOKUP($E$12,Configuração!$S$7:$U$16,3)=\"D (T)\",Configuração!F916,IF(VLOOKUP($E$12,Configuração!$S$7:$U$16,3)=\"C (T)\",Configuração!F916,\"\"))))","v":""},null,null,null,null,null,null,6012016,42375]
[null,null,null,null,{"$f":"IF(Configuração!C915=\"\",\"\",Configuração!B915)","v":""},null,null,null,null,null,null,null,null,null,{"$f":"IF(Configuração!H917=\"\",\"\",IF($E$12=\"\",\"\", IF(VLOOKUP($E$12,Configuração!$S$7:$U$16,3)=\"D (T)\",Configuração!F917,IF(VLOOKUP($E$12,Configuração!$S$7:$U$16,3)=\"C (T)\",Configuração!F917,\"\"))))","v":""},null,null,null,null,null,null,6012017,42741]
[null,null,null,null,{"$f":"IF(Configuração!C916=\"\",\"\",Configuração!B916)","v":""},null,null,null,null,null,null,null,null,null,{"$f":"IF(Configuração!H918=\"\",\"\",IF($E$12=\"\",\"\", IF(VLOOKUP($E$12,Configuração!$S$7:$U$16,3)=\"D (T)\",Configuração!F918,IF(VLOOKUP($E$12,Configuração!$S$7:$U$16,3)=\"C (T)\",Configuração!F918,\"\"))))","v":""},null,null,null,null,null,null,6012018,43106]
[null,null,null,null,{"$f":"IF(Configuração!C917=\"\",\"\",Configuração!B917)","v":""},null,null,null,null,null,null,null,null,null,{"$f":"IF(Configuração!H919=\"\",\"\",IF($E$12=\"\",\"\", IF(VLOOKUP($E$12,Configuração!$S$7:$U$16,3)=\"D (T)\",Configuração!F919,IF(VLOOKUP($E$12,Configuração!$S$7:$U$16,3)=\"C (T)\",Configuração!F919,\"\"))))","v":""},null,null,null,null,null,null,6012019,43471]
[null,null,null,null,{"$f":"IF(Configuração!C918=\"\",\"\",Configuração!B918)","v":""},null,null,null,null,null,null,null,null,null,{"$f":"IF(Configuração!H920=\"\",\"\",IF($E$12=\"\",\"\", IF(VLOOKUP($E$12,Configuração!$S$7:$U$16,3)=\"D (T)\",Configuração!F920,IF(VLOOKUP($E$12,Configuração!$S$7:$U$16,3)=\"C (T)\",Configuração!F920,\"\"))))","v":""},null,null,null,null,null,null,6012020,43836]
[null,null,null,null,{"$f":"IF(Configuração!C919=\"\",\"\",Configuração!B919)","v":""},null,null,null,null,null,null,null,null,null,{"$f":"IF(Configuração!H921=\"\",\"\",IF($E$12=\"\",\"\", IF(VLOOKUP($E$12,Configuração!$S$7:$U$16,3)=\"D (T)\",Configuração!F921,IF(VLOOKUP($E$12,Configuração!$S$7:$U$16,3)=\"C (T)\",Configuração!F921,\"\"))))","v":""},null,null,null,null,null,null,6012021,44202]
[null,null,null,null,{"$f":"IF(Configuração!C920=\"\",\"\",Configuração!B920)","v":""},null,null,null,null,null,null,null,null,null,{"$f":"IF(Configuração!H922=\"\",\"\",IF($E$12=\"\",\"\", IF(VLOOKUP($E$12,Configuração!$S$7:$U$16,3)=\"D (T)\",Configuração!F922,IF(VLOOKUP($E$12,Configuração!$S$7:$U$16,3)=\"C (T)\",Configuração!F922,\"\"))))","v":""},null,null,null,null,null,null,6012022,44567]
[null,null,null,null,{"$f":"IF(Configuração!C921=\"\",\"\",Configuração!B921)","v":""},null,null,null,null,null,null,null,null,null,{"$f":"IF(Configuração!H923=\"\",\"\",IF($E$12=\"\",\"\", IF(VLOOKUP($E$12,Configuração!$S$7:$U$16,3)=\"D (T)\",Configuração!F923,IF(VLOOKUP($E$12,Configuração!$S$7:$U$16,3)=\"C (T)\",Configuração!F923,\"\"))))","v":""},null,null,null,null,null,null,6012023,44932]
[null,null,null,null,{"$f":"IF(Configuração!C922=\"\",\"\",Configuração!B922)","v":""},null,null,null,null,null,null,null,null,null,{"$f":"IF(Configuração!H924=\"\",\"\",IF($E$12=\"\",\"\", IF(VLOOKUP($E$12,Configuração!$S$7:$U$16,3)=\"D (T)\",Configuração!F924,IF(VLOOKUP($E$12,Configuração!$S$7:$U$16,3)=\"C (T)\",Configuração!F924,\"\"))))","v":""},null,null,null,null,null,null,6022009,39850]
[null,null,null,null,{"$f":"IF(Configuração!C923=\"\",\"\",Configuração!B923)","v":""},null,null,null,null,null,null,null,null,null,{"$f":"IF(Configuração!H925=\"\",\"\",IF($E$12=\"\",\"\", IF(VLOOKUP($E$12,Configuração!$S$7:$U$16,3)=\"D (T)\",Configuração!F925,IF(VLOOKUP($E$12,Configuração!$S$7:$U$16,3)=\"C (T)\",Configuração!F925,\"\"))))","v":""},null,null,null,null,null,null,6022010,40215]
[null,null,null,null,{"$f":"IF(Configuração!C924=\"\",\"\",Configuração!B924)","v":""},null,null,null,null,null,null,null,null,null,{"$f":"IF(Configuração!H926=\"\",\"\",IF($E$12=\"\",\"\", IF(VLOOKUP($E$12,Configuração!$S$7:$U$16,3)=\"D (T)\",Configuração!F926,IF(VLOOKUP($E$12,Configuração!$S$7:$U$16,3)=\"C (T)\",Configuração!F926,\"\"))))","v":""},null,null,null,null,null,null,6022011,40580]
[null,null,null,null,{"$f":"IF(Configuração!C925=\"\",\"\",Configuração!B925)","v":""},null,null,null,null,null,null,null,null,null,{"$f":"IF(Configuração!H927=\"\",\"\",IF($E$12=\"\",\"\", IF(VLOOKUP($E$12,Configuração!$S$7:$U$16,3)=\"D (T)\",Configuração!F927,IF(VLOOKUP($E$12,Configuração!$S$7:$U$16,3)=\"C (T)\",Configuração!F927,\"\"))))","v":""},null,null,null,null,null,null,6022012,40945]
[null,null,null,null,{"$f":"IF(Configuração!C926=\"\",\"\",Configuração!B926)","v":""},null,null,null,null,null,null,null,null,null,null,null,null,null,null,null,null,6022013,41311]
[null,null,null,null,{"$f":"IF(Configuração!C927=\"\",\"\",Configuração!B927)","v":""},null,null,null,null,null,null,null,null,null,null,null,null,null,null,null,null,6022014,41676]
[null,null,null,null,{"$f":"IF(Configuração!C928=\"\",\"\",Configuração!B928)","v":""},null,null,null,null,null,null,null,null,null,null,null,null,null,null,null,null,6022015,42041]
[null,null,null,null,{"$f":"IF(Configuração!C929=\"\",\"\",Configuração!B929)","v":""},null,null,null,null,null,null,null,null,null,null,null,null,null,null,null,null,6022016,42406]
[null,null,null,null,{"$f":"IF(Configuração!C930=\"\",\"\",Configuração!B930)","v":""},null,null,null,null,null,null,null,null,null,null,null,null,null,null,null,null,6022017,42772]
[null,null,null,null,{"$f":"IF(Configuração!C931=\"\",\"\",Configuração!B931)","v":""},null,null,null,null,null,null,null,null,null,null,null,null,null,null,null,null,6022018,43137]
[null,null,null,null,{"$f":"IF(Configuração!C932=\"\",\"\",Configuração!B932)","v":""},null,null,null,null,null,null,null,null,null,null,null,null,null,null,null,null,6022019,43502]
[null,null,null,null,{"$f":"IF(Configuração!C933=\"\",\"\",Configuração!B933)","v":""},null,null,null,null,null,null,null,null,null,null,null,null,null,null,null,null,6022020,43867]
[null,null,null,null,{"$f":"IF(Configuração!C934=\"\",\"\",Configuração!B934)","v":""},null,null,null,null,null,null,null,null,null,null,null,null,null,null,null,null,6022021,44233]
[null,null,null,null,{"$f":"IF(Configuração!C935=\"\",\"\",Configuração!B935)","v":""},null,null,null,null,null,null,null,null,null,null,null,null,null,null,null,null,6022022,44598]
[null,null,null,null,{"$f":"IF(Configuração!C936=\"\",\"\",Configuração!B936)","v":""},null,null,null,null,null,null,null,null,null,null,null,null,null,null,null,null,6022023,44963]
[null,null,null,null,{"$f":"IF(Configuração!C937=\"\",\"\",Configuração!B937)","v":""},null,null,null,null,null,null,null,null,null,null,null,null,null,null,null,null,6032009,39878]
[null,null,null,null,{"$f":"IF(Configuração!C938=\"\",\"\",Configuração!B938)","v":""},null,null,null,null,null,null,null,null,null,null,null,null,null,null,null,null,6032010,40243]
[null,null,null,null,{"$f":"IF(Configuração!C939=\"\",\"\",Configuração!B939)","v":""},null,null,null,null,null,null,null,null,null,null,null,null,null,null,null,null,6032011,40608]
[null,null,null,null,{"$f":"IF(Configuração!C940=\"\",\"\",Configuração!B940)","v":""},null,null,null,null,null,null,null,null,null,null,null,null,null,null,null,null,6032012,40974]
[null,null,null,null,{"$f":"IF(Configuração!C941=\"\",\"\",Configuração!B941)","v":""},null,null,null,null,null,null,null,null,null,null,null,null,null,null,null,null,6032013,41339]
[null,null,null,null,{"$f":"IF(Configuração!C942=\"\",\"\",Configuração!B942)","v":""},null,null,null,null,null,null,null,null,null,null,null,null,null,null,null,null,6032014,41704]
[null,null,null,null,{"$f":"IF(Configuração!C943=\"\",\"\",Configuração!B943)","v":""},null,null,null,null,null,null,null,null,null,null,null,null,null,null,null,null,6032015,42069]
[null,null,null,null,{"$f":"IF(Configuração!C944=\"\",\"\",Configuração!B944)","v":""},null,null,null,null,null,null,null,null,null,null,null,null,null,null,null,null,6032016,42435]
[null,null,null,null,{"$f":"IF(Configuração!C945=\"\",\"\",Configuração!B945)","v":""},null,null,null,null,null,null,null,null,null,null,null,null,null,null,null,null,6032017,42800]
[null,null,null,null,{"$f":"IF(Configuração!C946=\"\",\"\",Configuração!B946)","v":""},null,null,null,null,null,null,null,null,null,null,null,null,null,null,null,null,6032018,43165]
[null,null,null,null,{"$f":"IF(Configuração!C947=\"\",\"\",Configuração!B947)","v":""},null,null,null,null,null,null,null,null,null,null,null,null,null,null,null,null,6032019,43530]
[null,null,null,null,{"$f":"IF(Configuração!C948=\"\",\"\",Configuração!B948)","v":""},null,null,null,null,null,null,null,null,null,null,null,null,null,null,null,null,6032020,43896]
[null,null,null,null,{"$f":"IF(Configuração!C949=\"\",\"\",Configuração!B949)","v":""},null,null,null,null,null,null,null,null,null,null,null,null,null,null,null,null,6032021,44261]
[null,null,null,null,{"$f":"IF(Configuração!C950=\"\",\"\",Configuração!B950)","v":""},null,null,null,null,null,null,null,null,null,null,null,null,null,null,null,null,6032022,44626]
[null,null,null,null,{"$f":"IF(Configuração!C951=\"\",\"\",Configuração!B951)","v":""},null,null,null,null,null,null,null,null,null,null,null,null,null,null,null,null,6032023,44991]
[null,null,null,null,{"$f":"IF(Configuração!C952=\"\",\"\",Configuração!B952)","v":""},null,null,null,null,null,null,null,null,null,null,null,null,null,null,null,null,6042009,39909]
[null,null,null,null,{"$f":"IF(Configuração!C953=\"\",\"\",Configuração!B953)","v":""},null,null,null,null,null,null,null,null,null,null,null,null,null,null,null,null,6042010,40274]
[null,null,null,null,{"$f":"IF(Configuração!C954=\"\",\"\",Configuração!B954)","v":""},null,null,null,null,null,null,null,null,null,null,null,null,null,null,null,null,6042011,40639]
[null,null,null,null,{"$f":"IF(Configuração!C955=\"\",\"\",Configuração!B955)","v":""},null,null,null,null,null,null,null,null,null,null,null,null,null,null,null,null,6042012,41005]
[null,null,null,null,{"$f":"IF(Configuração!C956=\"\",\"\",Configuração!B956)","v":""},null,null,null,null,null,null,null,null,null,null,null,null,null,null,null,null,6042013,41370]
[null,null,null,null,{"$f":"IF(Configuração!C957=\"\",\"\",Configuração!B957)","v":""},null,null,null,null,null,null,null,null,null,null,null,null,null,null,null,null,6042014,41735]
[null,null,null,null,{"$f":"IF(Configuração!C958=\"\",\"\",Configuração!B958)","v":""},null,null,null,null,null,null,null,null,null,null,null,null,null,null,null,null,6042015,42100]
[null,null,null,null,{"$f":"IF(Configuração!C959=\"\",\"\",Configuração!B959)","v":""},null,null,null,null,null,null,null,null,null,null,null,null,null,null,null,null,6042016,42466]
[null,null,null,null,{"$f":"IF(Configuração!C960=\"\",\"\",Configuração!B960)","v":""},null,null,null,null,null,null,null,null,null,null,null,null,null,null,null,null,6042017,42831]
[null,null,null,null,{"$f":"IF(Configuração!C961=\"\",\"\",Configuração!B961)","v":""},null,null,null,null,null,null,null,null,null,null,null,null,null,null,null,null,6042018,43196]
[null,null,null,null,{"$f":"IF(Configuração!C962=\"\",\"\",Configuração!B962)","v":""},null,null,null,null,null,null,null,null,null,null,null,null,null,null,null,null,6042019,43561]
[null,null,null,null,{"$f":"IF(Configuração!C963=\"\",\"\",Configuração!B963)","v":""},null,null,null,null,null,null,null,null,null,null,null,null,null,null,null,null,6042020,43927]
[null,null,null,null,{"$f":"IF(Configuração!C964=\"\",\"\",Configuração!B964)","v":""},null,null,null,null,null,null,null,null,null,null,null,null,null,null,null,null,6042021,44292]
[null,null,null,null,{"$f":"IF(Configuração!C965=\"\",\"\",Configuração!B965)","v":""},null,null,null,null,null,null,null,null,null,null,null,null,null,null,null,null,6042022,44657]
[null,null,null,null,{"$f":"IF(Configuração!C966=\"\",\"\",Configuração!B966)","v":""},null,null,null,null,null,null,null,null,null,null,null,null,null,null,null,null,6042023,45022]
[null,null,null,null,{"$f":"IF(Configuração!C967=\"\",\"\",Configuração!B967)","v":""},null,null,null,null,null,null,null,null,null,null,null,null,null,null,null,null,6052009,39939]
[null,null,null,null,{"$f":"IF(Configuração!C968=\"\",\"\",Configuração!B968)","v":""},null,null,null,null,null,null,null,null,null,null,null,null,null,null,null,null,6052010,40304]
[null,null,null,null,{"$f":"IF(Configuração!C969=\"\",\"\",Configuração!B969)","v":""},null,null,null,null,null,null,null,null,null,null,null,null,null,null,null,null,6052011,40669]
[null,null,null,null,{"$f":"IF(Configuração!C970=\"\",\"\",Configuração!B970)","v":""},null,null,null,null,null,null,null,null,null,null,null,null,null,null,null,null,6052012,41035]
[null,null,null,null,{"$f":"IF(Configuração!C971=\"\",\"\",Configuração!B971)","v":""},null,null,null,null,null,null,null,null,null,null,null,null,null,null,null,null,6052013,41400]
[null,null,null,null,{"$f":"IF(Configuração!C972=\"\",\"\",Configuração!B972)","v":""},null,null,null,null,null,null,null,null,null,null,null,null,null,null,null,null,6052014,41765]
[null,null,null,null,{"$f":"IF(Configuração!C973=\"\",\"\",Configuração!B973)","v":""},null,null,null,null,null,null,null,null,null,null,null,null,null,null,null,null,6052015,42130]
[null,null,null,null,{"$f":"IF(Configuração!C974=\"\",\"\",Configuração!B974)","v":""},null,null,null,null,null,null,null,null,null,null,null,null,null,null,null,null,6052016,42496]
[null,null,null,null,{"$f":"IF(Configuração!C975=\"\",\"\",Configuração!B975)","v":""},null,null,null,null,null,null,null,null,null,null,null,null,null,null,null,null,6052017,42861]
[null,null,null,null,{"$f":"IF(Configuração!C976=\"\",\"\",Configuração!B976)","v":""},null,null,null,null,null,null,null,null,null,null,null,null,null,null,null,null,6052018,43226]
[null,null,null,null,{"$f":"IF(Configuração!C977=\"\",\"\",Configuração!B977)","v":""},null,null,null,null,null,null,null,null,null,null,null,null,null,null,null,null,6052019,43591]
[null,null,null,null,{"$f":"IF(Configuração!C978=\"\",\"\",Configuração!B978)","v":""},null,null,null,null,null,null,null,null,null,null,null,null,null,null,null,null,6052020,43957]
[null,null,null,null,{"$f":"IF(Configuração!C979=\"\",\"\",Configuração!B979)","v":""},null,null,null,null,null,null,null,null,null,null,null,null,null,null,null,null,6052021,44322]
[null,null,null,null,{"$f":"IF(Configuração!C980=\"\",\"\",Configuração!B980)","v":""},null,null,null,null,null,null,null,null,null,null,null,null,null,null,null,null,6052022,44687]
[null,null,null,null,{"$f":"IF(Configuração!C981=\"\",\"\",Configuração!B981)","v":""},null,null,null,null,null,null,null,null,null,null,null,null,null,null,null,null,6052023,45052]
[null,null,null,null,{"$f":"IF(Configuração!C982=\"\",\"\",Configuração!B982)","v":""},null,null,null,null,null,null,null,null,null,null,null,null,null,null,null,null,6062009,39970]
[null,null,null,null,{"$f":"IF(Configuração!C983=\"\",\"\",Configuração!B983)","v":""},null,null,null,null,null,null,null,null,null,null,null,null,null,null,null,null,6062010,40335]
[null,null,null,null,{"$f":"IF(Configuração!C984=\"\",\"\",Configuração!B984)","v":""},null,null,null,null,null,null,null,null,null,null,null,null,null,null,null,null,6062011,40700]
[null,null,null,null,{"$f":"IF(Configuração!C985=\"\",\"\",Configuração!B985)","v":""},null,null,null,null,null,null,null,null,null,null,null,null,null,null,null,null,6062012,41066]
[null,null,null,null,{"$f":"IF(Configuração!C986=\"\",\"\",Configuração!B986)","v":""},null,null,null,null,null,null,null,null,null,null,null,null,null,null,null,null,6062013,41431]
[null,null,null,null,{"$f":"IF(Configuração!C987=\"\",\"\",Configuração!B987)","v":""},null,null,null,null,null,null,null,null,null,null,null,null,null,null,null,null,6062014,41796]
[null,null,null,null,{"$f":"IF(Configuração!C988=\"\",\"\",Configuração!B988)","v":""},null,null,null,null,null,null,null,null,null,null,null,null,null,null,null,null,6062015,42161]
[null,null,null,null,{"$f":"IF(Configuração!C989=\"\",\"\",Configuração!B989)","v":""},null,null,null,null,null,null,null,null,null,null,null,null,null,null,null,null,6062016,42527]
[null,null,null,null,{"$f":"IF(Configuração!C990=\"\",\"\",Configuração!B990)","v":""},null,null,null,null,null,null,null,null,null,null,null,null,null,null,null,null,6062017,42892]
[null,null,null,null,{"$f":"IF(Configuração!C991=\"\",\"\",Configuração!B991)","v":""},null,null,null,null,null,null,null,null,null,null,null,null,null,null,null,null,6062018,43257]
[null,null,null,null,{"$f":"IF(Configuração!C992=\"\",\"\",Configuração!B992)","v":""},null,null,null,null,null,null,null,null,null,null,null,null,null,null,null,null,6062019,43622]
[null,null,null,null,{"$f":"IF(Configuração!C993=\"\",\"\",Configuração!B993)","v":""},null,null,null,null,null,null,null,null,null,null,null,null,null,null,null,null,6062020,43988]
[null,null,null,null,{"$f":"IF(Configuração!C994=\"\",\"\",Configuração!B994)","v":""},null,null,null,null,null,null,null,null,null,null,null,null,null,null,null,null,6062021,44353]
[null,null,null,null,{"$f":"IF(Configuração!C995=\"\",\"\",Configuração!B995)","v":""},null,null,null,null,null,null,null,null,null,null,null,null,null,null,null,null,6062022,44718]
[null,null,null,null,{"$f":"IF(Configuração!C996=\"\",\"\",Configuração!B996)","v":""},null,null,null,null,null,null,null,null,null,null,null,null,null,null,null,null,6062023,45083]
[null,null,null,null,{"$f":"IF(Configuração!C997=\"\",\"\",Configuração!B997)","v":""},null,null,null,null,null,null,null,null,null,null,null,null,null,null,null,null,6072009,40000]
[null,null,null,null,{"$f":"IF(Configuração!C998=\"\",\"\",Configuração!B998)","v":""},null,null,null,null,null,null,null,null,null,null,null,null,null,null,null,null,6072010,40365]
[null,null,null,null,{"$f":"IF(Configuração!C999=\"\",\"\",Configuração!B999)","v":""},null,null,null,null,null,null,null,null,null,null,null,null,null,null,null,null,6072011,40730]
[null,null,null,null,{"$f":"IF(Configuração!C1000=\"\",\"\",Configuração!B1000)","v":""},null,null,null,null,null,null,null,null,null,null,null,null,null,null,null,null,6072012,41096]
[null,null,null,null,{"$f":"IF(Configuração!C1001=\"\",\"\",Configuração!B1001)","v":""},null,null,null,null,null,null,null,null,null,null,null,null,null,null,null,null,6072013,41461]
[null,null,null,null,{"$f":"IF(Configuração!C1002=\"\",\"\",Configuração!B1002)","v":""},null,null,null,null,null,null,null,null,null,null,null,null,null,null,null,null,6072014,41826]
[null,null,null,null,{"$f":"IF(Configuração!C1003=\"\",\"\",Configuração!B1003)","v":""},null,null,null,null,null,null,null,null,null,null,null,null,null,null,null,null,6072015,42191]
[null,null,null,null,{"$f":"IF(Configuração!C1004=\"\",\"\",Configuração!B1004)","v":""},null,null,null,null,null,null,null,null,null,null,null,null,null,null,null,null,6072016,42557]
[null,null,null,null,{"$f":"IF(Configuração!C1005=\"\",\"\",Configuração!B1005)","v":""},null,null,null,null,null,null,null,null,null,null,null,null,null,null,null,null,6072017,42922]
[null,null,null,null,{"$f":"IF(Configuração!C1006=\"\",\"\",Configuração!B1006)","v":""},null,null,null,null,null,null,null,null,null,null,null,null,null,null,null,null,6072018,43287]
[null,null,null,null,{"$f":"IF(Configuração!C1007=\"\",\"\",Configuração!B1007)","v":""},null,null,null,null,null,null,null,null,null,null,null,null,null,null,null,null,6072019,43652]
[null,null,null,null,{"$f":"IF(Configuração!C1008=\"\",\"\",Configuração!B1008)","v":""},null,null,null,null,null,null,null,null,null,null,null,null,null,null,null,null,6072020,44018]
[null,null,null,null,{"$f":"IF(Configuração!C1009=\"\",\"\",Configuração!B1009)","v":""},null,null,null,null,null,null,null,null,null,null,null,null,null,null,null,null,6072021,44383]
[null,null,null,null,{"$f":"IF(Configuração!C1010=\"\",\"\",Configuração!B1010)","v":""},null,null,null,null,null,null,null,null,null,null,null,null,null,null,null,null,6072022,44748]
[null,null,null,null,{"$f":"IF(Configuração!C1011=\"\",\"\",Configuração!B1011)","v":""},null,null,null,null,null,null,null,null,null,null,null,null,null,null,null,null,6072023,45113]
[null,null,null,null,{"$f":"IF(Configuração!C1012=\"\",\"\",Configuração!B1012)","v":""},null,null,null,null,null,null,null,null,null,null,null,null,null,null,null,null,6082009,40031]
[null,null,null,null,{"$f":"IF(Configuração!C1013=\"\",\"\",Configuração!B1013)","v":""},null,null,null,null,null,null,null,null,null,null,null,null,null,null,null,null,6082010,40396]
[null,null,null,null,{"$f":"IF(Configuração!C1014=\"\",\"\",Configuração!B1014)","v":""},null,null,null,null,null,null,null,null,null,null,null,null,null,null,null,null,6082011,40761]
[null,null,null,null,{"$f":"IF(Configuração!C1015=\"\",\"\",Configuração!B1015)","v":""},null,null,null,null,null,null,null,null,null,null,null,null,null,null,null,null,6082012,41127]
[null,null,null,null,{"$f":"IF(Configuração!C1016=\"\",\"\",Configuração!B1016)","v":""},null,null,null,null,null,null,null,null,null,null,null,null,null,null,null,null,6082013,41492]
[null,null,null,null,{"$f":"IF(Configuração!C1017=\"\",\"\",Configuração!B1017)","v":""},null,null,null,null,null,null,null,null,null,null,null,null,null,null,null,null,6082014,41857]
[null,null,null,null,{"$f":"IF(Configuração!C1018=\"\",\"\",Configuração!B1018)","v":""},null,null,null,null,null,null,null,null,null,null,null,null,null,null,null,null,6082015,42222]
[null,null,null,null,{"$f":"IF(Configuração!C1019=\"\",\"\",Configuração!B1019)","v":""},null,null,null,null,null,null,null,null,null,null,null,null,null,null,null,null,6082016,42588]
[null,null,null,null,{"$f":"IF(Configuração!C1020=\"\",\"\",Configuração!B1020)","v":""},null,null,null,null,null,null,null,null,null,null,null,null,null,null,null,null,6082017,42953]
[null,null,null,null,{"$f":"IF(Configuração!C1021=\"\",\"\",Configuração!B1021)","v":""},null,null,null,null,null,null,null,null,null,null,null,null,null,null,null,null,6082018,43318]
[null,null,null,null,{"$f":"IF(Configuração!C1022=\"\",\"\",Configuração!B1022)","v":""},null,null,null,null,null,null,null,null,null,null,null,null,null,null,null,null,6082019,43683]
[null,null,null,null,{"$f":"IF(Configuração!C1023=\"\",\"\",Configuração!B1023)","v":""},null,null,null,null,null,null,null,null,null,null,null,null,null,null,null,null,6082020,44049]
[null,null,null,null,{"$f":"IF(Configuração!C1024=\"\",\"\",Configuração!B1024)","v":""},null,null,null,null,null,null,null,null,null,null,null,null,null,null,null,null,6082021,44414]
[null,null,null,null,{"$f":"IF(Configuração!C1025=\"\",\"\",Configuração!B1025)","v":""},null,null,null,null,null,null,null,null,null,null,null,null,null,null,null,null,6082022,44779]
[null,null,null,null,{"$f":"IF(Configuração!C1026=\"\",\"\",Configuração!B1026)","v":""},null,null,null,null,null,null,null,null,null,null,null,null,null,null,null,null,6082023,45144]
[null,null,null,null,{"$f":"IF(Configuração!C1027=\"\",\"\",Configuração!B1027)","v":""},null,null,null,null,null,null,null,null,null,null,null,null,null,null,null,null,6092009,40062]
[null,null,null,null,{"$f":"IF(Configuração!C1028=\"\",\"\",Configuração!B1028)","v":""},null,null,null,null,null,null,null,null,null,null,null,null,null,null,null,null,6092010,40427]
[null,null,null,null,{"$f":"IF(Configuração!C1029=\"\",\"\",Configuração!B1029)","v":""},null,null,null,null,null,null,null,null,null,null,null,null,null,null,null,null,6092011,40792]
[null,null,null,null,{"$f":"IF(Configuração!C1030=\"\",\"\",Configuração!B1030)","v":""},null,null,null,null,null,null,null,null,null,null,null,null,null,null,null,null,6092012,41158]
[null,null,null,null,{"$f":"IF(Configuração!C1031=\"\",\"\",Configuração!B1031)","v":""},null,null,null,null,null,null,null,null,null,null,null,null,null,null,null,null,6092013,41523]
[null,null,null,null,{"$f":"IF(Configuração!C1032=\"\",\"\",Configuração!B1032)","v":""},null,null,null,null,null,null,null,null,null,null,null,null,null,null,null,null,6092014,41888]
[null,null,null,null,{"$f":"IF(Configuração!C1033=\"\",\"\",Configuração!B1033)","v":""},null,null,null,null,null,null,null,null,null,null,null,null,null,null,null,null,6092015,42253]
[null,null,null,null,{"$f":"IF(Configuração!C1034=\"\",\"\",Configuração!B1034)","v":""},null,null,null,null,null,null,null,null,null,null,null,null,null,null,null,null,6092016,42619]
[null,null,null,null,{"$f":"IF(Configuração!C1035=\"\",\"\",Configuração!B1035)","v":""},null,null,null,null,null,null,null,null,null,null,null,null,null,null,null,null,6092017,42984]
[null,null,null,null,{"$f":"IF(Configuração!C1036=\"\",\"\",Configuração!B1036)","v":""},null,null,null,null,null,null,null,null,null,null,null,null,null,null,null,null,6092018,43349]
[null,null,null,null,{"$f":"IF(Configuração!C1037=\"\",\"\",Configuração!B1037)","v":""},null,null,null,null,null,null,null,null,null,null,null,null,null,null,null,null,6092019,43714]
[null,null,null,null,{"$f":"IF(Configuração!C1038=\"\",\"\",Configuração!B1038)","v":""},null,null,null,null,null,null,null,null,null,null,null,null,null,null,null,null,6092020,44080]
[null,null,null,null,{"$f":"IF(Configuração!C1039=\"\",\"\",Configuração!B1039)","v":""},null,null,null,null,null,null,null,null,null,null,null,null,null,null,null,null,6092021,44445]
[null,null,null,null,{"$f":"IF(Configuração!C1040=\"\",\"\",Configuração!B1040)","v":""},null,null,null,null,null,null,null,null,null,null,null,null,null,null,null,null,6092022,44810]
[null,null,null,null,{"$f":"IF(Configuração!C1041=\"\",\"\",Configuração!B1041)","v":""},null,null,null,null,null,null,null,null,null,null,null,null,null,null,null,null,6092023,45175]
[null,null,null,null,{"$f":"IF(Configuração!C1042=\"\",\"\",Configuração!B1042)","v":""},null,null,null,null,null,null,null,null,null,null,null,null,null,null,null,null,6102009,40092]
[null,null,null,null,{"$f":"IF(Configuração!C1043=\"\",\"\",Configuração!B1043)","v":""},null,null,null,null,null,null,null,null,null,null,null,null,null,null,null,null,6102010,40457]
[null,null,null,null,{"$f":"IF(Configuração!C1044=\"\",\"\",Configuração!B1044)","v":""},null,null,null,null,null,null,null,null,null,null,null,null,null,null,null,null,6102011,40822]
[null,null,null,null,{"$f":"IF(Configuração!C1045=\"\",\"\",Configuração!B1045)","v":""},null,null,null,null,null,null,null,null,null,null,null,null,null,null,null,null,6102012,41188]
[null,null,null,null,{"$f":"IF(Configuração!C1046=\"\",\"\",Configuração!B1046)","v":""},null,null,null,null,null,null,null,null,null,null,null,null,null,null,null,null,6102013,41553]
[null,null,null,null,{"$f":"IF(Configuração!C1047=\"\",\"\",Configuração!B1047)","v":""},null,null,null,null,null,null,null,null,null,null,null,null,null,null,null,null,6102014,41918]
[null,null,null,null,{"$f":"IF(Configuração!C1048=\"\",\"\",Configuração!B1048)","v":""},null,null,null,null,null,null,null,null,null,null,null,null,null,null,null,null,6102015,42283]
[null,null,null,null,{"$f":"IF(Configuração!C1049=\"\",\"\",Configuração!B1049)","v":""},null,null,null,null,null,null,null,null,null,null,null,null,null,null,null,null,6102016,42649]
[null,null,null,null,{"$f":"IF(Configuração!C1050=\"\",\"\",Configuração!B1050)","v":""},null,null,null,null,null,null,null,null,null,null,null,null,null,null,null,null,6102017,43014]
[null,null,null,null,{"$f":"IF(Configuração!C1051=\"\",\"\",Configuração!B1051)","v":""},null,null,null,null,null,null,null,null,null,null,null,null,null,null,null,null,6102018,43379]
[null,null,null,null,{"$f":"IF(Configuração!C1052=\"\",\"\",Configuração!B1052)","v":""},null,null,null,null,null,null,null,null,null,null,null,null,null,null,null,null,6102019,43744]
[null,null,null,null,{"$f":"IF(Configuração!C1053=\"\",\"\",Configuração!B1053)","v":""},null,null,null,null,null,null,null,null,null,null,null,null,null,null,null,null,6102020,44110]
[null,null,null,null,{"$f":"IF(Configuração!C1054=\"\",\"\",Configuração!B1054)","v":""},null,null,null,null,null,null,null,null,null,null,null,null,null,null,null,null,6102021,44475]
[null,null,null,null,{"$f":"IF(Configuração!C1055=\"\",\"\",Configuração!B1055)","v":""},null,null,null,null,null,null,null,null,null,null,null,null,null,null,null,null,6102022,44840]
[null,null,null,null,{"$f":"IF(Configuração!C1056=\"\",\"\",Configuração!B1056)","v":""},null,null,null,null,null,null,null,null,null,null,null,null,null,null,null,null,6102023,45205]
[null,null,null,null,{"$f":"IF(Configuração!C1057=\"\",\"\",Configuração!B1057)","v":""},null,null,null,null,null,null,null,null,null,null,null,null,null,null,null,null,6112009,40123]
[null,null,null,null,{"$f":"IF(Configuração!C1058=\"\",\"\",Configuração!B1058)","v":""},null,null,null,null,null,null,null,null,null,null,null,null,null,null,null,null,6112010,40488]
[null,null,null,null,{"$f":"IF(Configuração!C1059=\"\",\"\",Configuração!B1059)","v":""},null,null,null,null,null,null,null,null,null,null,null,null,null,null,null,null,6112011,40853]
[null,null,null,null,{"$f":"IF(Configuração!C1060=\"\",\"\",Configuração!B1060)","v":""},null,null,null,null,null,null,null,null,null,null,null,null,null,null,null,null,6112012,41219]
[null,null,null,null,{"$f":"IF(Configuração!C1061=\"\",\"\",Configuração!B1061)","v":""},null,null,null,null,null,null,null,null,null,null,null,null,null,null,null,null,6112013,41584]
[null,null,null,null,{"$f":"IF(Configuração!C1062=\"\",\"\",Configuração!B1062)","v":""},null,null,null,null,null,null,null,null,null,null,null,null,null,null,null,null,6112014,41949]
[null,null,null,null,{"$f":"IF(Configuração!C1063=\"\",\"\",Configuração!B1063)","v":""},null,null,null,null,null,null,null,null,null,null,null,null,null,null,null,null,6112015,42314]
[null,null,null,null,{"$f":"IF(Configuração!C1064=\"\",\"\",Configuração!B1064)","v":""},null,null,null,null,null,null,null,null,null,null,null,null,null,null,null,null,6112016,42680]
[null,null,null,null,{"$f":"IF(Configuração!C1065=\"\",\"\",Configuração!B1065)","v":""},null,null,null,null,null,null,null,null,null,null,null,null,null,null,null,null,6112017,43045]
[null,null,null,null,{"$f":"IF(Configuração!C1066=\"\",\"\",Configuração!B1066)","v":""},null,null,null,null,null,null,null,null,null,null,null,null,null,null,null,null,6112018,43410]
[null,null,null,null,{"$f":"IF(Configuração!C1067=\"\",\"\",Configuração!B1067)","v":""},null,null,null,null,null,null,null,null,null,null,null,null,null,null,null,null,6112019,43775]
[null,null,null,null,{"$f":"IF(Configuração!C1068=\"\",\"\",Configuração!B1068)","v":""},null,null,null,null,null,null,null,null,null,null,null,null,null,null,null,null,6112020,44141]
[null,null,null,null,{"$f":"IF(Configuração!C1069=\"\",\"\",Configuração!B1069)","v":""},null,null,null,null,null,null,null,null,null,null,null,null,null,null,null,null,6112021,44506]
[null,null,null,null,{"$f":"IF(Configuração!C1070=\"\",\"\",Configuração!B1070)","v":""},null,null,null,null,null,null,null,null,null,null,null,null,null,null,null,null,6112022,44871]
[null,null,null,null,{"$f":"IF(Configuração!C1071=\"\",\"\",Configuração!B1071)","v":""},null,null,null,null,null,null,null,null,null,null,null,null,null,null,null,null,6112023,45236]
[null,null,null,null,{"$f":"IF(Configuração!C1072=\"\",\"\",Configuração!B1072)","v":""},null,null,null,null,null,null,null,null,null,null,null,null,null,null,null,null,6122009,40153]
[null,null,null,null,{"$f":"IF(Configuração!C1073=\"\",\"\",Configuração!B1073)","v":""},null,null,null,null,null,null,null,null,null,null,null,null,null,null,null,null,6122010,40518]
[null,null,null,null,{"$f":"IF(Configuração!C1074=\"\",\"\",Configuração!B1074)","v":""},null,null,null,null,null,null,null,null,null,null,null,null,null,null,null,null,6122011,40883]
[null,null,null,null,{"$f":"IF(Configuração!C1075=\"\",\"\",Configuração!B1075)","v":""},null,null,null,null,null,null,null,null,null,null,null,null,null,null,null,null,6122012,41249]
[null,null,null,null,{"$f":"IF(Configuração!C1076=\"\",\"\",Configuração!B1076)","v":""},null,null,null,null,null,null,null,null,null,null,null,null,null,null,null,null,6122013,41614]
[null,null,null,null,{"$f":"IF(Configuração!C1077=\"\",\"\",Configuração!B1077)","v":""},null,null,null,null,null,null,null,null,null,null,null,null,null,null,null,null,6122014,41979]
[null,null,null,null,{"$f":"IF(Configuração!C1078=\"\",\"\",Configuração!B1078)","v":""},null,null,null,null,null,null,null,null,null,null,null,null,null,null,null,null,6122015,42344]
[null,null,null,null,{"$f":"IF(Configuração!C1079=\"\",\"\",Configuração!B1079)","v":""},null,null,null,null,null,null,null,null,null,null,null,null,null,null,null,null,6122016,42710]
[null,null,null,null,{"$f":"IF(Configuração!C1080=\"\",\"\",Configuração!B1080)","v":""},null,null,null,null,null,null,null,null,null,null,null,null,null,null,null,null,6122017,43075]
[null,null,null,null,{"$f":"IF(Configuração!C1081=\"\",\"\",Configuração!B1081)","v":""},null,null,null,null,null,null,null,null,null,null,null,null,null,null,null,null,6122018,43440]
[null,null,null,null,{"$f":"IF(Configuração!C1082=\"\",\"\",Configuração!B1082)","v":""},null,null,null,null,null,null,null,null,null,null,null,null,null,null,null,null,6122019,43805]
[null,null,null,null,{"$f":"IF(Configuração!C1083=\"\",\"\",Configuração!B1083)","v":""},null,null,null,null,null,null,null,null,null,null,null,null,null,null,null,null,6122020,44171]
[null,null,null,null,{"$f":"IF(Configuração!C1084=\"\",\"\",Configuração!B1084)","v":""},null,null,null,null,null,null,null,null,null,null,null,null,null,null,null,null,6122021,44536]
[null,null,null,null,{"$f":"IF(Configuração!C1085=\"\",\"\",Configuração!B1085)","v":""},null,null,null,null,null,null,null,null,null,null,null,null,null,null,null,null,6122022,44901]
[null,null,null,null,{"$f":"IF(Configuração!C1086=\"\",\"\",Configuração!B1086)","v":""},null,null,null,null,null,null,null,null,null,null,null,null,null,null,null,null,6122023,45266]
[null,null,null,null,{"$f":"IF(Configuração!C1087=\"\",\"\",Configuração!B1087)","v":""},null,null,null,null,null,null,null,null,null,null,null,null,null,null,null,null,7012009,39820]
[null,null,null,null,{"$f":"IF(Configuração!C1088=\"\",\"\",Configuração!B1088)","v":""},null,null,null,null,null,null,null,null,null,null,null,null,null,null,null,null,7012010,40185]
[null,null,null,null,{"$f":"IF(Configuração!C1089=\"\",\"\",Configuração!B1089)","v":""},null,null,null,null,null,null,null,null,null,null,null,null,null,null,null,null,7012011,40550]
[null,null,null,null,{"$f":"IF(Configuração!C1090=\"\",\"\",Configuração!B1090)","v":""},null,null,null,null,null,null,null,null,null,null,null,null,null,null,null,null,7012012,40915]
[null,null,null,null,{"$f":"IF(Configuração!C1091=\"\",\"\",Configuração!B1091)","v":""},null,null,null,null,null,null,null,null,null,null,null,null,null,null,null,null,7012013,41281]
[null,null,null,null,{"$f":"IF(Configuração!C1092=\"\",\"\",Configuração!B1092)","v":""},null,null,null,null,null,null,null,null,null,null,null,null,null,null,null,null,7012014,41646]
[null,null,null,null,{"$f":"IF(Configuração!C1093=\"\",\"\",Configuração!B1093)","v":""},null,null,null,null,null,null,null,null,null,null,null,null,null,null,null,null,7012015,42011]
[null,null,null,null,{"$f":"IF(Configuração!C1094=\"\",\"\",Configuração!B1094)","v":""},null,null,null,null,null,null,null,null,null,null,null,null,null,null,null,null,7012016,42376]
[null,null,null,null,{"$f":"IF(Configuração!C1095=\"\",\"\",Configuração!B1095)","v":""},null,null,null,null,null,null,null,null,null,null,null,null,null,null,null,null,7012017,42742]
[null,null,null,null,{"$f":"IF(Configuração!C1096=\"\",\"\",Configuração!B1096)","v":""},null,null,null,null,null,null,null,null,null,null,null,null,null,null,null,null,7012018,43107]
[null,null,null,null,{"$f":"IF(Configuração!C1097=\"\",\"\",Configuração!B1097)","v":""},null,null,null,null,null,null,null,null,null,null,null,null,null,null,null,null,7012019,43472]
[null,null,null,null,{"$f":"IF(Configuração!C1098=\"\",\"\",Configuração!B1098)","v":""},null,null,null,null,null,null,null,null,null,null,null,null,null,null,null,null,7012020,43837]
[null,null,null,null,{"$f":"IF(Configuração!C1099=\"\",\"\",Configuração!B1099)","v":""},null,null,null,null,null,null,null,null,null,null,null,null,null,null,null,null,7012021,44203]
[null,null,null,null,{"$f":"IF(Configuração!C1100=\"\",\"\",Configuração!B1100)","v":""},null,null,null,null,null,null,null,null,null,null,null,null,null,null,null,null,7012022,44568]
[null,null,null,null,{"$f":"IF(Configuração!C1101=\"\",\"\",Configuração!B1101)","v":""},null,null,null,null,null,null,null,null,null,null,null,null,null,null,null,null,7012023,44933]
[null,null,null,null,{"$f":"IF(Configuração!C1102=\"\",\"\",Configuração!B1102)","v":""},null,null,null,null,null,null,null,null,null,null,null,null,null,null,null,null,7022009,39851]
[null,null,null,null,{"$f":"IF(Configuração!C1103=\"\",\"\",Configuração!B1103)","v":""},null,null,null,null,null,null,null,null,null,null,null,null,null,null,null,null,7022010,40216]
[null,null,null,null,{"$f":"IF(Configuração!C1104=\"\",\"\",Configuração!B1104)","v":""},null,null,null,null,null,null,null,null,null,null,null,null,null,null,null,null,7022011,40581]
[null,null,null,null,{"$f":"IF(Configuração!C1105=\"\",\"\",Configuração!B1105)","v":""},null,null,null,null,null,null,null,null,null,null,null,null,null,null,null,null,7022012,40946]
[null,null,null,null,{"$f":"IF(Configuração!C1106=\"\",\"\",Configuração!B1106)","v":""},null,null,null,null,null,null,null,null,null,null,null,null,null,null,null,null,7022013,41312]
[null,null,null,null,{"$f":"IF(Configuração!C1107=\"\",\"\",Configuração!B1107)","v":""},null,null,null,null,null,null,null,null,null,null,null,null,null,null,null,null,7022014,41677]
[null,null,null,null,{"$f":"IF(Configuração!C1108=\"\",\"\",Configuração!B1108)","v":""},null,null,null,null,null,null,null,null,null,null,null,null,null,null,null,null,7022015,42042]
[null,null,null,null,{"$f":"IF(Configuração!C1109=\"\",\"\",Configuração!B1109)","v":""},null,null,null,null,null,null,null,null,null,null,null,null,null,null,null,null,7022016,42407]
[null,null,null,null,{"$f":"IF(Configuração!C1110=\"\",\"\",Configuração!B1110)","v":""},null,null,null,null,null,null,null,null,null,null,null,null,null,null,null,null,7022017,42773]
[null,null,null,null,{"$f":"IF(Configuração!C1111=\"\",\"\",Configuração!B1111)","v":""},null,null,null,null,null,null,null,null,null,null,null,null,null,null,null,null,7022018,43138]
[null,null,null,null,{"$f":"IF(Configuração!C1112=\"\",\"\",Configuração!B1112)","v":""},null,null,null,null,null,null,null,null,null,null,null,null,null,null,null,null,7022019,43503]
[null,null,null,null,{"$f":"IF(Configuração!C1113=\"\",\"\",Configuração!B1113)","v":""},null,null,null,null,null,null,null,null,null,null,null,null,null,null,null,null,7022020,43868]
[null,null,null,null,{"$f":"IF(Configuração!C1114=\"\",\"\",Configuração!B1114)","v":""},null,null,null,null,null,null,null,null,null,null,null,null,null,null,null,null,7022021,44234]
[null,null,null,null,{"$f":"IF(Configuração!C1115=\"\",\"\",Configuração!B1115)","v":""},null,null,null,null,null,null,null,null,null,null,null,null,null,null,null,null,7022022,44599]
[null,null,null,null,{"$f":"IF(Configuração!C1116=\"\",\"\",Configuração!B1116)","v":""},null,null,null,null,null,null,null,null,null,null,null,null,null,null,null,null,7022023,44964]
[null,null,null,null,{"$f":"IF(Configuração!C1117=\"\",\"\",Configuração!B1117)","v":""},null,null,null,null,null,null,null,null,null,null,null,null,null,null,null,null,7032009,39879]
[null,null,null,null,{"$f":"IF(Configuração!C1118=\"\",\"\",Configuração!B1118)","v":""},null,null,null,null,null,null,null,null,null,null,null,null,null,null,null,null,7032010,40244]
[null,null,null,null,{"$f":"IF(Configuração!C1119=\"\",\"\",Configuração!B1119)","v":""},null,null,null,null,null,null,null,null,null,null,null,null,null,null,null,null,7032011,40609]
[null,null,null,null,{"$f":"IF(Configuração!C1120=\"\",\"\",Configuração!B1120)","v":""},null,null,null,null,null,null,null,null,null,null,null,null,null,null,null,null,7032012,40975]
[null,null,null,null,{"$f":"IF(Configuração!C1121=\"\",\"\",Configuração!B1121)","v":""},null,null,null,null,null,null,null,null,null,null,null,null,null,null,null,null,7032013,41340]
[null,null,null,null,{"$f":"IF(Configuração!C1122=\"\",\"\",Configuração!B1122)","v":""},null,null,null,null,null,null,null,null,null,null,null,null,null,null,null,null,7032014,41705]
[null,null,null,null,{"$f":"IF(Configuração!C1123=\"\",\"\",Configuração!B1123)","v":""},null,null,null,null,null,null,null,null,null,null,null,null,null,null,null,null,7032015,42070]
[null,null,null,null,{"$f":"IF(Configuração!C1124=\"\",\"\",Configuração!B1124)","v":""},null,null,null,null,null,null,null,null,null,null,null,null,null,null,null,null,7032016,42436]
[null,null,null,null,{"$f":"IF(Configuração!C1125=\"\",\"\",Configuração!B1125)","v":""},null,null,null,null,null,null,null,null,null,null,null,null,null,null,null,null,7032017,42801]
[null,null,null,null,{"$f":"IF(Configuração!C1126=\"\",\"\",Configuração!B1126)","v":""},null,null,null,null,null,null,null,null,null,null,null,null,null,null,null,null,7032018,43166]
[null,null,null,null,{"$f":"IF(Configuração!C1127=\"\",\"\",Configuração!B1127)","v":""},null,null,null,null,null,null,null,null,null,null,null,null,null,null,null,null,7032019,43531]
[null,null,null,null,{"$f":"IF(Configuração!C1128=\"\",\"\",Configuração!B1128)","v":""},null,null,null,null,null,null,null,null,null,null,null,null,null,null,null,null,7032020,43897]
[null,null,null,null,{"$f":"IF(Configuração!C1129=\"\",\"\",Configuração!B1129)","v":""},null,null,null,null,null,null,null,null,null,null,null,null,null,null,null,null,7032021,44262]
[null,null,null,null,{"$f":"IF(Configuração!C1130=\"\",\"\",Configuração!B1130)","v":""},null,null,null,null,null,null,null,null,null,null,null,null,null,null,null,null,7032022,44627]
[null,null,null,null,{"$f":"IF(Configuração!C1131=\"\",\"\",Configuração!B1131)","v":""},null,null,null,null,null,null,null,null,null,null,null,null,null,null,null,null,7032023,44992]
[null,null,null,null,{"$f":"IF(Configuração!C1132=\"\",\"\",Configuração!B1132)","v":""},null,null,null,null,null,null,null,null,null,null,null,null,null,null,null,null,7042009,39910]
[null,null,null,null,{"$f":"IF(Configuração!C1133=\"\",\"\",Configuração!B1133)","v":""},null,null,null,null,null,null,null,null,null,null,null,null,null,null,null,null,7042010,40275]
[null,null,null,null,{"$f":"IF(Configuração!C1134=\"\",\"\",Configuração!B1134)","v":""},null,null,null,null,null,null,null,null,null,null,null,null,null,null,null,null,7042011,40640]
[null,null,null,null,{"$f":"IF(Configuração!C1135=\"\",\"\",Configuração!B1135)","v":""},null,null,null,null,null,null,null,null,null,null,null,null,null,null,null,null,7042012,41006]
[null,null,null,null,{"$f":"IF(Configuração!C1136=\"\",\"\",Configuração!B1136)","v":""},null,null,null,null,null,null,null,null,null,null,null,null,null,null,null,null,7042013,41371]
[null,null,null,null,{"$f":"IF(Configuração!C1137=\"\",\"\",Configuração!B1137)","v":""},null,null,null,null,null,null,null,null,null,null,null,null,null,null,null,null,7042014,41736]
[null,null,null,null,{"$f":"IF(Configuração!C1138=\"\",\"\",Configuração!B1138)","v":""},null,null,null,null,null,null,null,null,null,null,null,null,null,null,null,null,7042015,42101]
[null,null,null,null,{"$f":"IF(Configuração!C1139=\"\",\"\",Configuração!B1139)","v":""},null,null,null,null,null,null,null,null,null,null,null,null,null,null,null,null,7042016,42467]
[null,null,null,null,{"$f":"IF(Configuração!C1140=\"\",\"\",Configuração!B1140)","v":""},null,null,null,null,null,null,null,null,null,null,null,null,null,null,null,null,7042017,42832]
[null,null,null,null,{"$f":"IF(Configuração!C1141=\"\",\"\",Configuração!B1141)","v":""},null,null,null,null,null,null,null,null,null,null,null,null,null,null,null,null,7042018,43197]
[null,null,null,null,{"$f":"IF(Configuração!C1142=\"\",\"\",Configuração!B1142)","v":""},null,null,null,null,null,null,null,null,null,null,null,null,null,null,null,null,7042019,43562]
[null,null,null,null,{"$f":"IF(Configuração!C1143=\"\",\"\",Configuração!B1143)","v":""},null,null,null,null,null,null,null,null,null,null,null,null,null,null,null,null,7042020,43928]
[null,null,null,null,{"$f":"IF(Configuração!C1144=\"\",\"\",Configuração!B1144)","v":""},null,null,null,null,null,null,null,null,null,null,null,null,null,null,null,null,7042021,44293]
[null,null,null,null,{"$f":"IF(Configuração!C1145=\"\",\"\",Configuração!B1145)","v":""},null,null,null,null,null,null,null,null,null,null,null,null,null,null,null,null,7042022,44658]
[null,null,null,null,{"$f":"IF(Configuração!C1146=\"\",\"\",Configuração!B1146)","v":""},null,null,null,null,null,null,null,null,null,null,null,null,null,null,null,null,7042023,45023]
[null,null,null,null,{"$f":"IF(Configuração!C1147=\"\",\"\",Configuração!B1147)","v":""},null,null,null,null,null,null,null,null,null,null,null,null,null,null,null,null,7052009,39940]
[null,null,null,null,{"$f":"IF(Configuração!C1148=\"\",\"\",Configuração!B1148)","v":""},null,null,null,null,null,null,null,null,null,null,null,null,null,null,null,null,7052010,40305]
[null,null,null,null,{"$f":"IF(Configuração!C1149=\"\",\"\",Configuração!B1149)","v":""},null,null,null,null,null,null,null,null,null,null,null,null,null,null,null,null,7052011,40670]
[null,null,null,null,{"$f":"IF(Configuração!C1150=\"\",\"\",Configuração!B1150)","v":""},null,null,null,null,null,null,null,null,null,null,null,null,null,null,null,null,7052012,41036]
[null,null,null,null,{"$f":"IF(Configuração!C1151=\"\",\"\",Configuração!B1151)","v":""},null,null,null,null,null,null,null,null,null,null,null,null,null,null,null,null,7052013,41401]
[null,null,null,null,{"$f":"IF(Configuração!C1152=\"\",\"\",Configuração!B1152)","v":""},null,null,null,null,null,null,null,null,null,null,null,null,null,null,null,null,7052014,41766]
[null,null,null,null,{"$f":"IF(Configuração!C1153=\"\",\"\",Configuração!B1153)","v":""},null,null,null,null,null,null,null,null,null,null,null,null,null,null,null,null,7052015,42131]
[null,null,null,null,{"$f":"IF(Configuração!C1154=\"\",\"\",Configuração!B1154)","v":""},null,null,null,null,null,null,null,null,null,null,null,null,null,null,null,null,7052016,42497]
[null,null,null,null,{"$f":"IF(Configuração!C1155=\"\",\"\",Configuração!B1155)","v":""},null,null,null,null,null,null,null,null,null,null,null,null,null,null,null,null,7052017,42862]
[null,null,null,null,{"$f":"IF(Configuração!C1156=\"\",\"\",Configuração!B1156)","v":""},null,null,null,null,null,null,null,null,null,null,null,null,null,null,null,null,7052018,43227]
[null,null,null,null,{"$f":"IF(Configuração!C1157=\"\",\"\",Configuração!B1157)","v":""},null,null,null,null,null,null,null,null,null,null,null,null,null,null,null,null,7052019,43592]
[null,null,null,null,{"$f":"IF(Configuração!C1158=\"\",\"\",Configuração!B1158)","v":""},null,null,null,null,null,null,null,null,null,null,null,null,null,null,null,null,7052020,43958]
[null,null,null,null,{"$f":"IF(Configuração!C1159=\"\",\"\",Configuração!B1159)","v":""},null,null,null,null,null,null,null,null,null,null,null,null,null,null,null,null,7052021,44323]
[null,null,null,null,{"$f":"IF(Configuração!C1160=\"\",\"\",Configuração!B1160)","v":""},null,null,null,null,null,null,null,null,null,null,null,null,null,null,null,null,7052022,44688]
[null,null,null,null,{"$f":"IF(Configuração!C1161=\"\",\"\",Configuração!B1161)","v":""},null,null,null,null,null,null,null,null,null,null,null,null,null,null,null,null,7052023,45053]
[null,null,null,null,{"$f":"IF(Configuração!C1162=\"\",\"\",Configuração!B1162)","v":""},null,null,null,null,null,null,null,null,null,null,null,null,null,null,null,null,7062009,39971]
[null,null,null,null,{"$f":"IF(Configuração!C1163=\"\",\"\",Configuração!B1163)","v":""},null,null,null,null,null,null,null,null,null,null,null,null,null,null,null,null,7062010,40336]
[null,null,null,null,{"$f":"IF(Configuração!C1164=\"\",\"\",Configuração!B1164)","v":""},null,null,null,null,null,null,null,null,null,null,null,null,null,null,null,null,7062011,40701]
[null,null,null,null,{"$f":"IF(Configuração!C1165=\"\",\"\",Configuração!B1165)","v":""},null,null,null,null,null,null,null,null,null,null,null,null,null,null,null,null,7062012,41067]
[null,null,null,null,{"$f":"IF(Configuração!C1166=\"\",\"\",Configuração!B1166)","v":""},null,null,null,null,null,null,null,null,null,null,null,null,null,null,null,null,7062013,41432]
[null,null,null,null,{"$f":"IF(Configuração!C1167=\"\",\"\",Configuração!B1167)","v":""},null,null,null,null,null,null,null,null,null,null,null,null,null,null,null,null,7062014,41797]
[null,null,null,null,{"$f":"IF(Configuração!C1168=\"\",\"\",Configuração!B1168)","v":""},null,null,null,null,null,null,null,null,null,null,null,null,null,null,null,null,7062015,42162]
[null,null,null,null,{"$f":"IF(Configuração!C1169=\"\",\"\",Configuração!B1169)","v":""},null,null,null,null,null,null,null,null,null,null,null,null,null,null,null,null,7062016,42528]
[null,null,null,null,{"$f":"IF(Configuração!C1170=\"\",\"\",Configuração!B1170)","v":""},null,null,null,null,null,null,null,null,null,null,null,null,null,null,null,null,7062017,42893]
[null,null,null,null,{"$f":"IF(Configuração!C1171=\"\",\"\",Configuração!B1171)","v":""},null,null,null,null,null,null,null,null,null,null,null,null,null,null,null,null,7062018,43258]
[null,null,null,null,{"$f":"IF(Configuração!C1172=\"\",\"\",Configuração!B1172)","v":""},null,null,null,null,null,null,null,null,null,null,null,null,null,null,null,null,7062019,43623]
[null,null,null,null,{"$f":"IF(Configuração!C1173=\"\",\"\",Configuração!B1173)","v":""},null,null,null,null,null,null,null,null,null,null,null,null,null,null,null,null,7062020,43989]
[null,null,null,null,{"$f":"IF(Configuração!C1174=\"\",\"\",Configuração!B1174)","v":""},null,null,null,null,null,null,null,null,null,null,null,null,null,null,null,null,7062021,44354]
[null,null,null,null,{"$f":"IF(Configuração!C1175=\"\",\"\",Configuração!B1175)","v":""},null,null,null,null,null,null,null,null,null,null,null,null,null,null,null,null,7062022,44719]
[null,null,null,null,{"$f":"IF(Configuração!C1176=\"\",\"\",Configuração!B1176)","v":""},null,null,null,null,null,null,null,null,null,null,null,null,null,null,null,null,7062023,45084]
[null,null,null,null,{"$f":"IF(Configuração!C1177=\"\",\"\",Configuração!B1177)","v":""},null,null,null,null,null,null,null,null,null,null,null,null,null,null,null,null,7072009,40001]
[null,null,null,null,{"$f":"IF(Configuração!C1178=\"\",\"\",Configuração!B1178)","v":""},null,null,null,null,null,null,null,null,null,null,null,null,null,null,null,null,7072010,40366]
[null,null,null,null,{"$f":"IF(Configuração!C1179=\"\",\"\",Configuração!B1179)","v":""},null,null,null,null,null,null,null,null,null,null,null,null,null,null,null,null,7072011,40731]
[null,null,null,null,{"$f":"IF(Configuração!C1180=\"\",\"\",Configuração!B1180)","v":""},null,null,null,null,null,null,null,null,null,null,null,null,null,null,null,null,7072012,41097]
[null,null,null,null,{"$f":"IF(Configuração!C1181=\"\",\"\",Configuração!B1181)","v":""},null,null,null,null,null,null,null,null,null,null,null,null,null,null,null,null,7072013,41462]
[null,null,null,null,{"$f":"IF(Configuração!C1182=\"\",\"\",Configuração!B1182)","v":""},null,null,null,null,null,null,null,null,null,null,null,null,null,null,null,null,7072014,41827]
[null,null,null,null,{"$f":"IF(Configuração!C1183=\"\",\"\",Configuração!B1183)","v":""},null,null,null,null,null,null,null,null,null,null,null,null,null,null,null,null,7072015,42192]
[null,null,null,null,{"$f":"IF(Configuração!C1184=\"\",\"\",Configuração!B1184)","v":""},null,null,null,null,null,null,null,null,null,null,null,null,null,null,null,null,7072016,42558]
[null,null,null,null,{"$f":"IF(Configuração!C1185=\"\",\"\",Configuração!B1185)","v":""},null,null,null,null,null,null,null,null,null,null,null,null,null,null,null,null,7072017,42923]
[null,null,null,null,{"$f":"IF(Configuração!C1186=\"\",\"\",Configuração!B1186)","v":""},null,null,null,null,null,null,null,null,null,null,null,null,null,null,null,null,7072018,43288]
[null,null,null,null,{"$f":"IF(Configuração!C1187=\"\",\"\",Configuração!B1187)","v":""},null,null,null,null,null,null,null,null,null,null,null,null,null,null,null,null,7072019,43653]
[null,null,null,null,{"$f":"IF(Configuração!C1188=\"\",\"\",Configuração!B1188)","v":""},null,null,null,null,null,null,null,null,null,null,null,null,null,null,null,null,7072020,44019]
[null,null,null,null,{"$f":"IF(Configuração!C1189=\"\",\"\",Configuração!B1189)","v":""},null,null,null,null,null,null,null,null,null,null,null,null,null,null,null,null,7072021,44384]
[null,null,null,null,{"$f":"IF(Configuração!C1190=\"\",\"\",Configuração!B1190)","v":""},null,null,null,null,null,null,null,null,null,null,null,null,null,null,null,null,7072022,44749]
[null,null,null,null,{"$f":"IF(Configuração!C1191=\"\",\"\",Configuração!B1191)","v":""},null,null,null,null,null,null,null,null,null,null,null,null,null,null,null,null,7072023,45114]
[null,null,null,null,{"$f":"IF(Configuração!C1192=\"\",\"\",Configuração!B1192)","v":""},null,null,null,null,null,null,null,null,null,null,null,null,null,null,null,null,7082009,40032]
[null,null,null,null,{"$f":"IF(Configuração!C1193=\"\",\"\",Configuração!B1193)","v":""},null,null,null,null,null,null,null,null,null,null,null,null,null,null,null,null,7082010,40397]
[null,null,null,null,{"$f":"IF(Configuração!C1194=\"\",\"\",Configuração!B1194)","v":""},null,null,null,null,null,null,null,null,null,null,null,null,null,null,null,null,7082011,40762]
[null,null,null,null,{"$f":"IF(Configuração!C1195=\"\",\"\",Configuração!B1195)","v":""},null,null,null,null,null,null,null,null,null,null,null,null,null,null,null,null,7082012,41128]
[null,null,null,null,{"$f":"IF(Configuração!C1196=\"\",\"\",Configuração!B1196)","v":""},null,null,null,null,null,null,null,null,null,null,null,null,null,null,null,null,7082013,41493]
[null,null,null,null,{"$f":"IF(Configuração!C1197=\"\",\"\",Configuração!B1197)","v":""},null,null,null,null,null,null,null,null,null,null,null,null,null,null,null,null,7082014,41858]
[null,null,null,null,{"$f":"IF(Configuração!C1198=\"\",\"\",Configuração!B1198)","v":""},null,null,null,null,null,null,null,null,null,null,null,null,null,null,null,null,7082015,42223]
[null,null,null,null,{"$f":"IF(Configuração!C1199=\"\",\"\",Configuração!B1199)","v":""},null,null,null,null,null,null,null,null,null,null,null,null,null,null,null,null,7082016,42589]
[null,null,null,null,{"$f":"IF(Configuração!C1200=\"\",\"\",Configuração!B1200)","v":""},null,null,null,null,null,null,null,null,null,null,null,null,null,null,null,null,7082017,42954]
[null,null,null,null,{"$f":"IF(Configuração!C1201=\"\",\"\",Configuração!B1201)","v":""},null,null,null,null,null,null,null,null,null,null,null,null,null,null,null,null,7082018,43319]
[null,null,null,null,{"$f":"IF(Configuração!C1202=\"\",\"\",Configuração!B1202)","v":""},null,null,null,null,null,null,null,null,null,null,null,null,null,null,null,null,7082019,43684]
[null,null,null,null,{"$f":"IF(Configuração!C1203=\"\",\"\",Configuração!B1203)","v":""},null,null,null,null,null,null,null,null,null,null,null,null,null,null,null,null,7082020,44050]
[null,null,null,null,{"$f":"IF(Configuração!C1204=\"\",\"\",Configuração!B1204)","v":""},null,null,null,null,null,null,null,null,null,null,null,null,null,null,null,null,7082021,44415]
[null,null,null,null,{"$f":"IF(Configuração!C1205=\"\",\"\",Configuração!B1205)","v":""},null,null,null,null,null,null,null,null,null,null,null,null,null,null,null,null,7082022,44780]
[null,null,null,null,{"$f":"IF(Configuração!C1206=\"\",\"\",Configuração!B1206)","v":""},null,null,null,null,null,null,null,null,null,null,null,null,null,null,null,null,7082023,45145]
[null,null,null,null,{"$f":"IF(Configuração!C1207=\"\",\"\",Configuração!B1207)","v":""},null,null,null,null,null,null,null,null,null,null,null,null,null,null,null,null,7092009,40063]
[null,null,null,null,{"$f":"IF(Configuração!C1208=\"\",\"\",Configuração!B1208)","v":""},null,null,null,null,null,null,null,null,null,null,null,null,null,null,null,null,7092010,40428]
[null,null,null,null,{"$f":"IF(Configuração!C1209=\"\",\"\",Configuração!B1209)","v":""},null,null,null,null,null,null,null,null,null,null,null,null,null,null,null,null,7092011,40793]
[null,null,null,null,{"$f":"IF(Configuração!C1210=\"\",\"\",Configuração!B1210)","v":""},null,null,null,null,null,null,null,null,null,null,null,null,null,null,null,null,7092012,41159]
[null,null,null,null,{"$f":"IF(Configuração!C1211=\"\",\"\",Configuração!B1211)","v":""},null,null,null,null,null,null,null,null,null,null,null,null,null,null,null,null,7092013,41524]
[null,null,null,null,{"$f":"IF(Configuração!C1212=\"\",\"\",Configuração!B1212)","v":""},null,null,null,null,null,null,null,null,null,null,null,null,null,null,null,null,7092014,41889]
[null,null,null,null,{"$f":"IF(Configuração!C1213=\"\",\"\",Configuração!B1213)","v":""},null,null,null,null,null,null,null,null,null,null,null,null,null,null,null,null,7092015,42254]
[null,null,null,null,{"$f":"IF(Configuração!C1214=\"\",\"\",Configuração!B1214)","v":""},null,null,null,null,null,null,null,null,null,null,null,null,null,null,null,null,7092016,42620]
[null,null,null,null,{"$f":"IF(Configuração!C1215=\"\",\"\",Configuração!B1215)","v":""},null,null,null,null,null,null,null,null,null,null,null,null,null,null,null,null,7092017,42985]
[null,null,null,null,{"$f":"IF(Configuração!C1216=\"\",\"\",Configuração!B1216)","v":""},null,null,null,null,null,null,null,null,null,null,null,null,null,null,null,null,7092018,43350]
[null,null,null,null,{"$f":"IF(Configuração!C1217=\"\",\"\",Configuração!B1217)","v":""},null,null,null,null,null,null,null,null,null,null,null,null,null,null,null,null,7092019,43715]
[null,null,null,null,{"$f":"IF(Configuração!C1218=\"\",\"\",Configuração!B1218)","v":""},null,null,null,null,null,null,null,null,null,null,null,null,null,null,null,null,7092020,44081]
[null,null,null,null,{"$f":"IF(Configuração!C1219=\"\",\"\",Configuração!B1219)","v":""},null,null,null,null,null,null,null,null,null,null,null,null,null,null,null,null,7092021,44446]
[null,null,null,null,{"$f":"IF(Configuração!C1220=\"\",\"\",Configuração!B1220)","v":""},null,null,null,null,null,null,null,null,null,null,null,null,null,null,null,null,7092022,44811]
[null,null,null,null,{"$f":"IF(Configuração!C1221=\"\",\"\",Configuração!B1221)","v":""},null,null,null,null,null,null,null,null,null,null,null,null,null,null,null,null,7092023,45176]
[null,null,null,null,{"$f":"IF(Configuração!C1222=\"\",\"\",Configuração!B1222)","v":""},null,null,null,null,null,null,null,null,null,null,null,null,null,null,null,null,7102009,40093]
[null,null,null,null,{"$f":"IF(Configuração!C1223=\"\",\"\",Configuração!B1223)","v":""},null,null,null,null,null,null,null,null,null,null,null,null,null,null,null,null,7102010,40458]
[null,null,null,null,{"$f":"IF(Configuração!C1224=\"\",\"\",Configuração!B1224)","v":""},null,null,null,null,null,null,null,null,null,null,null,null,null,null,null,null,7102011,40823]
[null,null,null,null,{"$f":"IF(Configuração!C1225=\"\",\"\",Configuração!B1225)","v":""},null,null,null,null,null,null,null,null,null,null,null,null,null,null,null,null,7102012,41189]
[null,null,null,null,{"$f":"IF(Configuração!C1226=\"\",\"\",Configuração!B1226)","v":""},null,null,null,null,null,null,null,null,null,null,null,null,null,null,null,null,7102013,41554]
[null,null,null,null,{"$f":"IF(Configuração!C1227=\"\",\"\",Configuração!B1227)","v":""},null,null,null,null,null,null,null,null,null,null,null,null,null,null,null,null,7102014,41919]
[null,null,null,null,{"$f":"IF(Configuração!C1228=\"\",\"\",Configuração!B1228)","v":""},null,null,null,null,null,null,null,null,null,null,null,null,null,null,null,null,7102015,42284]
[null,null,null,null,{"$f":"IF(Configuração!C1229=\"\",\"\",Configuração!B1229)","v":""},null,null,null,null,null,null,null,null,null,null,null,null,null,null,null,null,7102016,42650]
[null,null,null,null,{"$f":"IF(Configuração!C1230=\"\",\"\",Configuração!B1230)","v":""},null,null,null,null,null,null,null,null,null,null,null,null,null,null,null,null,7102017,43015]
[null,null,null,null,{"$f":"IF(Configuração!C1231=\"\",\"\",Configuração!B1231)","v":""},null,null,null,null,null,null,null,null,null,null,null,null,null,null,null,null,7102018,43380]
[null,null,null,null,{"$f":"IF(Configuração!C1232=\"\",\"\",Configuração!B1232)","v":""},null,null,null,null,null,null,null,null,null,null,null,null,null,null,null,null,7102019,43745]
[null,null,null,null,{"$f":"IF(Configuração!C1233=\"\",\"\",Configuração!B1233)","v":""},null,null,null,null,null,null,null,null,null,null,null,null,null,null,null,null,7102020,44111]
[null,null,null,null,{"$f":"IF(Configuração!C1234=\"\",\"\",Configuração!B1234)","v":""},null,null,null,null,null,null,null,null,null,null,null,null,null,null,null,null,7102021,44476]
[null,null,null,null,{"$f":"IF(Configuração!C1235=\"\",\"\",Configuração!B1235)","v":""},null,null,null,null,null,null,null,null,null,null,null,null,null,null,null,null,7102022,44841]
[null,null,null,null,{"$f":"IF(Configuração!C1236=\"\",\"\",Configuração!B1236)","v":""},null,null,null,null,null,null,null,null,null,null,null,null,null,null,null,null,7102023,45206]
[null,null,null,null,{"$f":"IF(Configuração!C1237=\"\",\"\",Configuração!B1237)","v":""},null,null,null,null,null,null,null,null,null,null,null,null,null,null,null,null,7112009,40124]
[null,null,null,null,{"$f":"IF(Configuração!C1238=\"\",\"\",Configuração!B1238)","v":""},null,null,null,null,null,null,null,null,null,null,null,null,null,null,null,null,7112010,40489]
[null,null,null,null,{"$f":"IF(Configuração!C1239=\"\",\"\",Configuração!B1239)","v":""},null,null,null,null,null,null,null,null,null,null,null,null,null,null,null,null,7112011,40854]
[null,null,null,null,{"$f":"IF(Configuração!C1240=\"\",\"\",Configuração!B1240)","v":""},null,null,null,null,null,null,null,null,null,null,null,null,null,null,null,null,7112012,41220]
[null,null,null,null,{"$f":"IF(Configuração!C1241=\"\",\"\",Configuração!B1241)","v":""},null,null,null,null,null,null,null,null,null,null,null,null,null,null,null,null,7112013,41585]
[null,null,null,null,{"$f":"IF(Configuração!C1242=\"\",\"\",Configuração!B1242)","v":""},null,null,null,null,null,null,null,null,null,null,null,null,null,null,null,null,7112014,41950]
[null,null,null,null,{"$f":"IF(Configuração!C1243=\"\",\"\",Configuração!B1243)","v":""},null,null,null,null,null,null,null,null,null,null,null,null,null,null,null,null,7112015,42315]
[null,null,null,null,{"$f":"IF(Configuração!C1244=\"\",\"\",Configuração!B1244)","v":""},null,null,null,null,null,null,null,null,null,null,null,null,null,null,null,null,7112016,42681]
[null,null,null,null,{"$f":"IF(Configuração!C1245=\"\",\"\",Configuração!B1245)","v":""},null,null,null,null,null,null,null,null,null,null,null,null,null,null,null,null,7112017,43046]
[null,null,null,null,{"$f":"IF(Configuração!C1246=\"\",\"\",Configuração!B1246)","v":""},null,null,null,null,null,null,null,null,null,null,null,null,null,null,null,null,7112018,43411]
[null,null,null,null,{"$f":"IF(Configuração!C1247=\"\",\"\",Configuração!B1247)","v":""},null,null,null,null,null,null,null,null,null,null,null,null,null,null,null,null,7112019,43776]
[null,null,null,null,{"$f":"IF(Configuração!C1248=\"\",\"\",Configuração!B1248)","v":""},null,null,null,null,null,null,null,null,null,null,null,null,null,null,null,null,7112020,44142]
[null,null,null,null,{"$f":"IF(Configuração!C1249=\"\",\"\",Configuração!B1249)","v":""},null,null,null,null,null,null,null,null,null,null,null,null,null,null,null,null,7112021,44507]
[null,null,null,null,{"$f":"IF(Configuração!C1250=\"\",\"\",Configuração!B1250)","v":""},null,null,null,null,null,null,null,null,null,null,null,null,null,null,null,null,7112022,44872]
[null,null,null,null,{"$f":"IF(Configuração!C1251=\"\",\"\",Configuração!B1251)","v":""},null,null,null,null,null,null,null,null,null,null,null,null,null,null,null,null,7112023,45237]
[null,null,null,null,{"$f":"IF(Configuração!C1252=\"\",\"\",Configuração!B1252)","v":""},null,null,null,null,null,null,null,null,null,null,null,null,null,null,null,null,7122009,40154]
[null,null,null,null,{"$f":"IF(Configuração!C1253=\"\",\"\",Configuração!B1253)","v":""},null,null,null,null,null,null,null,null,null,null,null,null,null,null,null,null,7122010,40519]
[null,null,null,null,{"$f":"IF(Configuração!C1254=\"\",\"\",Configuração!B1254)","v":""},null,null,null,null,null,null,null,null,null,null,null,null,null,null,null,null,7122011,40884]
[null,null,null,null,{"$f":"IF(Configuração!C1255=\"\",\"\",Configuração!B1255)","v":""},null,null,null,null,null,null,null,null,null,null,null,null,null,null,null,null,7122012,41250]
[null,null,null,null,{"$f":"IF(Configuração!C1256=\"\",\"\",Configuração!B1256)","v":""},null,null,null,null,null,null,null,null,null,null,null,null,null,null,null,null,7122013,41615]
[null,null,null,null,{"$f":"IF(Configuração!C1257=\"\",\"\",Configuração!B1257)","v":""},null,null,null,null,null,null,null,null,null,null,null,null,null,null,null,null,7122014,41980]
[null,null,null,null,{"$f":"IF(Configuração!C1258=\"\",\"\",Configuração!B1258)","v":""},null,null,null,null,null,null,null,null,null,null,null,null,null,null,null,null,7122015,42345]
[null,null,null,null,{"$f":"IF(Configuração!C1259=\"\",\"\",Configuração!B1259)","v":""},null,null,null,null,null,null,null,null,null,null,null,null,null,null,null,null,7122016,42711]
[null,null,null,null,{"$f":"IF(Configuração!C1260=\"\",\"\",Configuração!B1260)","v":""},null,null,null,null,null,null,null,null,null,null,null,null,null,null,null,null,7122017,43076]
[null,null,null,null,{"$f":"IF(Configuração!C1261=\"\",\"\",Configuração!B1261)","v":""},null,null,null,null,null,null,null,null,null,null,null,null,null,null,null,null,7122018,43441]
[null,null,null,null,{"$f":"IF(Configuração!C1262=\"\",\"\",Configuração!B1262)","v":""},null,null,null,null,null,null,null,null,null,null,null,null,null,null,null,null,7122019,43806]
[null,null,null,null,{"$f":"IF(Configuração!C1263=\"\",\"\",Configuração!B1263)","v":""},null,null,null,null,null,null,null,null,null,null,null,null,null,null,null,null,7122020,44172]
[null,null,null,null,{"$f":"IF(Configuração!C1264=\"\",\"\",Configuração!B1264)","v":""},null,null,null,null,null,null,null,null,null,null,null,null,null,null,null,null,7122021,44537]
[null,null,null,null,{"$f":"IF(Configuração!C1265=\"\",\"\",Configuração!B1265)","v":""},null,null,null,null,null,null,null,null,null,null,null,null,null,null,null,null,7122022,44902]
[null,null,null,null,{"$f":"IF(Configuração!C1266=\"\",\"\",Configuração!B1266)","v":""},null,null,null,null,null,null,null,null,null,null,null,null,null,null,null,null,7122023,45267]
[null,null,null,null,{"$f":"IF(Configuração!C1267=\"\",\"\",Configuração!B1267)","v":""},null,null,null,null,null,null,null,null,null,null,null,null,null,null,null,null,8012009,39821]
[null,null,null,null,{"$f":"IF(Configuração!C1268=\"\",\"\",Configuração!B1268)","v":""},null,null,null,null,null,null,null,null,null,null,null,null,null,null,null,null,8012010,40186]
[null,null,null,null,{"$f":"IF(Configuração!C1269=\"\",\"\",Configuração!B1269)","v":""},null,null,null,null,null,null,null,null,null,null,null,null,null,null,null,null,8012011,40551]
[null,null,null,null,{"$f":"IF(Configuração!C1270=\"\",\"\",Configuração!B1270)","v":""},null,null,null,null,null,null,null,null,null,null,null,null,null,null,null,null,8012012,40916]
[null,null,null,null,{"$f":"IF(Configuração!C1271=\"\",\"\",Configuração!B1271)","v":""},null,null,null,null,null,null,null,null,null,null,null,null,null,null,null,null,8012013,41282]
[null,null,null,null,{"$f":"IF(Configuração!C1272=\"\",\"\",Configuração!B1272)","v":""},null,null,null,null,null,null,null,null,null,null,null,null,null,null,null,null,8012014,41647]
[null,null,null,null,{"$f":"IF(Configuração!C1273=\"\",\"\",Configuração!B1273)","v":""},null,null,null,null,null,null,null,null,null,null,null,null,null,null,null,null,8012015,42012]
[null,null,null,null,{"$f":"IF(Configuração!C1274=\"\",\"\",Configuração!B1274)","v":""},null,null,null,null,null,null,null,null,null,null,null,null,null,null,null,null,8012016,42377]
[null,null,null,null,{"$f":"IF(Configuração!C1275=\"\",\"\",Configuração!B1275)","v":""},null,null,null,null,null,null,null,null,null,null,null,null,null,null,null,null,8012017,42743]
[null,null,null,null,{"$f":"IF(Configuração!C1276=\"\",\"\",Configuração!B1276)","v":""},null,null,null,null,null,null,null,null,null,null,null,null,null,null,null,null,8012018,43108]
[null,null,null,null,{"$f":"IF(Configuração!C1277=\"\",\"\",Configuração!B1277)","v":""},null,null,null,null,null,null,null,null,null,null,null,null,null,null,null,null,8012019,43473]
[null,null,null,null,{"$f":"IF(Configuração!C1278=\"\",\"\",Configuração!B1278)","v":""},null,null,null,null,null,null,null,null,null,null,null,null,null,null,null,null,8012020,43838]
[null,null,null,null,{"$f":"IF(Configuração!C1279=\"\",\"\",Configuração!B1279)","v":""},null,null,null,null,null,null,null,null,null,null,null,null,null,null,null,null,8012021,44204]
[null,null,null,null,{"$f":"IF(Configuração!C1280=\"\",\"\",Configuração!B1280)","v":""},null,null,null,null,null,null,null,null,null,null,null,null,null,null,null,null,8012022,44569]
[null,null,null,null,{"$f":"IF(Configuração!C1281=\"\",\"\",Configuração!B1281)","v":""},null,null,null,null,null,null,null,null,null,null,null,null,null,null,null,null,8012023,44934]
[null,null,null,null,{"$f":"IF(Configuração!C1282=\"\",\"\",Configuração!B1282)","v":""},null,null,null,null,null,null,null,null,null,null,null,null,null,null,null,null,8022009,39852]
[null,null,null,null,{"$f":"IF(Configuração!C1283=\"\",\"\",Configuração!B1283)","v":""},null,null,null,null,null,null,null,null,null,null,null,null,null,null,null,null,8022010,40217]
[null,null,null,null,{"$f":"IF(Configuração!C1284=\"\",\"\",Configuração!B1284)","v":""},null,null,null,null,null,null,null,null,null,null,null,null,null,null,null,null,8022011,40582]
[null,null,null,null,{"$f":"IF(Configuração!C1285=\"\",\"\",Configuração!B1285)","v":""},null,null,null,null,null,null,null,null,null,null,null,null,null,null,null,null,8022012,40947]
[null,null,null,null,{"$f":"IF(Configuração!C1286=\"\",\"\",Configuração!B1286)","v":""},null,null,null,null,null,null,null,null,null,null,null,null,null,null,null,null,8022013,41313]
[null,null,null,null,{"$f":"IF(Configuração!C1287=\"\",\"\",Configuração!B1287)","v":""},null,null,null,null,null,null,null,null,null,null,null,null,null,null,null,null,8022014,41678]
[null,null,null,null,{"$f":"IF(Configuração!C1288=\"\",\"\",Configuração!B1288)","v":""},null,null,null,null,null,null,null,null,null,null,null,null,null,null,null,null,8022015,42043]
[null,null,null,null,{"$f":"IF(Configuração!C1289=\"\",\"\",Configuração!B1289)","v":""},null,null,null,null,null,null,null,null,null,null,null,null,null,null,null,null,8022016,42408]
[null,null,null,null,{"$f":"IF(Configuração!C1290=\"\",\"\",Configuração!B1290)","v":""},null,null,null,null,null,null,null,null,null,null,null,null,null,null,null,null,8022017,42774]
[null,null,null,null,{"$f":"IF(Configuração!C1291=\"\",\"\",Configuração!B1291)","v":""},null,null,null,null,null,null,null,null,null,null,null,null,null,null,null,null,8022018,43139]
[null,null,null,null,{"$f":"IF(Configuração!C1292=\"\",\"\",Configuração!B1292)","v":""},null,null,null,null,null,null,null,null,null,null,null,null,null,null,null,null,8022019,43504]
[null,null,null,null,{"$f":"IF(Configuração!C1293=\"\",\"\",Configuração!B1293)","v":""},null,null,null,null,null,null,null,null,null,null,null,null,null,null,null,null,8022020,43869]
[null,null,null,null,{"$f":"IF(Configuração!C1294=\"\",\"\",Configuração!B1294)","v":""},null,null,null,null,null,null,null,null,null,null,null,null,null,null,null,null,8022021,44235]
[null,null,null,null,{"$f":"IF(Configuração!C1295=\"\",\"\",Configuração!B1295)","v":""},null,null,null,null,null,null,null,null,null,null,null,null,null,null,null,null,8022022,44600]
[null,null,null,null,{"$f":"IF(Configuração!C1296=\"\",\"\",Configuração!B1296)","v":""},null,null,null,null,null,null,null,null,null,null,null,null,null,null,null,null,8022023,44965]
[null,null,null,null,{"$f":"IF(Configuração!C1297=\"\",\"\",Configuração!B1297)","v":""},null,null,null,null,null,null,null,null,null,null,null,null,null,null,null,null,8032009,39880]
[null,null,null,null,{"$f":"IF(Configuração!C1298=\"\",\"\",Configuração!B1298)","v":""},null,null,null,null,null,null,null,null,null,null,null,null,null,null,null,null,8032010,40245]
[null,null,null,null,{"$f":"IF(Configuração!C1299=\"\",\"\",Configuração!B1299)","v":""},null,null,null,null,null,null,null,null,null,null,null,null,null,null,null,null,8032011,40610]
[null,null,null,null,{"$f":"IF(Configuração!C1300=\"\",\"\",Configuração!B1300)","v":""},null,null,null,null,null,null,null,null,null,null,null,null,null,null,null,null,8032012,40976]
[null,null,null,null,{"$f":"IF(Configuração!C1301=\"\",\"\",Configuração!B1301)","v":""},null,null,null,null,null,null,null,null,null,null,null,null,null,null,null,null,8032013,41341]
[null,null,null,null,{"$f":"IF(Configuração!C1302=\"\",\"\",Configuração!B1302)","v":""},null,null,null,null,null,null,null,null,null,null,null,null,null,null,null,null,8032014,41706]
[null,null,null,null,{"$f":"IF(Configuração!C1303=\"\",\"\",Configuração!B1303)","v":""},null,null,null,null,null,null,null,null,null,null,null,null,null,null,null,null,8032015,42071]
[null,null,null,null,{"$f":"IF(Configuração!C1304=\"\",\"\",Configuração!B1304)","v":""},null,null,null,null,null,null,null,null,null,null,null,null,null,null,null,null,8032016,42437]
[null,null,null,null,{"$f":"IF(Configuração!C1305=\"\",\"\",Configuração!B1305)","v":""},null,null,null,null,null,null,null,null,null,null,null,null,null,null,null,null,8032017,42802]
[null,null,null,null,{"$f":"IF(Configuração!C1306=\"\",\"\",Configuração!B1306)","v":""},null,null,null,null,null,null,null,null,null,null,null,null,null,null,null,null,8032018,43167]
[null,null,null,null,{"$f":"IF(Configuração!C1307=\"\",\"\",Configuração!B1307)","v":""},null,null,null,null,null,null,null,null,null,null,null,null,null,null,null,null,8032019,43532]
[null,null,null,null,{"$f":"IF(Configuração!C1308=\"\",\"\",Configuração!B1308)","v":""},null,null,null,null,null,null,null,null,null,null,null,null,null,null,null,null,8032020,43898]
[null,null,null,null,{"$f":"IF(Configuração!C1309=\"\",\"\",Configuração!B1309)","v":""},null,null,null,null,null,null,null,null,null,null,null,null,null,null,null,null,8032021,44263]
[null,null,null,null,{"$f":"IF(Configuração!C1310=\"\",\"\",Configuração!B1310)","v":""},null,null,null,null,null,null,null,null,null,null,null,null,null,null,null,null,8032022,44628]
[null,null,null,null,{"$f":"IF(Configuração!C1311=\"\",\"\",Configuração!B1311)","v":""},null,null,null,null,null,null,null,null,null,null,null,null,null,null,null,null,8032023,44993]
[null,null,null,null,{"$f":"IF(Configuração!C1312=\"\",\"\",Configuração!B1312)","v":""},null,null,null,null,null,null,null,null,null,null,null,null,null,null,null,null,8042009,39911]
[null,null,null,null,{"$f":"IF(Configuração!C1313=\"\",\"\",Configuração!B1313)","v":""},null,null,null,null,null,null,null,null,null,null,null,null,null,null,null,null,8042010,40276]
[null,null,null,null,{"$f":"IF(Configuração!C1314=\"\",\"\",Configuração!B1314)","v":""},null,null,null,null,null,null,null,null,null,null,null,null,null,null,null,null,8042011,40641]
[null,null,null,null,{"$f":"IF(Configuração!C1315=\"\",\"\",Configuração!B1315)","v":""},null,null,null,null,null,null,null,null,null,null,null,null,null,null,null,null,8042012,41007]
[null,null,null,null,{"$f":"IF(Configuração!C1316=\"\",\"\",Configuração!B1316)","v":""},null,null,null,null,null,null,null,null,null,null,null,null,null,null,null,null,8042013,41372]
[null,null,null,null,{"$f":"IF(Configuração!C1317=\"\",\"\",Configuração!B1317)","v":""},null,null,null,null,null,null,null,null,null,null,null,null,null,null,null,null,8042014,41737]
[null,null,null,null,{"$f":"IF(Configuração!C1318=\"\",\"\",Configuração!B1318)","v":""},null,null,null,null,null,null,null,null,null,null,null,null,null,null,null,null,8042015,42102]
[null,null,null,null,{"$f":"IF(Configuração!C1319=\"\",\"\",Configuração!B1319)","v":""},null,null,null,null,null,null,null,null,null,null,null,null,null,null,null,null,8042016,42468]
[null,null,null,null,{"$f":"IF(Configuração!C1320=\"\",\"\",Configuração!B1320)","v":""},null,null,null,null,null,null,null,null,null,null,null,null,null,null,null,null,8042017,42833]
[null,null,null,null,{"$f":"IF(Configuração!C1321=\"\",\"\",Configuração!B1321)","v":""},null,null,null,null,null,null,null,null,null,null,null,null,null,null,null,null,8042018,43198]
[null,null,null,null,{"$f":"IF(Configuração!C1322=\"\",\"\",Configuração!B1322)","v":""},null,null,null,null,null,null,null,null,null,null,null,null,null,null,null,null,8042019,43563]
[null,null,null,null,{"$f":"IF(Configuração!C1323=\"\",\"\",Configuração!B1323)","v":""},null,null,null,null,null,null,null,null,null,null,null,null,null,null,null,null,8042020,43929]
[null,null,null,null,{"$f":"IF(Configuração!C1324=\"\",\"\",Configuração!B1324)","v":""},null,null,null,null,null,null,null,null,null,null,null,null,null,null,null,null,8042021,44294]
[null,null,null,null,{"$f":"IF(Configuração!C1325=\"\",\"\",Configuração!B1325)","v":""},null,null,null,null,null,null,null,null,null,null,null,null,null,null,null,null,8042022,44659]
[null,null,null,null,{"$f":"IF(Configuração!C1326=\"\",\"\",Configuração!B1326)","v":""},null,null,null,null,null,null,null,null,null,null,null,null,null,null,null,null,8042023,45024]
[null,null,null,null,{"$f":"IF(Configuração!C1327=\"\",\"\",Configuração!B1327)","v":""},null,null,null,null,null,null,null,null,null,null,null,null,null,null,null,null,8052009,39941]
[null,null,null,null,{"$f":"IF(Configuração!C1328=\"\",\"\",Configuração!B1328)","v":""},null,null,null,null,null,null,null,null,null,null,null,null,null,null,null,null,8052010,40306]
[null,null,null,null,{"$f":"IF(Configuração!C1329=\"\",\"\",Configuração!B1329)","v":""},null,null,null,null,null,null,null,null,null,null,null,null,null,null,null,null,8052011,40671]
[null,null,null,null,{"$f":"IF(Configuração!C1330=\"\",\"\",Configuração!B1330)","v":""},null,null,null,null,null,null,null,null,null,null,null,null,null,null,null,null,8052012,41037]
[null,null,null,null,{"$f":"IF(Configuração!C1331=\"\",\"\",Configuração!B1331)","v":""},null,null,null,null,null,null,null,null,null,null,null,null,null,null,null,null,8052013,41402]
[null,null,null,null,{"$f":"IF(Configuração!C1332=\"\",\"\",Configuração!B1332)","v":""},null,null,null,null,null,null,null,null,null,null,null,null,null,null,null,null,8052014,41767]
[null,null,null,null,{"$f":"IF(Configuração!C1333=\"\",\"\",Configuração!B1333)","v":""},null,null,null,null,null,null,null,null,null,null,null,null,null,null,null,null,8052015,42132]
[null,null,null,null,{"$f":"IF(Configuração!C1334=\"\",\"\",Configuração!B1334)","v":""},null,null,null,null,null,null,null,null,null,null,null,null,null,null,null,null,8052016,42498]
[null,null,null,null,{"$f":"IF(Configuração!C1335=\"\",\"\",Configuração!B1335)","v":""},null,null,null,null,null,null,null,null,null,null,null,null,null,null,null,null,8052017,42863]
[null,null,null,null,{"$f":"IF(Configuração!C1336=\"\",\"\",Configuração!B1336)","v":""},null,null,null,null,null,null,null,null,null,null,null,null,null,null,null,null,8052018,43228]
[null,null,null,null,{"$f":"IF(Configuração!C1337=\"\",\"\",Configuração!B1337)","v":""},null,null,null,null,null,null,null,null,null,null,null,null,null,null,null,null,8052019,43593]
[null,null,null,null,{"$f":"IF(Configuração!C1338=\"\",\"\",Configuração!B1338)","v":""},null,null,null,null,null,null,null,null,null,null,null,null,null,null,null,null,8052020,43959]
[null,null,null,null,{"$f":"IF(Configuração!C1339=\"\",\"\",Configuração!B1339)","v":""},null,null,null,null,null,null,null,null,null,null,null,null,null,null,null,null,8052021,44324]
[null,null,null,null,{"$f":"IF(Configuração!C1340=\"\",\"\",Configuração!B1340)","v":""},null,null,null,null,null,null,null,null,null,null,null,null,null,null,null,null,8052022,44689]
[null,null,null,null,{"$f":"IF(Configuração!C1341=\"\",\"\",Configuração!B1341)","v":""},null,null,null,null,null,null,null,null,null,null,null,null,null,null,null,null,8052023,45054]
[null,null,null,null,{"$f":"IF(Configuração!C1342=\"\",\"\",Configuração!B1342)","v":""},null,null,null,null,null,null,null,null,null,null,null,null,null,null,null,null,8062009,39972]
[null,null,null,null,{"$f":"IF(Configuração!C1343=\"\",\"\",Configuração!B1343)","v":""},null,null,null,null,null,null,null,null,null,null,null,null,null,null,null,null,8062010,40337]
[null,null,null,null,{"$f":"IF(Configuração!C1344=\"\",\"\",Configuração!B1344)","v":""},null,null,null,null,null,null,null,null,null,null,null,null,null,null,null,null,8062011,40702]
[null,null,null,null,{"$f":"IF(Configuração!C1345=\"\",\"\",Configuração!B1345)","v":""},null,null,null,null,null,null,null,null,null,null,null,null,null,null,null,null,8062012,41068]
[null,null,null,null,{"$f":"IF(Configuração!C1346=\"\",\"\",Configuração!B1346)","v":""},null,null,null,null,null,null,null,null,null,null,null,null,null,null,null,null,8062013,41433]
[null,null,null,null,{"$f":"IF(Configuração!C1347=\"\",\"\",Configuração!B1347)","v":""},null,null,null,null,null,null,null,null,null,null,null,null,null,null,null,null,8062014,41798]
[null,null,null,null,{"$f":"IF(Configuração!C1348=\"\",\"\",Configuração!B1348)","v":""},null,null,null,null,null,null,null,null,null,null,null,null,null,null,null,null,8062015,42163]
[null,null,null,null,{"$f":"IF(Configuração!C1349=\"\",\"\",Configuração!B1349)","v":""},null,null,null,null,null,null,null,null,null,null,null,null,null,null,null,null,8062016,42529]
[null,null,null,null,{"$f":"IF(Configuração!C1350=\"\",\"\",Configuração!B1350)","v":""},null,null,null,null,null,null,null,null,null,null,null,null,null,null,null,null,8062017,42894]
[null,null,null,null,{"$f":"IF(Configuração!C1351=\"\",\"\",Configuração!B1351)","v":""},null,null,null,null,null,null,null,null,null,null,null,null,null,null,null,null,8062018,43259]
[null,null,null,null,{"$f":"IF(Configuração!C1352=\"\",\"\",Configuração!B1352)","v":""},null,null,null,null,null,null,null,null,null,null,null,null,null,null,null,null,8062019,43624]
[null,null,null,null,{"$f":"IF(Configuração!C1353=\"\",\"\",Configuração!B1353)","v":""},null,null,null,null,null,null,null,null,null,null,null,null,null,null,null,null,8062020,43990]
[null,null,null,null,{"$f":"IF(Configuração!C1354=\"\",\"\",Configuração!B1354)","v":""},null,null,null,null,null,null,null,null,null,null,null,null,null,null,null,null,8062021,44355]
[null,null,null,null,{"$f":"IF(Configuração!C1355=\"\",\"\",Configuração!B1355)","v":""},null,null,null,null,null,null,null,null,null,null,null,null,null,null,null,null,8062022,44720]
[null,null,null,null,{"$f":"IF(Configuração!C1356=\"\",\"\",Configuração!B1356)","v":""},null,null,null,null,null,null,null,null,null,null,null,null,null,null,null,null,8062023,45085]
[null,null,null,null,{"$f":"IF(Configuração!C1357=\"\",\"\",Configuração!B1357)","v":""},null,null,null,null,null,null,null,null,null,null,null,null,null,null,null,null,8072009,40002]
[null,null,null,null,{"$f":"IF(Configuração!C1358=\"\",\"\",Configuração!B1358)","v":""},null,null,null,null,null,null,null,null,null,null,null,null,null,null,null,null,8072010,40367]
[null,null,null,null,{"$f":"IF(Configuração!C1359=\"\",\"\",Configuração!B1359)","v":""},null,null,null,null,null,null,null,null,null,null,null,null,null,null,null,null,8072011,40732]
[null,null,null,null,{"$f":"IF(Configuração!C1360=\"\",\"\",Configuração!B1360)","v":""},null,null,null,null,null,null,null,null,null,null,null,null,null,null,null,null,8072012,41098]
[null,null,null,null,{"$f":"IF(Configuração!C1361=\"\",\"\",Configuração!B1361)","v":""},null,null,null,null,null,null,null,null,null,null,null,null,null,null,null,null,8072013,41463]
[null,null,null,null,{"$f":"IF(Configuração!C1362=\"\",\"\",Configuração!B1362)","v":""},null,null,null,null,null,null,null,null,null,null,null,null,null,null,null,null,8072014,41828]
[null,null,null,null,{"$f":"IF(Configuração!C1363=\"\",\"\",Configuração!B1363)","v":""},null,null,null,null,null,null,null,null,null,null,null,null,null,null,null,null,8072015,42193]
[null,null,null,null,{"$f":"IF(Configuração!C1364=\"\",\"\",Configuração!B1364)","v":""},null,null,null,null,null,null,null,null,null,null,null,null,null,null,null,null,8072016,42559]
[null,null,null,null,{"$f":"IF(Configuração!C1365=\"\",\"\",Configuração!B1365)","v":""},null,null,null,null,null,null,null,null,null,null,null,null,null,null,null,null,8072017,42924]
[null,null,null,null,{"$f":"IF(Configuração!C1366=\"\",\"\",Configuração!B1366)","v":""},null,null,null,null,null,null,null,null,null,null,null,null,null,null,null,null,8072018,43289]
[null,null,null,null,{"$f":"IF(Configuração!C1367=\"\",\"\",Configuração!B1367)","v":""},null,null,null,null,null,null,null,null,null,null,null,null,null,null,null,null,8072019,43654]
[null,null,null,null,{"$f":"IF(Configuração!C1368=\"\",\"\",Configuração!B1368)","v":""},null,null,null,null,null,null,null,null,null,null,null,null,null,null,null,null,8072020,44020]
[null,null,null,null,{"$f":"IF(Configuração!C1369=\"\",\"\",Configuração!B1369)","v":""},null,null,null,null,null,null,null,null,null,null,null,null,null,null,null,null,8072021,44385]
[null,null,null,null,{"$f":"IF(Configuração!C1370=\"\",\"\",Configuração!B1370)","v":""},null,null,null,null,null,null,null,null,null,null,null,null,null,null,null,null,8072022,44750]
[null,null,null,null,{"$f":"IF(Configuração!C1371=\"\",\"\",Configuração!B1371)","v":""},null,null,null,null,null,null,null,null,null,null,null,null,null,null,null,null,8072023,45115]
[null,null,null,null,{"$f":"IF(Configuração!C1372=\"\",\"\",Configuração!B1372)","v":""},null,null,null,null,null,null,null,null,null,null,null,null,null,null,null,null,8082009,40033]
[null,null,null,null,{"$f":"IF(Configuração!C1373=\"\",\"\",Configuração!B1373)","v":""},null,null,null,null,null,null,null,null,null,null,null,null,null,null,null,null,8082010,40398]
[null,null,null,null,{"$f":"IF(Configuração!C1374=\"\",\"\",Configuração!B1374)","v":""},null,null,null,null,null,null,null,null,null,null,null,null,null,null,null,null,8082011,40763]
[null,null,null,null,{"$f":"IF(Configuração!C1375=\"\",\"\",Configuração!B1375)","v":""},null,null,null,null,null,null,null,null,null,null,null,null,null,null,null,null,8082012,41129]
[null,null,null,null,{"$f":"IF(Configuração!C1376=\"\",\"\",Configuração!B1376)","v":""},null,null,null,null,null,null,null,null,null,null,null,null,null,null,null,null,8082013,41494]
[null,null,null,null,{"$f":"IF(Configuração!C1377=\"\",\"\",Configuração!B1377)","v":""},null,null,null,null,null,null,null,null,null,null,null,null,null,null,null,null,8082014,41859]
[null,null,null,null,{"$f":"IF(Configuração!C1378=\"\",\"\",Configuração!B1378)","v":""},null,null,null,null,null,null,null,null,null,null,null,null,null,null,null,null,8082015,42224]
[null,null,null,null,{"$f":"IF(Configuração!C1379=\"\",\"\",Configuração!B1379)","v":""},null,null,null,null,null,null,null,null,null,null,null,null,null,null,null,null,8082016,42590]
[null,null,null,null,{"$f":"IF(Configuração!C1380=\"\",\"\",Configuração!B1380)","v":""},null,null,null,null,null,null,null,null,null,null,null,null,null,null,null,null,8082017,42955]
[null,null,null,null,{"$f":"IF(Configuração!C1381=\"\",\"\",Configuração!B1381)","v":""},null,null,null,null,null,null,null,null,null,null,null,null,null,null,null,null,8082018,43320]
[null,null,null,null,{"$f":"IF(Configuração!C1382=\"\",\"\",Configuração!B1382)","v":""},null,null,null,null,null,null,null,null,null,null,null,null,null,null,null,null,8082019,43685]
[null,null,null,null,{"$f":"IF(Configuração!C1383=\"\",\"\",Configuração!B1383)","v":""},null,null,null,null,null,null,null,null,null,null,null,null,null,null,null,null,8082020,44051]
[null,null,null,null,{"$f":"IF(Configuração!C1384=\"\",\"\",Configuração!B1384)","v":""},null,null,null,null,null,null,null,null,null,null,null,null,null,null,null,null,8082021,44416]
[null,null,null,null,{"$f":"IF(Configuração!C1385=\"\",\"\",Configuração!B1385)","v":""},null,null,null,null,null,null,null,null,null,null,null,null,null,null,null,null,8082022,44781]
[null,null,null,null,{"$f":"IF(Configuração!C1386=\"\",\"\",Configuração!B1386)","v":""},null,null,null,null,null,null,null,null,null,null,null,null,null,null,null,null,8082023,45146]
[null,null,null,null,{"$f":"IF(Configuração!C1387=\"\",\"\",Configuração!B1387)","v":""},null,null,null,null,null,null,null,null,null,null,null,null,null,null,null,null,8092009,40064]
[null,null,null,null,{"$f":"IF(Configuração!C1388=\"\",\"\",Configuração!B1388)","v":""},null,null,null,null,null,null,null,null,null,null,null,null,null,null,null,null,8092010,40429]
[null,null,null,null,{"$f":"IF(Configuração!C1389=\"\",\"\",Configuração!B1389)","v":""},null,null,null,null,null,null,null,null,null,null,null,null,null,null,null,null,8092011,40794]
[null,null,null,null,{"$f":"IF(Configuração!C1390=\"\",\"\",Configuração!B1390)","v":""},null,null,null,null,null,null,null,null,null,null,null,null,null,null,null,null,8092012,41160]
[null,null,null,null,{"$f":"IF(Configuração!C1391=\"\",\"\",Configuração!B1391)","v":""},null,null,null,null,null,null,null,null,null,null,null,null,null,null,null,null,8092013,41525]
[null,null,null,null,{"$f":"IF(Configuração!C1392=\"\",\"\",Configuração!B1392)","v":""},null,null,null,null,null,null,null,null,null,null,null,null,null,null,null,null,8092014,41890]
[null,null,null,null,{"$f":"IF(Configuração!C1393=\"\",\"\",Configuração!B1393)","v":""},null,null,null,null,null,null,null,null,null,null,null,null,null,null,null,null,8092015,42255]
[null,null,null,null,{"$f":"IF(Configuração!C1394=\"\",\"\",Configuração!B1394)","v":""},null,null,null,null,null,null,null,null,null,null,null,null,null,null,null,null,8092016,42621]
[null,null,null,null,{"$f":"IF(Configuração!C1395=\"\",\"\",Configuração!B1395)","v":""},null,null,null,null,null,null,null,null,null,null,null,null,null,null,null,null,8092017,42986]
[null,null,null,null,{"$f":"IF(Configuração!C1396=\"\",\"\",Configuração!B1396)","v":""},null,null,null,null,null,null,null,null,null,null,null,null,null,null,null,null,8092018,43351]
[null,null,null,null,{"$f":"IF(Configuração!C1397=\"\",\"\",Configuração!B1397)","v":""},null,null,null,null,null,null,null,null,null,null,null,null,null,null,null,null,8092019,43716]
[null,null,null,null,{"$f":"IF(Configuração!C1398=\"\",\"\",Configuração!B1398)","v":""},null,null,null,null,null,null,null,null,null,null,null,null,null,null,null,null,8092020,44082]
[null,null,null,null,{"$f":"IF(Configuração!C1399=\"\",\"\",Configuração!B1399)","v":""},null,null,null,null,null,null,null,null,null,null,null,null,null,null,null,null,8092021,44447]
[null,null,null,null,{"$f":"IF(Configuração!C1400=\"\",\"\",Configuração!B1400)","v":""},null,null,null,null,null,null,null,null,null,null,null,null,null,null,null,null,8092022,44812]
[null,null,null,null,{"$f":"IF(Configuração!C1401=\"\",\"\",Configuração!B1401)","v":""},null,null,null,null,null,null,null,null,null,null,null,null,null,null,null,null,8092023,45177]
[null,null,null,null,{"$f":"IF(Configuração!C1402=\"\",\"\",Configuração!B1402)","v":""},null,null,null,null,null,null,null,null,null,null,null,null,null,null,null,null,8102009,40094]
[null,null,null,null,{"$f":"IF(Configuração!C1403=\"\",\"\",Configuração!B1403)","v":""},null,null,null,null,null,null,null,null,null,null,null,null,null,null,null,null,8102010,40459]
[null,null,null,null,{"$f":"IF(Configuração!C1404=\"\",\"\",Configuração!B1404)","v":""},null,null,null,null,null,null,null,null,null,null,null,null,null,null,null,null,8102011,40824]
[null,null,null,null,{"$f":"IF(Configuração!C1405=\"\",\"\",Configuração!B1405)","v":""},null,null,null,null,null,null,null,null,null,null,null,null,null,null,null,null,8102012,41190]
[null,null,null,null,{"$f":"IF(Configuração!C1406=\"\",\"\",Configuração!B1406)","v":""},null,null,null,null,null,null,null,null,null,null,null,null,null,null,null,null,8102013,41555]
[null,null,null,null,{"$f":"IF(Configuração!C1407=\"\",\"\",Configuração!B1407)","v":""},null,null,null,null,null,null,null,null,null,null,null,null,null,null,null,null,8102014,41920]
[null,null,null,null,{"$f":"IF(Configuração!C1408=\"\",\"\",Configuração!B1408)","v":""},null,null,null,null,null,null,null,null,null,null,null,null,null,null,null,null,8102015,42285]
[null,null,null,null,{"$f":"IF(Configuração!C1409=\"\",\"\",Configuração!B1409)","v":""},null,null,null,null,null,null,null,null,null,null,null,null,null,null,null,null,8102016,42651]
[null,null,null,null,{"$f":"IF(Configuração!C1410=\"\",\"\",Configuração!B1410)","v":""},null,null,null,null,null,null,null,null,null,null,null,null,null,null,null,null,8102017,43016]
[null,null,null,null,{"$f":"IF(Configuração!C1411=\"\",\"\",Configuração!B1411)","v":""},null,null,null,null,null,null,null,null,null,null,null,null,null,null,null,null,8102018,43381]
[null,null,null,null,{"$f":"IF(Configuração!C1412=\"\",\"\",Configuração!B1412)","v":""},null,null,null,null,null,null,null,null,null,null,null,null,null,null,null,null,8102019,43746]
[null,null,null,null,{"$f":"IF(Configuração!C1413=\"\",\"\",Configuração!B1413)","v":""},null,null,null,null,null,null,null,null,null,null,null,null,null,null,null,null,8102020,44112]
[null,null,null,null,{"$f":"IF(Configuração!C1414=\"\",\"\",Configuração!B1414)","v":""},null,null,null,null,null,null,null,null,null,null,null,null,null,null,null,null,8102021,44477]
[null,null,null,null,{"$f":"IF(Configuração!C1415=\"\",\"\",Configuração!B1415)","v":""},null,null,null,null,null,null,null,null,null,null,null,null,null,null,null,null,8102022,44842]
[null,null,null,null,{"$f":"IF(Configuração!C1416=\"\",\"\",Configuração!B1416)","v":""},null,null,null,null,null,null,null,null,null,null,null,null,null,null,null,null,8102023,45207]
[null,null,null,null,{"$f":"IF(Configuração!C1417=\"\",\"\",Configuração!B1417)","v":""},null,null,null,null,null,null,null,null,null,null,null,null,null,null,null,null,8112009,40125]
[null,null,null,null,{"$f":"IF(Configuração!C1418=\"\",\"\",Configuração!B1418)","v":""},null,null,null,null,null,null,null,null,null,null,null,null,null,null,null,null,8112010,40490]
[null,null,null,null,{"$f":"IF(Configuração!C1419=\"\",\"\",Configuração!B1419)","v":""},null,null,null,null,null,null,null,null,null,null,null,null,null,null,null,null,8112011,40855]
[null,null,null,null,{"$f":"IF(Configuração!C1420=\"\",\"\",Configuração!B1420)","v":""},null,null,null,null,null,null,null,null,null,null,null,null,null,null,null,null,8112012,41221]
[null,null,null,null,{"$f":"IF(Configuração!C1421=\"\",\"\",Configuração!B1421)","v":""},null,null,null,null,null,null,null,null,null,null,null,null,null,null,null,null,8112013,41586]
[null,null,null,null,{"$f":"IF(Configuração!C1422=\"\",\"\",Configuração!B1422)","v":""},null,null,null,null,null,null,null,null,null,null,null,null,null,null,null,null,8112014,41951]
[null,null,null,null,{"$f":"IF(Configuração!C1423=\"\",\"\",Configuração!B1423)","v":""},null,null,null,null,null,null,null,null,null,null,null,null,null,null,null,null,8112015,42316]
[null,null,null,null,{"$f":"IF(Configuração!C1424=\"\",\"\",Configuração!B1424)","v":""},null,null,null,null,null,null,null,null,null,null,null,null,null,null,null,null,8112016,42682]
[null,null,null,null,{"$f":"IF(Configuração!C1425=\"\",\"\",Configuração!B1425)","v":""},null,null,null,null,null,null,null,null,null,null,null,null,null,null,null,null,8112017,43047]
[null,null,null,null,{"$f":"IF(Configuração!C1426=\"\",\"\",Configuração!B1426)","v":""},null,null,null,null,null,null,null,null,null,null,null,null,null,null,null,null,8112018,43412]
[null,null,null,null,{"$f":"IF(Configuração!C1427=\"\",\"\",Configuração!B1427)","v":""},null,null,null,null,null,null,null,null,null,null,null,null,null,null,null,null,8112019,43777]
[null,null,null,null,{"$f":"IF(Configuração!C1428=\"\",\"\",Configuração!B1428)","v":""},null,null,null,null,null,null,null,null,null,null,null,null,null,null,null,null,8112020,44143]
[null,null,null,null,{"$f":"IF(Configuração!C1429=\"\",\"\",Configuração!B1429)","v":""},null,null,null,null,null,null,null,null,null,null,null,null,null,null,null,null,8112021,44508]
[null,null,null,null,{"$f":"IF(Configuração!C1430=\"\",\"\",Configuração!B1430)","v":""},null,null,null,null,null,null,null,null,null,null,null,null,null,null,null,null,8112022,44873]
[null,null,null,null,{"$f":"IF(Configuração!C1431=\"\",\"\",Configuração!B1431)","v":""},null,null,null,null,null,null,null,null,null,null,null,null,null,null,null,null,8112023,45238]
[null,null,null,null,{"$f":"IF(Configuração!C1432=\"\",\"\",Configuração!B1432)","v":""},null,null,null,null,null,null,null,null,null,null,null,null,null,null,null,null,8122009,40155]
[null,null,null,null,{"$f":"IF(Configuração!C1433=\"\",\"\",Configuração!B1433)","v":""},null,null,null,null,null,null,null,null,null,null,null,null,null,null,null,null,8122010,40520]
[null,null,null,null,{"$f":"IF(Configuração!C1434=\"\",\"\",Configuração!B1434)","v":""},null,null,null,null,null,null,null,null,null,null,null,null,null,null,null,null,8122011,40885]
[null,null,null,null,{"$f":"IF(Configuração!C1435=\"\",\"\",Configuração!B1435)","v":""},null,null,null,null,null,null,null,null,null,null,null,null,null,null,null,null,8122012,41251]
[null,null,null,null,{"$f":"IF(Configuração!C1436=\"\",\"\",Configuração!B1436)","v":""},null,null,null,null,null,null,null,null,null,null,null,null,null,null,null,null,8122013,41616]
[null,null,null,null,{"$f":"IF(Configuração!C1437=\"\",\"\",Configuração!B1437)","v":""},null,null,null,null,null,null,null,null,null,null,null,null,null,null,null,null,8122014,41981]
[null,null,null,null,{"$f":"IF(Configuração!C1438=\"\",\"\",Configuração!B1438)","v":""},null,null,null,null,null,null,null,null,null,null,null,null,null,null,null,null,8122015,42346]
[null,null,null,null,{"$f":"IF(Configuração!C1439=\"\",\"\",Configuração!B1439)","v":""},null,null,null,null,null,null,null,null,null,null,null,null,null,null,null,null,8122016,42712]
[null,null,null,null,{"$f":"IF(Configuração!C1440=\"\",\"\",Configuração!B1440)","v":""},null,null,null,null,null,null,null,null,null,null,null,null,null,null,null,null,8122017,43077]
[null,null,null,null,{"$f":"IF(Configuração!C1441=\"\",\"\",Configuração!B1441)","v":""},null,null,null,null,null,null,null,null,null,null,null,null,null,null,null,null,8122018,43442]
[null,null,null,null,{"$f":"IF(Configuração!C1442=\"\",\"\",Configuração!B1442)","v":""},null,null,null,null,null,null,null,null,null,null,null,null,null,null,null,null,8122019,43807]
[null,null,null,null,{"$f":"IF(Configuração!C1443=\"\",\"\",Configuração!B1443)","v":""},null,null,null,null,null,null,null,null,null,null,null,null,null,null,null,null,8122020,44173]
[null,null,null,null,{"$f":"IF(Configuração!C1444=\"\",\"\",Configuração!B1444)","v":""},null,null,null,null,null,null,null,null,null,null,null,null,null,null,null,null,8122021,44538]
[null,null,null,null,{"$f":"IF(Configuração!C1445=\"\",\"\",Configuração!B1445)","v":""},null,null,null,null,null,null,null,null,null,null,null,null,null,null,null,null,8122022,44903]
[null,null,null,null,{"$f":"IF(Configuração!C1446=\"\",\"\",Configuração!B1446)","v":""},null,null,null,null,null,null,null,null,null,null,null,null,null,null,null,null,8122023,45268]
[null,null,null,null,{"$f":"IF(Configuração!C1447=\"\",\"\",Configuração!B1447)","v":""},null,null,null,null,null,null,null,null,null,null,null,null,null,null,null,null,9012009,39822]
[null,null,null,null,{"$f":"IF(Configuração!C1448=\"\",\"\",Configuração!B1448)","v":""},null,null,null,null,null,null,null,null,null,null,null,null,null,null,null,null,9012010,40187]
[null,null,null,null,{"$f":"IF(Configuração!C1449=\"\",\"\",Configuração!B1449)","v":""},null,null,null,null,null,null,null,null,null,null,null,null,null,null,null,null,9012011,40552]
[null,null,null,null,{"$f":"IF(Configuração!C1450=\"\",\"\",Configuração!B1450)","v":""},null,null,null,null,null,null,null,null,null,null,null,null,null,null,null,null,9012012,40917]
[null,null,null,null,{"$f":"IF(Configuração!C1451=\"\",\"\",Configuração!B1451)","v":""},null,null,null,null,null,null,null,null,null,null,null,null,null,null,null,null,9012013,41283]
[null,null,null,null,{"$f":"IF(Configuração!C1452=\"\",\"\",Configuração!B1452)","v":""},null,null,null,null,null,null,null,null,null,null,null,null,null,null,null,null,9012014,41648]
[null,null,null,null,{"$f":"IF(Configuração!C1453=\"\",\"\",Configuração!B1453)","v":""},null,null,null,null,null,null,null,null,null,null,null,null,null,null,null,null,9012015,42013]
[null,null,null,null,{"$f":"IF(Configuração!C1454=\"\",\"\",Configuração!B1454)","v":""},null,null,null,null,null,null,null,null,null,null,null,null,null,null,null,null,9012016,42378]
[null,null,null,null,{"$f":"IF(Configuração!C1455=\"\",\"\",Configuração!B1455)","v":""},null,null,null,null,null,null,null,null,null,null,null,null,null,null,null,null,9012017,42744]
[null,null,null,null,{"$f":"IF(Configuração!C1456=\"\",\"\",Configuração!B1456)","v":""},null,null,null,null,null,null,null,null,null,null,null,null,null,null,null,null,9012018,43109]
[null,null,null,null,{"$f":"IF(Configuração!C1457=\"\",\"\",Configuração!B1457)","v":""},null,null,null,null,null,null,null,null,null,null,null,null,null,null,null,null,9012019,43474]
[null,null,null,null,{"$f":"IF(Configuração!C1458=\"\",\"\",Configuração!B1458)","v":""},null,null,null,null,null,null,null,null,null,null,null,null,null,null,null,null,9012020,43839]
[null,null,null,null,{"$f":"IF(Configuração!C1459=\"\",\"\",Configuração!B1459)","v":""},null,null,null,null,null,null,null,null,null,null,null,null,null,null,null,null,9012021,44205]
[null,null,null,null,{"$f":"IF(Configuração!C1460=\"\",\"\",Configuração!B1460)","v":""},null,null,null,null,null,null,null,null,null,null,null,null,null,null,null,null,9012022,44570]
[null,null,null,null,{"$f":"IF(Configuração!C1461=\"\",\"\",Configuração!B1461)","v":""},null,null,null,null,null,null,null,null,null,null,null,null,null,null,null,null,9012023,44935]
[null,null,null,null,{"$f":"IF(Configuração!C1462=\"\",\"\",Configuração!B1462)","v":""},null,null,null,null,null,null,null,null,null,null,null,null,null,null,null,null,9022009,39853]
[null,null,null,null,{"$f":"IF(Configuração!C1463=\"\",\"\",Configuração!B1463)","v":""},null,null,null,null,null,null,null,null,null,null,null,null,null,null,null,null,9022010,40218]
[null,null,null,null,{"$f":"IF(Configuração!C1464=\"\",\"\",Configuração!B1464)","v":""},null,null,null,null,null,null,null,null,null,null,null,null,null,null,null,null,9022011,40583]
[null,null,null,null,{"$f":"IF(Configuração!C1465=\"\",\"\",Configuração!B1465)","v":""},null,null,null,null,null,null,null,null,null,null,null,null,null,null,null,null,9022012,40948]
[null,null,null,null,{"$f":"IF(Configuração!C1466=\"\",\"\",Configuração!B1466)","v":""},null,null,null,null,null,null,null,null,null,null,null,null,null,null,null,null,9022013,41314]
[null,null,null,null,{"$f":"IF(Configuração!C1467=\"\",\"\",Configuração!B1467)","v":""},null,null,null,null,null,null,null,null,null,null,null,null,null,null,null,null,9022014,41679]
[null,null,null,null,{"$f":"IF(Configuração!C1468=\"\",\"\",Configuração!B1468)","v":""},null,null,null,null,null,null,null,null,null,null,null,null,null,null,null,null,9022015,42044]
[null,null,null,null,{"$f":"IF(Configuração!C1469=\"\",\"\",Configuração!B1469)","v":""},null,null,null,null,null,null,null,null,null,null,null,null,null,null,null,null,9022016,42409]
[null,null,null,null,{"$f":"IF(Configuração!C1470=\"\",\"\",Configuração!B1470)","v":""},null,null,null,null,null,null,null,null,null,null,null,null,null,null,null,null,9022017,42775]
[null,null,null,null,{"$f":"IF(Configuração!C1471=\"\",\"\",Configuração!B1471)","v":""},null,null,null,null,null,null,null,null,null,null,null,null,null,null,null,null,9022018,43140]
[null,null,null,null,{"$f":"IF(Configuração!C1472=\"\",\"\",Configuração!B1472)","v":""},null,null,null,null,null,null,null,null,null,null,null,null,null,null,null,null,9022019,43505]
[null,null,null,null,{"$f":"IF(Configuração!C1473=\"\",\"\",Configuração!B1473)","v":""},null,null,null,null,null,null,null,null,null,null,null,null,null,null,null,null,9022020,43870]
[null,null,null,null,{"$f":"IF(Configuração!C1474=\"\",\"\",Configuração!B1474)","v":""},null,null,null,null,null,null,null,null,null,null,null,null,null,null,null,null,9022021,44236]
[null,null,null,null,{"$f":"IF(Configuração!C1475=\"\",\"\",Configuração!B1475)","v":""},null,null,null,null,null,null,null,null,null,null,null,null,null,null,null,null,9022022,44601]
[null,null,null,null,{"$f":"IF(Configuração!C1476=\"\",\"\",Configuração!B1476)","v":""},null,null,null,null,null,null,null,null,null,null,null,null,null,null,null,null,9022023,44966]
[null,null,null,null,{"$f":"IF(Configuração!C1477=\"\",\"\",Configuração!B1477)","v":""},null,null,null,null,null,null,null,null,null,null,null,null,null,null,null,null,9032009,39881]
[null,null,null,null,{"$f":"IF(Configuração!C1478=\"\",\"\",Configuração!B1478)","v":""},null,null,null,null,null,null,null,null,null,null,null,null,null,null,null,null,9032010,40246]
[null,null,null,null,{"$f":"IF(Configuração!C1479=\"\",\"\",Configuração!B1479)","v":""},null,null,null,null,null,null,null,null,null,null,null,null,null,null,null,null,9032011,40611]
[null,null,null,null,{"$f":"IF(Configuração!C1480=\"\",\"\",Configuração!B1480)","v":""},null,null,null,null,null,null,null,null,null,null,null,null,null,null,null,null,9032012,40977]
[null,null,null,null,{"$f":"IF(Configuração!C1481=\"\",\"\",Configuração!B1481)","v":""},null,null,null,null,null,null,null,null,null,null,null,null,null,null,null,null,9032013,41342]
[null,null,null,null,{"$f":"IF(Configuração!C1482=\"\",\"\",Configuração!B1482)","v":""},null,null,null,null,null,null,null,null,null,null,null,null,null,null,null,null,9032014,41707]
[null,null,null,null,{"$f":"IF(Configuração!C1483=\"\",\"\",Configuração!B1483)","v":""},null,null,null,null,null,null,null,null,null,null,null,null,null,null,null,null,9032015,42072]
[null,null,null,null,{"$f":"IF(Configuração!C1484=\"\",\"\",Configuração!B1484)","v":""},null,null,null,null,null,null,null,null,null,null,null,null,null,null,null,null,9032016,42438]
[null,null,null,null,{"$f":"IF(Configuração!C1485=\"\",\"\",Configuração!B1485)","v":""},null,null,null,null,null,null,null,null,null,null,null,null,null,null,null,null,9032017,42803]
[null,null,null,null,{"$f":"IF(Configuração!C1486=\"\",\"\",Configuração!B1486)","v":""},null,null,null,null,null,null,null,null,null,null,null,null,null,null,null,null,9032018,43168]
[null,null,null,null,{"$f":"IF(Configuração!C1487=\"\",\"\",Configuração!B1487)","v":""},null,null,null,null,null,null,null,null,null,null,null,null,null,null,null,null,9032019,43533]
[null,null,null,null,{"$f":"IF(Configuração!C1488=\"\",\"\",Configuração!B1488)","v":""},null,null,null,null,null,null,null,null,null,null,null,null,null,null,null,null,9032020,43899]
[null,null,null,null,{"$f":"IF(Configuração!C1489=\"\",\"\",Configuração!B1489)","v":""},null,null,null,null,null,null,null,null,null,null,null,null,null,null,null,null,9032021,44264]
[null,null,null,null,{"$f":"IF(Configuração!C1490=\"\",\"\",Configuração!B1490)","v":""},null,null,null,null,null,null,null,null,null,null,null,null,null,null,null,null,9032022,44629]
[null,null,null,null,{"$f":"IF(Configuração!C1491=\"\",\"\",Configuração!B1491)","v":""},null,null,null,null,null,null,null,null,null,null,null,null,null,null,null,null,9032023,44994]
[null,null,null,null,{"$f":"IF(Configuração!C1492=\"\",\"\",Configuração!B1492)","v":""},null,null,null,null,null,null,null,null,null,null,null,null,null,null,null,null,9042009,39912]
[null,null,null,null,{"$f":"IF(Configuração!C1493=\"\",\"\",Configuração!B1493)","v":""},null,null,null,null,null,null,null,null,null,null,null,null,null,null,null,null,9042010,40277]
[null,null,null,null,{"$f":"IF(Configuração!C1494=\"\",\"\",Configuração!B1494)","v":""},null,null,null,null,null,null,null,null,null,null,null,null,null,null,null,null,9042011,40642]
[null,null,null,null,{"$f":"IF(Configuração!C1495=\"\",\"\",Configuração!B1495)","v":""},null,null,null,null,null,null,null,null,null,null,null,null,null,null,null,null,9042012,41008]
[null,null,null,null,{"$f":"IF(Configuração!C1496=\"\",\"\",Configuração!B1496)","v":""},null,null,null,null,null,null,null,null,null,null,null,null,null,null,null,null,9042013,41373]
[null,null,null,null,{"$f":"IF(Configuração!C1497=\"\",\"\",Configuração!B1497)","v":""},null,null,null,null,null,null,null,null,null,null,null,null,null,null,null,null,9042014,41738]
[null,null,null,null,{"$f":"IF(Configuração!C1498=\"\",\"\",Configuração!B1498)","v":""},null,null,null,null,null,null,null,null,null,null,null,null,null,null,null,null,9042015,42103]
[null,null,null,null,{"$f":"IF(Configuração!C1499=\"\",\"\",Configuração!B1499)","v":""},null,null,null,null,null,null,null,null,null,null,null,null,null,null,null,null,9042016,42469]
[null,null,null,null,{"$f":"IF(Configuração!C1500=\"\",\"\",Configuração!B1500)","v":""},null,null,null,null,null,null,null,null,null,null,null,null,null,null,null,null,9042017,42834]
[null,null,null,null,{"$f":"IF(Configuração!C1501=\"\",\"\",Configuração!B1501)","v":""},null,null,null,null,null,null,null,null,null,null,null,null,null,null,null,null,9042018,43199]
[null,null,null,null,{"$f":"IF(Configuração!C1502=\"\",\"\",Configuração!B1502)","v":""},null,null,null,null,null,null,null,null,null,null,null,null,null,null,null,null,9042019,43564]
[null,null,null,null,{"$f":"IF(Configuração!C1503=\"\",\"\",Configuração!B1503)","v":""},null,null,null,null,null,null,null,null,null,null,null,null,null,null,null,null,9042020,43930]
[null,null,null,null,{"$f":"IF(Configuração!C1504=\"\",\"\",Configuração!B1504)","v":""},null,null,null,null,null,null,null,null,null,null,null,null,null,null,null,null,9042021,44295]
[null,null,null,null,{"$f":"IF(Configuração!C1505=\"\",\"\",Configuração!B1505)","v":""},null,null,null,null,null,null,null,null,null,null,null,null,null,null,null,null,9042022,44660]
[null,null,null,null,{"$f":"IF(Configuração!C1506=\"\",\"\",Configuração!B1506)","v":""},null,null,null,null,null,null,null,null,null,null,null,null,null,null,null,null,9042023,45025]
[null,null,null,null,{"$f":"IF(Configuração!C1507=\"\",\"\",Configuração!B1507)","v":""},null,null,null,null,null,null,null,null,null,null,null,null,null,null,null,null,9052009,39942]
[null,null,null,null,{"$f":"IF(Configuração!C1508=\"\",\"\",Configuração!B1508)","v":""},null,null,null,null,null,null,null,null,null,null,null,null,null,null,null,null,9052010,40307]
[null,null,null,null,{"$f":"IF(Configuração!C1509=\"\",\"\",Configuração!B1509)","v":""},null,null,null,null,null,null,null,null,null,null,null,null,null,null,null,null,9052011,40672]
[null,null,null,null,{"$f":"IF(Configuração!C1510=\"\",\"\",Configuração!B1510)","v":""},null,null,null,null,null,null,null,null,null,null,null,null,null,null,null,null,9052012,41038]
[null,null,null,null,{"$f":"IF(Configuração!C1511=\"\",\"\",Configuração!B1511)","v":""},null,null,null,null,null,null,null,null,null,null,null,null,null,null,null,null,9052013,41403]
[null,null,null,null,{"$f":"IF(Configuração!C1512=\"\",\"\",Configuração!B1512)","v":""},null,null,null,null,null,null,null,null,null,null,null,null,null,null,null,null,9052014,41768]
[null,null,null,null,{"$f":"IF(Configuração!C1513=\"\",\"\",Configuração!B1513)","v":""},null,null,null,null,null,null,null,null,null,null,null,null,null,null,null,null,9052015,42133]
[null,null,null,null,{"$f":"IF(Configuração!C1514=\"\",\"\",Configuração!B1514)","v":""},null,null,null,null,null,null,null,null,null,null,null,null,null,null,null,null,9052016,42499]
[null,null,null,null,{"$f":"IF(Configuração!C1515=\"\",\"\",Configuração!B1515)","v":""},null,null,null,null,null,null,null,null,null,null,null,null,null,null,null,null,9052017,42864]
[null,null,null,null,{"$f":"IF(Configuração!C1516=\"\",\"\",Configuração!B1516)","v":""},null,null,null,null,null,null,null,null,null,null,null,null,null,null,null,null,9052018,43229]
[null,null,null,null,{"$f":"IF(Configuração!C1517=\"\",\"\",Configuração!B1517)","v":""},null,null,null,null,null,null,null,null,null,null,null,null,null,null,null,null,9052019,43594]
[null,null,null,null,{"$f":"IF(Configuração!C1518=\"\",\"\",Configuração!B1518)","v":""},null,null,null,null,null,null,null,null,null,null,null,null,null,null,null,null,9052020,43960]
[null,null,null,null,{"$f":"IF(Configuração!C1519=\"\",\"\",Configuração!B1519)","v":""},null,null,null,null,null,null,null,null,null,null,null,null,null,null,null,null,9052021,44325]
[null,null,null,null,{"$f":"IF(Configuração!C1520=\"\",\"\",Configuração!B1520)","v":""},null,null,null,null,null,null,null,null,null,null,null,null,null,null,null,null,9052022,44690]
[null,null,null,null,{"$f":"IF(Configuração!C1521=\"\",\"\",Configuração!B1521)","v":""},null,null,null,null,null,null,null,null,null,null,null,null,null,null,null,null,9052023,45055]
[null,null,null,null,{"$f":"IF(Configuração!C1522=\"\",\"\",Configuração!B1522)","v":""},null,null,null,null,null,null,null,null,null,null,null,null,null,null,null,null,9062009,39973]
[null,null,null,null,{"$f":"IF(Configuração!C1523=\"\",\"\",Configuração!B1523)","v":""},null,null,null,null,null,null,null,null,null,null,null,null,null,null,null,null,9062010,40338]
[null,null,null,null,{"$f":"IF(Configuração!C1524=\"\",\"\",Configuração!B1524)","v":""},null,null,null,null,null,null,null,null,null,null,null,null,null,null,null,null,9062011,40703]
[null,null,null,null,{"$f":"IF(Configuração!C1525=\"\",\"\",Configuração!B1525)","v":""},null,null,null,null,null,null,null,null,null,null,null,null,null,null,null,null,9062012,41069]
[null,null,null,null,{"$f":"IF(Configuração!C1526=\"\",\"\",Configuração!B1526)","v":""},null,null,null,null,null,null,null,null,null,null,null,null,null,null,null,null,9062013,41434]
[null,null,null,null,{"$f":"IF(Configuração!C1527=\"\",\"\",Configuração!B1527)","v":""},null,null,null,null,null,null,null,null,null,null,null,null,null,null,null,null,9062014,41799]
[null,null,null,null,{"$f":"IF(Configuração!C1528=\"\",\"\",Configuração!B1528)","v":""},null,null,null,null,null,null,null,null,null,null,null,null,null,null,null,null,9062015,42164]
[null,null,null,null,{"$f":"IF(Configuração!C1529=\"\",\"\",Configuração!B1529)","v":""},null,null,null,null,null,null,null,null,null,null,null,null,null,null,null,null,9062016,42530]
[null,null,null,null,{"$f":"IF(Configuração!C1530=\"\",\"\",Configuração!B1530)","v":""},null,null,null,null,null,null,null,null,null,null,null,null,null,null,null,null,9062017,42895]
[null,null,null,null,{"$f":"IF(Configuração!C1531=\"\",\"\",Configuração!B1531)","v":""},null,null,null,null,null,null,null,null,null,null,null,null,null,null,null,null,9062018,43260]
[null,null,null,null,{"$f":"IF(Configuração!C1532=\"\",\"\",Configuração!B1532)","v":""},null,null,null,null,null,null,null,null,null,null,null,null,null,null,null,null,9062019,43625]
[null,null,null,null,{"$f":"IF(Configuração!C1533=\"\",\"\",Configuração!B1533)","v":""},null,null,null,null,null,null,null,null,null,null,null,null,null,null,null,null,9062020,43991]
[null,null,null,null,{"$f":"IF(Configuração!C1534=\"\",\"\",Configuração!B1534)","v":""},null,null,null,null,null,null,null,null,null,null,null,null,null,null,null,null,9062021,44356]
[null,null,null,null,{"$f":"IF(Configuração!C1535=\"\",\"\",Configuração!B1535)","v":""},null,null,null,null,null,null,null,null,null,null,null,null,null,null,null,null,9062022,44721]
[null,null,null,null,{"$f":"IF(Configuração!C1536=\"\",\"\",Configuração!B1536)","v":""},null,null,null,null,null,null,null,null,null,null,null,null,null,null,null,null,9062023,45086]
[null,null,null,null,{"$f":"IF(Configuração!C1537=\"\",\"\",Configuração!B1537)","v":""},null,null,null,null,null,null,null,null,null,null,null,null,null,null,null,null,9072009,40003]
[null,null,null,null,{"$f":"IF(Configuração!C1538=\"\",\"\",Configuração!B1538)","v":""},null,null,null,null,null,null,null,null,null,null,null,null,null,null,null,null,9072010,40368]
[null,null,null,null,{"$f":"IF(Configuração!C1539=\"\",\"\",Configuração!B1539)","v":""},null,null,null,null,null,null,null,null,null,null,null,null,null,null,null,null,9072011,40733]
[null,null,null,null,{"$f":"IF(Configuração!C1540=\"\",\"\",Configuração!B1540)","v":""},null,null,null,null,null,null,null,null,null,null,null,null,null,null,null,null,9072012,41099]
[null,null,null,null,{"$f":"IF(Configuração!C1541=\"\",\"\",Configuração!B1541)","v":""},null,null,null,null,null,null,null,null,null,null,null,null,null,null,null,null,9072013,41464]
[null,null,null,null,{"$f":"IF(Configuração!C1542=\"\",\"\",Configuração!B1542)","v":""},null,null,null,null,null,null,null,null,null,null,null,null,null,null,null,null,9072014,41829]
[null,null,null,null,{"$f":"IF(Configuração!C1543=\"\",\"\",Configuração!B1543)","v":""},null,null,null,null,null,null,null,null,null,null,null,null,null,null,null,null,9072015,42194]
[null,null,null,null,{"$f":"IF(Configuração!C1544=\"\",\"\",Configuração!B1544)","v":""},null,null,null,null,null,null,null,null,null,null,null,null,null,null,null,null,9072016,42560]
[null,null,null,null,{"$f":"IF(Configuração!C1545=\"\",\"\",Configuração!B1545)","v":""},null,null,null,null,null,null,null,null,null,null,null,null,null,null,null,null,9072017,42925]
[null,null,null,null,{"$f":"IF(Configuração!C1546=\"\",\"\",Configuração!B1546)","v":""},null,null,null,null,null,null,null,null,null,null,null,null,null,null,null,null,9072018,43290]
[null,null,null,null,{"$f":"IF(Configuração!C1547=\"\",\"\",Configuração!B1547)","v":""},null,null,null,null,null,null,null,null,null,null,null,null,null,null,null,null,9072019,43655]
[null,null,null,null,{"$f":"IF(Configuração!C1548=\"\",\"\",Configuração!B1548)","v":""},null,null,null,null,null,null,null,null,null,null,null,null,null,null,null,null,9072020,44021]
[null,null,null,null,{"$f":"IF(Configuração!C1549=\"\",\"\",Configuração!B1549)","v":""},null,null,null,null,null,null,null,null,null,null,null,null,null,null,null,null,9072021,44386]
[null,null,null,null,{"$f":"IF(Configuração!C1550=\"\",\"\",Configuração!B1550)","v":""},null,null,null,null,null,null,null,null,null,null,null,null,null,null,null,null,9072022,44751]
[null,null,null,null,{"$f":"IF(Configuração!C1551=\"\",\"\",Configuração!B1551)","v":""},null,null,null,null,null,null,null,null,null,null,null,null,null,null,null,null,9072023,45116]
[null,null,null,null,{"$f":"IF(Configuração!C1552=\"\",\"\",Configuração!B1552)","v":""},null,null,null,null,null,null,null,null,null,null,null,null,null,null,null,null,9082009,40034]
[null,null,null,null,{"$f":"IF(Configuração!C1553=\"\",\"\",Configuração!B1553)","v":""},null,null,null,null,null,null,null,null,null,null,null,null,null,null,null,null,9082010,40399]
[null,null,null,null,{"$f":"IF(Configuração!C1554=\"\",\"\",Configuração!B1554)","v":""},null,null,null,null,null,null,null,null,null,null,null,null,null,null,null,null,9082011,40764]
[null,null,null,null,{"$f":"IF(Configuração!C1555=\"\",\"\",Configuração!B1555)","v":""},null,null,null,null,null,null,null,null,null,null,null,null,null,null,null,null,9082012,41130]
[null,null,null,null,{"$f":"IF(Configuração!C1556=\"\",\"\",Configuração!B1556)","v":""},null,null,null,null,null,null,null,null,null,null,null,null,null,null,null,null,9082013,41495]
[null,null,null,null,{"$f":"IF(Configuração!C1557=\"\",\"\",Configuração!B1557)","v":""},null,null,null,null,null,null,null,null,null,null,null,null,null,null,null,null,9082014,41860]
[null,null,null,null,{"$f":"IF(Configuração!C1558=\"\",\"\",Configuração!B1558)","v":""},null,null,null,null,null,null,null,null,null,null,null,null,null,null,null,null,9082015,42225]
[null,null,null,null,{"$f":"IF(Configuração!C1559=\"\",\"\",Configuração!B1559)","v":""},null,null,null,null,null,null,null,null,null,null,null,null,null,null,null,null,9082016,42591]
[null,null,null,null,{"$f":"IF(Configuração!C1560=\"\",\"\",Configuração!B1560)","v":""},null,null,null,null,null,null,null,null,null,null,null,null,null,null,null,null,9082017,42956]
[null,null,null,null,{"$f":"IF(Configuração!C1561=\"\",\"\",Configuração!B1561)","v":""},null,null,null,null,null,null,null,null,null,null,null,null,null,null,null,null,9082018,43321]
[null,null,null,null,{"$f":"IF(Configuração!C1562=\"\",\"\",Configuração!B1562)","v":""},null,null,null,null,null,null,null,null,null,null,null,null,null,null,null,null,9082019,43686]
[null,null,null,null,{"$f":"IF(Configuração!C1563=\"\",\"\",Configuração!B1563)","v":""},null,null,null,null,null,null,null,null,null,null,null,null,null,null,null,null,9082020,44052]
[null,null,null,null,{"$f":"IF(Configuração!C1564=\"\",\"\",Configuração!B1564)","v":""},null,null,null,null,null,null,null,null,null,null,null,null,null,null,null,null,9082021,44417]
[null,null,null,null,{"$f":"IF(Configuração!C1565=\"\",\"\",Configuração!B1565)","v":""},null,null,null,null,null,null,null,null,null,null,null,null,null,null,null,null,9082022,44782]
[null,null,null,null,{"$f":"IF(Configuração!C1566=\"\",\"\",Configuração!B1566)","v":""},null,null,null,null,null,null,null,null,null,null,null,null,null,null,null,null,9082023,45147]
[null,null,null,null,{"$f":"IF(Configuração!C1567=\"\",\"\",Configuração!B1567)","v":""},null,null,null,null,null,null,null,null,null,null,null,null,null,null,null,null,9092009,40065]
[null,null,null,null,{"$f":"IF(Configuração!C1568=\"\",\"\",Configuração!B1568)","v":""},null,null,null,null,null,null,null,null,null,null,null,null,null,null,null,null,9092010,40430]
[null,null,null,null,{"$f":"IF(Configuração!C1569=\"\",\"\",Configuração!B1569)","v":""},null,null,null,null,null,null,null,null,null,null,null,null,null,null,null,null,9092011,40795]
[null,null,null,null,{"$f":"IF(Configuração!C1570=\"\",\"\",Configuração!B1570)","v":""},null,null,null,null,null,null,null,null,null,null,null,null,null,null,null,null,9092012,41161]
[null,null,null,null,{"$f":"IF(Configuração!C1571=\"\",\"\",Configuração!B1571)","v":""},null,null,null,null,null,null,null,null,null,null,null,null,null,null,null,null,9092013,41526]
[null,null,null,null,{"$f":"IF(Configuração!C1572=\"\",\"\",Configuração!B1572)","v":""},null,null,null,null,null,null,null,null,null,null,null,null,null,null,null,null,9092014,41891]
[null,null,null,null,{"$f":"IF(Configuração!C1573=\"\",\"\",Configuração!B1573)","v":""},null,null,null,null,null,null,null,null,null,null,null,null,null,null,null,null,9092015,42256]
[null,null,null,null,{"$f":"IF(Configuração!C1574=\"\",\"\",Configuração!B1574)","v":""},null,null,null,null,null,null,null,null,null,null,null,null,null,null,null,null,9092016,42622]
[null,null,null,null,{"$f":"IF(Configuração!C1575=\"\",\"\",Configuração!B1575)","v":""},null,null,null,null,null,null,null,null,null,null,null,null,null,null,null,null,9092017,42987]
[null,null,null,null,{"$f":"IF(Configuração!C1576=\"\",\"\",Configuração!B1576)","v":""},null,null,null,null,null,null,null,null,null,null,null,null,null,null,null,null,9092018,43352]
[null,null,null,null,{"$f":"IF(Configuração!C1577=\"\",\"\",Configuração!B1577)","v":""},null,null,null,null,null,null,null,null,null,null,null,null,null,null,null,null,9092019,43717]
[null,null,null,null,{"$f":"IF(Configuração!C1578=\"\",\"\",Configuração!B1578)","v":""},null,null,null,null,null,null,null,null,null,null,null,null,null,null,null,null,9092020,44083]
[null,null,null,null,{"$f":"IF(Configuração!C1579=\"\",\"\",Configuração!B1579)","v":""},null,null,null,null,null,null,null,null,null,null,null,null,null,null,null,null,9092021,44448]
[null,null,null,null,{"$f":"IF(Configuração!C1580=\"\",\"\",Configuração!B1580)","v":""},null,null,null,null,null,null,null,null,null,null,null,null,null,null,null,null,9092022,44813]
[null,null,null,null,{"$f":"IF(Configuração!C1581=\"\",\"\",Configuração!B1581)","v":""},null,null,null,null,null,null,null,null,null,null,null,null,null,null,null,null,9092023,45178]
[null,null,null,null,{"$f":"IF(Configuração!C1582=\"\",\"\",Configuração!B1582)","v":""},null,null,null,null,null,null,null,null,null,null,null,null,null,null,null,null,9102009,40095]
[null,null,null,null,{"$f":"IF(Configuração!C1583=\"\",\"\",Configuração!B1583)","v":""},null,null,null,null,null,null,null,null,null,null,null,null,null,null,null,null,9102010,40460]
[null,null,null,null,{"$f":"IF(Configuração!C1584=\"\",\"\",Configuração!B1584)","v":""},null,null,null,null,null,null,null,null,null,null,null,null,null,null,null,null,9102011,40825]
[null,null,null,null,{"$f":"IF(Configuração!C1585=\"\",\"\",Configuração!B1585)","v":""},null,null,null,null,null,null,null,null,null,null,null,null,null,null,null,null,9102012,41191]
[null,null,null,null,{"$f":"IF(Configuração!C1586=\"\",\"\",Configuração!B1586)","v":""},null,null,null,null,null,null,null,null,null,null,null,null,null,null,null,null,9102013,41556]
[null,null,null,null,{"$f":"IF(Configuração!C1587=\"\",\"\",Configuração!B1587)","v":""},null,null,null,null,null,null,null,null,null,null,null,null,null,null,null,null,9102014,41921]
[null,null,null,null,{"$f":"IF(Configuração!C1588=\"\",\"\",Configuração!B1588)","v":""},null,null,null,null,null,null,null,null,null,null,null,null,null,null,null,null,9102015,42286]
[null,null,null,null,{"$f":"IF(Configuração!C1589=\"\",\"\",Configuração!B1589)","v":""},null,null,null,null,null,null,null,null,null,null,null,null,null,null,null,null,9102016,42652]
[null,null,null,null,{"$f":"IF(Configuração!C1590=\"\",\"\",Configuração!B1590)","v":""},null,null,null,null,null,null,null,null,null,null,null,null,null,null,null,null,9102017,43017]
[null,null,null,null,{"$f":"IF(Configuração!C1591=\"\",\"\",Configuração!B1591)","v":""},null,null,null,null,null,null,null,null,null,null,null,null,null,null,null,null,9102018,43382]
[null,null,null,null,{"$f":"IF(Configuração!C1592=\"\",\"\",Configuração!B1592)","v":""},null,null,null,null,null,null,null,null,null,null,null,null,null,null,null,null,9102019,43747]
[null,null,null,null,{"$f":"IF(Configuração!C1593=\"\",\"\",Configuração!B1593)","v":""},null,null,null,null,null,null,null,null,null,null,null,null,null,null,null,null,9102020,44113]
[null,null,null,null,{"$f":"IF(Configuração!C1594=\"\",\"\",Configuração!B1594)","v":""},null,null,null,null,null,null,null,null,null,null,null,null,null,null,null,null,9102021,44478]
[null,null,null,null,{"$f":"IF(Configuração!C1595=\"\",\"\",Configuração!B1595)","v":""},null,null,null,null,null,null,null,null,null,null,null,null,null,null,null,null,9102022,44843]
[null,null,null,null,{"$f":"IF(Configuração!C1596=\"\",\"\",Configuração!B1596)","v":""},null,null,null,null,null,null,null,null,null,null,null,null,null,null,null,null,9102023,45208]
[null,null,null,null,{"$f":"IF(Configuração!C1597=\"\",\"\",Configuração!B1597)","v":""},null,null,null,null,null,null,null,null,null,null,null,null,null,null,null,null,9112009,40126]
[null,null,null,null,{"$f":"IF(Configuração!C1598=\"\",\"\",Configuração!B1598)","v":""},null,null,null,null,null,null,null,null,null,null,null,null,null,null,null,null,9112010,40491]
[null,null,null,null,{"$f":"IF(Configuração!C1599=\"\",\"\",Configuração!B1599)","v":""},null,null,null,null,null,null,null,null,null,null,null,null,null,null,null,null,9112011,40856]
[null,null,null,null,{"$f":"IF(Configuração!C1600=\"\",\"\",Configuração!B1600)","v":""},null,null,null,null,null,null,null,null,null,null,null,null,null,null,null,null,9112012,41222]
[null,null,null,null,{"$f":"IF(Configuração!C1601=\"\",\"\",Configuração!B1601)","v":""},null,null,null,null,null,null,null,null,null,null,null,null,null,null,null,null,9112013,41587]
[null,null,null,null,{"$f":"IF(Configuração!C1602=\"\",\"\",Configuração!B1602)","v":""},null,null,null,null,null,null,null,null,null,null,null,null,null,null,null,null,9112014,41952]
[null,null,null,null,{"$f":"IF(Configuração!C1603=\"\",\"\",Configuração!B1603)","v":""},null,null,null,null,null,null,null,null,null,null,null,null,null,null,null,null,9112015,42317]
[null,null,null,null,{"$f":"IF(Configuração!C1604=\"\",\"\",Configuração!B1604)","v":""},null,null,null,null,null,null,null,null,null,null,null,null,null,null,null,null,9112016,42683]
[null,null,null,null,{"$f":"IF(Configuração!C1605=\"\",\"\",Configuração!B1605)","v":""},null,null,null,null,null,null,null,null,null,null,null,null,null,null,null,null,9112017,43048]
[null,null,null,null,{"$f":"IF(Configuração!C1606=\"\",\"\",Configuração!B1606)","v":""},null,null,null,null,null,null,null,null,null,null,null,null,null,null,null,null,9112018,43413]
[null,null,null,null,{"$f":"IF(Configuração!C1607=\"\",\"\",Configuração!B1607)","v":""},null,null,null,null,null,null,null,null,null,null,null,null,null,null,null,null,9112019,43778]
[null,null,null,null,{"$f":"IF(Configuração!C1608=\"\",\"\",Configuração!B1608)","v":""},null,null,null,null,null,null,null,null,null,null,null,null,null,null,null,null,9112020,44144]
[null,null,null,null,{"$f":"IF(Configuração!C1609=\"\",\"\",Configuração!B1609)","v":""},null,null,null,null,null,null,null,null,null,null,null,null,null,null,null,null,9112021,44509]
[null,null,null,null,{"$f":"IF(Configuração!C1610=\"\",\"\",Configuração!B1610)","v":""},null,null,null,null,null,null,null,null,null,null,null,null,null,null,null,null,9112022,44874]
[null,null,null,null,{"$f":"IF(Configuração!C1611=\"\",\"\",Configuração!B1611)","v":""},null,null,null,null,null,null,null,null,null,null,null,null,null,null,null,null,9112023,45239]
[null,null,null,null,{"$f":"IF(Configuração!C1612=\"\",\"\",Configuração!B1612)","v":""},null,null,null,null,null,null,null,null,null,null,null,null,null,null,null,null,9122009,40156]
[null,null,null,null,{"$f":"IF(Configuração!C1613=\"\",\"\",Configuração!B1613)","v":""},null,null,null,null,null,null,null,null,null,null,null,null,null,null,null,null,9122010,40521]
[null,null,null,null,{"$f":"IF(Configuração!C1614=\"\",\"\",Configuração!B1614)","v":""},null,null,null,null,null,null,null,null,null,null,null,null,null,null,null,null,9122011,40886]
[null,null,null,null,{"$f":"IF(Configuração!C1615=\"\",\"\",Configuração!B1615)","v":""},null,null,null,null,null,null,null,null,null,null,null,null,null,null,null,null,9122012,41252]
[null,null,null,null,{"$f":"IF(Configuração!C1616=\"\",\"\",Configuração!B1616)","v":""},null,null,null,null,null,null,null,null,null,null,null,null,null,null,null,null,9122013,41617]
[null,null,null,null,{"$f":"IF(Configuração!C1617=\"\",\"\",Configuração!B1617)","v":""},null,null,null,null,null,null,null,null,null,null,null,null,null,null,null,null,9122014,41982]
[null,null,null,null,{"$f":"IF(Configuração!C1618=\"\",\"\",Configuração!B1618)","v":""},null,null,null,null,null,null,null,null,null,null,null,null,null,null,null,null,9122015,42347]
[null,null,null,null,{"$f":"IF(Configuração!C1619=\"\",\"\",Configuração!B1619)","v":""},null,null,null,null,null,null,null,null,null,null,null,null,null,null,null,null,9122016,42713]
[null,null,null,null,{"$f":"IF(Configuração!C1620=\"\",\"\",Configuração!B1620)","v":""},null,null,null,null,null,null,null,null,null,null,null,null,null,null,null,null,9122017,43078]
[null,null,null,null,{"$f":"IF(Configuração!C1621=\"\",\"\",Configuração!B1621)","v":""},null,null,null,null,null,null,null,null,null,null,null,null,null,null,null,null,9122018,43443]
[null,null,null,null,{"$f":"IF(Configuração!C1622=\"\",\"\",Configuração!B1622)","v":""},null,null,null,null,null,null,null,null,null,null,null,null,null,null,null,null,9122019,43808]
[null,null,null,null,{"$f":"IF(Configuração!C1623=\"\",\"\",Configuração!B1623)","v":""},null,null,null,null,null,null,null,null,null,null,null,null,null,null,null,null,9122020,44174]
[null,null,null,null,{"$f":"IF(Configuração!C1624=\"\",\"\",Configuração!B1624)","v":""},null,null,null,null,null,null,null,null,null,null,null,null,null,null,null,null,9122021,44539]
[null,null,null,null,{"$f":"IF(Configuração!C1625=\"\",\"\",Configuração!B1625)","v":""},null,null,null,null,null,null,null,null,null,null,null,null,null,null,null,null,9122022,44904]
[null,null,null,null,{"$f":"IF(Configuração!C1626=\"\",\"\",Configuração!B1626)","v":""},null,null,null,null,null,null,null,null,null,null,null,null,null,null,null,null,9122023,45269]
[null,null,null,null,{"$f":"IF(Configuração!C1627=\"\",\"\",Configuração!B1627)","v":""},null,null,null,null,null,null,null,null,null,null,null,null,null,null,null,null,10012009,39823]
[null,null,null,null,{"$f":"IF(Configuração!C1628=\"\",\"\",Configuração!B1628)","v":""},null,null,null,null,null,null,null,null,null,null,null,null,null,null,null,null,10012010,40188]
[null,null,null,null,{"$f":"IF(Configuração!C1629=\"\",\"\",Configuração!B1629)","v":""},null,null,null,null,null,null,null,null,null,null,null,null,null,null,null,null,10012011,40553]
[null,null,null,null,{"$f":"IF(Configuração!C1630=\"\",\"\",Configuração!B1630)","v":""},null,null,null,null,null,null,null,null,null,null,null,null,null,null,null,null,10012012,40918]
[null,null,null,null,{"$f":"IF(Configuração!C1631=\"\",\"\",Configuração!B1631)","v":""},null,null,null,null,null,null,null,null,null,null,null,null,null,null,null,null,10012013,41284]
[null,null,null,null,{"$f":"IF(Configuração!C1632=\"\",\"\",Configuração!B1632)","v":""},null,null,null,null,null,null,null,null,null,null,null,null,null,null,null,null,10012014,41649]
[null,null,null,null,{"$f":"IF(Configuração!C1633=\"\",\"\",Configuração!B1633)","v":""},null,null,null,null,null,null,null,null,null,null,null,null,null,null,null,null,10012015,42014]
[null,null,null,null,{"$f":"IF(Configuração!C1634=\"\",\"\",Configuração!B1634)","v":""},null,null,null,null,null,null,null,null,null,null,null,null,null,null,null,null,10012016,42379]
[null,null,null,null,{"$f":"IF(Configuração!C1635=\"\",\"\",Configuração!B1635)","v":""},null,null,null,null,null,null,null,null,null,null,null,null,null,null,null,null,10012017,42745]
[null,null,null,null,{"$f":"IF(Configuração!C1636=\"\",\"\",Configuração!B1636)","v":""},null,null,null,null,null,null,null,null,null,null,null,null,null,null,null,null,10012018,43110]
[null,null,null,null,{"$f":"IF(Configuração!C1637=\"\",\"\",Configuração!B1637)","v":""},null,null,null,null,null,null,null,null,null,null,null,null,null,null,null,null,10012019,43475]
[null,null,null,null,{"$f":"IF(Configuração!C1638=\"\",\"\",Configuração!B1638)","v":""},null,null,null,null,null,null,null,null,null,null,null,null,null,null,null,null,10012020,43840]
[null,null,null,null,{"$f":"IF(Configuração!C1639=\"\",\"\",Configuração!B1639)","v":""},null,null,null,null,null,null,null,null,null,null,null,null,null,null,null,null,10012021,44206]
[null,null,null,null,{"$f":"IF(Configuração!C1640=\"\",\"\",Configuração!B1640)","v":""},null,null,null,null,null,null,null,null,null,null,null,null,null,null,null,null,10012022,44571]
[null,null,null,null,{"$f":"IF(Configuração!C1641=\"\",\"\",Configuração!B1641)","v":""},null,null,null,null,null,null,null,null,null,null,null,null,null,null,null,null,10012023,44936]
[null,null,null,null,{"$f":"IF(Configuração!C1642=\"\",\"\",Configuração!B1642)","v":""},null,null,null,null,null,null,null,null,null,null,null,null,null,null,null,null,10022009,39854]
[null,null,null,null,{"$f":"IF(Configuração!C1643=\"\",\"\",Configuração!B1643)","v":""},null,null,null,null,null,null,null,null,null,null,null,null,null,null,null,null,10022010,40219]
[null,null,null,null,{"$f":"IF(Configuração!C1644=\"\",\"\",Configuração!B1644)","v":""},null,null,null,null,null,null,null,null,null,null,null,null,null,null,null,null,10022011,40584]
[null,null,null,null,{"$f":"IF(Configuração!C1645=\"\",\"\",Configuração!B1645)","v":""},null,null,null,null,null,null,null,null,null,null,null,null,null,null,null,null,10022012,40949]
[null,null,null,null,{"$f":"IF(Configuração!C1646=\"\",\"\",Configuração!B1646)","v":""},null,null,null,null,null,null,null,null,null,null,null,null,null,null,null,null,10022013,41315]
[null,null,null,null,{"$f":"IF(Configuração!C1647=\"\",\"\",Configuração!B1647)","v":""},null,null,null,null,null,null,null,null,null,null,null,null,null,null,null,null,10022014,41680]
[null,null,null,null,{"$f":"IF(Configuração!C1648=\"\",\"\",Configuração!B1648)","v":""},null,null,null,null,null,null,null,null,null,null,null,null,null,null,null,null,10022015,42045]
[null,null,null,null,{"$f":"IF(Configuração!C1649=\"\",\"\",Configuração!B1649)","v":""},null,null,null,null,null,null,null,null,null,null,null,null,null,null,null,null,10022016,42410]
[null,null,null,null,{"$f":"IF(Configuração!C1650=\"\",\"\",Configuração!B1650)","v":""},null,null,null,null,null,null,null,null,null,null,null,null,null,null,null,null,10022017,42776]
[null,null,null,null,{"$f":"IF(Configuração!C1651=\"\",\"\",Configuração!B1651)","v":""},null,null,null,null,null,null,null,null,null,null,null,null,null,null,null,null,10022018,43141]
[null,null,null,null,{"$f":"IF(Configuração!C1652=\"\",\"\",Configuração!B1652)","v":""},null,null,null,null,null,null,null,null,null,null,null,null,null,null,null,null,10022019,43506]
[null,null,null,null,{"$f":"IF(Configuração!C1653=\"\",\"\",Configuração!B1653)","v":""},null,null,null,null,null,null,null,null,null,null,null,null,null,null,null,null,10022020,43871]
[null,null,null,null,{"$f":"IF(Configuração!C1654=\"\",\"\",Configuração!B1654)","v":""},null,null,null,null,null,null,null,null,null,null,null,null,null,null,null,null,10022021,44237]
[null,null,null,null,{"$f":"IF(Configuração!C1655=\"\",\"\",Configuração!B1655)","v":""},null,null,null,null,null,null,null,null,null,null,null,null,null,null,null,null,10022022,44602]
[null,null,null,null,{"$f":"IF(Configuração!C1656=\"\",\"\",Configuração!B1656)","v":""},null,null,null,null,null,null,null,null,null,null,null,null,null,null,null,null,10022023,44967]
[null,null,null,null,{"$f":"IF(Configuração!C1657=\"\",\"\",Configuração!B1657)","v":""},null,null,null,null,null,null,null,null,null,null,null,null,null,null,null,null,10032009,39882]
[null,null,null,null,{"$f":"IF(Configuração!C1658=\"\",\"\",Configuração!B1658)","v":""},null,null,null,null,null,null,null,null,null,null,null,null,null,null,null,null,10032010,40247]
[null,null,null,null,{"$f":"IF(Configuração!C1659=\"\",\"\",Configuração!B1659)","v":""},null,null,null,null,null,null,null,null,null,null,null,null,null,null,null,null,10032011,40612]
[null,null,null,null,{"$f":"IF(Configuração!C1660=\"\",\"\",Configuração!B1660)","v":""},null,null,null,null,null,null,null,null,null,null,null,null,null,null,null,null,10032012,40978]
[null,null,null,null,{"$f":"IF(Configuração!C1661=\"\",\"\",Configuração!B1661)","v":""},null,null,null,null,null,null,null,null,null,null,null,null,null,null,null,null,10032013,41343]
[null,null,null,null,{"$f":"IF(Configuração!C1662=\"\",\"\",Configuração!B1662)","v":""},null,null,null,null,null,null,null,null,null,null,null,null,null,null,null,null,10032014,41708]
[null,null,null,null,{"$f":"IF(Configuração!C1663=\"\",\"\",Configuração!B1663)","v":""},null,null,null,null,null,null,null,null,null,null,null,null,null,null,null,null,10032015,42073]
[null,null,null,null,{"$f":"IF(Configuração!C1664=\"\",\"\",Configuração!B1664)","v":""},null,null,null,null,null,null,null,null,null,null,null,null,null,null,null,null,10032016,42439]
[null,null,null,null,{"$f":"IF(Configuração!C1665=\"\",\"\",Configuração!B1665)","v":""},null,null,null,null,null,null,null,null,null,null,null,null,null,null,null,null,10032017,42804]
[null,null,null,null,{"$f":"IF(Configuração!C1666=\"\",\"\",Configuração!B1666)","v":""},null,null,null,null,null,null,null,null,null,null,null,null,null,null,null,null,10032018,43169]
[null,null,null,null,{"$f":"IF(Configuração!C1667=\"\",\"\",Configuração!B1667)","v":""},null,null,null,null,null,null,null,null,null,null,null,null,null,null,null,null,10032019,43534]
[null,null,null,null,{"$f":"IF(Configuração!C1668=\"\",\"\",Configuração!B1668)","v":""},null,null,null,null,null,null,null,null,null,null,null,null,null,null,null,null,10032020,43900]
[null,null,null,null,{"$f":"IF(Configuração!C1669=\"\",\"\",Configuração!B1669)","v":""},null,null,null,null,null,null,null,null,null,null,null,null,null,null,null,null,10032021,44265]
[null,null,null,null,{"$f":"IF(Configuração!C1670=\"\",\"\",Configuração!B1670)","v":""},null,null,null,null,null,null,null,null,null,null,null,null,null,null,null,null,10032022,44630]
[null,null,null,null,{"$f":"IF(Configuração!C1671=\"\",\"\",Configuração!B1671)","v":""},null,null,null,null,null,null,null,null,null,null,null,null,null,null,null,null,10032023,44995]
[null,null,null,null,{"$f":"IF(Configuração!C1672=\"\",\"\",Configuração!B1672)","v":""},null,null,null,null,null,null,null,null,null,null,null,null,null,null,null,null,10042009,39913]
[null,null,null,null,{"$f":"IF(Configuração!C1673=\"\",\"\",Configuração!B1673)","v":""},null,null,null,null,null,null,null,null,null,null,null,null,null,null,null,null,10042010,40278]
[null,null,null,null,{"$f":"IF(Configuração!C1674=\"\",\"\",Configuração!B1674)","v":""},null,null,null,null,null,null,null,null,null,null,null,null,null,null,null,null,10042011,40643]
[null,null,null,null,{"$f":"IF(Configuração!C1675=\"\",\"\",Configuração!B1675)","v":""},null,null,null,null,null,null,null,null,null,null,null,null,null,null,null,null,10042012,41009]
[null,null,null,null,{"$f":"IF(Configuração!C1676=\"\",\"\",Configuração!B1676)","v":""},null,null,null,null,null,null,null,null,null,null,null,null,null,null,null,null,10042013,41374]
[null,null,null,null,{"$f":"IF(Configuração!C1677=\"\",\"\",Configuração!B1677)","v":""},null,null,null,null,null,null,null,null,null,null,null,null,null,null,null,null,10042014,41739]
[null,null,null,null,{"$f":"IF(Configuração!C1678=\"\",\"\",Configuração!B1678)","v":""},null,null,null,null,null,null,null,null,null,null,null,null,null,null,null,null,10042015,42104]
[null,null,null,null,{"$f":"IF(Configuração!C1679=\"\",\"\",Configuração!B1679)","v":""},null,null,null,null,null,null,null,null,null,null,null,null,null,null,null,null,10042016,42470]
[null,null,null,null,{"$f":"IF(Configuração!C1680=\"\",\"\",Configuração!B1680)","v":""},null,null,null,null,null,null,null,null,null,null,null,null,null,null,null,null,10042017,42835]
[null,null,null,null,{"$f":"IF(Configuração!C1681=\"\",\"\",Configuração!B1681)","v":""},null,null,null,null,null,null,null,null,null,null,null,null,null,null,null,null,10042018,43200]
[null,null,null,null,{"$f":"IF(Configuração!C1682=\"\",\"\",Configuração!B1682)","v":""},null,null,null,null,null,null,null,null,null,null,null,null,null,null,null,null,10042019,43565]
[null,null,null,null,{"$f":"IF(Configuração!C1683=\"\",\"\",Configuração!B1683)","v":""},null,null,null,null,null,null,null,null,null,null,null,null,null,null,null,null,10042020,43931]
[null,null,null,null,{"$f":"IF(Configuração!C1684=\"\",\"\",Configuração!B1684)","v":""},null,null,null,null,null,null,null,null,null,null,null,null,null,null,null,null,10042021,44296]
[null,null,null,null,{"$f":"IF(Configuração!C1685=\"\",\"\",Configuração!B1685)","v":""},null,null,null,null,null,null,null,null,null,null,null,null,null,null,null,null,10042022,44661]
[null,null,null,null,{"$f":"IF(Configuração!C1686=\"\",\"\",Configuração!B1686)","v":""},null,null,null,null,null,null,null,null,null,null,null,null,null,null,null,null,10042023,45026]
[null,null,null,null,{"$f":"IF(Configuração!C1687=\"\",\"\",Configuração!B1687)","v":""},null,null,null,null,null,null,null,null,null,null,null,null,null,null,null,null,10052009,39943]
[null,null,null,null,{"$f":"IF(Configuração!C1688=\"\",\"\",Configuração!B1688)","v":""},null,null,null,null,null,null,null,null,null,null,null,null,null,null,null,null,10052010,40308]
[null,null,null,null,{"$f":"IF(Configuração!C1689=\"\",\"\",Configuração!B1689)","v":""},null,null,null,null,null,null,null,null,null,null,null,null,null,null,null,null,10052011,40673]
[null,null,null,null,{"$f":"IF(Configuração!C1690=\"\",\"\",Configuração!B1690)","v":""},null,null,null,null,null,null,null,null,null,null,null,null,null,null,null,null,10052012,41039]
[null,null,null,null,{"$f":"IF(Configuração!C1691=\"\",\"\",Configuração!B1691)","v":""},null,null,null,null,null,null,null,null,null,null,null,null,null,null,null,null,10052013,41404]
[null,null,null,null,{"$f":"IF(Configuração!C1692=\"\",\"\",Configuração!B1692)","v":""},null,null,null,null,null,null,null,null,null,null,null,null,null,null,null,null,10052014,41769]
[null,null,null,null,{"$f":"IF(Configuração!C1693=\"\",\"\",Configuração!B1693)","v":""},null,null,null,null,null,null,null,null,null,null,null,null,null,null,null,null,10052015,42134]
[null,null,null,null,{"$f":"IF(Configuração!C1694=\"\",\"\",Configuração!B1694)","v":""},null,null,null,null,null,null,null,null,null,null,null,null,null,null,null,null,10052016,42500]
[null,null,null,null,{"$f":"IF(Configuração!C1695=\"\",\"\",Configuração!B1695)","v":""},null,null,null,null,null,null,null,null,null,null,null,null,null,null,null,null,10052017,42865]
[null,null,null,null,{"$f":"IF(Configuração!C1696=\"\",\"\",Configuração!B1696)","v":""},null,null,null,null,null,null,null,null,null,null,null,null,null,null,null,null,10052018,43230]
[null,null,null,null,{"$f":"IF(Configuração!C1697=\"\",\"\",Configuração!B1697)","v":""},null,null,null,null,null,null,null,null,null,null,null,null,null,null,null,null,10052019,43595]
[null,null,null,null,{"$f":"IF(Configuração!C1698=\"\",\"\",Configuração!B1698)","v":""},null,null,null,null,null,null,null,null,null,null,null,null,null,null,null,null,10052020,43961]
[null,null,null,null,{"$f":"IF(Configuração!C1699=\"\",\"\",Configuração!B1699)","v":""},null,null,null,null,null,null,null,null,null,null,null,null,null,null,null,null,10052021,44326]
[null,null,null,null,{"$f":"IF(Configuração!C1700=\"\",\"\",Configuração!B1700)","v":""},null,null,null,null,null,null,null,null,null,null,null,null,null,null,null,null,10052022,44691]
[null,null,null,null,{"$f":"IF(Configuração!C1701=\"\",\"\",Configuração!B1701)","v":""},null,null,null,null,null,null,null,null,null,null,null,null,null,null,null,null,10052023,45056]
[null,null,null,null,{"$f":"IF(Configuração!C1702=\"\",\"\",Configuração!B1702)","v":""},null,null,null,null,null,null,null,null,null,null,null,null,null,null,null,null,10062009,39974]
[null,null,null,null,{"$f":"IF(Configuração!C1703=\"\",\"\",Configuração!B1703)","v":""},null,null,null,null,null,null,null,null,null,null,null,null,null,null,null,null,10062010,40339]
[null,null,null,null,{"$f":"IF(Configuração!C1704=\"\",\"\",Configuração!B1704)","v":""},null,null,null,null,null,null,null,null,null,null,null,null,null,null,null,null,10062011,40704]
[null,null,null,null,{"$f":"IF(Configuração!C1705=\"\",\"\",Configuração!B1705)","v":""},null,null,null,null,null,null,null,null,null,null,null,null,null,null,null,null,10062012,41070]
[null,null,null,null,{"$f":"IF(Configuração!C1706=\"\",\"\",Configuração!B1706)","v":""},null,null,null,null,null,null,null,null,null,null,null,null,null,null,null,null,10062013,41435]
[null,null,null,null,{"$f":"IF(Configuração!C1707=\"\",\"\",Configuração!B1707)","v":""},null,null,null,null,null,null,null,null,null,null,null,null,null,null,null,null,10062014,41800]
[null,null,null,null,{"$f":"IF(Configuração!C1708=\"\",\"\",Configuração!B1708)","v":""},null,null,null,null,null,null,null,null,null,null,null,null,null,null,null,null,10062015,42165]
[null,null,null,null,{"$f":"IF(Configuração!C1709=\"\",\"\",Configuração!B1709)","v":""},null,null,null,null,null,null,null,null,null,null,null,null,null,null,null,null,10062016,42531]
[null,null,null,null,{"$f":"IF(Configuração!C1710=\"\",\"\",Configuração!B1710)","v":""},null,null,null,null,null,null,null,null,null,null,null,null,null,null,null,null,10062017,42896]
[null,null,null,null,{"$f":"IF(Configuração!C1711=\"\",\"\",Configuração!B1711)","v":""},null,null,null,null,null,null,null,null,null,null,null,null,null,null,null,null,10062018,43261]
[null,null,null,null,{"$f":"IF(Configuração!C1712=\"\",\"\",Configuração!B1712)","v":""},null,null,null,null,null,null,null,null,null,null,null,null,null,null,null,null,10062019,43626]
[null,null,null,null,{"$f":"IF(Configuração!C1713=\"\",\"\",Configuração!B1713)","v":""},null,null,null,null,null,null,null,null,null,null,null,null,null,null,null,null,10062020,43992]
[null,null,null,null,{"$f":"IF(Configuração!C1714=\"\",\"\",Configuração!B1714)","v":""},null,null,null,null,null,null,null,null,null,null,null,null,null,null,null,null,10062021,44357]
[null,null,null,null,{"$f":"IF(Configuração!C1715=\"\",\"\",Configuração!B1715)","v":""},null,null,null,null,null,null,null,null,null,null,null,null,null,null,null,null,10062022,44722]
[null,null,null,null,{"$f":"IF(Configuração!C1716=\"\",\"\",Configuração!B1716)","v":""},null,null,null,null,null,null,null,null,null,null,null,null,null,null,null,null,10062023,45087]
[null,null,null,null,{"$f":"IF(Configuração!C1717=\"\",\"\",Configuração!B1717)","v":""},null,null,null,null,null,null,null,null,null,null,null,null,null,null,null,null,10072009,40004]
[null,null,null,null,{"$f":"IF(Configuração!C1718=\"\",\"\",Configuração!B1718)","v":""},null,null,null,null,null,null,null,null,null,null,null,null,null,null,null,null,10072010,40369]
[null,null,null,null,{"$f":"IF(Configuração!C1719=\"\",\"\",Configuração!B1719)","v":""},null,null,null,null,null,null,null,null,null,null,null,null,null,null,null,null,10072011,40734]
[null,null,null,null,{"$f":"IF(Configuração!C1720=\"\",\"\",Configuração!B1720)","v":""},null,null,null,null,null,null,null,null,null,null,null,null,null,null,null,null,10072012,41100]
[null,null,null,null,{"$f":"IF(Configuração!C1721=\"\",\"\",Configuração!B1721)","v":""},null,null,null,null,null,null,null,null,null,null,null,null,null,null,null,null,10072013,41465]
[null,null,null,null,{"$f":"IF(Configuração!C1722=\"\",\"\",Configuração!B1722)","v":""},null,null,null,null,null,null,null,null,null,null,null,null,null,null,null,null,10072014,41830]
[null,null,null,null,{"$f":"IF(Configuração!C1723=\"\",\"\",Configuração!B1723)","v":""},null,null,null,null,null,null,null,null,null,null,null,null,null,null,null,null,10072015,42195]
[null,null,null,null,{"$f":"IF(Configuração!C1724=\"\",\"\",Configuração!B1724)","v":""},null,null,null,null,null,null,null,null,null,null,null,null,null,null,null,null,10072016,42561]
[null,null,null,null,{"$f":"IF(Configuração!C1725=\"\",\"\",Configuração!B1725)","v":""},null,null,null,null,null,null,null,null,null,null,null,null,null,null,null,null,10072017,42926]
[null,null,null,null,{"$f":"IF(Configuração!C1726=\"\",\"\",Configuração!B1726)","v":""},null,null,null,null,null,null,null,null,null,null,null,null,null,null,null,null,10072018,43291]
[null,null,null,null,{"$f":"IF(Configuração!C1727=\"\",\"\",Configuração!B1727)","v":""},null,null,null,null,null,null,null,null,null,null,null,null,null,null,null,null,10072019,43656]
[null,null,null,null,{"$f":"IF(Configuração!C1728=\"\",\"\",Configuração!B1728)","v":""},null,null,null,null,null,null,null,null,null,null,null,null,null,null,null,null,10072020,44022]
[null,null,null,null,{"$f":"IF(Configuração!C1729=\"\",\"\",Configuração!B1729)","v":""},null,null,null,null,null,null,null,null,null,null,null,null,null,null,null,null,10072021,44387]
[null,null,null,null,{"$f":"IF(Configuração!C1730=\"\",\"\",Configuração!B1730)","v":""},null,null,null,null,null,null,null,null,null,null,null,null,null,null,null,null,10072022,44752]
[null,null,null,null,{"$f":"IF(Configuração!C1731=\"\",\"\",Configuração!B1731)","v":""},null,null,null,null,null,null,null,null,null,null,null,null,null,null,null,null,10072023,45117]
[null,null,null,null,{"$f":"IF(Configuração!C1732=\"\",\"\",Configuração!B1732)","v":""},null,null,null,null,null,null,null,null,null,null,null,null,null,null,null,null,10082009,40035]
[null,null,null,null,{"$f":"IF(Configuração!C1733=\"\",\"\",Configuração!B1733)","v":""},null,null,null,null,null,null,null,null,null,null,null,null,null,null,null,null,10082010,40400]
[null,null,null,null,{"$f":"IF(Configuração!C1734=\"\",\"\",Configuração!B1734)","v":""},null,null,null,null,null,null,null,null,null,null,null,null,null,null,null,null,10082011,40765]
[null,null,null,null,{"$f":"IF(Configuração!C1735=\"\",\"\",Configuração!B1735)","v":""},null,null,null,null,null,null,null,null,null,null,null,null,null,null,null,null,10082012,41131]
[null,null,null,null,{"$f":"IF(Configuração!C1736=\"\",\"\",Configuração!B1736)","v":""},null,null,null,null,null,null,null,null,null,null,null,null,null,null,null,null,10082013,41496]
[null,null,null,null,{"$f":"IF(Configuração!C1737=\"\",\"\",Configuração!B1737)","v":""},null,null,null,null,null,null,null,null,null,null,null,null,null,null,null,null,10082014,41861]
[null,null,null,null,{"$f":"IF(Configuração!C1738=\"\",\"\",Configuração!B1738)","v":""},null,null,null,null,null,null,null,null,null,null,null,null,null,null,null,null,10082015,42226]
[null,null,null,null,{"$f":"IF(Configuração!C1739=\"\",\"\",Configuração!B1739)","v":""},null,null,null,null,null,null,null,null,null,null,null,null,null,null,null,null,10082016,42592]
[null,null,null,null,{"$f":"IF(Configuração!C1740=\"\",\"\",Configuração!B1740)","v":""},null,null,null,null,null,null,null,null,null,null,null,null,null,null,null,null,10082017,42957]
[null,null,null,null,{"$f":"IF(Configuração!C1741=\"\",\"\",Configuração!B1741)","v":""},null,null,null,null,null,null,null,null,null,null,null,null,null,null,null,null,10082018,43322]
[null,null,null,null,{"$f":"IF(Configuração!C1742=\"\",\"\",Configuração!B1742)","v":""},null,null,null,null,null,null,null,null,null,null,null,null,null,null,null,null,10082019,43687]
[null,null,null,null,{"$f":"IF(Configuração!C1743=\"\",\"\",Configuração!B1743)","v":""},null,null,null,null,null,null,null,null,null,null,null,null,null,null,null,null,10082020,44053]
[null,null,null,null,{"$f":"IF(Configuração!C1744=\"\",\"\",Configuração!B1744)","v":""},null,null,null,null,null,null,null,null,null,null,null,null,null,null,null,null,10082021,44418]
[null,null,null,null,{"$f":"IF(Configuração!C1745=\"\",\"\",Configuração!B1745)","v":""},null,null,null,null,null,null,null,null,null,null,null,null,null,null,null,null,10082022,44783]
[null,null,null,null,{"$f":"IF(Configuração!C1746=\"\",\"\",Configuração!B1746)","v":""},null,null,null,null,null,null,null,null,null,null,null,null,null,null,null,null,10082023,45148]
[null,null,null,null,{"$f":"IF(Configuração!C1747=\"\",\"\",Configuração!B1747)","v":""},null,null,null,null,null,null,null,null,null,null,null,null,null,null,null,null,10092009,40066]
[null,null,null,null,{"$f":"IF(Configuração!C1748=\"\",\"\",Configuração!B1748)","v":""},null,null,null,null,null,null,null,null,null,null,null,null,null,null,null,null,10092010,40431]
[null,null,null,null,{"$f":"IF(Configuração!C1749=\"\",\"\",Configuração!B1749)","v":""},null,null,null,null,null,null,null,null,null,null,null,null,null,null,null,null,10092011,40796]
[null,null,null,null,{"$f":"IF(Configuração!C1750=\"\",\"\",Configuração!B1750)","v":""},null,null,null,null,null,null,null,null,null,null,null,null,null,null,null,null,10092012,41162]
[null,null,null,null,{"$f":"IF(Configuração!C1751=\"\",\"\",Configuração!B1751)","v":""},null,null,null,null,null,null,null,null,null,null,null,null,null,null,null,null,10092013,41527]
[null,null,null,null,{"$f":"IF(Configuração!C1752=\"\",\"\",Configuração!B1752)","v":""},null,null,null,null,null,null,null,null,null,null,null,null,null,null,null,null,10092014,41892]
[null,null,null,null,{"$f":"IF(Configuração!C1753=\"\",\"\",Configuração!B1753)","v":""},null,null,null,null,null,null,null,null,null,null,null,null,null,null,null,null,10092015,42257]
[null,null,null,null,{"$f":"IF(Configuração!C1754=\"\",\"\",Configuração!B1754)","v":""},null,null,null,null,null,null,null,null,null,null,null,null,null,null,null,null,10092016,42623]
[null,null,null,null,{"$f":"IF(Configuração!C1755=\"\",\"\",Configuração!B1755)","v":""},null,null,null,null,null,null,null,null,null,null,null,null,null,null,null,null,10092017,42988]
[null,null,null,null,{"$f":"IF(Configuração!C1756=\"\",\"\",Configuração!B1756)","v":""},null,null,null,null,null,null,null,null,null,null,null,null,null,null,null,null,10092018,43353]
[null,null,null,null,{"$f":"IF(Configuração!C1757=\"\",\"\",Configuração!B1757)","v":""},null,null,null,null,null,null,null,null,null,null,null,null,null,null,null,null,10092019,43718]
[null,null,null,null,{"$f":"IF(Configuração!C1758=\"\",\"\",Configuração!B1758)","v":""},null,null,null,null,null,null,null,null,null,null,null,null,null,null,null,null,10092020,44084]
[null,null,null,null,{"$f":"IF(Configuração!C1759=\"\",\"\",Configuração!B1759)","v":""},null,null,null,null,null,null,null,null,null,null,null,null,null,null,null,null,10092021,44449]
[null,null,null,null,{"$f":"IF(Configuração!C1760=\"\",\"\",Configuração!B1760)","v":""},null,null,null,null,null,null,null,null,null,null,null,null,null,null,null,null,10092022,44814]
[null,null,null,null,{"$f":"IF(Configuração!C1761=\"\",\"\",Configuração!B1761)","v":""},null,null,null,null,null,null,null,null,null,null,null,null,null,null,null,null,10092023,45179]
[null,null,null,null,{"$f":"IF(Configuração!C1762=\"\",\"\",Configuração!B1762)","v":""},null,null,null,null,null,null,null,null,null,null,null,null,null,null,null,null,10102009,40096]
[null,null,null,null,{"$f":"IF(Configuração!C1763=\"\",\"\",Configuração!B1763)","v":""},null,null,null,null,null,null,null,null,null,null,null,null,null,null,null,null,10102010,40461]
[null,null,null,null,{"$f":"IF(Configuração!C1764=\"\",\"\",Configuração!B1764)","v":""},null,null,null,null,null,null,null,null,null,null,null,null,null,null,null,null,10102011,40826]
[null,null,null,null,{"$f":"IF(Configuração!C1765=\"\",\"\",Configuração!B1765)","v":""},null,null,null,null,null,null,null,null,null,null,null,null,null,null,null,null,10102012,41192]
[null,null,null,null,{"$f":"IF(Configuração!C1766=\"\",\"\",Configuração!B1766)","v":""},null,null,null,null,null,null,null,null,null,null,null,null,null,null,null,null,10102013,41557]
[null,null,null,null,{"$f":"IF(Configuração!C1767=\"\",\"\",Configuração!B1767)","v":""},null,null,null,null,null,null,null,null,null,null,null,null,null,null,null,null,10102014,41922]
[null,null,null,null,{"$f":"IF(Configuração!C1768=\"\",\"\",Configuração!B1768)","v":""},null,null,null,null,null,null,null,null,null,null,null,null,null,null,null,null,10102015,42287]
[null,null,null,null,{"$f":"IF(Configuração!C1769=\"\",\"\",Configuração!B1769)","v":""},null,null,null,null,null,null,null,null,null,null,null,null,null,null,null,null,10102016,42653]
[null,null,null,null,{"$f":"IF(Configuração!C1770=\"\",\"\",Configuração!B1770)","v":""},null,null,null,null,null,null,null,null,null,null,null,null,null,null,null,null,10102017,43018]
[null,null,null,null,{"$f":"IF(Configuração!C1771=\"\",\"\",Configuração!B1771)","v":""},null,null,null,null,null,null,null,null,null,null,null,null,null,null,null,null,10102018,43383]
[null,null,null,null,{"$f":"IF(Configuração!C1772=\"\",\"\",Configuração!B1772)","v":""},null,null,null,null,null,null,null,null,null,null,null,null,null,null,null,null,10102019,43748]
[null,null,null,null,{"$f":"IF(Configuração!C1773=\"\",\"\",Configuração!B1773)","v":""},null,null,null,null,null,null,null,null,null,null,null,null,null,null,null,null,10102020,44114]
[null,null,null,null,{"$f":"IF(Configuração!C1774=\"\",\"\",Configuração!B1774)","v":""},null,null,null,null,null,null,null,null,null,null,null,null,null,null,null,null,10102021,44479]
[null,null,null,null,{"$f":"IF(Configuração!C1775=\"\",\"\",Configuração!B1775)","v":""},null,null,null,null,null,null,null,null,null,null,null,null,null,null,null,null,10102022,44844]
[null,null,null,null,{"$f":"IF(Configuração!C1776=\"\",\"\",Configuração!B1776)","v":""},null,null,null,null,null,null,null,null,null,null,null,null,null,null,null,null,10102023,45209]
[null,null,null,null,{"$f":"IF(Configuração!C1777=\"\",\"\",Configuração!B1777)","v":""},null,null,null,null,null,null,null,null,null,null,null,null,null,null,null,null,10112009,40127]
[null,null,null,null,{"$f":"IF(Configuração!C1778=\"\",\"\",Configuração!B1778)","v":""},null,null,null,null,null,null,null,null,null,null,null,null,null,null,null,null,10112010,40492]
[null,null,null,null,{"$f":"IF(Configuração!C1779=\"\",\"\",Configuração!B1779)","v":""},null,null,null,null,null,null,null,null,null,null,null,null,null,null,null,null,10112011,40857]
[null,null,null,null,{"$f":"IF(Configuração!C1780=\"\",\"\",Configuração!B1780)","v":""},null,null,null,null,null,null,null,null,null,null,null,null,null,null,null,null,10112012,41223]
[null,null,null,null,{"$f":"IF(Configuração!C1781=\"\",\"\",Configuração!B1781)","v":""},null,null,null,null,null,null,null,null,null,null,null,null,null,null,null,null,10112013,41588]
[null,null,null,null,{"$f":"IF(Configuração!C1782=\"\",\"\",Configuração!B1782)","v":""},null,null,null,null,null,null,null,null,null,null,null,null,null,null,null,null,10112014,41953]
[null,null,null,null,{"$f":"IF(Configuração!C1783=\"\",\"\",Configuração!B1783)","v":""},null,null,null,null,null,null,null,null,null,null,null,null,null,null,null,null,10112015,42318]
[null,null,null,null,{"$f":"IF(Configuração!C1788=\"\",\"\",Configuração!B1788)","v":""},null,null,null,null,null,null,null,null,null,null,null,null,null,null,null,null,10112020,44145]
[null,null,null,null,{"$f":"IF(Configuração!C1793=\"\",\"\",Configuração!B1793)","v":""},null,null,null,null,null,null,null,null,null,null,null,null,null,null,null,null,10122010,40522]
[null,null,null,null,{"$f":"IF(Configuração!C1794=\"\",\"\",Configuração!B1794)","v":""},null,null,null,null,null,null,null,null,null,null,null,null,null,null,null,null,10122011,40887]
[null,null,null,null,{"$f":"IF(Configuração!C1799=\"\",\"\",Configuração!B1799)","v":""},null,null,null,null,null,null,null,null,null,null,null,null,null,null,null,null,10122016,42714]
[null,null,null,null,{"$f":"IF(Configuração!C1804=\"\",\"\",Configuração!B1804)","v":""},null,null,null,null,null,null,null,null,null,null,null,null,null,null,null,null,10122021,44540]
[null,null,null,null,{"$f":"IF(Configuração!C1809=\"\",\"\",Configuração!B1809)","v":""},null,null,null,null,null,null,null,null,null,null,null,null,null,null,null,null,11012011,40554]
[null,null,null,null,{"$f":"IF(Configuração!C1810=\"\",\"\",Configuração!B1810)","v":""},null,null,null,null,null,null,null,null,null,null,null,null,null,null,null,null,11012012,40919]
[null,null,null,null,{"$f":"IF(Configuração!C1814=\"\",\"\",Configuração!B1814)","v":""},null,null,null,null,null,null,null,null,null,null,null,null,null,null,null,null,11012016,42380]
[null,null,null,null,{"$f":"IF(Configuração!C1819=\"\",\"\",Configuração!B1819)","v":""},null,null,null,null,null,null,null,null,null,null,null,null,null,null,null,null,11012021,44207]
[null,null,null,null,{"$f":"IF(Configuração!C1824=\"\",\"\",Configuração!B1824)","v":""},null,null,null,null,null,null,null,null,null,null,null,null,null,null,null,null,11022011,40585]
[null,null,null,null,{"$f":"IF(Configuração!C1825=\"\",\"\",Configuração!B1825)","v":""},null,null,null,null,null,null,null,null,null,null,null,null,null,null,null,null,11022012,40950]
[null,null,null,null,{"$f":"IF(Configuração!C1830=\"\",\"\",Configuração!B1830)","v":""},null,null,null,null,null,null,null,null,null,null,null,null,null,null,null,null,11022017,42777]
[null,null,null,null,{"$f":"IF(Configuração!C1835=\"\",\"\",Configuração!B1835)","v":""},null,null,null,null,null,null,null,null,null,null,null,null,null,null,null,null,11022022,44603]
[null,null,null,null,{"$f":"IF(Configuração!C1837=\"\",\"\",Configuração!B1837)","v":""},null,null,null,null,null,null,null,null,null,null,null,null,null,null,null,null,11032009,39883]
[null,null,null,null,{"$f":"IF(Configuração!C1840=\"\",\"\",Configuração!B1840)","v":""},null,null,null,null,null,null,null,null,null,null,null,null,null,null,null,null,11032012,40979]
[null,null,null,null,{"$f":"IF(Configuração!C1845=\"\",\"\",Configuração!B1845)","v":""},null,null,null,null,null,null,null,null,null,null,null,null,null,null,null,null,11032017,42805]
[null,null,null,null,{"$f":"IF(Configuração!C1850=\"\",\"\",Configuração!B1850)","v":""},null,null,null,null,null,null,null,null,null,null,null,null,null,null,null,null,11032022,44631]
[null,null,null,null,{"$f":"IF(Configuração!C1855=\"\",\"\",Configuração!B1855)","v":""},null,null,null,null,null,null,null,null,null,null,null,null,null,null,null,null,11042012,41010]
[null,null,null,null,{"$f":"IF(Configuração!C1856=\"\",\"\",Configuração!B1856)","v":""},null,null,null,null,null,null,null,null,null,null,null,null,null,null,null,null,11042013,41375]
[null,null,null,null,{"$f":"IF(Configuração!C1861=\"\",\"\",Configuração!B1861)","v":""},null,null,null,null,null,null,null,null,null,null,null,null,null,null,null,null,11042018,43201]
[null,null,null,null,{"$f":"IF(Configuração!C1864=\"\",\"\",Configuração!B1864)","v":""},null,null,null,null,null,null,null,null,null,null,null,null,null,null,null,null,11042021,44297]
[null,null,null,null,{"$f":"IF(Configuração!C1870=\"\",\"\",Configuração!B1870)","v":""},null,null,null,null,null,null,null,null,null,null,null,null,null,null,null,null,11052012,41040]
[null,null,null,null,{"$f":"IF(Configuração!C1871=\"\",\"\",Configuração!B1871)","v":""},null,null,null,null,null,null,null,null,null,null,null,null,null,null,null,null,11052013,41405]
[null,null,null,null,{"$f":"IF(Configuração!C1876=\"\",\"\",Configuração!B1876)","v":""},null,null,null,null,null,null,null,null,null,null,null,null,null,null,null,null,11052018,43231]
[null,null,null,null,{"$f":"IF(Configuração!C1881=\"\",\"\",Configuração!B1881)","v":""},null,null,null,null,null,null,null,null,null,null,null,null,null,null,null,null,11052023,45057]
[null,null,null,null,{"$f":"IF(Configuração!C1886=\"\",\"\",Configuração!B1886)","v":""},null,null,null,null,null,null,null,null,null,null,null,null,null,null,null,null,11062013,41436]
[null,null,null,null,{"$f":"IF(Configuração!C1887=\"\",\"\",Configuração!B1887)","v":""},null,null,null,null,null,null,null,null,null,null,null,null,null,null,null,null,11062014,41801]
[null,null,null,null,{"$f":"IF(Configuração!C1893=\"\",\"\",Configuração!B1893)","v":""},null,null,null,null,null,null,null,null,null,null,null,null,null,null,null,null,11062020,43993]
[null,null,null,null,{"$f":"IF(Configuração!C1896=\"\",\"\",Configuração!B1896)","v":""},null,null,null,null,null,null,null,null,null,null,null,null,null,null,null,null,11062023,45088]
[null,null,null,null,{"$f":"IF(Configuração!C1901=\"\",\"\",Configuração!B1901)","v":""},null,null,null,null,null,null,null,null,null,null,null,null,null,null,null,null,11072013,41466]
[null,null,null,null,{"$f":"IF(Configuração!C1902=\"\",\"\",Configuração!B1902)","v":""},null,null,null,null,null,null,null,null,null,null,null,null,null,null,null,null,11072014,41831]
[null,null,null,null,{"$f":"IF(Configuração!C1907=\"\",\"\",Configuração!B1907)","v":""},null,null,null,null,null,null,null,null,null,null,null,null,null,null,null,null,11072019,43657]
[null,null,null,null,{"$f":"IF(Configuração!C1912=\"\",\"\",Configuração!B1912)","v":""},null,null,null,null,null,null,null,null,null,null,null,null,null,null,null,null,11082009,40036]
[null,null,null,null,{"$f":"IF(Configuração!C1917=\"\",\"\",Configuração!B1917)","v":""},null,null,null,null,null,null,null,null,null,null,null,null,null,null,null,null,11082014,41862]
[null,null,null,null,{"$f":"IF(Configuração!C1918=\"\",\"\",Configuração!B1918)","v":""},null,null,null,null,null,null,null,null,null,null,null,null,null,null,null,null,11082015,42227]
[null,null,null,null,{"$f":"IF(Configuração!C1924=\"\",\"\",Configuração!B1924)","v":""},null,null,null,null,null,null,null,null,null,null,null,null,null,null,null,null,11082021,44419]
[null,null,null,null,{"$f":"IF(Configuração!C1927=\"\",\"\",Configuração!B1927)","v":""},null,null,null,null,null,null,null,null,null,null,null,null,null,null,null,null,11092009,40067]
[null,null,null,null,{"$f":"IF(Configuração!C1932=\"\",\"\",Configuração!B1932)","v":""},null,null,null,null,null,null,null,null,null,null,null,null,null,null,null,null,11092014,41893]
[null,null,null,null,{"$f":"IF(Configuração!C1933=\"\",\"\",Configuração!B1933)","v":""},null,null,null,null,null,null,null,null,null,null,null,null,null,null,null,null,11092015,42258]
[null,null,null,null,{"$f":"IF(Configuração!C1938=\"\",\"\",Configuração!B1938)","v":""},null,null,null,null,null,null,null,null,null,null,null,null,null,null,null,null,11092020,44085]
[null,null,null,null,{"$f":"IF(Configuração!C1943=\"\",\"\",Configuração!B1943)","v":""},null,null,null,null,null,null,null,null,null,null,null,null,null,null,null,null,11102010,40462]
[null,null,null,null,{"$f":"IF(Configuração!C1948=\"\",\"\",Configuração!B1948)","v":""},null,null,null,null,null,null,null,null,null,null,null,null,null,null,null,null,11102015,42288]
[null,null,null,null,{"$f":"IF(Configuração!C1951=\"\",\"\",Configuração!B1951)","v":""},null,null,null,null,null,null,null,null,null,null,null,null,null,null,null,null,11102018,43384]
[null,null,null,null,{"$f":"IF(Configuração!C1953=\"\",\"\",Configuração!B1953)","v":""},null,null,null,null,null,null,null,null,null,null,null,null,null,null,null,null,11102020,44115]
[null,null,null,null,{"$f":"IF(Configuração!C1958=\"\",\"\",Configuração!B1958)","v":""},null,null,null,null,null,null,null,null,null,null,null,null,null,null,null,null,11112010,40493]
[null,null,null,null,{"$f":"IF(Configuração!C1963=\"\",\"\",Configuração!B1963)","v":""},null,null,null,null,null,null,null,null,null,null,null,null,null,null,null,null,11112015,42319]
[null,null,null,null,{"$f":"IF(Configuração!C1964=\"\",\"\",Configuração!B1964)","v":""},null,null,null,null,null,null,null,null,null,null,null,null,null,null,null,null,11112016,42685]
[null,null,null,null,{"$f":"IF(Configuração!C1969=\"\",\"\",Configuração!B1969)","v":""},null,null,null,null,null,null,null,null,null,null,null,null,null,null,null,null,11112021,44511]
[null,null,null,null,{"$f":"IF(Configuração!C1974=\"\",\"\",Configuração!B1974)","v":""},null,null,null,null,null,null,null,null,null,null,null,null,null,null,null,null,11122011,40888]
[null,null,null,null,{"$f":"IF(Configuração!C1978=\"\",\"\",Configuração!B1978)","v":""},null,null,null,null,null,null,null,null,null,null,null,null,null,null,null,null,11122015,42349]
[null,null,null,null,{"$f":"IF(Configuração!C1979=\"\",\"\",Configuração!B1979)","v":""},null,null,null,null,null,null,null,null,null,null,null,null,null,null,null,null,11122016,42715]
[null,null,null,null,{"$f":"IF(Configuração!C1984=\"\",\"\",Configuração!B1984)","v":""},null,null,null,null,null,null,null,null,null,null,null,null,null,null,null,null,11122021,44541]
[null,null,null,null,{"$f":"IF(Configuração!C1989=\"\",\"\",Configuração!B1989)","v":""},null,null,null,null,null,null,null,null,null,null,null,null,null,null,null,null,12012011,40555]
[null,null,null,null,{"$f":"IF(Configuração!C1994=\"\",\"\",Configuração!B1994)","v":""},null,null,null,null,null,null,null,null,null,null,null,null,null,null,null,null,12012016,42381]
[null,null,null,null,{"$f":"IF(Configuração!C1995=\"\",\"\",Configuração!B1995)","v":""},null,null,null,null,null,null,null,null,null,null,null,null,null,null,null,null,12012017,42747]
[null,null,null,null,{"$f":"IF(Configuração!C2000=\"\",\"\",Configuração!B2000)","v":""},null,null,null,null,null,null,null,null,null,null,null,null,null,null,null,null,12012022,44573]
[null,null,null,null,{"$f":"IF(Configuração!C2004=\"\",\"\",Configuração!B2004)","v":""},null,null,null,null,null,null,null,null,null,null,null,null,null,null,null,null,12022011,40586]
[null,null,null,null,{"$f":"IF(Configuração!C2009=\"\",\"\",Configuração!B2009)","v":""},null,null,null,null,null,null,null,null,null,null,null,null,null,null,null,null,12022016,42412]
[null,null,null,null,{"$f":"IF(Configuração!C2010=\"\",\"\",Configuração!B2010)","v":""},null,null,null,null,null,null,null,null,null,null,null,null,null,null,null,null,12022017,42778]
[null,null,null,null,{"$f":"IF(Configuração!C2015=\"\",\"\",Configuração!B2015)","v":""},null,null,null,null,null,null,null,null,null,null,null,null,null,null,null,null,12022022,44604]
[null,null,null,null,{"$f":"IF(Configuração!C2020=\"\",\"\",Configuração!B2020)","v":""},null,null,null,null,null,null,null,null,null,null,null,null,null,null,null,null,12032012,40980]
[null,null,null,null,{"$f":"IF(Configuração!C2025=\"\",\"\",Configuração!B2025)","v":""},null,null,null,null,null,null,null,null,null,null,null,null,null,null,null,null,12032017,42806]
[null,null,null,null,{"$f":"IF(Configuração!C2026=\"\",\"\",Configuração!B2026)","v":""},null,null,null,null,null,null,null,null,null,null,null,null,null,null,null,null,12032018,43171]
[null,null,null,null,{"$f":"IF(Configuração!C2031=\"\",\"\",Configuração!B2031)","v":""},null,null,null,null,null,null,null,null,null,null,null,null,null,null,null,null,12032023,44997]
[null,null,null,null,{"$f":"IF(Configuração!C2035=\"\",\"\",Configuração!B2035)","v":""},null,null,null,null,null,null,null,null,null,null,null,null,null,null,null,null,12042012,41011]
[null,null,null,null,{"$f":"IF(Configuração!C2040=\"\",\"\",Configuração!B2040)","v":""},null,null,null,null,null,null,null,null,null,null,null,null,null,null,null,null,12042017,42837]
[null,null,null,null,{"$f":"IF(Configuração!C2041=\"\",\"\",Configuração!B2041)","v":""},null,null,null,null,null,null,null,null,null,null,null,null,null,null,null,null,12042018,43202]
[null,null,null,null,{"$f":"IF(Configuração!C2046=\"\",\"\",Configuração!B2046)","v":""},null,null,null,null,null,null,null,null,null,null,null,null,null,null,null,null,12042023,45028]
[null,null,null,null,{"$f":"IF(Configuração!C2051=\"\",\"\",Configuração!B2051)","v":""},null,null,null,null,null,null,null,null,null,null,null,null,null,null,null,null,12052013,41406]
[null,null,null,null,{"$f":"IF(Configuração!C2056=\"\",\"\",Configuração!B2056)","v":""},null,null,null,null,null,null,null,null,null,null,null,null,null,null,null,null,12052018,43232]
[null,null,null,null,{"$f":"IF(Configuração!C2057=\"\",\"\",Configuração!B2057)","v":""},null,null,null,null,null,null,null,null,null,null,null,null,null,null,null,null,12052019,43597]
[null,null,null,null,{"$f":"IF(Configuração!C2062=\"\",\"\",Configuração!B2062)","v":""},null,null,null,null,null,null,null,null,null,null,null,null,null,null,null,null,12062009,39976]
[null,null,null,null,{"$f":"IF(Configuração!C2066=\"\",\"\",Configuração!B2066)","v":""},null,null,null,null,null,null,null,null,null,null,null,null,null,null,null,null,12062013,41437]
[null,null,null,null,{"$f":"IF(Configuração!C2071=\"\",\"\",Configuração!B2071)","v":""},null,null,null,null,null,null,null,null,null,null,null,null,null,null,null,null,12062018,43263]
[null,null,null,null,{"$f":"IF(Configuração!C2072=\"\",\"\",Configuração!B2072)","v":""},null,null,null,null,null,null,null,null,null,null,null,null,null,null,null,null,12062019,43628]
[null,null,null,null,{"$f":"IF(Configuração!C2077=\"\",\"\",Configuração!B2077)","v":""},null,null,null,null,null,null,null,null,null,null,null,null,null,null,null,null,12072009,40006]
[null,null,null,null,{"$f":"IF(Configuração!C2082=\"\",\"\",Configuração!B2082)","v":""},null,null,null,null,null,null,null,null,null,null,null,null,null,null,null,null,12072014,41832]
[null,null,null,null,{"$f":"IF(Configuração!C2087=\"\",\"\",Configuração!B2087)","v":""},null,null,null,null,null,null,null,null,null,null,null,null,null,null,null,null,12072019,43658]
[null,null,null,null,{"$f":"IF(Configuração!C2089=\"\",\"\",Configuração!B2089)","v":""},null,null,null,null,null,null,null,null,null,null,null,null,null,null,null,null,12072021,44389]
[null,null,null,null,{"$f":"IF(Configuração!C2092=\"\",\"\",Configuração!B2092)","v":""},null,null,null,null,null,null,null,null,null,null,null,null,null,null,null,null,12082009,40037]
[null,null,null,null,{"$f":"IF(Configuração!C2097=\"\",\"\",Configuração!B2097)","v":""},null,null,null,null,null,null,null,null,null,null,null,null,null,null,null,null,12082014,41863]
[null,null,null,null,{"$f":"IF(Configuração!C2102=\"\",\"\",Configuração!B2102)","v":""},null,null,null,null,null,null,null,null,null,null,null,null,null,null,null,null,12082019,43689]
[null,null,null,null,{"$f":"IF(Configuração!C2103=\"\",\"\",Configuração!B2103)","v":""},null,null,null,null,null,null,null,null,null,null,null,null,null,null,null,null,12082020,44055]
[null,null,null,null,{"$f":"IF(Configuração!C2108=\"\",\"\",Configuração!B2108)","v":""},null,null,null,null,null,null,null,null,null,null,null,null,null,null,null,null,12092010,40433]
[null,null,null,null,{"$f":"IF(Configuração!C2113=\"\",\"\",Configuração!B2113)","v":""},null,null,null,null,null,null,null,null,null,null,null,null,null,null,null,null,12092015,42259]
[null,null,null,null,{"$f":"IF(Configuração!C2115=\"\",\"\",Configuração!B2115)","v":""},null,null,null,null,null,null,null,null,null,null,null,null,null,null,null,null,12092017,42990]
[null,null,null,null,{"$f":"IF(Configuração!C2118=\"\",\"\",Configuração!B2118)","v":""},null,null,null,null,null,null,null,null,null,null,null,null,null,null,null,null,12092020,44086]
[null,null,null,null,{"$f":"IF(Configuração!C2123=\"\",\"\",Configuração!B2123)","v":""},null,null,null,null,null,null,null,null,null,null,null,null,null,null,null,null,12102010,40463]
[null,null,null,null,{"$f":"IF(Configuração!C2128=\"\",\"\",Configuração!B2128)","v":""},null,null,null,null,null,null,null,null,null,null,null,null,null,null,null,null,12102015,42289]
[null,null,null,null,{"$f":"IF(Configuração!C2133=\"\",\"\",Configuração!B2133)","v":""},null,null,null,null,null,null,null,null,null,null,null,null,null,null,null,null,12102020,44116]
[null,null,null,null,{"$f":"IF(Configuração!C2134=\"\",\"\",Configuração!B2134)","v":""},null,null,null,null,null,null,null,null,null,null,null,null,null,null,null,null,12102021,44481]
[null,null,null,null,{"$f":"IF(Configuração!C2139=\"\",\"\",Configuração!B2139)","v":""},null,null,null,null,null,null,null,null,null,null,null,null,null,null,null,null,12112011,40859]
[null,null,null,null,{"$f":"IF(Configuração!C2144=\"\",\"\",Configuração!B2144)","v":""},null,null,null,null,null,null,null,null,null,null,null,null,null,null,null,null,12112016,42686]
[null,null,null,null,{"$f":"IF(Configuração!C2146=\"\",\"\",Configuração!B2146)","v":""},null,null,null,null,null,null,null,null,null,null,null,null,null,null,null,null,12112018,43416]
[null,null,null,null,{"$f":"IF(Configuração!C2149=\"\",\"\",Configuração!B2149)","v":""},null,null,null,null,null,null,null,null,null,null,null,null,null,null,null,null,12112021,44512]
[null,null,null,null,{"$f":"IF(Configuração!C2154=\"\",\"\",Configuração!B2154)","v":""},null,null,null,null,null,null,null,null,null,null,null,null,null,null,null,null,12122011,40889]
[null,null,null,null,{"$f":"IF(Configuração!C2159=\"\",\"\",Configuração!B2159)","v":""},null,null,null,null,null,null,null,null,null,null,null,null,null,null,null,null,12122016,42716]
[null,null,null,null,{"$f":"IF(Configuração!C2164=\"\",\"\",Configuração!B2164)","v":""},null,null,null,null,null,null,null,null,null,null,null,null,null,null,null,null,12122021,44542]
[null,null,null,null,{"$f":"IF(Configuração!C2165=\"\",\"\",Configuração!B2165)","v":""},null,null,null,null,null,null,null,null,null,null,null,null,null,null,null,null,12122022,44907]
[null,null,null,null,{"$f":"IF(Configuração!C2170=\"\",\"\",Configuração!B2170)","v":""},null,null,null,null,null,null,null,null,null,null,null,null,null,null,null,null,13012012,40921]
[null,null,null,null,{"$f":"IF(Configuração!C2173=\"\",\"\",Configuração!B2173)","v":""},null,null,null,null,null,null,null,null,null,null,null,null,null,null,null,null,13012015,42017]
[null,null,null,null,{"$f":"IF(Configuração!C2179=\"\",\"\",Configuração!B2179)","v":""},null,null,null,null,null,null,null,null,null,null,null,null,null,null,null,null,13012021,44209]
[null,null,null,null,{"$f":"IF(Configuração!C2180=\"\",\"\",Configuração!B2180)","v":""},null,null,null,null,null,null,null,null,null,null,null,null,null,null,null,null,13012022,44574]
[null,null,null,null,{"$f":"IF(Configuração!C2185=\"\",\"\",Configuração!B2185)","v":""},null,null,null,null,null,null,null,null,null,null,null,null,null,null,null,null,13022012,40952]
[null,null,null,null,{"$f":"IF(Configuração!C2190=\"\",\"\",Configuração!B2190)","v":""},null,null,null,null,null,null,null,null,null,null,null,null,null,null,null,null,13022017,42779]
[null,null,null,null,{"$f":"IF(Configuração!C2195=\"\",\"\",Configuração!B2195)","v":""},null,null,null,null,null,null,null,null,null,null,null,null,null,null,null,null,13022022,44605]
[null,null,null,null,{"$f":"IF(Configuração!C2196=\"\",\"\",Configuração!B2196)","v":""},null,null,null,null,null,null,null,null,null,null,null,null,null,null,null,null,13022023,44970]
[null,null,null,null,{"$f":"IF(Configuração!C2200=\"\",\"\",Configuração!B2200)","v":""},null,null,null,null,null,null,null,null,null,null,null,null,null,null,null,null,13032012,40981]
[null,null,null,null,{"$f":"IF(Configuração!C2205=\"\",\"\",Configuração!B2205)","v":""},null,null,null,null,null,null,null,null,null,null,null,null,null,null,null,null,13032017,42807]
[null,null,null,null,{"$f":"IF(Configuração!C2210=\"\",\"\",Configuração!B2210)","v":""},null,null,null,null,null,null,null,null,null,null,null,null,null,null,null,null,13032022,44633]
[null,null,null,null,{"$f":"IF(Configuração!C2211=\"\",\"\",Configuração!B2211)","v":""},null,null,null,null,null,null,null,null,null,null,null,null,null,null,null,null,13032023,44998]
[null,null,null,null,{"$f":"IF(Configuração!C2216=\"\",\"\",Configuração!B2216)","v":""},null,null,null,null,null,null,null,null,null,null,null,null,null,null,null,null,13042013,41377]
[null,null,null,null,{"$f":"IF(Configuração!C2221=\"\",\"\",Configuração!B2221)","v":""},null,null,null,null,null,null,null,null,null,null,null,null,null,null,null,null,13042018,43203]
[null,null,null,null,{"$f":"IF(Configuração!C2226=\"\",\"\",Configuração!B2226)","v":""},null,null,null,null,null,null,null,null,null,null,null,null,null,null,null,null,13042023,45029]
[null,null,null,null,{"$f":"IF(Configuração!C2229=\"\",\"\",Configuração!B2229)","v":""},null,null,null,null,null,null,null,null,null,null,null,null,null,null,null,null,13052011,40676]
[null,null,null,null,{"$f":"IF(Configuração!C2231=\"\",\"\",Configuração!B2231)","v":""},null,null,null,null,null,null,null,null,null,null,null,null,null,null,null,null,13052013,41407]
[null,null,null,null,{"$f":"IF(Configuração!C2236=\"\",\"\",Configuração!B2236)","v":""},null,null,null,null,null,null,null,null,null,null,null,null,null,null,null,null,13052018,43233]
[null,null,null,null,{"$f":"IF(Configuração!C2241=\"\",\"\",Configuração!B2241)","v":""},null,null,null,null,null,null,null,null,null,null,null,null,null,null,null,null,13052023,45059]
[null,null,null,null,{"$f":"IF(Configuração!C2242=\"\",\"\",Configuração!B2242)","v":""},null,null,null,null,null,null,null,null,null,null,null,null,null,null,null,null,13062009,39977]
[null,null,null,null,{"$f":"IF(Configuração!C2247=\"\",\"\",Configuração!B2247)","v":""},null,null,null,null,null,null,null,null,null,null,null,null,null,null,null,null,13062014,41803]
[null,null,null,null,{"$f":"IF(Configuração!C2252=\"\",\"\",Configuração!B2252)","v":""},null,null,null,null,null,null,null,null,null,null,null,null,null,null,null,null,13062019,43629]
[null,null,null,null,{"$f":"IF(Configuração!C2257=\"\",\"\",Configuração!B2257)","v":""},null,null,null,null,null,null,null,null,null,null,null,null,null,null,null,null,13072009,40007]
[null,null,null,null,{"$f":"IF(Configuração!C2260=\"\",\"\",Configuração!B2260)","v":""},null,null,null,null,null,null,null,null,null,null,null,null,null,null,null,null,13072012,41103]
[null,null,null,null,{"$f":"IF(Configuração!C2262=\"\",\"\",Configuração!B2262)","v":""},null,null,null,null,null,null,null,null,null,null,null,null,null,null,null,null,13072014,41833]
[null,null,null,null,{"$f":"IF(Configuração!C2267=\"\",\"\",Configuração!B2267)","v":""},null,null,null,null,null,null,null,null,null,null,null,null,null,null,null,null,13072019,43659]
[null,null,null,null,{"$f":"IF(Configuração!C2272=\"\",\"\",Configuração!B2272)","v":""},null,null,null,null,null,null,null,null,null,null,null,null,null,null,null,null,13082009,40038]
[null,null,null,null,{"$f":"IF(Configuração!C2273=\"\",\"\",Configuração!B2273)","v":""},null,null,null,null,null,null,null,null,null,null,null,null,null,null,null,null,13082010,40403]
[null,null,null,null,{"$f":"IF(Configuração!C2278=\"\",\"\",Configuração!B2278)","v":""},null,null,null,null,null,null,null,null,null,null,null,null,null,null,null,null,13082015,42229]
[null,null,null,null,{"$f":"IF(Configuração!C2283=\"\",\"\",Configuração!B2283)","v":""},null,null,null,null,null,null,null,null,null,null,null,null,null,null,null,null,13082020,44056]
[null,null,null,null,{"$f":"IF(Configuração!C2287=\"\",\"\",Configuração!B2287)","v":""},null,null,null,null,null,null,null,null,null,null,null,null,null,null,null,null,13092009,40069]
[null,null,null,null,{"$f":"IF(Configuração!C2288=\"\",\"\",Configuração!B2288)","v":""},null,null,null,null,null,null,null,null,null,null,null,null,null,null,null,null,13092010,40434]
[null,null,null,null,{"$f":"IF(Configuração!C2293=\"\",\"\",Configuração!B2293)","v":""},null,null,null,null,null,null,null,null,null,null,null,null,null,null,null,null,13092015,42260]
[null,null,null,null,{"$f":"IF(Configuração!C2298=\"\",\"\",Configuração!B2298)","v":""},null,null,null,null,null,null,null,null,null,null,null,null,null,null,null,null,13092020,44087]
[null,null,null,null,{"$f":"IF(Configuração!C2303=\"\",\"\",Configuração!B2303)","v":""},null,null,null,null,null,null,null,null,null,null,null,null,null,null,null,null,13102010,40464]
[null,null,null,null,{"$f":"IF(Configuração!C2304=\"\",\"\",Configuração!B2304)","v":""},null,null,null,null,null,null,null,null,null,null,null,null,null,null,null,null,13102011,40829]
[null,null,null,null,{"$f":"IF(Configuração!C2309=\"\",\"\",Configuração!B2309)","v":""},null,null,null,null,null,null,null,null,null,null,null,null,null,null,null,null,13102016,42656]
[null,null,null,null,{"$f":"IF(Configuração!C2314=\"\",\"\",Configuração!B2314)","v":""},null,null,null,null,null,null,null,null,null,null,null,null,null,null,null,null,13102021,44482]
[null,null,null,null,{"$f":"IF(Configuração!C2318=\"\",\"\",Configuração!B2318)","v":""},null,null,null,null,null,null,null,null,null,null,null,null,null,null,null,null,13112010,40495]
[null,null,null,null,{"$f":"IF(Configuração!C2319=\"\",\"\",Configuração!B2319)","v":""},null,null,null,null,null,null,null,null,null,null,null,null,null,null,null,null,13112011,40860]
[null,null,null,null,{"$f":"IF(Configuração!C2324=\"\",\"\",Configuração!B2324)","v":""},null,null,null,null,null,null,null,null,null,null,null,null,null,null,null,null,13112016,42687]
[null,null,null,null,{"$f":"IF(Configuração!C2329=\"\",\"\",Configuração!B2329)","v":""},null,null,null,null,null,null,null,null,null,null,null,null,null,null,null,null,13112021,44513]
[null,null,null,null,{"$f":"IF(Configuração!C2334=\"\",\"\",Configuração!B2334)","v":""},null,null,null,null,null,null,null,null,null,null,null,null,null,null,null,null,13122011,40890]
[null,null,null,null,{"$f":"IF(Configuração!C2335=\"\",\"\",Configuração!B2335)","v":""},null,null,null,null,null,null,null,null,null,null,null,null,null,null,null,null,13122012,41256]
[null,null,null,null,{"$f":"IF(Configuração!C2341=\"\",\"\",Configuração!B2341)","v":""},null,null,null,null,null,null,null,null,null,null,null,null,null,null,null,null,13122018,43447]
[null,null,null,null,{"$f":"IF(Configuração!C2344=\"\",\"\",Configuração!B2344)","v":""},null,null,null,null,null,null,null,null,null,null,null,null,null,null,null,null,13122021,44543]
[null,null,null,null,{"$f":"IF(Configuração!C2349=\"\",\"\",Configuração!B2349)","v":""},null,null,null,null,null,null,null,null,null,null,null,null,null,null,null,null,14012011,40557]
[null,null,null,null,{"$f":"IF(Configuração!C2350=\"\",\"\",Configuração!B2350)","v":""},null,null,null,null,null,null,null,null,null,null,null,null,null,null,null,null,14012012,40922]
[null,null,null,null,{"$f":"IF(Configuração!C2355=\"\",\"\",Configuração!B2355)","v":""},null,null,null,null,null,null,null,null,null,null,null,null,null,null,null,null,14012017,42749]
[null,null,null,null,{"$f":"IF(Configuração!C2360=\"\",\"\",Configuração!B2360)","v":""},null,null,null,null,null,null,null,null,null,null,null,null,null,null,null,null,14012022,44575]
[null,null,null,null,{"$f":"IF(Configuração!C2365=\"\",\"\",Configuração!B2365)","v":""},null,null,null,null,null,null,null,null,null,null,null,null,null,null,null,null,14022012,40953]
[null,null,null,null,{"$f":"IF(Configuração!C2366=\"\",\"\",Configuração!B2366)","v":""},null,null,null,null,null,null,null,null,null,null,null,null,null,null,null,null,14022013,41319]
[null,null,null,null,{"$f":"IF(Configuração!C2372=\"\",\"\",Configuração!B2372)","v":""},null,null,null,null,null,null,null,null,null,null,null,null,null,null,null,null,14022019,43510]
[null,null,null,null,{"$f":"IF(Configuração!C2375=\"\",\"\",Configuração!B2375)","v":""},null,null,null,null,null,null,null,null,null,null,null,null,null,null,null,null,14022022,44606]
[null,null,null,null,{"$f":"IF(Configuração!C2380=\"\",\"\",Configuração!B2380)","v":""},null,null,null,null,null,null,null,null,null,null,null,null,null,null,null,null,14032012,40982]
[null,null,null,null,{"$f":"IF(Configuração!C2381=\"\",\"\",Configuração!B2381)","v":""},null,null,null,null,null,null,null,null,null,null,null,null,null,null,null,null,14032013,41347]
[null,null,null,null,{"$f":"IF(Configuração!C2386=\"\",\"\",Configuração!B2386)","v":""},null,null,null,null,null,null,null,null,null,null,null,null,null,null,null,null,14032018,43173]
[null,null,null,null,{"$f":"IF(Configuração!C2391=\"\",\"\",Configuração!B2391)","v":""},null,null,null,null,null,null,null,null,null,null,null,null,null,null,null,null,14032023,44999]
[null,null,null,null,{"$f":"IF(Configuração!C2396=\"\",\"\",Configuração!B2396)","v":""},null,null,null,null,null,null,null,null,null,null,null,null,null,null,null,null,14042013,41378]
[null,null,null,null,{"$f":"IF(Configuração!C2398=\"\",\"\",Configuração!B2398)","v":""},null,null,null,null,null,null,null,null,null,null,null,null,null,null,null,null,14042015,42108]
[null,null,null,null,{"$f":"IF(Configuração!C2401=\"\",\"\",Configuração!B2401)","v":""},null,null,null,null,null,null,null,null,null,null,null,null,null,null,null,null,14042018,43204]
[null,null,null,null,{"$f":"IF(Configuração!C2406=\"\",\"\",Configuração!B2406)","v":""},null,null,null,null,null,null,null,null,null,null,null,null,null,null,null,null,14042023,45030]
[null,null,null,null,{"$f":"IF(Configuração!C2411=\"\",\"\",Configuração!B2411)","v":""},null,null,null,null,null,null,null,null,null,null,null,null,null,null,null,null,14052013,41408]
[null,null,null,null,{"$f":"IF(Configuração!C2412=\"\",\"\",Configuração!B2412)","v":""},null,null,null,null,null,null,null,null,null,null,null,null,null,null,null,null,14052014,41773]
[null,null,null,null,{"$f":"IF(Configuração!C2417=\"\",\"\",Configuração!B2417)","v":""},null,null,null,null,null,null,null,null,null,null,null,null,null,null,null,null,14052019,43599]
[null,null,null,null,{"$f":"IF(Configuração!C2422=\"\",\"\",Configuração!B2422)","v":""},null,null,null,null,null,null,null,null,null,null,null,null,null,null,null,null,14062009,39978]
[null,null,null,null,{"$f":"IF(Configuração!C2425=\"\",\"\",Configuração!B2425)","v":""},null,null,null,null,null,null,null,null,null,null,null,null,null,null,null,null,14062012,41074]
[null,null,null,null,{"$f":"IF(Configuração!C2427=\"\",\"\",Configuração!B2427)","v":""},null,null,null,null,null,null,null,null,null,null,null,null,null,null,null,null,14062014,41804]
[null,null,null,null,{"$f":"IF(Configuração!C2432=\"\",\"\",Configuração!B2432)","v":""},null,null,null,null,null,null,null,null,null,null,null,null,null,null,null,null,14062019,43630]
[null,null,null,null,{"$f":"IF(Configuração!C2437=\"\",\"\",Configuração!B2437)","v":""},null,null,null,null,null,null,null,null,null,null,null,null,null,null,null,null,14072009,40008]
[null,null,null,null,{"$f":"IF(Configuração!C2442=\"\",\"\",Configuração!B2442)","v":""},null,null,null,null,null,null,null,null,null,null,null,null,null,null,null,null,14072014,41834]
[null,null,null,null,{"$f":"IF(Configuração!C2443=\"\",\"\",Configuração!B2443)","v":""},null,null,null,null,null,null,null,null,null,null,null,null,null,null,null,null,14072015,42199]
[null,null,null,null,{"$f":"IF(Configuração!C2448=\"\",\"\",Configuração!B2448)","v":""},null,null,null,null,null,null,null,null,null,null,null,null,null,null,null,null,14072020,44026]
[null,null,null,null,{"$f":"IF(Configuração!C2452=\"\",\"\",Configuração!B2452)","v":""},null,null,null,null,null,null,null,null,null,null,null,null,null,null,null,null,14082009,40039]
[null,null,null,null,{"$f":"IF(Configuração!C2457=\"\",\"\",Configuração!B2457)","v":""},null,null,null,null,null,null,null,null,null,null,null,null,null,null,null,null,14082014,41865]
[null,null,null,null,{"$f":"IF(Configuração!C2458=\"\",\"\",Configuração!B2458)","v":""},null,null,null,null,null,null,null,null,null,null,null,null,null,null,null,null,14082015,42230]
[null,null,null,null,{"$f":"IF(Configuração!C2463=\"\",\"\",Configuração!B2463)","v":""},null,null,null,null,null,null,null,null,null,null,null,null,null,null,null,null,14082020,44057]
[null,null,null,null,{"$f":"IF(Configuração!C2468=\"\",\"\",Configuração!B2468)","v":""},null,null,null,null,null,null,null,null,null,null,null,null,null,null,null,null,14092010,40435]
[null,null,null,null,{"$f":"IF(Configuração!C2473=\"\",\"\",Configuração!B2473)","v":""},null,null,null,null,null,null,null,null,null,null,null,null,null,null,null,null,14092015,42261]
[null,null,null,null,{"$f":"IF(Configuração!C2474=\"\",\"\",Configuração!B2474)","v":""},null,null,null,null,null,null,null,null,null,null,null,null,null,null,null,null,14092016,42627]
[null,null,null,null,{"$f":"IF(Configuração!C2479=\"\",\"\",Configuração!B2479)","v":""},null,null,null,null,null,null,null,null,null,null,null,null,null,null,null,null,14092021,44453]
[null,null,null,null,{"$f":"IF(Configuração!C2483=\"\",\"\",Configuração!B2483)","v":""},null,null,null,null,null,null,null,null,null,null,null,null,null,null,null,null,14102010,40465]
[null,null,null,null,{"$f":"IF(Configuração!C2488=\"\",\"\",Configuração!B2488)","v":""},null,null,null,null,null,null,null,null,null,null,null,null,null,null,null,null,14102015,42291]
[null,null,null,null,{"$f":"IF(Configuração!C2489=\"\",\"\",Configuração!B2489)","v":""},null,null,null,null,null,null,null,null,null,null,null,null,null,null,null,null,14102016,42657]
[null,null,null,null,{"$f":"IF(Configuração!C2494=\"\",\"\",Configuração!B2494)","v":""},null,null,null,null,null,null,null,null,null,null,null,null,null,null,null,null,14102021,44483]
[null,null,null,null,{"$f":"IF(Configuração!C2499=\"\",\"\",Configuração!B2499)","v":""},null,null,null,null,null,null,null,null,null,null,null,null,null,null,null,null,14112011,40861]
[null,null,null,null,{"$f":"IF(Configuração!C2504=\"\",\"\",Configuração!B2504)","v":""},null,null,null,null,null,null,null,null,null,null,null,null,null,null,null,null,14112016,42688]
[null,null,null,null,{"$f":"IF(Configuração!C2505=\"\",\"\",Configuração!B2505)","v":""},null,null,null,null,null,null,null,null,null,null,null,null,null,null,null,null,14112017,43053]
[null,null,null,null,{"$f":"IF(Configuração!C2509=\"\",\"\",Configuração!B2509)","v":""},null,null,null,null,null,null,null,null,null,null,null,null,null,null,null,null,14112021,44514]
[null,null,null,null,{"$f":"IF(Configuração!C2514=\"\",\"\",Configuração!B2514)","v":""},null,null,null,null,null,null,null,null,null,null,null,null,null,null,null,null,14122011,40891]
[null,null,null,null,{"$f":"IF(Configuração!C2519=\"\",\"\",Configuração!B2519)","v":""},null,null,null,null,null,null,null,null,null,null,null,null,null,null,null,null,14122016,42718]
[null,null,null,null,{"$f":"IF(Configuração!C2520=\"\",\"\",Configuração!B2520)","v":""},null,null,null,null,null,null,null,null,null,null,null,null,null,null,null,null,14122017,43083]
[null,null,null,null,{"$f":"IF(Configuração!C2525=\"\",\"\",Configuração!B2525)","v":""},null,null,null,null,null,null,null,null,null,null,null,null,null,null,null,null,14122022,44909]
[null,null,null,null,{"$f":"IF(Configuração!C2530=\"\",\"\",Configuração!B2530)","v":""},null,null,null,null,null,null,null,null,null,null,null,null,null,null,null,null,15012012,40923]
[null,null,null,null,{"$f":"IF(Configuração!C2535=\"\",\"\",Configuração!B2535)","v":""},null,null,null,null,null,null,null,null,null,null,null,null,null,null,null,null,15012017,42750]
[null,null,null,null,{"$f":"IF(Configuração!C2536=\"\",\"\",Configuração!B2536)","v":""},null,null,null,null,null,null,null,null,null,null,null,null,null,null,null,null,15012018,43115]
[null,null,null,null,{"$f":"IF(Configuração!C2540=\"\",\"\",Configuração!B2540)","v":""},null,null,null,null,null,null,null,null,null,null,null,null,null,null,null,null,15012022,44576]
[null,null,null,null,{"$f":"IF(Configuração!C2545=\"\",\"\",Configuração!B2545)","v":""},null,null,null,null,null,null,null,null,null,null,null,null,null,null,null,null,15022012,40954]
[null,null,null,null,{"$f":"IF(Configuração!C2550=\"\",\"\",Configuração!B2550)","v":""},null,null,null,null,null,null,null,null,null,null,null,null,null,null,null,null,15022017,42781]
[null,null,null,null,{"$f":"IF(Configuração!C2551=\"\",\"\",Configuração!B2551)","v":""},null,null,null,null,null,null,null,null,null,null,null,null,null,null,null,null,15022018,43146]
[null,null,null,null,{"$f":"IF(Configuração!C2556=\"\",\"\",Configuração!B2556)","v":""},null,null,null,null,null,null,null,null,null,null,null,null,null,null,null,null,15022023,44972]
[null,null,null,null,{"$f":"IF(Configuração!C2561=\"\",\"\",Configuração!B2561)","v":""},null,null,null,null,null,null,null,null,null,null,null,null,null,null,null,null,15032013,41348]
[null,null,null,null,{"$f":"IF(Configuração!C2563=\"\",\"\",Configuração!B2563)","v":""},null,null,null,null,null,null,null,null,null,null,null,null,null,null,null,null,15032015,42078]
[null,null,null,null,{"$f":"IF(Configuração!C2566=\"\",\"\",Configuração!B2566)","v":""},null,null,null,null,null,null,null,null,null,null,null,null,null,null,null,null,15032018,43174]
[null,null,null,null,{"$f":"IF(Configuração!C2571=\"\",\"\",Configuração!B2571)","v":""},null,null,null,null,null,null,null,null,null,null,null,null,null,null,null,null,15032023,45000]
[null,null,null,null,{"$f":"IF(Configuração!C2576=\"\",\"\",Configuração!B2576)","v":""},null,null,null,null,null,null,null,null,null,null,null,null,null,null,null,null,15042013,41379]
[null,null,null,null,{"$f":"IF(Configuração!C2581=\"\",\"\",Configuração!B2581)","v":""},null,null,null,null,null,null,null,null,null,null,null,null,null,null,null,null,15042018,43205]
[null,null,null,null,{"$f":"IF(Configuração!C2582=\"\",\"\",Configuração!B2582)","v":""},null,null,null,null,null,null,null,null,null,null,null,null,null,null,null,null,15042019,43570]
[null,null,null,null,{"$f":"IF(Configuração!C2587=\"\",\"\",Configuração!B2587)","v":""},null,null,null,null,null,null,null,null,null,null,null,null,null,null,null,null,15052009,39948]
[null,null,null,null,{"$f":"IF(Configuração!C2592=\"\",\"\",Configuração!B2592)","v":""},null,null,null,null,null,null,null,null,null,null,null,null,null,null,null,null,15052014,41774]
[null,null,null,null,{"$f":"IF(Configuração!C2594=\"\",\"\",Configuração!B2594)","v":""},null,null,null,null,null,null,null,null,null,null,null,null,null,null,null,null,15052016,42505]
[null,null,null,null,{"$f":"IF(Configuração!C2597=\"\",\"\",Configuração!B2597)","v":""},null,null,null,null,null,null,null,null,null,null,null,null,null,null,null,null,15052019,43600]
[null,null,null,null,{"$f":"IF(Configuração!C2602=\"\",\"\",Configuração!B2602)","v":""},null,null,null,null,null,null,null,null,null,null,null,null,null,null,null,null,15062009,39979]
[null,null,null,null,{"$f":"IF(Configuração!C2607=\"\",\"\",Configuração!B2607)","v":""},null,null,null,null,null,null,null,null,null,null,null,null,null,null,null,null,15062014,41805]
[null,null,null,null,{"$f":"IF(Configuração!C2612=\"\",\"\",Configuração!B2612)","v":""},null,null,null,null,null,null,null,null,null,null,null,null,null,null,null,null,15062019,43631]
[null,null,null,null,{"$f":"IF(Configuração!C2613=\"\",\"\",Configuração!B2613)","v":""},null,null,null,null,null,null,null,null,null,null,null,null,null,null,null,null,15062020,43997]
[null,null,null,null,{"$f":"IF(Configuração!C2618=\"\",\"\",Configuração!B2618)","v":""},null,null,null,null,null,null,null,null,null,null,null,null,null,null,null,null,15072010,40374]
[null,null,null,null,{"$f":"IF(Configuração!C2623=\"\",\"\",Configuração!B2623)","v":""},null,null,null,null,null,null,null,null,null,null,null,null,null,null,null,null,15072015,42200]
[null,null,null,null,{"$f":"IF(Configuração!C2627=\"\",\"\",Configuração!B2627)","v":""},null,null,null,null,null,null,null,null,null,null,null,null,null,null,null,null,15072019,43661]
[null,null,null,null,{"$f":"IF(Configuração!C2628=\"\",\"\",Configuração!B2628)","v":""},null,null,null,null,null,null,null,null,null,null,null,null,null,null,null,null,15072020,44027]
[null,null,null,null,{"$f":"IF(Configuração!C2633=\"\",\"\",Configuração!B2633)","v":""},null,null,null,null,null,null,null,null,null,null,null,null,null,null,null,null,15082010,40405]
[null,null,null,null,{"$f":"IF(Configuração!C2638=\"\",\"\",Configuração!B2638)","v":""},null,null,null,null,null,null,null,null,null,null,null,null,null,null,null,null,15082015,42231]
[null,null,null,null,{"$f":"IF(Configuração!C2643=\"\",\"\",Configuração!B2643)","v":""},null,null,null,null,null,null,null,null,null,null,null,null,null,null,null,null,15082020,44058]
[null,null,null,null,{"$f":"IF(Configuração!C2644=\"\",\"\",Configuração!B2644)","v":""},null,null,null,null,null,null,null,null,null,null,null,null,null,null,null,null,15082021,44423]
[null,null,null,null,{"$f":"IF(Configuração!C2650=\"\",\"\",Configuração!B2650)","v":""},null,null,null,null,null,null,null,null,null,null,null,null,null,null,null,null,15092012,41167]
[null,null,null,null,{"$f":"IF(Configuração!C2653=\"\",\"\",Configuração!B2653)","v":""},null,null,null,null,null,null,null,null,null,null,null,null,null,null,null,null,15092015,42262]
[null,null,null,null,{"$f":"IF(Configuração!C2658=\"\",\"\",Configuração!B2658)","v":""},null,null,null,null,null,null,null,null,null,null,null,null,null,null,null,null,15092020,44089]
[null,null,null,null,{"$f":"IF(Configuração!C2659=\"\",\"\",Configuração!B2659)","v":""},null,null,null,null,null,null,null,null,null,null,null,null,null,null,null,null,15092021,44454]
[null,null,null,null,{"$f":"IF(Configuração!C2664=\"\",\"\",Configuração!B2664)","v":""},null,null,null,null,null,null,null,null,null,null,null,null,null,null,null,null,15102011,40831]
[null,null,null,null,{"$f":"IF(Configuração!C2669=\"\",\"\",Configuração!B2669)","v":""},null,null,null,null,null,null,null,null,null,null,null,null,null,null,null,null,15102016,42658]
[null,null,null,null,{"$f":"IF(Configuração!C2674=\"\",\"\",Configuração!B2674)","v":""},null,null,null,null,null,null,null,null,null,null,null,null,null,null,null,null,15102021,44484]
[null,null,null,null,{"$f":"IF(Configuração!C2677=\"\",\"\",Configuração!B2677)","v":""},null,null,null,null,null,null,null,null,null,null,null,null,null,null,null,null,15112009,40132]
[null,null,null,null,{"$f":"IF(Configuração!C2679=\"\",\"\",Configuração!B2679)","v":""},null,null,null,null,null,null,null,null,null,null,null,null,null,null,null,null,15112011,40862]
[null,null,null,null,{"$f":"IF(Configuração!C2684=\"\",\"\",Configuração!B2684)","v":""},null,null,null,null,null,null,null,null,null,null,null,null,null,null,null,null,15112016,42689]
[null,null,null,null,{"$f":"IF(Configuração!C2689=\"\",\"\",Configuração!B2689)","v":""},null,null,null,null,null,null,null,null,null,null,null,null,null,null,null,null,15112021,44515]
[null,null,null,null,{"$f":"IF(Configuração!C2690=\"\",\"\",Configuração!B2690)","v":""},null,null,null,null,null,null,null,null,null,null,null,null,null,null,null,null,15112022,44880]
[null,null,null,null,{"$f":"IF(Configuração!C2695=\"\",\"\",Configuração!B2695)","v":""},null,null,null,null,null,null,null,null,null,null,null,null,null,null,null,null,15122012,41258]
[null,null,null,null,{"$f":"IF(Configuração!C2700=\"\",\"\",Configuração!B2700)","v":""},null,null,null,null,null,null,null,null,null,null,null,null,null,null,null,null,15122017,43084]
[null,null,null,null,{"$f":"IF(Configuração!C2705=\"\",\"\",Configuração!B2705)","v":""},null,null,null,null,null,null,null,null,null,null,null,null,null,null,null,null,15122022,44910]
[null,null,null,null,{"$f":"IF(Configuração!C2708=\"\",\"\",Configuração!B2708)","v":""},null,null,null,null,null,null,null,null,null,null,null,null,null,null,null,null,16012010,40194]
[null,null,null,null,{"$f":"IF(Configuração!C2710=\"\",\"\",Configuração!B2710)","v":""},null,null,null,null,null,null,null,null,null,null,null,null,null,null,null,null,16012012,40924]
[null,null,null,null,{"$f":"IF(Configuração!C2715=\"\",\"\",Configuração!B2715)","v":""},null,null,null,null,null,null,null,null,null,null,null,null,null,null,null,null,16012017,42751]
[null,null,null,null,{"$f":"IF(Configuração!C2720=\"\",\"\",Configuração!B2720)","v":""},null,null,null,null,null,null,null,null,null,null,null,null,null,null,null,null,16012022,44577]
[null,null,null,null,{"$f":"IF(Configuração!C2721=\"\",\"\",Configuração!B2721)","v":""},null,null,null,null,null,null,null,null,null,null,null,null,null,null,null,null,16012023,44942]
[null,null,null,null,{"$f":"IF(Configuração!C2726=\"\",\"\",Configuração!B2726)","v":""},null,null,null,null,null,null,null,null,null,null,null,null,null,null,null,null,16022013,41321]
[null,null,null,null,{"$f":"IF(Configuração!C2731=\"\",\"\",Configuração!B2731)","v":""},null,null,null,null,null,null,null,null,null,null,null,null,null,null,null,null,16022018,43147]
[null,null,null,null,{"$f":"IF(Configuração!C2734=\"\",\"\",Configuração!B2734)","v":""},null,null,null,null,null,null,null,null,null,null,null,null,null,null,null,null,16022021,44243]
[null,null,null,null,{"$f":"IF(Configuração!C2736=\"\",\"\",Configuração!B2736)","v":""},null,null,null,null,null,null,null,null,null,null,null,null,null,null,null,null,16022023,44973]
[null,null,null,null,{"$f":"IF(Configuração!C2741=\"\",\"\",Configuração!B2741)","v":""},null,null,null,null,null,null,null,null,null,null,null,null,null,null,null,null,16032013,41349]
[null,null,null,null,{"$f":"IF(Configuração!C2746=\"\",\"\",Configuração!B2746)","v":""},null,null,null,null,null,null,null,null,null,null,null,null,null,null,null,null,16032018,43175]
[null,null,null,null,{"$f":"IF(Configuração!C2751=\"\",\"\",Configuração!B2751)","v":""},null,null,null,null,null,null,null,null,null,null,null,null,null,null,null,null,16032023,45001]
[null,null,null,null,{"$f":"IF(Configuração!C2752=\"\",\"\",Configuração!B2752)","v":""},null,null,null,null,null,null,null,null,null,null,null,null,null,null,null,null,16042009,39919]
[null,null,null,null,{"$f":"IF(Configuração!C2757=\"\",\"\",Configuração!B2757)","v":""},null,null,null,null,null,null,null,null,null,null,null,null,null,null,null,null,16042014,41745]
[null,null,null,null,{"$f":"IF(Configuração!C2761=\"\",\"\",Configuração!B2761)","v":""},null,null,null,null,null,null,null,null,null,null,null,null,null,null,null,null,16042018,43206]
[null,null,null,null,{"$f":"IF(Configuração!C2766=\"\",\"\",Configuração!B2766)","v":""},null,null,null,null,null,null,null,null,null,null,null,null,null,null,null,null,16042023,45032]
[null,null,null,null,{"$f":"IF(Configuração!C2767=\"\",\"\",Configuração!B2767)","v":""},null,null,null,null,null,null,null,null,null,null,null,null,null,null,null,null,16052009,39949]
[null,null,null,null,{"$f":"IF(Configuração!C2772=\"\",\"\",Configuração!B2772)","v":""},null,null,null,null,null,null,null,null,null,null,null,null,null,null,null,null,16052014,41775]
[null,null,null,null,{"$f":"IF(Configuração!C2777=\"\",\"\",Configuração!B2777)","v":""},null,null,null,null,null,null,null,null,null,null,null,null,null,null,null,null,16052019,43601]
[null,null,null,null,{"$f":"IF(Configuração!C2782=\"\",\"\",Configuração!B2782)","v":""},null,null,null,null,null,null,null,null,null,null,null,null,null,null,null,null,16062009,39980]
[null,null,null,null,{"$f":"IF(Configuração!C2783=\"\",\"\",Configuração!B2783)","v":""},null,null,null,null,null,null,null,null,null,null,null,null,null,null,null,null,16062010,40345]
[null,null,null,null,{"$f":"IF(Configuração!C2788=\"\",\"\",Configuração!B2788)","v":""},null,null,null,null,null,null,null,null,null,null,null,null,null,null,null,null,16062015,42171]
[null,null,null,null,{"$f":"IF(Configuração!C2792=\"\",\"\",Configuração!B2792)","v":""},null,null,null,null,null,null,null,null,null,null,null,null,null,null,null,null,16062019,43632]
[null,null,null,null,{"$f":"IF(Configuração!C2797=\"\",\"\",Configuração!B2797)","v":""},null,null,null,null,null,null,null,null,null,null,null,null,null,null,null,null,16072009,40010]
[null,null,null,null,{"$f":"IF(Configuração!C2798=\"\",\"\",Configuração!B2798)","v":""},null,null,null,null,null,null,null,null,null,null,null,null,null,null,null,null,16072010,40375]
[null,null,null,null,{"$f":"IF(Configuração!C2803=\"\",\"\",Configuração!B2803)","v":""},null,null,null,null,null,null,null,null,null,null,null,null,null,null,null,null,16072015,42201]
[null,null,null,null,{"$f":"IF(Configuração!C2808=\"\",\"\",Configuração!B2808)","v":""},null,null,null,null,null,null,null,null,null,null,null,null,null,null,null,null,16072020,44028]
[null,null,null,null,{"$f":"IF(Configuração!C2813=\"\",\"\",Configuração!B2813)","v":""},null,null,null,null,null,null,null,null,null,null,null,null,null,null,null,null,16082010,40406]
[null,null,null,null,{"$f":"IF(Configuração!C2814=\"\",\"\",Configuração!B2814)","v":""},null,null,null,null,null,null,null,null,null,null,null,null,null,null,null,null,16082011,40771]
[null,null,null,null,{"$f":"IF(Configuração!C2819=\"\",\"\",Configuração!B2819)","v":""},null,null,null,null,null,null,null,null,null,null,null,null,null,null,null,null,16082016,42598]
[null,null,null,null,{"$f":"IF(Configuração!C2823=\"\",\"\",Configuração!B2823)","v":""},null,null,null,null,null,null,null,null,null,null,null,null,null,null,null,null,16082020,44059]
[null,null,null,null,{"$f":"IF(Configuração!C2828=\"\",\"\",Configuração!B2828)","v":""},null,null,null,null,null,null,null,null,null,null,null,null,null,null,null,null,16092010,40437]
[null,null,null,null,{"$f":"IF(Configuração!C2829=\"\",\"\",Configuração!B2829)","v":""},null,null,null,null,null,null,null,null,null,null,null,null,null,null,null,null,16092011,40802]
[null,null,null,null,{"$f":"IF(Configuração!C2834=\"\",\"\",Configuração!B2834)","v":""},null,null,null,null,null,null,null,null,null,null,null,null,null,null,null,null,16092016,42629]
[null,null,null,null,{"$f":"IF(Configuração!C2839=\"\",\"\",Configuração!B2839)","v":""},null,null,null,null,null,null,null,null,null,null,null,null,null,null,null,null,16092021,44455]
[null,null,null,null,{"$f":"IF(Configuração!C2844=\"\",\"\",Configuração!B2844)","v":""},null,null,null,null,null,null,null,null,null,null,null,null,null,null,null,null,16102011,40832]
[null,null,null,null,{"$f":"IF(Configuração!C2846=\"\",\"\",Configuração!B2846)","v":""},null,null,null,null,null,null,null,null,null,null,null,null,null,null,null,null,16102013,41563]
[null,null,null,null,{"$f":"IF(Configuração!C2849=\"\",\"\",Configuração!B2849)","v":""},null,null,null,null,null,null,null,null,null,null,null,null,null,null,null,null,16102016,42659]
[null,null,null,null,{"$f":"IF(Configuração!C2854=\"\",\"\",Configuração!B2854)","v":""},null,null,null,null,null,null,null,null,null,null,null,null,null,null,null,null,16102021,44485]
[null,null,null,null,{"$f":"IF(Configuração!C2859=\"\",\"\",Configuração!B2859)","v":""},null,null,null,null,null,null,null,null,null,null,null,null,null,null,null,null,16112011,40863]
[null,null,null,null,{"$f":"IF(Configuração!C2860=\"\",\"\",Configuração!B2860)","v":""},null,null,null,null,null,null,null,null,null,null,null,null,null,null,null,null,16112012,41229]
[null,null,null,null,{"$f":"IF(Configuração!C2865=\"\",\"\",Configuração!B2865)","v":""},null,null,null,null,null,null,null,null,null,null,null,null,null,null,null,null,16112017,43055]
[null,null,null,null,{"$f":"IF(Configuração!C2870=\"\",\"\",Configuração!B2870)","v":""},null,null,null,null,null,null,null,null,null,null,null,null,null,null,null,null,16112022,44881]
[null,null,null,null,{"$f":"IF(Configuração!C2872=\"\",\"\",Configuração!B2872)","v":""},null,null,null,null,null,null,null,null,null,null,null,null,null,null,null,null,16122009,40163]
[null,null,null,null,{"$f":"IF(Configuração!C2875=\"\",\"\",Configuração!B2875)","v":""},null,null,null,null,null,null,null,null,null,null,null,null,null,null,null,null,16122012,41259]
[null,null,null,null,{"$f":"IF(Configuração!C2880=\"\",\"\",Configuração!B2880)","v":""},null,null,null,null,null,null,null,null,null,null,null,null,null,null,null,null,16122017,43085]
[null,null,null,null,{"$f":"IF(Configuração!C2885=\"\",\"\",Configuração!B2885)","v":""},null,null,null,null,null,null,null,null,null,null,null,null,null,null,null,null,16122022,44911]
[null,null,null,null,{"$f":"IF(Configuração!C2890=\"\",\"\",Configuração!B2890)","v":""},null,null,null,null,null,null,null,null,null,null,null,null,null,null,null,null,17012012,40925]
[null,null,null,null,{"$f":"IF(Configuração!C2891=\"\",\"\",Configuração!B2891)","v":""},null,null,null,null,null,null,null,null,null,null,null,null,null,null,null,null,17012013,41291]
[null,null,null,null,{"$f":"IF(Configuração!C2896=\"\",\"\",Configuração!B2896)","v":""},null,null,null,null,null,null,null,null,null,null,null,null,null,null,null,null,17012018,43117]
[null,null,null,null,{"$f":"IF(Configuração!C2899=\"\",\"\",Configuração!B2899)","v":""},null,null,null,null,null,null,null,null,null,null,null,null,null,null,null,null,17012021,44213]
[null,null,null,null,{"$f":"IF(Configuração!C2905=\"\",\"\",Configuração!B2905)","v":""},null,null,null,null,null,null,null,null,null,null,null,null,null,null,null,null,17022012,40956]
[null,null,null,null,{"$f":"IF(Configuração!C2906=\"\",\"\",Configuração!B2906)","v":""},null,null,null,null,null,null,null,null,null,null,null,null,null,null,null,null,17022013,41322]
[null,null,null,null,{"$f":"IF(Configuração!C2911=\"\",\"\",Configuração!B2911)","v":""},null,null,null,null,null,null,null,null,null,null,null,null,null,null,null,null,17022018,43148]
[null,null,null,null,{"$f":"IF(Configuração!C2916=\"\",\"\",Configuração!B2916)","v":""},null,null,null,null,null,null,null,null,null,null,null,null,null,null,null,null,17022023,44974]
[null,null,null,null,{"$f":"IF(Configuração!C2921=\"\",\"\",Configuração!B2921)","v":""},null,null,null,null,null,null,null,null,null,null,null,null,null,null,null,null,17032013,41350]
[null,null,null,null,{"$f":"IF(Configuração!C2922=\"\",\"\",Configuração!B2922)","v":""},null,null,null,null,null,null,null,null,null,null,null,null,null,null,null,null,17032014,41715]
[null,null,null,null,{"$f":"IF(Configuração!C2927=\"\",\"\",Configuração!B2927)","v":""},null,null,null,null,null,null,null,null,null,null,null,null,null,null,null,null,17032019,43541]
[null,null,null,null,{"$f":"IF(Configuração!C2930=\"\",\"\",Configuração!B2930)","v":""},null,null,null,null,null,null,null,null,null,null,null,null,null,null,null,null,17032022,44637]
[null,null,null,null,{"$f":"IF(Configuração!C2936=\"\",\"\",Configuração!B2936)","v":""},null,null,null,null,null,null,null,null,null,null,null,null,null,null,null,null,17042013,41381]
[null,null,null,null,{"$f":"IF(Configuração!C2937=\"\",\"\",Configuração!B2937)","v":""},null,null,null,null,null,null,null,null,null,null,null,null,null,null,null,null,17042014,41746]
[null,null,null,null,{"$f":"IF(Configuração!C2942=\"\",\"\",Configuração!B2942)","v":""},null,null,null,null,null,null,null,null,null,null,null,null,null,null,null,null,17042019,43572]
[null,null,null,null,{"$f":"IF(Configuração!C2947=\"\",\"\",Configuração!B2947)","v":""},null,null,null,null,null,null,null,null,null,null,null,null,null,null,null,null,17052009,39950]
[null,null,null,null,{"$f":"IF(Configuração!C2952=\"\",\"\",Configuração!B2952)","v":""},null,null,null,null,null,null,null,null,null,null,null,null,null,null,null,null,17052014,41776]
[null,null,null,null,{"$f":"IF(Configuração!C2953=\"\",\"\",Configuração!B2953)","v":""},null,null,null,null,null,null,null,null,null,null,null,null,null,null,null,null,17052015,42141]
[null,null,null,null,{"$f":"IF(Configuração!C2957=\"\",\"\",Configuração!B2957)","v":""},null,null,null,null,null,null,null,null,null,null,null,null,null,null,null,null,17052019,43602]
[null,null,null,null,{"$f":"IF(Configuração!C2962=\"\",\"\",Configuração!B2962)","v":""},null,null,null,null,null,null,null,null,null,null,null,null,null,null,null,null,17062009,39981]
[null,null,null,null,{"$f":"IF(Configuração!C2967=\"\",\"\",Configuração!B2967)","v":""},null,null,null,null,null,null,null,null,null,null,null,null,null,null,null,null,17062014,41807]
[null,null,null,null,{"$f":"IF(Configuração!C2968=\"\",\"\",Configuração!B2968)","v":""},null,null,null,null,null,null,null,null,null,null,null,null,null,null,null,null,17062015,42172]
[null,null,null,null,{"$f":"IF(Configuração!C2973=\"\",\"\",Configuração!B2973)","v":""},null,null,null,null,null,null,null,null,null,null,null,null,null,null,null,null,17062020,43999]
[null,null,null,null,{"$f":"IF(Configuração!C2978=\"\",\"\",Configuração!B2978)","v":""},null,null,null,null,null,null,null,null,null,null,null,null,null,null,null,null,17072010,40376]
[null,null,null,null,{"$f":"IF(Configuração!C2983=\"\",\"\",Configuração!B2983)","v":""},null,null,null,null,null,null,null,null,null,null,null,null,null,null,null,null,17072015,42202]
[null,null,null,null,{"$f":"IF(Configuração!C2986=\"\",\"\",Configuração!B2986)","v":""},null,null,null,null,null,null,null,null,null,null,null,null,null,null,null,null,17072018,43298]
[null,null,null,null,{"$f":"IF(Configuração!C2988=\"\",\"\",Configuração!B2988)","v":""},null,null,null,null,null,null,null,null,null,null,null,null,null,null,null,null,17072020,44029]
[null,null,null,null,{"$f":"IF(Configuração!C2993=\"\",\"\",Configuração!B2993)","v":""},null,null,null,null,null,null,null,null,null,null,null,null,null,null,null,null,17082010,40407]
[null,null,null,null,{"$f":"IF(Configuração!C2998=\"\",\"\",Configuração!B2998)","v":""},null,null,null,null,null,null,null,null,null,null,null,null,null,null,null,null,17082015,42233]
[null,null,null,null,{"$f":"IF(Configuração!C2999=\"\",\"\",Configuração!B2999)","v":""},null,null,null,null,null,null,null,null,null,null,null,null,null,null,null,null,17082016,42599]
[null,null,null,null,{"$f":"IF(Configuração!C3004=\"\",\"\",Configuração!B3004)","v":""},null,null,null,null,null,null,null,null,null,null,null,null,null,null,null,null,17082021,44425]
[null,null,null,null,{"$f":"IF(Configuração!C3009=\"\",\"\",Configuração!B3009)","v":""},null,null,null,null,null,null,null,null,null,null,null,null,null,null,null,null,17092011,40803]
[null,null,null,null,{"$f":"IF(Configuração!C3013=\"\",\"\",Configuração!B3013)","v":""},null,null,null,null,null,null,null,null,null,null,null,null,null,null,null,null,17092015,42264]
[null,null,null,null,{"$f":"IF(Configuração!C3014=\"\",\"\",Configuração!B3014)","v":""},null,null,null,null,null,null,null,null,null,null,null,null,null,null,null,null,17092016,42630]
[null,null,null,null,{"$f":"IF(Configuração!C3019=\"\",\"\",Configuração!B3019)","v":""},null,null,null,null,null,null,null,null,null,null,null,null,null,null,null,null,17092021,44456]
[null,null,null,null,{"$f":"IF(Configuração!C3024=\"\",\"\",Configuração!B3024)","v":""},null,null,null,null,null,null,null,null,null,null,null,null,null,null,null,null,17102011,40833]
[null,null,null,null,{"$f":"IF(Configuração!C3029=\"\",\"\",Configuração!B3029)","v":""},null,null,null,null,null,null,null,null,null,null,null,null,null,null,null,null,17102016,42660]
[null,null,null,null,{"$f":"IF(Configuração!C3030=\"\",\"\",Configuração!B3030)","v":""},null,null,null,null,null,null,null,null,null,null,null,null,null,null,null,null,17102017,43025]
[null,null,null,null,{"$f":"IF(Configuração!C3035=\"\",\"\",Configuração!B3035)","v":""},null,null,null,null,null,null,null,null,null,null,null,null,null,null,null,null,17102022,44851]
[null,null,null,null,{"$f":"IF(Configuração!C3040=\"\",\"\",Configuração!B3040)","v":""},null,null,null,null,null,null,null,null,null,null,null,null,null,null,null,null,17112012,41230]
[null,null,null,null,{"$f":"IF(Configuração!C3044=\"\",\"\",Configuração!B3044)","v":""},null,null,null,null,null,null,null,null,null,null,null,null,null,null,null,null,17112016,42691]
[null,null,null,null,{"$f":"IF(Configuração!C3045=\"\",\"\",Configuração!B3045)","v":""},null,null,null,null,null,null,null,null,null,null,null,null,null,null,null,null,17112017,43056]
[null,null,null,null,{"$f":"IF(Configuração!C3050=\"\",\"\",Configuração!B3050)","v":""},null,null,null,null,null,null,null,null,null,null,null,null,null,null,null,null,17112022,44882]
[null,null,null,null,{"$f":"IF(Configuração!C3055=\"\",\"\",Configuração!B3055)","v":""},null,null,null,null,null,null,null,null,null,null,null,null,null,null,null,null,17122012,41260]
[null,null,null,null,{"$f":"IF(Configuração!C3060=\"\",\"\",Configuração!B3060)","v":""},null,null,null,null,null,null,null,null,null,null,null,null,null,null,null,null,17122017,43086]
[null,null,null,null,{"$f":"IF(Configuração!C3061=\"\",\"\",Configuração!B3061)","v":""},null,null,null,null,null,null,null,null,null,null,null,null,null,null,null,null,17122018,43451]
[null,null,null,null,{"$f":"IF(Configuração!C3066=\"\",\"\",Configuração!B3066)","v":""},null,null,null,null,null,null,null,null,null,null,null,null,null,null,null,null,17122023,45277]
[null,null,null,null,{"$f":"IF(Configuração!C3071=\"\",\"\",Configuração!B3071)","v":""},null,null,null,null,null,null,null,null,null,null,null,null,null,null,null,null,18012013,41292]
[null,null,null,null,{"$f":"IF(Configuração!C3075=\"\",\"\",Configuração!B3075)","v":""},null,null,null,null,null,null,null,null,null,null,null,null,null,null,null,null,18012017,42753]
[null,null,null,null,{"$f":"IF(Configuração!C3076=\"\",\"\",Configuração!B3076)","v":""},null,null,null,null,null,null,null,null,null,null,null,null,null,null,null,null,18012018,43118]
[null,null,null,null,{"$f":"IF(Configuração!C3081=\"\",\"\",Configuração!B3081)","v":""},null,null,null,null,null,null,null,null,null,null,null,null,null,null,null,null,18012023,44944]
[null,null,null,null,{"$f":"IF(Configuração!C3086=\"\",\"\",Configuração!B3086)","v":""},null,null,null,null,null,null,null,null,null,null,null,null,null,null,null,null,18022013,41323]
[null,null,null,null,{"$f":"IF(Configuração!C3091=\"\",\"\",Configuração!B3091)","v":""},null,null,null,null,null,null,null,null,null,null,null,null,null,null,null,null,18022018,43149]
[null,null,null,null,{"$f":"IF(Configuração!C3092=\"\",\"\",Configuração!B3092)","v":""},null,null,null,null,null,null,null,null,null,null,null,null,null,null,null,null,18022019,43514]
[null,null,null,null,{"$f":"IF(Configuração!C3097=\"\",\"\",Configuração!B3097)","v":""},null,null,null,null,null,null,null,null,null,null,null,null,null,null,null,null,18032009,39890]
[null,null,null,null,{"$f":"IF(Configuração!C3101=\"\",\"\",Configuração!B3101)","v":""},null,null,null,null,null,null,null,null,null,null,null,null,null,null,null,null,18032013,41351]
[null,null,null,null,{"$f":"IF(Configuração!C3106=\"\",\"\",Configuração!B3106)","v":""},null,null,null,null,null,null,null,null,null,null,null,null,null,null,null,null,18032018,43177]
[null,null,null,null,{"$f":"IF(Configuração!C3107=\"\",\"\",Configuração!B3107)","v":""},null,null,null,null,null,null,null,null,null,null,null,null,null,null,null,null,18032019,43542]
[null,null,null,null,{"$f":"IF(Configuração!C3112=\"\",\"\",Configuração!B3112)","v":""},null,null,null,null,null,null,null,null,null,null,null,null,null,null,null,null,18042009,39921]
[null,null,null,null,{"$f":"IF(Configuração!C3117=\"\",\"\",Configuração!B3117)","v":""},null,null,null,null,null,null,null,null,null,null,null,null,null,null,null,null,18042014,41747]
[null,null,null,null,{"$f":"IF(Configuração!C3122=\"\",\"\",Configuração!B3122)","v":""},null,null,null,null,null,null,null,null,null,null,null,null,null,null,null,null,18042019,43573]
[null,null,null,null,{"$f":"IF(Configuração!C3124=\"\",\"\",Configuração!B3124)","v":""},null,null,null,null,null,null,null,null,null,null,null,null,null,null,null,null,18042021,44304]
[null,null,null,null,{"$f":"IF(Configuração!C3127=\"\",\"\",Configuração!B3127)","v":""},null,null,null,null,null,null,null,null,null,null,null,null,null,null,null,null,18052009,39951]
[null,null,null,null,{"$f":"IF(Configuração!C3132=\"\",\"\",Configuração!B3132)","v":""},null,null,null,null,null,null,null,null,null,null,null,null,null,null,null,null,18052014,41777]
[null,null,null,null,{"$f":"IF(Configuração!C3137=\"\",\"\",Configuração!B3137)","v":""},null,null,null,null,null,null,null,null,null,null,null,null,null,null,null,null,18052019,43603]
[null,null,null,null,{"$f":"IF(Configuração!C3138=\"\",\"\",Configuração!B3138)","v":""},null,null,null,null,null,null,null,null,null,null,null,null,null,null,null,null,18052020,43969]
[null,null,null,null,{"$f":"IF(Configuração!C3143=\"\",\"\",Configuração!B3143)","v":""},null,null,null,null,null,null,null,null,null,null,null,null,null,null,null,null,18062010,40347]
[null,null,null,null,{"$f":"IF(Configuração!C3148=\"\",\"\",Configuração!B3148)","v":""},null,null,null,null,null,null,null,null,null,null,null,null,null,null,null,null,18062015,42173]
[null,null,null,null,{"$f":"IF(Configuração!C3153=\"\",\"\",Configuração!B3153)","v":""},null,null,null,null,null,null,null,null,null,null,null,null,null,null,null,null,18062020,44000]
[null,null,null,null,{"$f":"IF(Configuração!C3155=\"\",\"\",Configuração!B3155)","v":""},null,null,null,null,null,null,null,null,null,null,null,null,null,null,null,null,18062022,44730]
[null,null,null,null,{"$f":"IF(Configuração!C3158=\"\",\"\",Configuração!B3158)","v":""},null,null,null,null,null,null,null,null,null,null,null,null,null,null,null,null,18072010,40377]
[null,null,null,null,{"$f":"IF(Configuração!C3163=\"\",\"\",Configuração!B3163)","v":""},null,null,null,null,null,null,null,null,null,null,null,null,null,null,null,null,18072015,42203]
[null,null,null,null,{"$f":"IF(Configuração!C3168=\"\",\"\",Configuração!B3168)","v":""},null,null,null,null,null,null,null,null,null,null,null,null,null,null,null,null,18072020,44030]
[null,null,null,null,{"$f":"IF(Configuração!C3169=\"\",\"\",Configuração!B3169)","v":""},null,null,null,null,null,null,null,null,null,null,null,null,null,null,null,null,18072021,44395]
[null,null,null,null,{"$f":"IF(Configuração!C3174=\"\",\"\",Configuração!B3174)","v":""},null,null,null,null,null,null,null,null,null,null,null,null,null,null,null,null,18082011,40773]
[null,null,null,null,{"$f":"IF(Configuração!C3179=\"\",\"\",Configuração!B3179)","v":""},null,null,null,null,null,null,null,null,null,null,null,null,null,null,null,null,18082016,42600]
[null,null,null,null,{"$f":"IF(Configuração!C3182=\"\",\"\",Configuração!B3182)","v":""},null,null,null,null,null,null,null,null,null,null,null,null,null,null,null,null,18082019,43695]
[null,null,null,null,{"$f":"IF(Configuração!C3184=\"\",\"\",Configuração!B3184)","v":""},null,null,null,null,null,null,null,null,null,null,null,null,null,null,null,null,18082021,44426]
[null,null,null,null,{"$f":"IF(Configuração!C3189=\"\",\"\",Configuração!B3189)","v":""},null,null,null,null,null,null,null,null,null,null,null,null,null,null,null,null,18092011,40804]
[null,null,null,null,{"$f":"IF(Configuração!C3194=\"\",\"\",Configuração!B3194)","v":""},null,null,null,null,null,null,null,null,null,null,null,null,null,null,null,null,18092016,42631]
[null,null,null,null,{"$f":"IF(Configuração!C3199=\"\",\"\",Configuração!B3199)","v":""},null,null,null,null,null,null,null,null,null,null,null,null,null,null,null,null,18092021,44457]
[null,null,null,null,{"$f":"IF(Configuração!C3200=\"\",\"\",Configuração!B3200)","v":""},null,null,null,null,null,null,null,null,null,null,null,null,null,null,null,null,18092022,44822]
[null,null,null,null,{"$f":"IF(Configuração!C3205=\"\",\"\",Configuração!B3205)","v":""},null,null,null,null,null,null,null,null,null,null,null,null,null,null,null,null,18102012,41200]
[null,null,null,null,{"$f":"IF(Configuração!C3208=\"\",\"\",Configuração!B3208)","v":""},null,null,null,null,null,null,null,null,null,null,null,null,null,null,null,null,18102015,42295]
[null,null,null,null,{"$f":"IF(Configuração!C3214=\"\",\"\",Configuração!B3214)","v":""},null,null,null,null,null,null,null,null,null,null,null,null,null,null,null,null,18102021,44487]
[null,null,null,null,{"$f":"IF(Configuração!C3215=\"\",\"\",Configuração!B3215)","v":""},null,null,null,null,null,null,null,null,null,null,null,null,null,null,null,null,18102022,44852]
[null,null,null,null,{"$f":"IF(Configuração!C3220=\"\",\"\",Configuração!B3220)","v":""},null,null,null,null,null,null,null,null,null,null,null,null,null,null,null,null,18112012,41231]
[null,null,null,null,{"$f":"IF(Configuração!C3225=\"\",\"\",Configuração!B3225)","v":""},null,null,null,null,null,null,null,null,null,null,null,null,null,null,null,null,18112017,43057]
[null,null,null,null,{"$f":"IF(Configuração!C3230=\"\",\"\",Configuração!B3230)","v":""},null,null,null,null,null,null,null,null,null,null,null,null,null,null,null,null,18112022,44883]
[null,null,null,null,{"$f":"IF(Configuração!C3231=\"\",\"\",Configuração!B3231)","v":""},null,null,null,null,null,null,null,null,null,null,null,null,null,null,null,null,18112023,45248]
[null,null,null,null,{"$f":"IF(Configuração!C3235=\"\",\"\",Configuração!B3235)","v":""},null,null,null,null,null,null,null,null,null,null,null,null,null,null,null,null,18122012,41261]
[null,null,null,null,{"$f":"IF(Configuração!C3240=\"\",\"\",Configuração!B3240)","v":""},null,null,null,null,null,null,null,null,null,null,null,null,null,null,null,null,18122017,43087]
[null,null,null,null,{"$f":"IF(Configuração!C3245=\"\",\"\",Configuração!B3245)","v":""},null,null,null,null,null,null,null,null,null,null,null,null,null,null,null,null,18122022,44913]
[null,null,null,null,{"$f":"IF(Configuração!C3246=\"\",\"\",Configuração!B3246)","v":""},null,null,null,null,null,null,null,null,null,null,null,null,null,null,null,null,18122023,45278]
[null,null,null,null,{"$f":"IF(Configuração!C3251=\"\",\"\",Configuração!B3251)","v":""},null,null,null,null,null,null,null,null,null,null,null,null,null,null,null,null,19012013,41293]
[null,null,null,null,{"$f":"IF(Configuração!C3256=\"\",\"\",Configuração!B3256)","v":""},null,null,null,null,null,null,null,null,null,null,null,null,null,null,null,null,19012018,43119]
[null,null,null,null,{"$f":"IF(Configuração!C3261=\"\",\"\",Configuração!B3261)","v":""},null,null,null,null,null,null,null,null,null,null,null,null,null,null,null,null,19012023,44945]
[null,null,null,null,{"$f":"IF(Configuração!C3262=\"\",\"\",Configuração!B3262)","v":""},null,null,null,null,null,null,null,null,null,null,null,null,null,null,null,null,19022009,39863]
[null,null,null,null,{"$f":"IF(Configuração!C3266=\"\",\"\",Configuração!B3266)","v":""},null,null,null,null,null,null,null,null,null,null,null,null,null,null,null,null,19022013,41324]
[null,null,null,null,{"$f":"IF(Configuração!C3271=\"\",\"\",Configuração!B3271)","v":""},null,null,null,null,null,null,null,null,null,null,null,null,null,null,null,null,19022018,43150]
[null,null,null,null,{"$f":"IF(Configuração!C3276=\"\",\"\",Configuração!B3276)","v":""},null,null,null,null,null,null,null,null,null,null,null,null,null,null,null,null,19022023,44976]
[null,null,null,null,{"$f":"IF(Configuração!C3277=\"\",\"\",Configuração!B3277)","v":""},null,null,null,null,null,null,null,null,null,null,null,null,null,null,null,null,19032009,39891]
[null,null,null,null,{"$f":"IF(Configuração!C3282=\"\",\"\",Configuração!B3282)","v":""},null,null,null,null,null,null,null,null,null,null,null,null,null,null,null,null,19032014,41717]
[null,null,null,null,{"$f":"IF(Configuração!C3287=\"\",\"\",Configuração!B3287)","v":""},null,null,null,null,null,null,null,null,null,null,null,null,null,null,null,null,19032019,43543]
[null,null,null,null,{"$f":"IF(Configuração!C3292=\"\",\"\",Configuração!B3292)","v":""},null,null,null,null,null,null,null,null,null,null,null,null,null,null,null,null,19042009,39922]
[null,null,null,null,{"$f":"IF(Configuração!C3293=\"\",\"\",Configuração!B3293)","v":""},null,null,null,null,null,null,null,null,null,null,null,null,null,null,null,null,19042010,40287]
[null,null,null,null,{"$f":"IF(Configuração!C3297=\"\",\"\",Configuração!B3297)","v":""},null,null,null,null,null,null,null,null,null,null,null,null,null,null,null,null,19042014,41748]
[null,null,null,null,{"$f":"IF(Configuração!C3302=\"\",\"\",Configuração!B3302)","v":""},null,null,null,null,null,null,null,null,null,null,null,null,null,null,null,null,19042019,43574]
[null,null,null,null,{"$f":"IF(Configuração!C3307=\"\",\"\",Configuração!B3307)","v":""},null,null,null,null,null,null,null,null,null,null,null,null,null,null,null,null,19052009,39952]
[null,null,null,null,{"$f":"IF(Configuração!C3308=\"\",\"\",Configuração!B3308)","v":""},null,null,null,null,null,null,null,null,null,null,null,null,null,null,null,null,19052010,40317]
[null,null,null,null,{"$f":"IF(Configuração!C3313=\"\",\"\",Configuração!B3313)","v":""},null,null,null,null,null,null,null,null,null,null,null,null,null,null,null,null,19052015,42143]
[null,null,null,null,{"$f":"IF(Configuração!C3318=\"\",\"\",Configuração!B3318)","v":""},null,null,null,null,null,null,null,null,null,null,null,null,null,null,null,null,19052020,43970]
[null,null,null,null,{"$f":"IF(Configuração!C3320=\"\",\"\",Configuração!B3320)","v":""},null,null,null,null,null,null,null,null,null,null,null,null,null,null,null,null,19052022,44700]
[null,null,null,null,{"$f":"IF(Configuração!C3323=\"\",\"\",Configuração!B3323)","v":""},null,null,null,null,null,null,null,null,null,null,null,null,null,null,null,null,19062010,40348]
[null,null,null,null,{"$f":"IF(Configuração!C3328=\"\",\"\",Configuração!B3328)","v":""},null,null,null,null,null,null,null,null,null,null,null,null,null,null,null,null,19062015,42174]
[null,null,null,null,{"$f":"IF(Configuração!C3333=\"\",\"\",Configuração!B3333)","v":""},null,null,null,null,null,null,null,null,null,null,null,null,null,null,null,null,19062020,44001]
[null,null,null,null,{"$f":"IF(Configuração!C3338=\"\",\"\",Configuração!B3338)","v":""},null,null,null,null,null,null,null,null,null,null,null,null,null,null,null,null,19072010,40378]
[null,null,null,null,{"$f":"IF(Configuração!C3339=\"\",\"\",Configuração!B3339)","v":""},null,null,null,null,null,null,null,null,null,null,null,null,null,null,null,null,19072011,40743]
[null,null,null,null,{"$f":"IF(Configuração!C3344=\"\",\"\",Configuração!B3344)","v":""},null,null,null,null,null,null,null,null,null,null,null,null,null,null,null,null,19072016,42570]
[null,null,null,null,{"$f":"IF(Configuração!C3349=\"\",\"\",Configuração!B3349)","v":""},null,null,null,null,null,null,null,null,null,null,null,null,null,null,null,null,19072021,44396]
[null,null,null,null,{"$f":"IF(Configuração!C3353=\"\",\"\",Configuração!B3353)","v":""},null,null,null,null,null,null,null,null,null,null,null,null,null,null,null,null,19082010,40409]
[null,null,null,null,{"$f":"IF(Configuração!C3354=\"\",\"\",Configuração!B3354)","v":""},null,null,null,null,null,null,null,null,null,null,null,null,null,null,null,null,19082011,40774]
[null,null,null,null,{"$f":"IF(Configuração!C3359=\"\",\"\",Configuração!B3359)","v":""},null,null,null,null,null,null,null,null,null,null,null,null,null,null,null,null,19082016,42601]
[null,null,null,null,{"$f":"IF(Configuração!C3364=\"\",\"\",Configuração!B3364)","v":""},null,null,null,null,null,null,null,null,null,null,null,null,null,null,null,null,19082021,44427]
[null,null,null,null,{"$f":"IF(Configuração!C3369=\"\",\"\",Configuração!B3369)","v":""},null,null,null,null,null,null,null,null,null,null,null,null,null,null,null,null,19092011,40805]
[null,null,null,null,{"$f":"IF(Configuração!C3370=\"\",\"\",Configuração!B3370)","v":""},null,null,null,null,null,null,null,null,null,null,null,null,null,null,null,null,19092012,41171]
[null,null,null,null,{"$f":"IF(Configuração!C3375=\"\",\"\",Configuração!B3375)","v":""},null,null,null,null,null,null,null,null,null,null,null,null,null,null,null,null,19092017,42997]
[null,null,null,null,{"$f":"IF(Configuração!C3380=\"\",\"\",Configuração!B3380)","v":""},null,null,null,null,null,null,null,null,null,null,null,null,null,null,null,null,19092022,44823]
[null,null,null,null,{"$f":"IF(Configuração!C3384=\"\",\"\",Configuração!B3384)","v":""},null,null,null,null,null,null,null,null,null,null,null,null,null,null,null,null,19102011,40835]
[null,null,null,null,{"$f":"IF(Configuração!C3385=\"\",\"\",Configuração!B3385)","v":""},null,null,null,null,null,null,null,null,null,null,null,null,null,null,null,null,19102012,41201]
[null,null,null,null,{"$f":"IF(Configuração!C3390=\"\",\"\",Configuração!B3390)","v":""},null,null,null,null,null,null,null,null,null,null,null,null,null,null,null,null,19102017,43027]
[null,null,null,null,{"$f":"IF(Configuração!C3395=\"\",\"\",Configuração!B3395)","v":""},null,null,null,null,null,null,null,null,null,null,null,null,null,null,null,null,19102022,44853]
[null,null,null,null,{"$f":"IF(Configuração!C3400=\"\",\"\",Configuração!B3400)","v":""},null,null,null,null,null,null,null,null,null,null,null,null,null,null,null,null,19112012,41232]
[null,null,null,null,{"$f":"IF(Configuração!C3401=\"\",\"\",Configuração!B3401)","v":""},null,null,null,null,null,null,null,null,null,null,null,null,null,null,null,null,19112013,41597]
[null,null,null,null,{"$f":"IF(Configuração!C3407=\"\",\"\",Configuração!B3407)","v":""},null,null,null,null,null,null,null,null,null,null,null,null,null,null,null,null,19112019,43788]
[null,null,null,null,{"$f":"IF(Configuração!C3410=\"\",\"\",Configuração!B3410)","v":""},null,null,null,null,null,null,null,null,null,null,null,null,null,null,null,null,19112022,44884]
[null,null,null,null,{"$f":"IF(Configuração!C3415=\"\",\"\",Configuração!B3415)","v":""},null,null,null,null,null,null,null,null,null,null,null,null,null,null,null,null,19122012,41262]
[null,null,null,null,{"$f":"IF(Configuração!C3416=\"\",\"\",Configuração!B3416)","v":""},null,null,null,null,null,null,null,null,null,null,null,null,null,null,null,null,19122013,41627]
[null,null,null,null,{"$f":"IF(Configuração!C3421=\"\",\"\",Configuração!B3421)","v":""},null,null,null,null,null,null,null,null,null,null,null,null,null,null,null,null,19122018,43453]
[null,null,null,null,{"$f":"IF(Configuração!C3426=\"\",\"\",Configuração!B3426)","v":""},null,null,null,null,null,null,null,null,null,null,null,null,null,null,null,null,19122023,45279]
[null,null,null,null,{"$f":"IF(Configuração!C3431=\"\",\"\",Configuração!B3431)","v":""},null,null,null,null,null,null,null,null,null,null,null,null,null,null,null,null,20012013,41294]
[null,null,null,null,{"$f":"IF(Configuração!C3434=\"\",\"\",Configuração!B3434)","v":""},null,null,null,null,null,null,null,null,null,null,null,null,null,null,null,null,20012016,42389]
[null,null,null,null,{"$f":"IF(Configuração!C3436=\"\",\"\",Configuração!B3436)","v":""},null,null,null,null,null,null,null,null,null,null,null,null,null,null,null,null,20012018,43120]
[null,null,null,null,{"$f":"IF(Configuração!C3441=\"\",\"\",Configuração!B3441)","v":""},null,null,null,null,null,null,null,null,null,null,null,null,null,null,null,null,20012023,44946]
[null,null,null,null,{"$f":"IF(Configuração!C3446=\"\",\"\",Configuração!B3446)","v":""},null,null,null,null,null,null,null,null,null,null,null,null,null,null,null,null,20022013,41325]
[null,null,null,null,{"$f":"IF(Configuração!C3447=\"\",\"\",Configuração!B3447)","v":""},null,null,null,null,null,null,null,null,null,null,null,null,null,null,null,null,20022014,41690]
[null,null,null,null,{"$f":"IF(Configuração!C3452=\"\",\"\",Configuração!B3452)","v":""},null,null,null,null,null,null,null,null,null,null,null,null,null,null,null,null,20022019,43516]
[null,null,null,null,{"$f":"IF(Configuração!C3457=\"\",\"\",Configuração!B3457)","v":""},null,null,null,null,null,null,null,null,null,null,null,null,null,null,null,null,20032009,39892]
[null,null,null,null,{"$f":"IF(Configuração!C3460=\"\",\"\",Configuração!B3460)","v":""},null,null,null,null,null,null,null,null,null,null,null,null,null,null,null,null,20032012,40988]
[null,null,null,null,{"$f":"IF(Configuração!C3462=\"\",\"\",Configuração!B3462)","v":""},null,null,null,null,null,null,null,null,null,null,null,null,null,null,null,null,20032014,41718]
[null,null,null,null,{"$f":"IF(Configuração!C3467=\"\",\"\",Configuração!B3467)","v":""},null,null,null,null,null,null,null,null,null,null,null,null,null,null,null,null,20032019,43544]
[null,null,null,null,{"$f":"IF(Configuração!C3472=\"\",\"\",Configuração!B3472)","v":""},null,null,null,null,null,null,null,null,null,null,null,null,null,null,null,null,20042009,39923]
[null,null,null,null,{"$f":"IF(Configuração!C3477=\"\",\"\",Configuração!B3477)","v":""},null,null,null,null,null,null,null,null,null,null,null,null,null,null,null,null,20042014,41749]
[null,null,null,null,{"$f":"IF(Configuração!C3478=\"\",\"\",Configuração!B3478)","v":""},null,null,null,null,null,null,null,null,null,null,null,null,null,null,null,null,20042015,42114]
[null,null,null,null,{"$f":"IF(Configuração!C3483=\"\",\"\",Configuração!B3483)","v":""},null,null,null,null,null,null,null,null,null,null,null,null,null,null,null,null,20042020,43941]
[null,null,null,null,{"$f":"IF(Configuração!C3488=\"\",\"\",Configuração!B3488)","v":""},null,null,null,null,null,null,null,null,null,null,null,null,null,null,null,null,20052010,40318]
[null,null,null,null,{"$f":"IF(Configuração!C3491=\"\",\"\",Configuração!B3491)","v":""},null,null,null,null,null,null,null,null,null,null,null,null,null,null,null,null,20052013,41414]
[null,null,null,null,{"$f":"IF(Configuração!C3493=\"\",\"\",Configuração!B3493)","v":""},null,null,null,null,null,null,null,null,null,null,null,null,null,null,null,null,20052015,42144]
[null,null,null,null,{"$f":"IF(Configuração!C3498=\"\",\"\",Configuração!B3498)","v":""},null,null,null,null,null,null,null,null,null,null,null,null,null,null,null,null,20052020,43971]
[null,null,null,null,{"$f":"IF(Configuração!C3503=\"\",\"\",Configuração!B3503)","v":""},null,null,null,null,null,null,null,null,null,null,null,null,null,null,null,null,20062010,40349]
[null,null,null,null,{"$f":"IF(Configuração!C3508=\"\",\"\",Configuração!B3508)","v":""},null,null,null,null,null,null,null,null,null,null,null,null,null,null,null,null,20062015,42175]
[null,null,null,null,{"$f":"IF(Configuração!C3509=\"\",\"\",Configuração!B3509)","v":""},null,null,null,null,null,null,null,null,null,null,null,null,null,null,null,null,20062016,42541]
[null,null,null,null,{"$f":"IF(Configuração!C3514=\"\",\"\",Configuração!B3514)","v":""},null,null,null,null,null,null,null,null,null,null,null,null,null,null,null,null,20062021,44367]
[null,null,null,null,{"$f":"IF(Configuração!C3518=\"\",\"\",Configuração!B3518)","v":""},null,null,null,null,null,null,null,null,null,null,null,null,null,null,null,null,20072010,40379]
[null,null,null,null,{"$f":"IF(Configuração!C3523=\"\",\"\",Configuração!B3523)","v":""},null,null,null,null,null,null,null,null,null,null,null,null,null,null,null,null,20072015,42205]
[null,null,null,null,{"$f":"IF(Configuração!C3524=\"\",\"\",Configuração!B3524)","v":""},null,null,null,null,null,null,null,null,null,null,null,null,null,null,null,null,20072016,42571]
[null,null,null,null,{"$f":"IF(Configuração!C3529=\"\",\"\",Configuração!B3529)","v":""},null,null,null,null,null,null,null,null,null,null,null,null,null,null,null,null,20072021,44397]
[null,null,null,null,{"$f":"IF(Configuração!C3534=\"\",\"\",Configuração!B3534)","v":""},null,null,null,null,null,null,null,null,null,null,null,null,null,null,null,null,20082011,40775]
[null,null,null,null,{"$f":"IF(Configuração!C3539=\"\",\"\",Configuração!B3539)","v":""},null,null,null,null,null,null,null,null,null,null,null,null,null,null,null,null,20082016,42602]
[null,null,null,null,{"$f":"IF(Configuração!C3540=\"\",\"\",Configuração!B3540)","v":""},null,null,null,null,null,null,null,null,null,null,null,null,null,null,null,null,20082017,42967]
[null,null,null,null,{"$f":"IF(Configuração!C3545=\"\",\"\",Configuração!B3545)","v":""},null,null,null,null,null,null,null,null,null,null,null,null,null,null,null,null,20082022,44793]
[null,null,null,null,{"$f":"IF(Configuração!C3549=\"\",\"\",Configuração!B3549)","v":""},null,null,null,null,null,null,null,null,null,null,null,null,null,null,null,null,20092011,40806]
[null,null,null,null,{"$f":"IF(Configuração!C3554=\"\",\"\",Configuração!B3554)","v":""},null,null,null,null,null,null,null,null,null,null,null,null,null,null,null,null,20092016,42633]
[null,null,null,null,{"$f":"IF(Configuração!C3555=\"\",\"\",Configuração!B3555)","v":""},null,null,null,null,null,null,null,null,null,null,null,null,null,null,null,null,20092017,42998]
[null,null,null,null,{"$f":"IF(Configuração!C3560=\"\",\"\",Configuração!B3560)","v":""},null,null,null,null,null,null,null,null,null,null,null,null,null,null,null,null,20092022,44824]
[null,null,null,null,{"$f":"IF(Configuração!C3565=\"\",\"\",Configuração!B3565)","v":""},null,null,null,null,null,null,null,null,null,null,null,null,null,null,null,null,20102012,41202]
[null,null,null,null,{"$f":"IF(Configuração!C3570=\"\",\"\",Configuração!B3570)","v":""},null,null,null,null,null,null,null,null,null,null,null,null,null,null,null,null,20102017,43028]
[null,null,null,null,{"$f":"IF(Configuração!C3571=\"\",\"\",Configuração!B3571)","v":""},null,null,null,null,null,null,null,null,null,null,null,null,null,null,null,null,20102018,43393]
[null,null,null,null,{"$f":"IF(Configuração!C3575=\"\",\"\",Configuração!B3575)","v":""},null,null,null,null,null,null,null,null,null,null,null,null,null,null,null,null,20102022,44854]
[null,null,null,null,{"$f":"IF(Configuração!C3580=\"\",\"\",Configuração!B3580)","v":""},null,null,null,null,null,null,null,null,null,null,null,null,null,null,null,null,20112012,41233]
[null,null,null,null,{"$f":"IF(Configuração!C3585=\"\",\"\",Configuração!B3585)","v":""},null,null,null,null,null,null,null,null,null,null,null,null,null,null,null,null,20112017,43059]
[null,null,null,null,{"$f":"IF(Configuração!C3586=\"\",\"\",Configuração!B3586)","v":""},null,null,null,null,null,null,null,null,null,null,null,null,null,null,null,null,20112018,43424]
[null,null,null,null,{"$f":"IF(Configuração!C3591=\"\",\"\",Configuração!B3591)","v":""},null,null,null,null,null,null,null,null,null,null,null,null,null,null,null,null,20112023,45250]
[null,null,null,null,{"$f":"IF(Configuração!C3596=\"\",\"\",Configuração!B3596)","v":""},null,null,null,null,null,null,null,null,null,null,null,null,null,null,null,null,20122013,41628]
[null,null,null,null,{"$f":"IF(Configuração!C3601=\"\",\"\",Configuração!B3601)","v":""},null,null,null,null,null,null,null,null,null,null,null,null,null,null,null,null,20122018,43454]
[null,null,null,null,{"$f":"IF(Configuração!C3602=\"\",\"\",Configuração!B3602)","v":""},null,null,null,null,null,null,null,null,null,null,null,null,null,null,null,null,20122019,43819]
[null,null,null,null,{"$f":"IF(Configuração!C3606=\"\",\"\",Configuração!B3606)","v":""},null,null,null,null,null,null,null,null,null,null,null,null,null,null,null,null,20122023,45280]
[null,null,null,null,{"$f":"IF(Configuração!C3611=\"\",\"\",Configuração!B3611)","v":""},null,null,null,null,null,null,null,null,null,null,null,null,null,null,null,null,21012013,41295]
[null,null,null,null,{"$f":"IF(Configuração!C3616=\"\",\"\",Configuração!B3616)","v":""},null,null,null,null,null,null,null,null,null,null,null,null,null,null,null,null,21012018,43121]
[null,null,null,null,{"$f":"IF(Configuração!C3617=\"\",\"\",Configuração!B3617)","v":""},null,null,null,null,null,null,null,null,null,null,null,null,null,null,null,null,21012019,43486]
[null,null,null,null,{"$f":"IF(Configuração!C3622=\"\",\"\",Configuração!B3622)","v":""},null,null,null,null,null,null,null,null,null,null,null,null,null,null,null,null,21022009,39865]
[null,null,null,null,{"$f":"IF(Configuração!C3627=\"\",\"\",Configuração!B3627)","v":""},null,null,null,null,null,null,null,null,null,null,null,null,null,null,null,null,21022014,41691]
[null,null,null,null,{"$f":"IF(Configuração!C3629=\"\",\"\",Configuração!B3629)","v":""},null,null,null,null,null,null,null,null,null,null,null,null,null,null,null,null,21022016,42421]
[null,null,null,null,{"$f":"IF(Configuração!C3632=\"\",\"\",Configuração!B3632)","v":""},null,null,null,null,null,null,null,null,null,null,null,null,null,null,null,null,21022019,43517]
[null,null,null,null,{"$f":"IF(Configuração!C3637=\"\",\"\",Configuração!B3637)","v":""},null,null,null,null,null,null,null,null,null,null,null,null,null,null,null,null,21032009,39893]
[null,null,null,null,{"$f":"IF(Configuração!C3642=\"\",\"\",Configuração!B3642)","v":""},null,null,null,null,null,null,null,null,null,null,null,null,null,null,null,null,21032014,41719]
[null,null,null,null,{"$f":"IF(Configuração!C3647=\"\",\"\",Configuração!B3647)","v":""},null,null,null,null,null,null,null,null,null,null,null,null,null,null,null,null,21032019,43545]
[null,null,null,null,{"$f":"IF(Configuração!C3648=\"\",\"\",Configuração!B3648)","v":""},null,null,null,null,null,null,null,null,null,null,null,null,null,null,null,null,21032020,43911]
[null,null,null,null,{"$f":"IF(Configuração!C3653=\"\",\"\",Configuração!B3653)","v":""},null,null,null,null,null,null,null,null,null,null,null,null,null,null,null,null,21042010,40289]
[null,null,null,null,{"$f":"IF(Configuração!C3656=\"\",\"\",Configuração!B3656)","v":""},null,null,null,null,null,null,null,null,null,null,null,null,null,null,null,null,21042013,41385]
[null,null,null,null,{"$f":"IF(Configuração!C3662=\"\",\"\",Configuração!B3662)","v":""},null,null,null,null,null,null,null,null,null,null,null,null,null,null,null,null,21042019,43576]
[null,null,null,null,{"$f":"IF(Configuração!C3663=\"\",\"\",Configuração!B3663)","v":""},null,null,null,null,null,null,null,null,null,null,null,null,null,null,null,null,21042020,43942]
[null,null,null,null,{"$f":"IF(Configuração!C3668=\"\",\"\",Configuração!B3668)","v":""},null,null,null,null,null,null,null,null,null,null,null,null,null,null,null,null,21052010,40319]
[null,null,null,null,{"$f":"IF(Configuração!C3673=\"\",\"\",Configuração!B3673)","v":""},null,null,null,null,null,null,null,null,null,null,null,null,null,null,null,null,21052015,42145]
[null,null,null,null,{"$f":"IF(Configuração!C3678=\"\",\"\",Configuração!B3678)","v":""},null,null,null,null,null,null,null,null,null,null,null,null,null,null,null,null,21052020,43972]
[null,null,null,null,{"$f":"IF(Configuração!C3679=\"\",\"\",Configuração!B3679)","v":""},null,null,null,null,null,null,null,null,null,null,null,null,null,null,null,null,21052021,44337]
[null,null,null,null,{"$f":"IF(Configuração!C3685=\"\",\"\",Configuração!B3685)","v":""},null,null,null,null,null,null,null,null,null,null,null,null,null,null,null,null,21062012,41081]
[null,null,null,null,{"$f":"IF(Configuração!C3688=\"\",\"\",Configuração!B3688)","v":""},null,null,null,null,null,null,null,null,null,null,null,null,null,null,null,null,21062015,42176]
[null,null,null,null,{"$f":"IF(Configuração!C3693=\"\",\"\",Configuração!B3693)","v":""},null,null,null,null,null,null,null,null,null,null,null,null,null,null,null,null,21062020,44003]
[null,null,null,null,{"$f":"IF(Configuração!C3694=\"\",\"\",Configuração!B3694)","v":""},null,null,null,null,null,null,null,null,null,null,null,null,null,null,null,null,21062021,44368]
[null,null,null,null,{"$f":"IF(Configuração!C3699=\"\",\"\",Configuração!B3699)","v":""},null,null,null,null,null,null,null,null,null,null,null,null,null,null,null,null,21072011,40745]
[null,null,null,null,{"$f":"IF(Configuração!C3704=\"\",\"\",Configuração!B3704)","v":""},null,null,null,null,null,null,null,null,null,null,null,null,null,null,null,null,21072016,42572]
[null,null,null,null,{"$f":"IF(Configuração!C3709=\"\",\"\",Configuração!B3709)","v":""},null,null,null,null,null,null,null,null,null,null,null,null,null,null,null,null,21072021,44398]
[null,null,null,null,{"$f":"IF(Configuração!C3710=\"\",\"\",Configuração!B3710)","v":""},null,null,null,null,null,null,null,null,null,null,null,null,null,null,null,null,21072022,44763]
[null,null,null,null,{"$f":"IF(Configuração!C3716=\"\",\"\",Configuração!B3716)","v":""},null,null,null,null,null,null,null,null,null,null,null,null,null,null,null,null,21082013,41507]
[null,null,null,null,{"$f":"IF(Configuração!C3719=\"\",\"\",Configuração!B3719)","v":""},null,null,null,null,null,null,null,null,null,null,null,null,null,null,null,null,21082016,42603]
[null,null,null,null,{"$f":"IF(Configuração!C3724=\"\",\"\",Configuração!B3724)","v":""},null,null,null,null,null,null,null,null,null,null,null,null,null,null,null,null,21082021,44429]
[null,null,null,null,{"$f":"IF(Configuração!C3725=\"\",\"\",Configuração!B3725)","v":""},null,null,null,null,null,null,null,null,null,null,null,null,null,null,null,null,21082022,44794]
[null,null,null,null,{"$f":"IF(Configuração!C3730=\"\",\"\",Configuração!B3730)","v":""},null,null,null,null,null,null,null,null,null,null,null,null,null,null,null,null,21092012,41173]
[null,null,null,null,{"$f":"IF(Configuração!C3735=\"\",\"\",Configuração!B3735)","v":""},null,null,null,null,null,null,null,null,null,null,null,null,null,null,null,null,21092017,42999]
[null,null,null,null,{"$f":"IF(Configuração!C3740=\"\",\"\",Configuração!B3740)","v":""},null,null,null,null,null,null,null,null,null,null,null,null,null,null,null,null,21092022,44825]
[null,null,null,null,{"$f":"IF(Configuração!C3743=\"\",\"\",Configuração!B3743)","v":""},null,null,null,null,null,null,null,null,null,null,null,null,null,null,null,null,21102010,40472]
[null,null,null,null,{"$f":"IF(Configuração!C3745=\"\",\"\",Configuração!B3745)","v":""},null,null,null,null,null,null,null,null,null,null,null,null,null,null,null,null,21102012,41203]
[null,null,null,null,{"$f":"IF(Configuração!C3750=\"\",\"\",Configuração!B3750)","v":""},null,null,null,null,null,null,null,null,null,null,null,null,null,null,null,null,21102017,43029]
[null,null,null,null,{"$f":"IF(Configuração!C3755=\"\",\"\",Configuração!B3755)","v":""},null,null,null,null,null,null,null,null,null,null,null,null,null,null,null,null,21102022,44855]
[null,null,null,null,{"$f":"IF(Configuração!C3756=\"\",\"\",Configuração!B3756)","v":""},null,null,null,null,null,null,null,null,null,null,null,null,null,null,null,null,21102023,45220]
[null,null,null,null,{"$f":"IF(Configuração!C3761=\"\",\"\",Configuração!B3761)","v":""},null,null,null,null,null,null,null,null,null,null,null,null,null,null,null,null,21112013,41599]
[null,null,null,null,{"$f":"IF(Configuração!C3766=\"\",\"\",Configuração!B3766)","v":""},null,null,null,null,null,null,null,null,null,null,null,null,null,null,null,null,21112018,43425]
[null,null,null,null,{"$f":"IF(Configuração!C3770=\"\",\"\",Configuração!B3770)","v":""},null,null,null,null,null,null,null,null,null,null,null,null,null,null,null,null,21112022,44886]
[null,null,null,null,{"$f":"IF(Configuração!C3771=\"\",\"\",Configuração!B3771)","v":""},null,null,null,null,null,null,null,null,null,null,null,null,null,null,null,null,21112023,45251]
[null,null,null,null,{"$f":"IF(Configuração!C3776=\"\",\"\",Configuração!B3776)","v":""},null,null,null,null,null,null,null,null,null,null,null,null,null,null,null,null,21122013,41629]
[null,null,null,null,{"$f":"IF(Configuração!C3781=\"\",\"\",Configuração!B3781)","v":""},null,null,null,null,null,null,null,null,null,null,null,null,null,null,null,null,21122018,43455]
[null,null,null,null,{"$f":"IF(Configuração!C3786=\"\",\"\",Configuração!B3786)","v":""},null,null,null,null,null,null,null,null,null,null,null,null,null,null,null,null,21122023,45281]
[null,null,null,null,{"$f":"IF(Configuração!C3787=\"\",\"\",Configuração!B3787)","v":""},null,null,null,null,null,null,null,null,null,null,null,null,null,null,null,null,22012009,39835]
[null,null,null,null,{"$f":"IF(Configuração!C3792=\"\",\"\",Configuração!B3792)","v":""},null,null,null,null,null,null,null,null,null,null,null,null,null,null,null,null,22012014,41661]
[null,null,null,null,{"$f":"IF(Configuração!C3797=\"\",\"\",Configuração!B3797)","v":""},null,null,null,null,null,null,null,null,null,null,null,null,null,null,null,null,22012019,43487]
[null,null,null,null,{"$f":"IF(Configuração!C3801=\"\",\"\",Configuração!B3801)","v":""},null,null,null,null,null,null,null,null,null,null,null,null,null,null,null,null,22012023,44948]
[null,null,null,null,{"$f":"IF(Configuração!C3802=\"\",\"\",Configuração!B3802)","v":""},null,null,null,null,null,null,null,null,null,null,null,null,null,null,null,null,22022009,39866]
[null,null,null,null,{"$f":"IF(Configuração!C3807=\"\",\"\",Configuração!B3807)","v":""},null,null,null,null,null,null,null,null,null,null,null,null,null,null,null,null,22022014,41692]
[null,null,null,null,{"$f":"IF(Configuração!C3812=\"\",\"\",Configuração!B3812)","v":""},null,null,null,null,null,null,null,null,null,null,null,null,null,null,null,null,22022019,43518]
[null,null,null,null,{"$f":"IF(Configuração!C3817=\"\",\"\",Configuração!B3817)","v":""},null,null,null,null,null,null,null,null,null,null,null,null,null,null,null,null,22032009,39894]
[null,null,null,null,{"$f":"IF(Configuração!C3818=\"\",\"\",Configuração!B3818)","v":""},null,null,null,null,null,null,null,null,null,null,null,null,null,null,null,null,22032010,40259]
[null,null,null,null,{"$f":"IF(Configuração!C3823=\"\",\"\",Configuração!B3823)","v":""},null,null,null,null,null,null,null,null,null,null,null,null,null,null,null,null,22032015,42085]
[null,null,null,null,{"$f":"IF(Configuração!C3827=\"\",\"\",Configuração!B3827)","v":""},null,null,null,null,null,null,null,null,null,null,null,null,null,null,null,null,22032019,43546]
[null,null,null,null,{"$f":"IF(Configuração!C3832=\"\",\"\",Configuração!B3832)","v":""},null,null,null,null,null,null,null,null,null,null,null,null,null,null,null,null,22042009,39925]
[null,null,null,null,{"$f":"IF(Configuração!C3833=\"\",\"\",Configuração!B3833)","v":""},null,null,null,null,null,null,null,null,null,null,null,null,null,null,null,null,22042010,40290]
[null,null,null,null,{"$f":"IF(Configuração!C3838=\"\",\"\",Configuração!B3838)","v":""},null,null,null,null,null,null,null,null,null,null,null,null,null,null,null,null,22042015,42116]
[null,null,null,null,{"$f":"IF(Configuração!C3843=\"\",\"\",Configuração!B3843)","v":""},null,null,null,null,null,null,null,null,null,null,null,null,null,null,null,null,22042020,43943]
[null,null,null,null,{"$f":"IF(Configuração!C3848=\"\",\"\",Configuração!B3848)","v":""},null,null,null,null,null,null,null,null,null,null,null,null,null,null,null,null,22052010,40320]
[null,null,null,null,{"$f":"IF(Configuração!C3849=\"\",\"\",Configuração!B3849)","v":""},null,null,null,null,null,null,null,null,null,null,null,null,null,null,null,null,22052011,40685]
[null,null,null,null,{"$f":"IF(Configuração!C3854=\"\",\"\",Configuração!B3854)","v":""},null,null,null,null,null,null,null,null,null,null,null,null,null,null,null,null,22052016,42512]
[null,null,null,null,{"$f":"IF(Configuração!C3858=\"\",\"\",Configuração!B3858)","v":""},null,null,null,null,null,null,null,null,null,null,null,null,null,null,null,null,22052020,43973]
[null,null,null,null,{"$f":"IF(Configuração!C3863=\"\",\"\",Configuração!B3863)","v":""},null,null,null,null,null,null,null,null,null,null,null,null,null,null,null,null,22062010,40351]
[null,null,null,null,{"$f":"IF(Configuração!C3864=\"\",\"\",Configuração!B3864)","v":""},null,null,null,null,null,null,null,null,null,null,null,null,null,null,null,null,22062011,40716]
[null,null,null,null,{"$f":"IF(Configuração!C3869=\"\",\"\",Configuração!B3869)","v":""},null,null,null,null,null,null,null,null,null,null,null,null,null,null,null,null,22062016,42543]
[null,null,null,null,{"$f":"IF(Configuração!C3874=\"\",\"\",Configuração!B3874)","v":""},null,null,null,null,null,null,null,null,null,null,null,null,null,null,null,null,22062021,44369]
[null,null,null,null,{"$f":"IF(Configuração!C3879=\"\",\"\",Configuração!B3879)","v":""},null,null,null,null,null,null,null,null,null,null,null,null,null,null,null,null,22072011,40746]
[null,null,null,null,{"$f":"IF(Configuração!C3881=\"\",\"\",Configuração!B3881)","v":""},null,null,null,null,null,null,null,null,null,null,null,null,null,null,null,null,22072013,41477]
[null,null,null,null,{"$f":"IF(Configuração!C3884=\"\",\"\",Configuração!B3884)","v":""},null,null,null,null,null,null,null,null,null,null,null,null,null,null,null,null,22072016,42573]
[null,null,null,null,{"$f":"IF(Configuração!C3889=\"\",\"\",Configuração!B3889)","v":""},null,null,null,null,null,null,null,null,null,null,null,null,null,null,null,null,22072021,44399]
[null,null,null,null,{"$f":"IF(Configuração!C3894=\"\",\"\",Configuração!B3894)","v":""},null,null,null,null,null,null,null,null,null,null,null,null,null,null,null,null,22082011,40777]
[null,null,null,null,{"$f":"IF(Configuração!C3895=\"\",\"\",Configuração!B3895)","v":""},null,null,null,null,null,null,null,null,null,null,null,null,null,null,null,null,22082012,41143]
[null,null,null,null,{"$f":"IF(Configuração!C3900=\"\",\"\",Configuração!B3900)","v":""},null,null,null,null,null,null,null,null,null,null,null,null,null,null,null,null,22082017,42969]
[null,null,null,null,{"$f":"IF(Configuração!C3905=\"\",\"\",Configuração!B3905)","v":""},null,null,null,null,null,null,null,null,null,null,null,null,null,null,null,null,22082022,44795]
[null,null,null,null,{"$f":"IF(Configuração!C3908=\"\",\"\",Configuração!B3908)","v":""},null,null,null,null,null,null,null,null,null,null,null,null,null,null,null,null,22092010,40443]
[null,null,null,null,{"$f":"IF(Configuração!C3910=\"\",\"\",Configuração!B3910)","v":""},null,null,null,null,null,null,null,null,null,null,null,null,null,null,null,null,22092012,41174]
[null,null,null,null,{"$f":"IF(Configuração!C3915=\"\",\"\",Configuração!B3915)","v":""},null,null,null,null,null,null,null,null,null,null,null,null,null,null,null,null,22092017,43000]
[null,null,null,null,{"$f":"IF(Configuração!C3920=\"\",\"\",Configuração!B3920)","v":""},null,null,null,null,null,null,null,null,null,null,null,null,null,null,null,null,22092022,44826]
[null,null,null,null,{"$f":"IF(Configuração!C3925=\"\",\"\",Configuração!B3925)","v":""},null,null,null,null,null,null,null,null,null,null,null,null,null,null,null,null,22102012,41204]
[null,null,null,null,{"$f":"IF(Configuração!C3926=\"\",\"\",Configuração!B3926)","v":""},null,null,null,null,null,null,null,null,null,null,null,null,null,null,null,null,22102013,41569]
[null,null,null,null,{"$f":"IF(Configuração!C3931=\"\",\"\",Configuração!B3931)","v":""},null,null,null,null,null,null,null,null,null,null,null,null,null,null,null,null,22102018,43395]
[null,null,null,null,{"$f":"IF(Configuração!C3934=\"\",\"\",Configuração!B3934)","v":""},null,null,null,null,null,null,null,null,null,null,null,null,null,null,null,null,22102021,44491]
[null,null,null,null,{"$f":"IF(Configuração!C3940=\"\",\"\",Configuração!B3940)","v":""},null,null,null,null,null,null,null,null,null,null,null,null,null,null,null,null,22112012,41235]
[null,null,null,null,{"$f":"IF(Configuração!C3941=\"\",\"\",Configuração!B3941)","v":""},null,null,null,null,null,null,null,null,null,null,null,null,null,null,null,null,22112013,41600]
[null,null,null,null,{"$f":"IF(Configuração!C3946=\"\",\"\",Configuração!B3946)","v":""},null,null,null,null,null,null,null,null,null,null,null,null,null,null,null,null,22112018,43426]
[null,null,null,null,{"$f":"IF(Configuração!C3951=\"\",\"\",Configuração!B3951)","v":""},null,null,null,null,null,null,null,null,null,null,null,null,null,null,null,null,22112023,45252]
[null,null,null,null,{"$f":"IF(Configuração!C3956=\"\",\"\",Configuração!B3956)","v":""},null,null,null,null,null,null,null,null,null,null,null,null,null,null,null,null,22122013,41630]
[null,null,null,null,{"$f":"IF(Configuração!C3957=\"\",\"\",Configuração!B3957)","v":""},null,null,null,null,null,null,null,null,null,null,null,null,null,null,null,null,22122014,41995]
[null,null,null,null,{"$f":"IF(Configuração!C3962=\"\",\"\",Configuração!B3962)","v":""},null,null,null,null,null,null,null,null,null,null,null,null,null,null,null,null,22122019,43821]
[null,null,null,null,{"$f":"IF(Configuração!C3965=\"\",\"\",Configuração!B3965)","v":""},null,null,null,null,null,null,null,null,null,null,null,null,null,null,null,null,22122022,44917]
[null,null,null,null,{"$f":"IF(Configuração!C3971=\"\",\"\",Configuração!B3971)","v":""},null,null,null,null,null,null,null,null,null,null,null,null,null,null,null,null,23012013,41297]
[null,null,null,null,{"$f":"IF(Configuração!C3972=\"\",\"\",Configuração!B3972)","v":""},null,null,null,null,null,null,null,null,null,null,null,null,null,null,null,null,23012014,41662]
[null,null,null,null,{"$f":"IF(Configuração!C3977=\"\",\"\",Configuração!B3977)","v":""},null,null,null,null,null,null,null,null,null,null,null,null,null,null,null,null,23012019,43488]
[null,null,null,null,{"$f":"IF(Configuração!C3982=\"\",\"\",Configuração!B3982)","v":""},null,null,null,null,null,null,null,null,null,null,null,null,null,null,null,null,23022009,39867]
[null,null,null,null,{"$f":"IF(Configuração!C3987=\"\",\"\",Configuração!B3987)","v":""},null,null,null,null,null,null,null,null,null,null,null,null,null,null,null,null,23022014,41693]
[null,null,null,null,{"$f":"IF(Configuração!C3988=\"\",\"\",Configuração!B3988)","v":""},null,null,null,null,null,null,null,null,null,null,null,null,null,null,null,null,23022015,42058]
[null,null,null,null,{"$f":"IF(Configuração!C3992=\"\",\"\",Configuração!B3992)","v":""},null,null,null,null,null,null,null,null,null,null,null,null,null,null,null,null,23022019,43519]
[null,null,null,null,{"$f":"IF(Configuração!C3997=\"\",\"\",Configuração!B3997)","v":""},null,null,null,null,null,null,null,null,null,null,null,null,null,null,null,null,23032009,39895]
[null,null,null,null,{"$f":"IF(Configuração!C4002=\"\",\"\",Configuração!B4002)","v":""},null,null,null,null,null,null,null,null,null,null,null,null,null,null,null,null,23032014,41721]
[null,null,null,null,{"$f":"IF(Configuração!C4003=\"\",\"\",Configuração!B4003)","v":""},null,null,null,null,null,null,null,null,null,null,null,null,null,null,null,null,23032015,42086]
[null,null,null,null,{"$f":"IF(Configuração!C4008=\"\",\"\",Configuração!B4008)","v":""},null,null,null,null,null,null,null,null,null,null,null,null,null,null,null,null,23032020,43913]
[null,null,null,null,{"$f":"IF(Configuração!C4013=\"\",\"\",Configuração!B4013)","v":""},null,null,null,null,null,null,null,null,null,null,null,null,null,null,null,null,23042010,40291]
[null,null,null,null,{"$f":"IF(Configuração!C4018=\"\",\"\",Configuração!B4018)","v":""},null,null,null,null,null,null,null,null,null,null,null,null,null,null,null,null,23042015,42117]
[null,null,null,null,{"$f":"IF(Configuração!C4019=\"\",\"\",Configuração!B4019)","v":""},null,null,null,null,null,null,null,null,null,null,null,null,null,null,null,null,23042016,42483]
[null,null,null,null,{"$f":"IF(Configuração!C4023=\"\",\"\",Configuração!B4023)","v":""},null,null,null,null,null,null,null,null,null,null,null,null,null,null,null,null,23042020,43944]
[null,null,null,null,{"$f":"IF(Configuração!C4028=\"\",\"\",Configuração!B4028)","v":""},null,null,null,null,null,null,null,null,null,null,null,null,null,null,null,null,23052010,40321]
[null,null,null,null,{"$f":"IF(Configuração!C4033=\"\",\"\",Configuração!B4033)","v":""},null,null,null,null,null,null,null,null,null,null,null,null,null,null,null,null,23052015,42147]
[null,null,null,null,{"$f":"IF(Configuração!C4034=\"\",\"\",Configuração!B4034)","v":""},null,null,null,null,null,null,null,null,null,null,null,null,null,null,null,null,23052016,42513]
[null,null,null,null,{"$f":"IF(Configuração!C4039=\"\",\"\",Configuração!B4039)","v":""},null,null,null,null,null,null,null,null,null,null,null,null,null,null,null,null,23052021,44339]
[null,null,null,null,{"$f":"IF(Configuração!C4044=\"\",\"\",Configuração!B4044)","v":""},null,null,null,null,null,null,null,null,null,null,null,null,null,null,null,null,23062011,40717]
[null,null,null,null,{"$f":"IF(Configuração!C4048=\"\",\"\",Configuração!B4048)","v":""},null,null,null,null,null,null,null,null,null,null,null,null,null,null,null,null,23062015,42178]
[null,null,null,null,{"$f":"IF(Configuração!C4049=\"\",\"\",Configuração!B4049)","v":""},null,null,null,null,null,null,null,null,null,null,null,null,null,null,null,null,23062016,42544]
[null,null,null,null,{"$f":"IF(Configuração!C4054=\"\",\"\",Configuração!B4054)","v":""},null,null,null,null,null,null,null,null,null,null,null,null,null,null,null,null,23062021,44370]
[null,null,null,null,{"$f":"IF(Configuração!C4059=\"\",\"\",Configuração!B4059)","v":""},null,null,null,null,null,null,null,null,null,null,null,null,null,null,null,null,23072011,40747]
[null,null,null,null,{"$f":"IF(Configuração!C4064=\"\",\"\",Configuração!B4064)","v":""},null,null,null,null,null,null,null,null,null,null,null,null,null,null,null,null,23072016,42574]
[null,null,null,null,{"$f":"IF(Configuração!C4065=\"\",\"\",Configuração!B4065)","v":""},null,null,null,null,null,null,null,null,null,null,null,null,null,null,null,null,23072017,42939]
[null,null,null,null,{"$f":"IF(Configuração!C4070=\"\",\"\",Configuração!B4070)","v":""},null,null,null,null,null,null,null,null,null,null,null,null,null,null,null,null,23072022,44765]
[null,null,null,null,{"$f":"IF(Configuração!C4075=\"\",\"\",Configuração!B4075)","v":""},null,null,null,null,null,null,null,null,null,null,null,null,null,null,null,null,23082012,41144]
[null,null,null,null,{"$f":"IF(Configuração!C4079=\"\",\"\",Configuração!B4079)","v":""},null,null,null,null,null,null,null,null,null,null,null,null,null,null,null,null,23082016,42605]
[null,null,null,null,{"$f":"IF(Configuração!C4080=\"\",\"\",Configuração!B4080)","v":""},null,null,null,null,null,null,null,null,null,null,null,null,null,null,null,null,23082017,42970]
[null,null,null,null,{"$f":"IF(Configuração!C4085=\"\",\"\",Configuração!B4085)","v":""},null,null,null,null,null,null,null,null,null,null,null,null,null,null,null,null,23082022,44796]
[null,null,null,null,{"$f":"IF(Configuração!C4090=\"\",\"\",Configuração!B4090)","v":""},null,null,null,null,null,null,null,null,null,null,null,null,null,null,null,null,23092012,41175]
[null,null,null,null,{"$f":"IF(Configuração!C4095=\"\",\"\",Configuração!B4095)","v":""},null,null,null,null,null,null,null,null,null,null,null,null,null,null,null,null,23092017,43001]
[null,null,null,null,{"$f":"IF(Configuração!C4096=\"\",\"\",Configuração!B4096)","v":""},null,null,null,null,null,null,null,null,null,null,null,null,null,null,null,null,23092018,43366]
[null,null,null,null,{"$f":"IF(Configuração!C4101=\"\",\"\",Configuração!B4101)","v":""},null,null,null,null,null,null,null,null,null,null,null,null,null,null,null,null,23092023,45192]
[null,null,null,null,{"$f":"IF(Configuração!C4106=\"\",\"\",Configuração!B4106)","v":""},null,null,null,null,null,null,null,null,null,null,null,null,null,null,null,null,23102013,41570]
[null,null,null,null,{"$f":"IF(Configuração!C4110=\"\",\"\",Configuração!B4110)","v":""},null,null,null,null,null,null,null,null,null,null,null,null,null,null,null,null,23102017,43031]
[null,null,null,null,{"$f":"IF(Configuração!C4111=\"\",\"\",Configuração!B4111)","v":""},null,null,null,null,null,null,null,null,null,null,null,null,null,null,null,null,23102018,43396]
[null,null,null,null,{"$f":"IF(Configuração!C4116=\"\",\"\",Configuração!B4116)","v":""},null,null,null,null,null,null,null,null,null,null,null,null,null,null,null,null,23102023,45222]
[null,null,null,null,{"$f":"IF(Configuração!C4121=\"\",\"\",Configuração!B4121)","v":""},null,null,null,null,null,null,null,null,null,null,null,null,null,null,null,null,23112013,41601]
[null,null,null,null,{"$f":"IF(Configuração!C4126=\"\",\"\",Configuração!B4126)","v":""},null,null,null,null,null,null,null,null,null,null,null,null,null,null,null,null,23112018,43427]
[null,null,null,null,{"$f":"IF(Configuração!C4127=\"\",\"\",Configuração!B4127)","v":""},null,null,null,null,null,null,null,null,null,null,null,null,null,null,null,null,23112019,43792]
[null,null,null,null,{"$f":"IF(Configuração!C4133=\"\",\"\",Configuração!B4133)","v":""},null,null,null,null,null,null,null,null,null,null,null,null,null,null,null,null,23122010,40535]
[null,null,null,null,{"$f":"IF(Configuração!C4136=\"\",\"\",Configuração!B4136)","v":""},null,null,null,null,null,null,null,null,null,null,null,null,null,null,null,null,23122013,41631]
[null,null,null,null,{"$f":"IF(Configuração!C4141=\"\",\"\",Configuração!B4141)","v":""},null,null,null,null,null,null,null,null,null,null,null,null,null,null,null,null,23122018,43457]
[null,null,null,null,{"$f":"IF(Configuração!C4142=\"\",\"\",Configuração!B4142)","v":""},null,null,null,null,null,null,null,null,null,null,null,null,null,null,null,null,23122019,43822]
[null,null,null,null,{"$f":"IF(Configuração!C4147=\"\",\"\",Configuração!B4147)","v":""},null,null,null,null,null,null,null,null,null,null,null,null,null,null,null,null,24012009,39837]
[null,null,null,null,{"$f":"IF(Configuração!C4152=\"\",\"\",Configuração!B4152)","v":""},null,null,null,null,null,null,null,null,null,null,null,null,null,null,null,null,24012014,41663]
[null,null,null,null,{"$f":"IF(Configuração!C4157=\"\",\"\",Configuração!B4157)","v":""},null,null,null,null,null,null,null,null,null,null,null,null,null,null,null,null,24012019,43489]
[null,null,null,null,{"$f":"IF(Configuração!C4159=\"\",\"\",Configuração!B4159)","v":""},null,null,null,null,null,null,null,null,null,null,null,null,null,null,null,null,24012021,44220]
[null,null,null,null,{"$f":"IF(Configuração!C4162=\"\",\"\",Configuração!B4162)","v":""},null,null,null,null,null,null,null,null,null,null,null,null,null,null,null,null,24022009,39868]
[null,null,null,null,{"$f":"IF(Configuração!C4167=\"\",\"\",Configuração!B4167)","v":""},null,null,null,null,null,null,null,null,null,null,null,null,null,null,null,null,24022014,41694]
[null,null,null,null,{"$f":"IF(Configuração!C4172=\"\",\"\",Configuração!B4172)","v":""},null,null,null,null,null,null,null,null,null,null,null,null,null,null,null,null,24022019,43520]
[null,null,null,null,{"$f":"IF(Configuração!C4173=\"\",\"\",Configuração!B4173)","v":""},null,null,null,null,null,null,null,null,null,null,null,null,null,null,null,null,24022020,43885]
[null,null,null,null,{"$f":"IF(Configuração!C4178=\"\",\"\",Configuração!B4178)","v":""},null,null,null,null,null,null,null,null,null,null,null,null,null,null,null,null,24032010,40261]
[null,null,null,null,{"$f":"IF(Configuração!C4183=\"\",\"\",Configuração!B4183)","v":""},null,null,null,null,null,null,null,null,null,null,null,null,null,null,null,null,24032015,42087]
[null,null,null,null,{"$f":"IF(Configuração!C4188=\"\",\"\",Configuração!B4188)","v":""},null,null,null,null,null,null,null,null,null,null,null,null,null,null,null,null,24032020,43914]
[null,null,null,null,{"$f":"IF(Configuração!C4190=\"\",\"\",Configuração!B4190)","v":""},null,null,null,null,null,null,null,null,null,null,null,null,null,null,null,null,24032022,44644]
[null,null,null,null,{"$f":"IF(Configuração!C4193=\"\",\"\",Configuração!B4193)","v":""},null,null,null,null,null,null,null,null,null,null,null,null,null,null,null,null,24042010,40292]
[null,null,null,null,{"$f":"IF(Configuração!C4198=\"\",\"\",Configuração!B4198)","v":""},null,null,null,null,null,null,null,null,null,null,null,null,null,null,null,null,24042015,42118]
[null,null,null,null,{"$f":"IF(Configuração!C4203=\"\",\"\",Configuração!B4203)","v":""},null,null,null,null,null,null,null,null,null,null,null,null,null,null,null,null,24042020,43945]
[null,null,null,null,{"$f":"IF(Configuração!C4204=\"\",\"\",Configuração!B4204)","v":""},null,null,null,null,null,null,null,null,null,null,null,null,null,null,null,null,24042021,44310]
[null,null,null,null,{"$f":"IF(Configuração!C4209=\"\",\"\",Configuração!B4209)","v":""},null,null,null,null,null,null,null,null,null,null,null,null,null,null,null,null,24052011,40687]
[null,null,null,null,{"$f":"IF(Configuração!C4214=\"\",\"\",Configuração!B4214)","v":""},null,null,null,null,null,null,null,null,null,null,null,null,null,null,null,null,24052016,42514]
[null,null,null,null,{"$f":"IF(Configuração!C4217=\"\",\"\",Configuração!B4217)","v":""},null,null,null,null,null,null,null,null,null,null,null,null,null,null,null,null,24052019,43609]
[null,null,null,null,{"$f":"IF(Configuração!C4219=\"\",\"\",Configuração!B4219)","v":""},null,null,null,null,null,null,null,null,null,null,null,null,null,null,null,null,24052021,44340]
[null,null,null,null,{"$f":"IF(Configuração!C4224=\"\",\"\",Configuração!B4224)","v":""},null,null,null,null,null,null,null,null,null,null,null,null,null,null,null,null,24062011,40718]
[null,null,null,null,{"$f":"IF(Configuração!C4229=\"\",\"\",Configuração!B4229)","v":""},null,null,null,null,null,null,null,null,null,null,null,null,null,null,null,null,24062016,42545]
[null,null,null,null,{"$f":"IF(Configuração!C4234=\"\",\"\",Configuração!B4234)","v":""},null,null,null,null,null,null,null,null,null,null,null,null,null,null,null,null,24062021,44371]
[null,null,null,null,{"$f":"IF(Configuração!C4235=\"\",\"\",Configuração!B4235)","v":""},null,null,null,null,null,null,null,null,null,null,null,null,null,null,null,null,24062022,44736]
[null,null,null,null,{"$f":"IF(Configuração!C4240=\"\",\"\",Configuração!B4240)","v":""},null,null,null,null,null,null,null,null,null,null,null,null,null,null,null,null,24072012,41114]
[null,null,null,null,{"$f":"IF(Configuração!C4244=\"\",\"\",Configuração!B4244)","v":""},null,null,null,null,null,null,null,null,null,null,null,null,null,null,null,null,24072016,42575]
[null,null,null,null,{"$f":"IF(Configuração!C4249=\"\",\"\",Configuração!B4249)","v":""},null,null,null,null,null,null,null,null,null,null,null,null,null,null,null,null,24072021,44401]
[null,null,null,null,{"$f":"IF(Configuração!C4250=\"\",\"\",Configuração!B4250)","v":""},null,null,null,null,null,null,null,null,null,null,null,null,null,null,null,null,24072022,44766]
[null,null,null,null,{"$f":"IF(Configuração!C4255=\"\",\"\",Configuração!B4255)","v":""},null,null,null,null,null,null,null,null,null,null,null,null,null,null,null,null,24082012,41145]
[null,null,null,null,{"$f":"IF(Configuração!C4260=\"\",\"\",Configuração!B4260)","v":""},null,null,null,null,null,null,null,null,null,null,null,null,null,null,null,null,24082017,42971]
[null,null,null,null,{"$f":"IF(Configuração!C4265=\"\",\"\",Configuração!B4265)","v":""},null,null,null,null,null,null,null,null,null,null,null,null,null,null,null,null,24082022,44797]
[null,null,null,null,{"$f":"IF(Configuração!C4266=\"\",\"\",Configuração!B4266)","v":""},null,null,null,null,null,null,null,null,null,null,null,null,null,null,null,null,24082023,45162]
[null,null,null,null,{"$f":"IF(Configuração!C4270=\"\",\"\",Configuração!B4270)","v":""},null,null,null,null,null,null,null,null,null,null,null,null,null,null,null,null,24092012,41176]
[null,null,null,null,{"$f":"IF(Configuração!C4275=\"\",\"\",Configuração!B4275)","v":""},null,null,null,null,null,null,null,null,null,null,null,null,null,null,null,null,24092017,43002]
[null,null,null,null,{"$f":"IF(Configuração!C4280=\"\",\"\",Configuração!B4280)","v":""},null,null,null,null,null,null,null,null,null,null,null,null,null,null,null,null,24092022,44828]
[null,null,null,null,{"$f":"IF(Configuração!C4281=\"\",\"\",Configuração!B4281)","v":""},null,null,null,null,null,null,null,null,null,null,null,null,null,null,null,null,24092023,45193]
[null,null,null,null,{"$f":"IF(Configuração!C4286=\"\",\"\",Configuração!B4286)","v":""},null,null,null,null,null,null,null,null,null,null,null,null,null,null,null,null,24102013,41571]
[null,null,null,null,{"$f":"IF(Configuração!C4291=\"\",\"\",Configuração!B4291)","v":""},null,null,null,null,null,null,null,null,null,null,null,null,null,null,null,null,24102018,43397]
[null,null,null,null,{"$f":"IF(Configuração!C4296=\"\",\"\",Configuração!B4296)","v":""},null,null,null,null,null,null,null,null,null,null,null,null,null,null,null,null,24102023,45223]
[null,null,null,null,{"$f":"IF(Configuração!C4297=\"\",\"\",Configuração!B4297)","v":""},null,null,null,null,null,null,null,null,null,null,null,null,null,null,null,null,24112009,40141]
[null,null,null,null,{"$f":"IF(Configuração!C4302=\"\",\"\",Configuração!B4302)","v":""},null,null,null,null,null,null,null,null,null,null,null,null,null,null,null,null,24112014,41967]
[null,null,null,null,{"$f":"IF(Configuração!C4306=\"\",\"\",Configuração!B4306)","v":""},null,null,null,null,null,null,null,null,null,null,null,null,null,null,null,null,24112018,43428]
[null,null,null,null,{"$f":"IF(Configuração!C4311=\"\",\"\",Configuração!B4311)","v":""},null,null,null,null,null,null,null,null,null,null,null,null,null,null,null,null,24112023,45254]
[null,null,null,null,{"$f":"IF(Configuração!C4312=\"\",\"\",Configuração!B4312)","v":""},null,null,null,null,null,null,null,null,null,null,null,null,null,null,null,null,24122009,40171]
[null,null,null,null,{"$f":"IF(Configuração!C4317=\"\",\"\",Configuração!B4317)","v":""},null,null,null,null,null,null,null,null,null,null,null,null,null,null,null,null,24122014,41997]
[null,null,null,null,{"$f":"IF(Configuração!C4322=\"\",\"\",Configuração!B4322)","v":""},null,null,null,null,null,null,null,null,null,null,null,null,null,null,null,null,24122019,43823]
[null,null,null,null,{"$f":"IF(Configuração!C4327=\"\",\"\",Configuração!B4327)","v":""},null,null,null,null,null,null,null,null,null,null,null,null,null,null,null,null,25012009,39838]
[null,null,null,null,{"$f":"IF(Configuração!C4328=\"\",\"\",Configuração!B4328)","v":""},null,null,null,null,null,null,null,null,null,null,null,null,null,null,null,null,25012010,40203]
[null,null,null,null,{"$f":"IF(Configuração!C4332=\"\",\"\",Configuração!B4332)","v":""},null,null,null,null,null,null,null,null,null,null,null,null,null,null,null,null,25012014,41664]
[null,null,null,null,{"$f":"IF(Configuração!C4337=\"\",\"\",Configuração!B4337)","v":""},null,null,null,null,null,null,null,null,null,null,null,null,null,null,null,null,25012019,43490]
[null,null,null,null,{"$f":"IF(Configuração!C4342=\"\",\"\",Configuração!B4342)","v":""},null,null,null,null,null,null,null,null,null,null,null,null,null,null,null,null,25022009,39869]
[null,null,null,null,{"$f":"IF(Configuração!C4343=\"\",\"\",Configuração!B4343)","v":""},null,null,null,null,null,null,null,null,null,null,null,null,null,null,null,null,25022010,40234]
[null,null,null,null,{"$f":"IF(Configuração!C4348=\"\",\"\",Configuração!B4348)","v":""},null,null,null,null,null,null,null,null,null,null,null,null,null,null,null,null,25022015,42060]
[null,null,null,null,{"$f":"IF(Configuração!C4353=\"\",\"\",Configuração!B4353)","v":""},null,null,null,null,null,null,null,null,null,null,null,null,null,null,null,null,25022020,43886]
[null,null,null,null,{"$f":"IF(Configuração!C4355=\"\",\"\",Configuração!B4355)","v":""},null,null,null,null,null,null,null,null,null,null,null,null,null,null,null,null,25022022,44617]
[null,null,null,null,{"$f":"IF(Configuração!C4358=\"\",\"\",Configuração!B4358)","v":""},null,null,null,null,null,null,null,null,null,null,null,null,null,null,null,null,25032010,40262]
[null,null,null,null,{"$f":"IF(Configuração!C4363=\"\",\"\",Configuração!B4363)","v":""},null,null,null,null,null,null,null,null,null,null,null,null,null,null,null,null,25032015,42088]
[null,null,null,null,{"$f":"IF(Configuração!C4368=\"\",\"\",Configuração!B4368)","v":""},null,null,null,null,null,null,null,null,null,null,null,null,null,null,null,null,25032020,43915]
[null,null,null,null,{"$f":"IF(Configuração!C4373=\"\",\"\",Configuração!B4373)","v":""},null,null,null,null,null,null,null,null,null,null,null,null,null,null,null,null,25042010,40293]
[null,null,null,null,{"$f":"IF(Configuração!C4374=\"\",\"\",Configuração!B4374)","v":""},null,null,null,null,null,null,null,null,null,null,null,null,null,null,null,null,25042011,40658]
[null,null,null,null,{"$f":"IF(Configuração!C4379=\"\",\"\",Configuração!B4379)","v":""},null,null,null,null,null,null,null,null,null,null,null,null,null,null,null,null,25042016,42485]
[null,null,null,null,{"$f":"IF(Configuração!C4382=\"\",\"\",Configuração!B4382)","v":""},null,null,null,null,null,null,null,null,null,null,null,null,null,null,null,null,25042019,43580]
[null,null,null,null,{"$f":"IF(Configuração!C4388=\"\",\"\",Configuração!B4388)","v":""},null,null,null,null,null,null,null,null,null,null,null,null,null,null,null,null,25052010,40323]
[null,null,null,null,{"$f":"IF(Configuração!C4389=\"\",\"\",Configuração!B4389)","v":""},null,null,null,null,null,null,null,null,null,null,null,null,null,null,null,null,25052011,40688]
[null,null,null,null,{"$f":"IF(Configuração!C4394=\"\",\"\",Configuração!B4394)","v":""},null,null,null,null,null,null,null,null,null,null,null,null,null,null,null,null,25052016,42515]
[null,null,null,null,{"$f":"IF(Configuração!C4399=\"\",\"\",Configuração!B4399)","v":""},null,null,null,null,null,null,null,null,null,null,null,null,null,null,null,null,25052021,44341]
[null,null,null,null,{"$f":"IF(Configuração!C4404=\"\",\"\",Configuração!B4404)","v":""},null,null,null,null,null,null,null,null,null,null,null,null,null,null,null,null,25062011,40719]
[null,null,null,null,{"$f":"IF(Configuração!C4405=\"\",\"\",Configuração!B4405)","v":""},null,null,null,null,null,null,null,null,null,null,null,null,null,null,null,null,25062012,41085]
[null,null,null,null,{"$f":"IF(Configuração!C4410=\"\",\"\",Configuração!B4410)","v":""},null,null,null,null,null,null,null,null,null,null,null,null,null,null,null,null,25062017,42911]
[null,null,null,null,{"$f":"IF(Configuração!C4413=\"\",\"\",Configuração!B4413)","v":""},null,null,null,null,null,null,null,null,null,null,null,null,null,null,null,null,25062020,44007]
[null,null,null,null,{"$f":"IF(Configuração!C4419=\"\",\"\",Configuração!B4419)","v":""},null,null,null,null,null,null,null,null,null,null,null,null,null,null,null,null,25072011,40749]
[null,null,null,null,{"$f":"IF(Configuração!C4420=\"\",\"\",Configuração!B4420)","v":""},null,null,null,null,null,null,null,null,null,null,null,null,null,null,null,null,25072012,41115]
[null,null,null,null,{"$f":"IF(Configuração!C4425=\"\",\"\",Configuração!B4425)","v":""},null,null,null,null,null,null,null,null,null,null,null,null,null,null,null,null,25072017,42941]
[null,null,null,null,{"$f":"IF(Configuração!C4430=\"\",\"\",Configuração!B4430)","v":""},null,null,null,null,null,null,null,null,null,null,null,null,null,null,null,null,25072022,44767]
[null,null,null,null,{"$f":"IF(Configuração!C4435=\"\",\"\",Configuração!B4435)","v":""},null,null,null,null,null,null,null,null,null,null,null,null,null,null,null,null,25082012,41146]
[null,null,null,null,{"$f":"IF(Configuração!C4436=\"\",\"\",Configuração!B4436)","v":""},null,null,null,null,null,null,null,null,null,null,null,null,null,null,null,null,25082013,41511]
[null,null,null,null,{"$f":"IF(Configuração!C4442=\"\",\"\",Configuração!B4442)","v":""},null,null,null,null,null,null,null,null,null,null,null,null,null,null,null,null,25082019,43702]
[null,null,null,null,{"$f":"IF(Configuração!C4445=\"\",\"\",Configuração!B4445)","v":""},null,null,null,null,null,null,null,null,null,null,null,null,null,null,null,null,25082022,44798]
[null,null,null,null,{"$f":"IF(Configuração!C4450=\"\",\"\",Configuração!B4450)","v":""},null,null,null,null,null,null,null,null,null,null,null,null,null,null,null,null,25092012,41177]
[null,null,null,null,{"$f":"IF(Configuração!C4451=\"\",\"\",Configuração!B4451)","v":""},null,null,null,null,null,null,null,null,null,null,null,null,null,null,null,null,25092013,41542]
[null,null,null,null,{"$f":"IF(Configuração!C4456=\"\",\"\",Configuração!B4456)","v":""},null,null,null,null,null,null,null,null,null,null,null,null,null,null,null,null,25092018,43368]
[null,null,null,null,{"$f":"IF(Configuração!C4461=\"\",\"\",Configuração!B4461)","v":""},null,null,null,null,null,null,null,null,null,null,null,null,null,null,null,null,25092023,45194]
[null,null,null,null,{"$f":"IF(Configuração!C4466=\"\",\"\",Configuração!B4466)","v":""},null,null,null,null,null,null,null,null,null,null,null,null,null,null,null,null,25102013,41572]
[null,null,null,null,{"$f":"IF(Configuração!C4469=\"\",\"\",Configuração!B4469)","v":""},null,null,null,null,null,null,null,null,null,null,null,null,null,null,null,null,25102016,42668]
[null,null,null,null,{"$f":"IF(Configuração!C4471=\"\",\"\",Configuração!B4471)","v":""},null,null,null,null,null,null,null,null,null,null,null,null,null,null,null,null,25102018,43398]
[null,null,null,null,{"$f":"IF(Configuração!C4476=\"\",\"\",Configuração!B4476)","v":""},null,null,null,null,null,null,null,null,null,null,null,null,null,null,null,null,25102023,45224]
[null,null,null,null,{"$f":"IF(Configuração!C4481=\"\",\"\",Configuração!B4481)","v":""},null,null,null,null,null,null,null,null,null,null,null,null,null,null,null,null,25112013,41603]
[null,null,null,null,{"$f":"IF(Configuração!C4482=\"\",\"\",Configuração!B4482)","v":""},null,null,null,null,null,null,null,null,null,null,null,null,null,null,null,null,25112014,41968]
[null,null,null,null,{"$f":"IF(Configuração!C4487=\"\",\"\",Configuração!B4487)","v":""},null,null,null,null,null,null,null,null,null,null,null,null,null,null,null,null,25112019,43794]
[null,null,null,null,{"$f":"IF(Configuração!C4492=\"\",\"\",Configuração!B4492)","v":""},null,null,null,null,null,null,null,null,null,null,null,null,null,null,null,null,25122009,40172]
[null,null,null,null,{"$f":"IF(Configuração!C4496=\"\",\"\",Configuração!B4496)","v":""},null,null,null,null,null,null,null,null,null,null,null,null,null,null,null,null,25122013,41633]
[null,null,null,null,{"$f":"IF(Configuração!C4497=\"\",\"\",Configuração!B4497)","v":""},null,null,null,null,null,null,null,null,null,null,null,null,null,null,null,null,25122014,41998]
[null,null,null,null,{"$f":"IF(Configuração!C4502=\"\",\"\",Configuração!B4502)","v":""},null,null,null,null,null,null,null,null,null,null,null,null,null,null,null,null,25122019,43824]
[null,null,null,null,{"$f":"IF(Configuração!C4507=\"\",\"\",Configuração!B4507)","v":""},null,null,null,null,null,null,null,null,null,null,null,null,null,null,null,null,26012009,39839]
[null,null,null,null,{"$f":"IF(Configuração!C4512=\"\",\"\",Configuração!B4512)","v":""},null,null,null,null,null,null,null,null,null,null,null,null,null,null,null,null,26012014,41665]
[null,null,null,null,{"$f":"IF(Configuração!C4513=\"\",\"\",Configuração!B4513)","v":""},null,null,null,null,null,null,null,null,null,null,null,null,null,null,null,null,26012015,42030]
[null,null,null,null,{"$f":"IF(Configuração!C4518=\"\",\"\",Configuração!B4518)","v":""},null,null,null,null,null,null,null,null,null,null,null,null,null,null,null,null,26012020,43856]
[null,null,null,null,{"$f":"IF(Configuração!C4523=\"\",\"\",Configuração!B4523)","v":""},null,null,null,null,null,null,null,null,null,null,null,null,null,null,null,null,26022010,40235]
[null,null,null,null,{"$f":"IF(Configuração!C4527=\"\",\"\",Configuração!B4527)","v":""},null,null,null,null,null,null,null,null,null,null,null,null,null,null,null,null,26022014,41696]
[null,null,null,null,{"$f":"IF(Configuração!C4528=\"\",\"\",Configuração!B4528)","v":""},null,null,null,null,null,null,null,null,null,null,null,null,null,null,null,null,26022015,42061]
[null,null,null,null,{"$f":"IF(Configuração!C4533=\"\",\"\",Configuração!B4533)","v":""},null,null,null,null,null,null,null,null,null,null,null,null,null,null,null,null,26022020,43887]
[null,null,null,null,{"$f":"IF(Configuração!C4538=\"\",\"\",Configuração!B4538)","v":""},null,null,null,null,null,null,null,null,null,null,null,null,null,null,null,null,26032010,40263]
[null,null,null,null,{"$f":"IF(Configuração!C4543=\"\",\"\",Configuração!B4543)","v":""},null,null,null,null,null,null,null,null,null,null,null,null,null,null,null,null,26032015,42089]
[null,null,null,null,{"$f":"IF(Configuração!C4544=\"\",\"\",Configuração!B4544)","v":""},null,null,null,null,null,null,null,null,null,null,null,null,null,null,null,null,26032016,42455]
[null,null,null,null,{"$f":"IF(Configuração!C4549=\"\",\"\",Configuração!B4549)","v":""},null,null,null,null,null,null,null,null,null,null,null,null,null,null,null,null,26032021,44281]
[null,null,null,null,{"$f":"IF(Configuração!C4553=\"\",\"\",Configuração!B4553)","v":""},null,null,null,null,null,null,null,null,null,null,null,null,null,null,null,null,26042010,40294]
[null,null,null,null,{"$f":"IF(Configuração!C4558=\"\",\"\",Configuração!B4558)","v":""},null,null,null,null,null,null,null,null,null,null,null,null,null,null,null,null,26042015,42120]
[null,null,null,null,{"$f":"IF(Configuração!C4559=\"\",\"\",Configuração!B4559)","v":""},null,null,null,null,null,null,null,null,null,null,null,null,null,null,null,null,26042016,42486]
[null,null,null,null,{"$f":"IF(Configuração!C4564=\"\",\"\",Configuração!B4564)","v":""},null,null,null,null,null,null,null,null,null,null,null,null,null,null,null,null,26042021,44312]
[null,null,null,null,{"$f":"IF(Configuração!C4569=\"\",\"\",Configuração!B4569)","v":""},null,null,null,null,null,null,null,null,null,null,null,null,null,null,null,null,26052011,40689]
[null,null,null,null,{"$f":"IF(Configuração!C4574=\"\",\"\",Configuração!B4574)","v":""},null,null,null,null,null,null,null,null,null,null,null,null,null,null,null,null,26052016,42516]
[null,null,null,null,{"$f":"IF(Configuração!C4575=\"\",\"\",Configuração!B4575)","v":""},null,null,null,null,null,null,null,null,null,null,null,null,null,null,null,null,26052017,42881]
[null,null,null,null,{"$f":"IF(Configuração!C4580=\"\",\"\",Configuração!B4580)","v":""},null,null,null,null,null,null,null,null,null,null,null,null,null,null,null,null,26052022,44707]
[null,null,null,null,{"$f":"IF(Configuração!C4584=\"\",\"\",Configuração!B4584)","v":""},null,null,null,null,null,null,null,null,null,null,null,null,null,null,null,null,26062011,40720]
[null,null,null,null,{"$f":"IF(Configuração!C4589=\"\",\"\",Configuração!B4589)","v":""},null,null,null,null,null,null,null,null,null,null,null,null,null,null,null,null,26062016,42547]
[null,null,null,null,{"$f":"IF(Configuração!C4590=\"\",\"\",Configuração!B4590)","v":""},null,null,null,null,null,null,null,null,null,null,null,null,null,null,null,null,26062017,42912]
[null,null,null,null,{"$f":"IF(Configuração!C4595=\"\",\"\",Configuração!B4595)","v":""},null,null,null,null,null,null,null,null,null,null,null,null,null,null,null,null,26062022,44738]
[null,null,null,null,{"$f":"IF(Configuração!C4600=\"\",\"\",Configuração!B4600)","v":""},null,null,null,null,null,null,null,null,null,null,null,null,null,null,null,null,26072012,41116]
[null,null,null,null,{"$f":"IF(Configuração!C4605=\"\",\"\",Configuração!B4605)","v":""},null,null,null,null,null,null,null,null,null,null,null,null,null,null,null,null,26072017,42942]
[null,null,null,null,{"$f":"IF(Configuração!C4607=\"\",\"\",Configuração!B4607)","v":""},null,null,null,null,null,null,null,null,null,null,null,null,null,null,null,null,26072019,43672]
[null,null,null,null,{"$f":"IF(Configuração!C4610=\"\",\"\",Configuração!B4610)","v":""},null,null,null,null,null,null,null,null,null,null,null,null,null,null,null,null,26072022,44768]
[null,null,null,null,{"$f":"IF(Configuração!C4615=\"\",\"\",Configuração!B4615)","v":""},null,null,null,null,null,null,null,null,null,null,null,null,null,null,null,null,26082012,41147]
[null,null,null,null,{"$f":"IF(Configuração!C4620=\"\",\"\",Configuração!B4620)","v":""},null,null,null,null,null,null,null,null,null,null,null,null,null,null,null,null,26082017,42973]
[null,null,null,null,{"$f":"IF(Configuração!C4621=\"\",\"\",Configuração!B4621)","v":""},null,null,null,null,null,null,null,null,null,null,null,null,null,null,null,null,26082018,43338]
[null,null,null,null,{"$f":"IF(Configuração!C4626=\"\",\"\",Configuração!B4626)","v":""},null,null,null,null,null,null,null,null,null,null,null,null,null,null,null,null,26082023,45164]
[null,null,null,null,{"$f":"IF(Configuração!C4631=\"\",\"\",Configuração!B4631)","v":""},null,null,null,null,null,null,null,null,null,null,null,null,null,null,null,null,26092013,41543]
[null,null,null,null,{"$f":"IF(Configuração!C4636=\"\",\"\",Configuração!B4636)","v":""},null,null,null,null,null,null,null,null,null,null,null,null,null,null,null,null,26092018,43369]
[null,null,null,null,{"$f":"IF(Configuração!C4638=\"\",\"\",Configuração!B4638)","v":""},null,null,null,null,null,null,null,null,null,null,null,null,null,null,null,null,26092020,44100]
[null,null,null,null,{"$f":"IF(Configuração!C4641=\"\",\"\",Configuração!B4641)","v":""},null,null,null,null,null,null,null,null,null,null,null,null,null,null,null,null,26092023,45195]
[null,null,null,null,{"$f":"IF(Configuração!C4646=\"\",\"\",Configuração!B4646)","v":""},null,null,null,null,null,null,null,null,null,null,null,null,null,null,null,null,26102013,41573]
[null,null,null,null,{"$f":"IF(Configuração!C4651=\"\",\"\",Configuração!B4651)","v":""},null,null,null,null,null,null,null,null,null,null,null,null,null,null,null,null,26102018,43399]
[null,null,null,null,{"$f":"IF(Configuração!C4652=\"\",\"\",Configuração!B4652)","v":""},null,null,null,null,null,null,null,null,null,null,null,null,null,null,null,null,26102019,43764]
[null,null,null,null,{"$f":"IF(Configuração!C4657=\"\",\"\",Configuração!B4657)","v":""},null,null,null,null,null,null,null,null,null,null,null,null,null,null,null,null,26112009,40143]
[null,null,null,null,{"$f":"IF(Configuração!C4662=\"\",\"\",Configuração!B4662)","v":""},null,null,null,null,null,null,null,null,null,null,null,null,null,null,null,null,26112014,41969]
[null,null,null,null,{"$f":"IF(Configuração!C4664=\"\",\"\",Configuração!B4664)","v":""},null,null,null,null,null,null,null,null,null,null,null,null,null,null,null,null,26112016,42700]
[null,null,null,null,{"$f":"IF(Configuração!C4667=\"\",\"\",Configuração!B4667)","v":""},null,null,null,null,null,null,null,null,null,null,null,null,null,null,null,null,26112019,43795]
[null,null,null,null,{"$f":"IF(Configuração!C4672=\"\",\"\",Configuração!B4672)","v":""},null,null,null,null,null,null,null,null,null,null,null,null,null,null,null,null,26122009,40173]
[null,null,null,null,{"$f":"IF(Configuração!C4677=\"\",\"\",Configuração!B4677)","v":""},null,null,null,null,null,null,null,null,null,null,null,null,null,null,null,null,26122014,41999]
[null,null,null,null,{"$f":"IF(Configuração!C4682=\"\",\"\",Configuração!B4682)","v":""},null,null,null,null,null,null,null,null,null,null,null,null,null,null,null,null,26122019,43825]
[null,null,null,null,{"$f":"IF(Configuração!C4683=\"\",\"\",Configuração!B4683)","v":""},null,null,null,null,null,null,null,null,null,null,null,null,null,null,null,null,26122020,44191]
[null,null,null,null,{"$f":"IF(Configuração!C4688=\"\",\"\",Configuração!B4688)","v":""},null,null,null,null,null,null,null,null,null,null,null,null,null,null,null,null,27012010,40205]
[null,null,null,null,{"$f":"IF(Configuração!C4691=\"\",\"\",Configuração!B4691)","v":""},null,null,null,null,null,null,null,null,null,null,null,null,null,null,null,null,27012013,41301]
[null,null,null,null,{"$f":"IF(Configuração!C4697=\"\",\"\",Configuração!B4697)","v":""},null,null,null,null,null,null,null,null,null,null,null,null,null,null,null,null,27012019,43492]
[null,null,null,null,{"$f":"IF(Configuração!C4698=\"\",\"\",Configuração!B4698)","v":""},null,null,null,null,null,null,null,null,null,null,null,null,null,null,null,null,27012020,43857]
[null,null,null,null,{"$f":"IF(Configuração!C4703=\"\",\"\",Configuração!B4703)","v":""},null,null,null,null,null,null,null,null,null,null,null,null,null,null,null,null,27022010,40236]
[null,null,null,null,{"$f":"IF(Configuração!C4708=\"\",\"\",Configuração!B4708)","v":""},null,null,null,null,null,null,null,null,null,null,null,null,null,null,null,null,27022015,42062]
[null,null,null,null,{"$f":"IF(Configuração!C4713=\"\",\"\",Configuração!B4713)","v":""},null,null,null,null,null,null,null,null,null,null,null,null,null,null,null,null,27022020,43888]
[null,null,null,null,{"$f":"IF(Configuração!C4714=\"\",\"\",Configuração!B4714)","v":""},null,null,null,null,null,null,null,null,null,null,null,null,null,null,null,null,27022021,44254]
[null,null,null,null,{"$f":"IF(Configuração!C4718=\"\",\"\",Configuração!B4718)","v":""},null,null,null,null,null,null,null,null,null,null,null,null,null,null,null,null,27032010,40264]
[null,null,null,null,{"$f":"IF(Configuração!C4723=\"\",\"\",Configuração!B4723)","v":""},null,null,null,null,null,null,null,null,null,null,null,null,null,null,null,null,27032015,42090]
[null,null,null,null,{"$f":"IF(Configuração!C4728=\"\",\"\",Configuração!B4728)","v":""},null,null,null,null,null,null,null,null,null,null,null,null,null,null,null,null,27032020,43917]
[null,null,null,null,{"$f":"IF(Configuração!C4729=\"\",\"\",Configuração!B4729)","v":""},null,null,null,null,null,null,null,null,null,null,null,null,null,null,null,null,27032021,44282]
[null,null,null,null,{"$f":"IF(Configuração!C4734=\"\",\"\",Configuração!B4734)","v":""},null,null,null,null,null,null,null,null,null,null,null,null,null,null,null,null,27042011,40660]
[null,null,null,null,{"$f":"IF(Configuração!C4739=\"\",\"\",Configuração!B4739)","v":""},null,null,null,null,null,null,null,null,null,null,null,null,null,null,null,null,27042016,42487]
[null,null,null,null,{"$f":"IF(Configuração!C4744=\"\",\"\",Configuração!B4744)","v":""},null,null,null,null,null,null,null,null,null,null,null,null,null,null,null,null,27042021,44313]
[null,null,null,null,{"$f":"IF(Configuração!C4745=\"\",\"\",Configuração!B4745)","v":""},null,null,null,null,null,null,null,null,null,null,null,null,null,null,null,null,27042022,44678]
[null,null,null,null,{"$f":"IF(Configuração!C4749=\"\",\"\",Configuração!B4749)","v":""},null,null,null,null,null,null,null,null,null,null,null,null,null,null,null,null,27052011,40690]
[null,null,null,null,{"$f":"IF(Configuração!C4754=\"\",\"\",Configuração!B4754)","v":""},null,null,null,null,null,null,null,null,null,null,null,null,null,null,null,null,27052016,42517]
[null,null,null,null,{"$f":"IF(Configuração!C4759=\"\",\"\",Configuração!B4759)","v":""},null,null,null,null,null,null,null,null,null,null,null,null,null,null,null,null,27052021,44343]
[null,null,null,null,{"$f":"IF(Configuração!C4760=\"\",\"\",Configuração!B4760)","v":""},null,null,null,null,null,null,null,null,null,null,null,null,null,null,null,null,27052022,44708]
[null,null,null,null,{"$f":"IF(Configuração!C4765=\"\",\"\",Configuração!B4765)","v":""},null,null,null,null,null,null,null,null,null,null,null,null,null,null,null,null,27062012,41087]
[null,null,null,null,{"$f":"IF(Configuração!C4770=\"\",\"\",Configuração!B4770)","v":""},null,null,null,null,null,null,null,null,null,null,null,null,null,null,null,null,27062017,42913]
[null,null,null,null,{"$f":"IF(Configuração!C4775=\"\",\"\",Configuração!B4775)","v":""},null,null,null,null,null,null,null,null,null,null,null,null,null,null,null,null,27062022,44739]
[null,null,null,null,{"$f":"IF(Configuração!C4776=\"\",\"\",Configuração!B4776)","v":""},null,null,null,null,null,null,null,null,null,null,null,null,null,null,null,null,27062023,45104]
[null,null,null,null,{"$f":"IF(Configuração!C4780=\"\",\"\",Configuração!B4780)","v":""},null,null,null,null,null,null,null,null,null,null,null,null,null,null,null,null,27072012,41117]
[null,null,null,null,{"$f":"IF(Configuração!C4785=\"\",\"\",Configuração!B4785)","v":""},null,null,null,null,null,null,null,null,null,null,null,null,null,null,null,null,27072017,42943]
[null,null,null,null,{"$f":"IF(Configuração!C4790=\"\",\"\",Configuração!B4790)","v":""},null,null,null,null,null,null,null,null,null,null,null,null,null,null,null,null,27072022,44769]
[null,null,null,null,{"$f":"IF(Configuração!C4791=\"\",\"\",Configuração!B4791)","v":""},null,null,null,null,null,null,null,null,null,null,null,null,null,null,null,null,27072023,45134]
[null,null,null,null,{"$f":"IF(Configuração!C4796=\"\",\"\",Configuração!B4796)","v":""},null,null,null,null,null,null,null,null,null,null,null,null,null,null,null,null,27082013,41513]
[null,null,null,null,{"$f":"IF(Configuração!C4801=\"\",\"\",Configuração!B4801)","v":""},null,null,null,null,null,null,null,null,null,null,null,null,null,null,null,null,27082018,43339]
[null,null,null,null,{"$f":"IF(Configuração!C4805=\"\",\"\",Configuração!B4805)","v":""},null,null,null,null,null,null,null,null,null,null,null,null,null,null,null,null,27082022,44800]
[null,null,null,null,{"$f":"IF(Configuração!C4806=\"\",\"\",Configuração!B4806)","v":""},null,null,null,null,null,null,null,null,null,null,null,null,null,null,null,null,27082023,45165]
[null,null,null,null,{"$f":"IF(Configuração!C4811=\"\",\"\",Configuração!B4811)","v":""},null,null,null,null,null,null,null,null,null,null,null,null,null,null,null,null,27092013,41544]
[null,null,null,null,{"$f":"IF(Configuração!C4816=\"\",\"\",Configuração!B4816)","v":""},null,null,null,null,null,null,null,null,null,null,null,null,null,null,null,null,27092018,43370]
[null,null,null,null,{"$f":"IF(Configuração!C4821=\"\",\"\",Configuração!B4821)","v":""},null,null,null,null,null,null,null,null,null,null,null,null,null,null,null,null,27092023,45196]
[null,null,null,null,{"$f":"IF(Configuração!C4822=\"\",\"\",Configuração!B4822)","v":""},null,null,null,null,null,null,null,null,null,null,null,null,null,null,null,null,27102009,40113]
[null,null,null,null,{"$f":"IF(Configuração!C4827=\"\",\"\",Configuração!B4827)","v":""},null,null,null,null,null,null,null,null,null,null,null,null,null,null,null,null,27102014,41939]
[null,null,null,null,{"$f":"IF(Configuração!C4832=\"\",\"\",Configuração!B4832)","v":""},null,null,null,null,null,null,null,null,null,null,null,null,null,null,null,null,27102019,43765]
[null,null,null,null,{"$f":"IF(Configuração!C4836=\"\",\"\",Configuração!B4836)","v":""},null,null,null,null,null,null,null,null,null,null,null,null,null,null,null,null,27102023,45226]
[null,null,null,null,{"$f":"IF(Configuração!C4837=\"\",\"\",Configuração!B4837)","v":""},null,null,null,null,null,null,null,null,null,null,null,null,null,null,null,null,27112009,40144]
[null,null,null,null,{"$f":"IF(Configuração!C4842=\"\",\"\",Configuração!B4842)","v":""},null,null,null,null,null,null,null,null,null,null,null,null,null,null,null,null,27112014,41970]
[null,null,null,null,{"$f":"IF(Configuração!C4847=\"\",\"\",Configuração!B4847)","v":""},null,null,null,null,null,null,null,null,null,null,null,null,null,null,null,null,27112019,43796]
[null,null,null,null,{"$f":"IF(Configuração!C4852=\"\",\"\",Configuração!B4852)","v":""},null,null,null,null,null,null,null,null,null,null,null,null,null,null,null,null,27122009,40174]
[null,null,null,null,{"$f":"IF(Configuração!C4853=\"\",\"\",Configuração!B4853)","v":""},null,null,null,null,null,null,null,null,null,null,null,null,null,null,null,null,27122010,40539]
[null,null,null,null,{"$f":"IF(Configuração!C4858=\"\",\"\",Configuração!B4858)","v":""},null,null,null,null,null,null,null,null,null,null,null,null,null,null,null,null,27122015,42365]
[null,null,null,null,{"$f":"IF(Configuração!C4863=\"\",\"\",Configuração!B4863)","v":""},null,null,null,null,null,null,null,null,null,null,null,null,null,null,null,null,27122020,44192]
[null,null,null,null,{"$f":"IF(Configuração!C4867=\"\",\"\",Configuração!B4867)","v":""},null,null,null,null,null,null,null,null,null,null,null,null,null,null,null,null,28012009,39841]
[null,null,null,null,{"$f":"IF(Configuração!C4868=\"\",\"\",Configuração!B4868)","v":""},null,null,null,null,null,null,null,null,null,null,null,null,null,null,null,null,28012010,40206]
[null,null,null,null,{"$f":"IF(Configuração!C4873=\"\",\"\",Configuração!B4873)","v":""},null,null,null,null,null,null,null,null,null,null,null,null,null,null,null,null,28012015,42032]
[null,null,null,null,{"$f":"IF(Configuração!C4878=\"\",\"\",Configuração!B4878)","v":""},null,null,null,null,null,null,null,null,null,null,null,null,null,null,null,null,28012020,43858]
[null,null,null,null,{"$f":"IF(Configuração!C4883=\"\",\"\",Configuração!B4883)","v":""},null,null,null,null,null,null,null,null,null,null,null,null,null,null,null,null,28022010,40237]
[null,null,null,null,{"$f":"IF(Configuração!C4884=\"\",\"\",Configuração!B4884)","v":""},null,null,null,null,null,null,null,null,null,null,null,null,null,null,null,null,28022011,40602]
[null,null,null,null,{"$f":"IF(Configuração!C4890=\"\",\"\",Configuração!B4890)","v":""},null,null,null,null,null,null,null,null,null,null,null,null,null,null,null,null,28022017,42794]
[null,null,null,null,{"$f":"IF(Configuração!C4893=\"\",\"\",Configuração!B4893)","v":""},null,null,null,null,null,null,null,null,null,null,null,null,null,null,null,null,28022020,43889]
[null,null,null,null,{"$f":"IF(Configuração!C4898=\"\",\"\",Configuração!B4898)","v":""},null,null,null,null,null,null,null,null,null,null,null,null,null,null,null,null,28032010,40265]
[null,null,null,null,{"$f":"IF(Configuração!C4899=\"\",\"\",Configuração!B4899)","v":""},null,null,null,null,null,null,null,null,null,null,null,null,null,null,null,null,28032011,40630]
[null,null,null,null,{"$f":"IF(Configuração!C4904=\"\",\"\",Configuração!B4904)","v":""},null,null,null,null,null,null,null,null,null,null,null,null,null,null,null,null,28032016,42457]
[null,null,null,null,{"$f":"IF(Configuração!C4909=\"\",\"\",Configuração!B4909)","v":""},null,null,null,null,null,null,null,null,null,null,null,null,null,null,null,null,28032021,44283]
[null,null,null,null,{"$f":"IF(Configuração!C4914=\"\",\"\",Configuração!B4914)","v":""},null,null,null,null,null,null,null,null,null,null,null,null,null,null,null,null,28042011,40661]
[null,null,null,null,{"$f":"IF(Configuração!C4916=\"\",\"\",Configuração!B4916)","v":""},null,null,null,null,null,null,null,null,null,null,null,null,null,null,null,null,28042013,41392]
[null,null,null,null,{"$f":"IF(Configuração!C4919=\"\",\"\",Configuração!B4919)","v":""},null,null,null,null,null,null,null,null,null,null,null,null,null,null,null,null,28042016,42488]
[null,null,null,null,{"$f":"IF(Configuração!C4924=\"\",\"\",Configuração!B4924)","v":""},null,null,null,null,null,null,null,null,null,null,null,null,null,null,null,null,28042021,44314]
[null,null,null,null,{"$f":"IF(Configuração!C4929=\"\",\"\",Configuração!B4929)","v":""},null,null,null,null,null,null,null,null,null,null,null,null,null,null,null,null,28052011,40691]
[null,null,null,null,{"$f":"IF(Configuração!C4930=\"\",\"\",Configuração!B4930)","v":""},null,null,null,null,null,null,null,null,null,null,null,null,null,null,null,null,28052012,41057]
[null,null,null,null,{"$f":"IF(Configuração!C4935=\"\",\"\",Configuração!B4935)","v":""},null,null,null,null,null,null,null,null,null,null,null,null,null,null,null,null,28052017,42883]
[null,null,null,null,{"$f":"IF(Configuração!C4940=\"\",\"\",Configuração!B4940)","v":""},null,null,null,null,null,null,null,null,null,null,null,null,null,null,null,null,28052022,44709]
[null,null,null,null,{"$f":"IF(Configuração!C4943=\"\",\"\",Configuração!B4943)","v":""},null,null,null,null,null,null,null,null,null,null,null,null,null,null,null,null,28062010,40357]
[null,null,null,null,{"$f":"IF(Configuração!C4945=\"\",\"\",Configuração!B4945)","v":""},null,null,null,null,null,null,null,null,null,null,null,null,null,null,null,null,28062012,41088]
[null,null,null,null,{"$f":"IF(Configuração!C4950=\"\",\"\",Configuração!B4950)","v":""},null,null,null,null,null,null,null,null,null,null,null,null,null,null,null,null,28062017,42914]
[null,null,null,null,{"$f":"IF(Configuração!C4955=\"\",\"\",Configuração!B4955)","v":""},null,null,null,null,null,null,null,null,null,null,null,null,null,null,null,null,28062022,44740]
[null,null,null,null,{"$f":"IF(Configuração!C4960=\"\",\"\",Configuração!B4960)","v":""},null,null,null,null,null,null,null,null,null,null,null,null,null,null,null,null,28072012,41118]
[null,null,null,null,{"$f":"IF(Configuração!C4961=\"\",\"\",Configuração!B4961)","v":""},null,null,null,null,null,null,null,null,null,null,null,null,null,null,null,null,28072013,41483]
[null,null,null,null,{"$f":"IF(Configuração!C4966=\"\",\"\",Configuração!B4966)","v":""},null,null,null,null,null,null,null,null,null,null,null,null,null,null,null,null,28072018,43309]
[null,null,null,null,{"$f":"IF(Configuração!C4971=\"\",\"\",Configuração!B4971)","v":""},null,null,null,null,null,null,null,null,null,null,null,null,null,null,null,null,28072023,45135]
[null,null,null,null,{"$f":"IF(Configuração!C4974=\"\",\"\",Configuração!B4974)","v":""},null,null,null,null,null,null,null,null,null,null,null,null,null,null,null,null,28082011,40783]
[null,null,null,null,{"$f":"IF(Configuração!C4976=\"\",\"\",Configuração!B4976)","v":""},null,null,null,null,null,null,null,null,null,null,null,null,null,null,null,null,28082013,41514]
[null,null,null,null,{"$f":"IF(Configuração!C4981=\"\",\"\",Configuração!B4981)","v":""},null,null,null,null,null,null,null,null,null,null,null,null,null,null,null,null,28082018,43340]
[null,null,null,null,{"$f":"IF(Configuração!C4986=\"\",\"\",Configuração!B4986)","v":""},null,null,null,null,null,null,null,null,null,null,null,null,null,null,null,null,28082023,45166]
[null,null,null,null,{"$f":"IF(Configuração!C4991=\"\",\"\",Configuração!B4991)","v":""},null,null,null,null,null,null,null,null,null,null,null,null,null,null,null,null,28092013,41545]
[null,null,null,null,{"$f":"IF(Configuração!C4992=\"\",\"\",Configuração!B4992)","v":""},null,null,null,null,null,null,null,null,null,null,null,null,null,null,null,null,28092014,41910]
[null,null,null,null,{"$f":"IF(Configuração!C4997=\"\",\"\",Configuração!B4997)","v":""},null,null,null,null,null,null,null,null,null,null,null,null,null,null,null,null,28092019,43736]
[null,null,null,null,{"$f":"IF(Configuração!C5001=\"\",\"\",Configuração!B5001)","v":""},null,null,null,null,null,null,null,null,null,null,null,null,null,null,null,null,28092023,45197]
[null,null,null,null,{"$f":"IF(Configuração!C5006=\"\",\"\",Configuração!B5006)","v":""},null,null,null,null,null,null,null,null,null,null,null,null,null,null,null,null,28102013,41575]
[null,null,null,null,{"$f":"IF(Configuração!C5007=\"\",\"\",Configuração!B5007)","v":""},null,null,null,null,null,null,null,null,null,null,null,null,null,null,null,null,28102014,41940]
[null,null,null,null,{"$f":"IF(Configuração!C5012=\"\",\"\",Configuração!B5012)","v":""},null,null,null,null,null,null,null,null,null,null,null,null,null,null,null,null,28102019,43766]
[null,null,null,null,{"$f":"IF(Configuração!C5017=\"\",\"\",Configuração!B5017)","v":""},null,null,null,null,null,null,null,null,null,null,null,null,null,null,null,null,28112009,40145]
[null,null,null,null,{"$f":"IF(Configuração!C5022=\"\",\"\",Configuração!B5022)","v":""},null,null,null,null,null,null,null,null,null,null,null,null,null,null,null,null,28112014,41971]
[null,null,null,null,{"$f":"IF(Configuração!C5023=\"\",\"\",Configuração!B5023)","v":""},null,null,null,null,null,null,null,null,null,null,null,null,null,null,null,null,28112015,42336]
[null,null,null,null,{"$f":"IF(Configuração!C5027=\"\",\"\",Configuração!B5027)","v":""},null,null,null,null,null,null,null,null,null,null,null,null,null,null,null,null,28112019,43797]
[null,null,null,null,{"$f":"IF(Configuração!C5032=\"\",\"\",Configuração!B5032)","v":""},null,null,null,null,null,null,null,null,null,null,null,null,null,null,null,null,28122009,40175]
[null,null,null,null,{"$f":"IF(Configuração!C5037=\"\",\"\",Configuração!B5037)","v":""},null,null,null,null,null,null,null,null,null,null,null,null,null,null,null,null,28122014,42001]
[null,null,null,null,{"$f":"IF(Configuração!C5038=\"\",\"\",Configuração!B5038)","v":""},null,null,null,null,null,null,null,null,null,null,null,null,null,null,null,null,28122015,42366]
[null,null,null,null,{"$f":"IF(Configuração!C5043=\"\",\"\",Configuração!B5043)","v":""},null,null,null,null,null,null,null,null,null,null,null,null,null,null,null,null,28122020,44193]
[null,null,null,null,{"$f":"IF(Configuração!C5048=\"\",\"\",Configuração!B5048)","v":""},null,null,null,null,null,null,null,null,null,null,null,null,null,null,null,null,29012010,40207]
[null,null,null,null,{"$f":"IF(Configuração!C5053=\"\",\"\",Configuração!B5053)","v":""},null,null,null,null,null,null,null,null,null,null,null,null,null,null,null,null,29012015,42033]
[null,null,null,null,{"$f":"IF(Configuração!C5054=\"\",\"\",Configuração!B5054)","v":""},null,null,null,null,null,null,null,null,null,null,null,null,null,null,null,null,29012016,42398]
[null,null,null,null,{"$f":"IF(Configuração!C5058=\"\",\"\",Configuração!B5058)","v":""},null,null,null,null,null,null,null,null,null,null,null,null,null,null,null,null,29012020,43859]
[null,null,null,null,{"$f":"IF(Configuração!C5063=\"\",\"\",Configuração!B5063)","v":""},null,null,null,null,null,null,null,null,null,null,null,null,null,null,null,null,29022016,42429]
[null,null,null,null,{"$f":"IF(Configuração!C5068=\"\",\"\",Configuração!B5068)","v":""},null,null,null,null,null,null,null,null,null,null,null,null,null,null,null,null,29032012,40997]
[null,null,null,null,{"$f":"IF(Configuração!C5069=\"\",\"\",Configuração!B5069)","v":""},null,null,null,null,null,null,null,null,null,null,null,null,null,null,null,null,29032013,41362]
[null,null,null,null,{"$f":"IF(Configuração!C5074=\"\",\"\",Configuração!B5074)","v":""},null,null,null,null,null,null,null,null,null,null,null,null,null,null,null,null,29032018,43188]
[null,null,null,null,{"$f":"IF(Configuração!C5079=\"\",\"\",Configuração!B5079)","v":""},null,null,null,null,null,null,null,null,null,null,null,null,null,null,null,null,29032023,45014]
[null,null,null,null,{"$f":"IF(Configuração!C5084=\"\",\"\",Configuração!B5084)","v":""},null,null,null,null,null,null,null,null,null,null,null,null,null,null,null,null,29042013,41393]
[null,null,null,null,{"$f":"IF(Configuração!C5085=\"\",\"\",Configuração!B5085)","v":""},null,null,null,null,null,null,null,null,null,null,null,null,null,null,null,null,29042014,41758]
[null,null,null,null,{"$f":"IF(Configuração!C5089=\"\",\"\",Configuração!B5089)","v":""},null,null,null,null,null,null,null,null,null,null,null,null,null,null,null,null,29042018,43219]
[null,null,null,null,{"$f":"IF(Configuração!C5094=\"\",\"\",Configuração!B5094)","v":""},null,null,null,null,null,null,null,null,null,null,null,null,null,null,null,null,29042023,45045]
[null,null,null,null,{"$f":"IF(Configuração!C5099=\"\",\"\",Configuração!B5099)","v":""},null,null,null,null,null,null,null,null,null,null,null,null,null,null,null,null,29052013,41423]
[null,null,null,null,{"$f":"IF(Configuração!C5100=\"\",\"\",Configuração!B5100)","v":""},null,null,null,null,null,null,null,null,null,null,null,null,null,null,null,null,29052014,41788]
[null,null,null,null,{"$f":"IF(Configuração!C5105=\"\",\"\",Configuração!B5105)","v":""},null,null,null,null,null,null,null,null,null,null,null,null,null,null,null,null,29052019,43614]
[null,null,null,null,{"$f":"IF(Configuração!C5110=\"\",\"\",Configuração!B5110)","v":""},null,null,null,null,null,null,null,null,null,null,null,null,null,null,null,null,29062009,39993]
[null,null,null,null,{"$f":"IF(Configuração!C5112=\"\",\"\",Configuração!B5112)","v":""},null,null,null,null,null,null,null,null,null,null,null,null,null,null,null,null,29062011,40723]
[null,null,null,null,{"$f":"IF(Configuração!C5115=\"\",\"\",Configuração!B5115)","v":""},null,null,null,null,null,null,null,null,null,null,null,null,null,null,null,null,29062014,41819]
[null,null,null,null,{"$f":"IF(Configuração!C5120=\"\",\"\",Configuração!B5120)","v":""},null,null,null,null,null,null,null,null,null,null,null,null,null,null,null,null,29062019,43645]
[null,null,null,null,{"$f":"IF(Configuração!C5125=\"\",\"\",Configuração!B5125)","v":""},null,null,null,null,null,null,null,null,null,null,null,null,null,null,null,null,29072009,40023]
[null,null,null,null,{"$f":"IF(Configuração!C5130=\"\",\"\",Configuração!B5130)","v":""},null,null,null,null,null,null,null,null,null,null,null,null,null,null,null,null,29072014,41849]
[null,null,null,null,{"$f":"IF(Configuração!C5131=\"\",\"\",Configuração!B5131)","v":""},null,null,null,null,null,null,null,null,null,null,null,null,null,null,null,null,29072015,42214]
[null,null,null,null,{"$f":"IF(Configuração!C5136=\"\",\"\",Configuração!B5136)","v":""},null,null,null,null,null,null,null,null,null,null,null,null,null,null,null,null,29072020,44041]
[null,null,null,null,{"$f":"IF(Configuração!C5141=\"\",\"\",Configuração!B5141)","v":""},null,null,null,null,null,null,null,null,null,null,null,null,null,null,null,null,29082010,40419]
[null,null,null,null,{"$f":"IF(Configuração!C5145=\"\",\"\",Configuração!B5145)","v":""},null,null,null,null,null,null,null,null,null,null,null,null,null,null,null,null,29082014,41880]
[null,null,null,null,{"$f":"IF(Configuração!C5146=\"\",\"\",Configuração!B5146)","v":""},null,null,null,null,null,null,null,null,null,null,null,null,null,null,null,null,29082015,42245]
[null,null,null,null,{"$f":"IF(Configuração!C5151=\"\",\"\",Configuração!B5151)","v":""},null,null,null,null,null,null,null,null,null,null,null,null,null,null,null,null,29082020,44072]
[null,null,null,null,{"$f":"IF(Configuração!C5156=\"\",\"\",Configuração!B5156)","v":""},null,null,null,null,null,null,null,null,null,null,null,null,null,null,null,null,29092010,40450]
[null,null,null,null,{"$f":"IF(Configuração!C5161=\"\",\"\",Configuração!B5161)","v":""},null,null,null,null,null,null,null,null,null,null,null,null,null,null,null,null,29092015,42276]
[null,null,null,null,{"$f":"IF(Configuração!C5162=\"\",\"\",Configuração!B5162)","v":""},null,null,null,null,null,null,null,null,null,null,null,null,null,null,null,null,29092016,42642]
[null,null,null,null,{"$f":"IF(Configuração!C5168=\"\",\"\",Configuração!B5168)","v":""},null,null,null,null,null,null,null,null,null,null,null,null,null,null,null,null,29092022,44833]
[null,null,null,null,{"$f":"IF(Configuração!C5171=\"\",\"\",Configuração!B5171)","v":""},null,null,null,null,null,null,null,null,null,null,null,null,null,null,null,null,29102010,40480]
[null,null,null,null,{"$f":"IF(Configuração!C5176=\"\",\"\",Configuração!B5176)","v":""},null,null,null,null,null,null,null,null,null,null,null,null,null,null,null,null,29102015,42306]
[null,null,null,null,{"$f":"IF(Configuração!C5177=\"\",\"\",Configuração!B5177)","v":""},null,null,null,null,null,null,null,null,null,null,null,null,null,null,null,null,29102016,42672]
[null,null,null,null,{"$f":"IF(Configuração!C5182=\"\",\"\",Configuração!B5182)","v":""},null,null,null,null,null,null,null,null,null,null,null,null,null,null,null,null,29102021,44498]
[null,null,null,null,{"$f":"IF(Configuração!C5187=\"\",\"\",Configuração!B5187)","v":""},null,null,null,null,null,null,null,null,null,null,null,null,null,null,null,null,29112011,40876]
[null,null,null,null,{"$f":"IF(Configuração!C5192=\"\",\"\",Configuração!B5192)","v":""},null,null,null,null,null,null,null,null,null,null,null,null,null,null,null,null,29112016,42703]
[null,null,null,null,{"$f":"IF(Configuração!C5193=\"\",\"\",Configuração!B5193)","v":""},null,null,null,null,null,null,null,null,null,null,null,null,null,null,null,null,29112017,43068]
[null,null,null,null,{"$f":"IF(Configuração!C5199=\"\",\"\",Configuração!B5199)","v":""},null,null,null,null,null,null,null,null,null,null,null,null,null,null,null,null,29112023,45259]
[null,null,null,null,{"$f":"IF(Configuração!C5202=\"\",\"\",Configuração!B5202)","v":""},null,null,null,null,null,null,null,null,null,null,null,null,null,null,null,null,29122011,40906]
[null,null,null,null,{"$f":"IF(Configuração!C5207=\"\",\"\",Configuração!B5207)","v":""},null,null,null,null,null,null,null,null,null,null,null,null,null,null,null,null,29122016,42733]
[null,null,null,null,{"$f":"IF(Configuração!C5208=\"\",\"\",Configuração!B5208)","v":""},null,null,null,null,null,null,null,null,null,null,null,null,null,null,null,null,29122017,43098]
[null,null,null,null,{"$f":"IF(Configuração!C5213=\"\",\"\",Configuração!B5213)","v":""},null,null,null,null,null,null,null,null,null,null,null,null,null,null,null,null,29122022,44924]
[null,null,null,null,{"$f":"IF(Configuração!C5218=\"\",\"\",Configuração!B5218)","v":""},null,null,null,null,null,null,null,null,null,null,null,null,null,null,null,null,30012012,40938]
[null,null,null,null,{"$f":"IF(Configuração!C5223=\"\",\"\",Configuração!B5223)","v":""},null,null,null,null,null,null,null,null,null,null,null,null,null,null,null,null,30012017,42765]
[null,null,null,null,{"$f":"IF(Configuração!C5226=\"\",\"\",Configuração!B5226)","v":""},null,null,null,null,null,null,null,null,null,null,null,null,null,null,null,null,30012020,43860]
[null,null,null,null,{"$f":"IF(Configuração!C5228=\"\",\"\",Configuração!B5228)","v":""},null,null,null,null,null,null,null,null,null,null,null,null,null,null,null,null,30012022,44591]
[null,null,null,null,{"$f":"IF(Configuração!C5233=\"\",\"\",Configuração!B5233)","v":""},null,null,null,null,null,null,null,null,null,null,null,null,null,null,null,null,30032012,40998]
[null,null,null,null,{"$f":"IF(Configuração!C5238=\"\",\"\",Configuração!B5238)","v":""},null,null,null,null,null,null,null,null,null,null,null,null,null,null,null,null,30032017,42824]
[null,null,null,null,{"$f":"IF(Configuração!C5239=\"\",\"\",Configuração!B5239)","v":""},null,null,null,null,null,null,null,null,null,null,null,null,null,null,null,null,30032018,43189]
[null,null,null,null,{"$f":"IF(Configuração!C5244=\"\",\"\",Configuração!B5244)","v":""},null,null,null,null,null,null,null,null,null,null,null,null,null,null,null,null,30032023,45015]
[null,null,null,null,{"$f":"IF(Configuração!C5249=\"\",\"\",Configuração!B5249)","v":""},null,null,null,null,null,null,null,null,null,null,null,null,null,null,null,null,30042013,41394]
[null,null,null,null,{"$f":"IF(Configuração!C5253=\"\",\"\",Configuração!B5253)","v":""},null,null,null,null,null,null,null,null,null,null,null,null,null,null,null,null,30042017,42855]
[null,null,null,null,{"$f":"IF(Configuração!C5254=\"\",\"\",Configuração!B5254)","v":""},null,null,null,null,null,null,null,null,null,null,null,null,null,null,null,null,30042018,43220]
[null,null,null,null,{"$f":"IF(Configuração!C5259=\"\",\"\",Configuração!B5259)","v":""},null,null,null,null,null,null,null,null,null,null,null,null,null,null,null,null,30042023,45046]
[null,null,null,null,{"$f":"IF(Configuração!C5264=\"\",\"\",Configuração!B5264)","v":""},null,null,null,null,null,null,null,null,null,null,null,null,null,null,null,null,30052013,41424]
[null,null,null,null,{"$f":"IF(Configuração!C5269=\"\",\"\",Configuração!B5269)","v":""},null,null,null,null,null,null,null,null,null,null,null,null,null,null,null,null,30052018,43250]
[null,null,null,null,{"$f":"IF(Configuração!C5270=\"\",\"\",Configuração!B5270)","v":""},null,null,null,null,null,null,null,null,null,null,null,null,null,null,null,null,30052019,43615]
[null,null,null,null,{"$f":"IF(Configuração!C5275=\"\",\"\",Configuração!B5275)","v":""},null,null,null,null,null,null,null,null,null,null,null,null,null,null,null,null,30062009,39994]
[null,null,null,null,{"$f":"IF(Configuração!C5279=\"\",\"\",Configuração!B5279)","v":""},null,null,null,null,null,null,null,null,null,null,null,null,null,null,null,null,30062013,41455]
[null,null,null,null,{"$f":"IF(Configuração!C5284=\"\",\"\",Configuração!B5284)","v":""},null,null,null,null,null,null,null,null,null,null,null,null,null,null,null,null,30062018,43281]
[null,null,null,null,{"$f":"IF(Configuração!C5285=\"\",\"\",Configuração!B5285)","v":""},null,null,null,null,null,null,null,null,null,null,null,null,null,null,null,null,30062019,43646]
[null,null,null,null,{"$f":"IF(Configuração!C5290=\"\",\"\",Configuração!B5290)","v":""},null,null,null,null,null,null,null,null,null,null,null,null,null,null,null,null,30072009,40024]
[null,null,null,null,{"$f":"IF(Configuração!C5295=\"\",\"\",Configuração!B5295)","v":""},null,null,null,null,null,null,null,null,null,null,null,null,null,null,null,null,30072014,41850]
[null,null,null,null,{"$f":"IF(Configuração!C5300=\"\",\"\",Configuração!B5300)","v":""},null,null,null,null,null,null,null,null,null,null,null,null,null,null,null,null,30072019,43676]
[null,null,null,null,{"$f":"IF(Configuração!C5301=\"\",\"\",Configuração!B5301)","v":""},null,null,null,null,null,null,null,null,null,null,null,null,null,null,null,null,30072020,44042]
[null,null,null,null,{"$f":"IF(Configuração!C5306=\"\",\"\",Configuração!B5306)","v":""},null,null,null,null,null,null,null,null,null,null,null,null,null,null,null,null,30082010,40420]
[null,null,null,null,{"$f":"IF(Configuração!C5310=\"\",\"\",Configuração!B5310)","v":""},null,null,null,null,null,null,null,null,null,null,null,null,null,null,null,null,30082014,41881]
[null,null,null,null,{"$f":"IF(Configuração!C5315=\"\",\"\",Configuração!B5315)","v":""},null,null,null,null,null,null,null,null,null,null,null,null,null,null,null,null,30082019,43707]
[null,null,null,null,{"$f":"IF(Configuração!C5316=\"\",\"\",Configuração!B5316)","v":""},null,null,null,null,null,null,null,null,null,null,null,null,null,null,null,null,30082020,44073]
[null,null,null,null,{"$f":"IF(Configuração!C5321=\"\",\"\",Configuração!B5321)","v":""},null,null,null,null,null,null,null,null,null,null,null,null,null,null,null,null,30092010,40451]
[null,null,null,null,{"$f":"IF(Configuração!C5326=\"\",\"\",Configuração!B5326)","v":""},null,null,null,null,null,null,null,null,null,null,null,null,null,null,null,null,30092015,42277]
[null,null,null,null,{"$f":"IF(Configuração!C5331=\"\",\"\",Configuração!B5331)","v":""},null,null,null,null,null,null,null,null,null,null,null,null,null,null,null,null,30092020,44104]
[null,null,null,null,{"$f":"IF(Configuração!C5332=\"\",\"\",Configuração!B5332)","v":""},null,null,null,null,null,null,null,null,null,null,null,null,null,null,null,null,30092021,44469]
[null,null,null,null,{"$f":"IF(Configuração!C5337=\"\",\"\",Configuração!B5337)","v":""},null,null,null,null,null,null,null,null,null,null,null,null,null,null,null,null,30102011,40846]
[null,null,null,null,{"$f":"IF(Configuração!C5341=\"\",\"\",Configuração!B5341)","v":""},null,null,null,null,null,null,null,null,null,null,null,null,null,null,null,null,30102015,42307]
[null,null,null,null,{"$f":"IF(Configuração!C5346=\"\",\"\",Configuração!B5346)","v":""},null,null,null,null,null,null,null,null,null,null,null,null,null,null,null,null,30102020,44134]
[null,null,null,null,{"$f":"IF(Configuração!C5347=\"\",\"\",Configuração!B5347)","v":""},null,null,null,null,null,null,null,null,null,null,null,null,null,null,null,null,30102021,44499]
[null,null,null,null,{"$f":"IF(Configuração!C5352=\"\",\"\",Configuração!B5352)","v":""},null,null,null,null,null,null,null,null,null,null,null,null,null,null,null,null,30112011,40877]
[null,null,null,null,{"$f":"IF(Configuração!C5357=\"\",\"\",Configuração!B5357)","v":""},null,null,null,null,null,null,null,null,null,null,null,null,null,null,null,null,30112016,42704]
[null,null,null,null,{"$f":"IF(Configuração!C5362=\"\",\"\",Configuração!B5362)","v":""},null,null,null,null,null,null,null,null,null,null,null,null,null,null,null,null,30112021,44530]
[null,null,null,null,{"$f":"IF(Configuração!C5364=\"\",\"\",Configuração!B5364)","v":""},null,null,null,null,null,null,null,null,null,null,null,null,null,null,null,null,30112023,45260]
[null,null,null,null,{"$f":"IF(Configuração!C5367=\"\",\"\",Configuração!B5367)","v":""},null,null,null,null,null,null,null,null,null,null,null,null,null,null,null,null,30122011,40907]
[null,null,null,null,{"$f":"IF(Configuração!C5372=\"\",\"\",Configuração!B5372)","v":""},null,null,null,null,null,null,null,null,null,null,null,null,null,null,null,null,30122016,42734]
[null,null,null,null,{"$f":"IF(Configuração!C5377=\"\",\"\",Configuração!B5377)","v":""},null,null,null,null,null,null,null,null,null,null,null,null,null,null,null,null,30122021,44560]
[null,null,null,null,{"$f":"IF(Configuração!C5378=\"\",\"\",Configuração!B5378)","v":""},null,null,null,null,null,null,null,null,null,null,null,null,null,null,null,null,30122022,44925]
[null,null,null,null,{"$f":"IF(Configuração!C5383=\"\",\"\",Configuração!B5383)","v":""},null,null,null,null,null,null,null,null,null,null,null,null,null,null,null,null,31012012,40939]
[null,null,null,null,{"$f":"IF(Configuração!C5388=\"\",\"\",Configuração!B5388)","v":""},null,null,null,null,null,null,null,null,null,null,null,null,null,null,null,null,31012017,42766]
[null,null,null,null,{"$f":"IF(Configuração!C5390=\"\",\"\",Configuração!B5390)","v":""},null,null,null,null,null,null,null,null,null,null,null,null,null,null,null,null,31012019,43496]
[null,null,null,null,{"$f":"IF(Configuração!C5393=\"\",\"\",Configuração!B5393)","v":""},null,null,null,null,null,null,null,null,null,null,null,null,null,null,null,null,31012022,44592]
[null,null,null,null,{"$f":"IF(Configuração!C5398=\"\",\"\",Configuração!B5398)","v":""},null,null,null,null,null,null,null,null,null,null,null,null,null,null,null,null,31032012,40999]
[null,null,null,null,{"$f":"IF(Configuração!C5403=\"\",\"\",Configuração!B5403)","v":""},null,null,null,null,null,null,null,null,null,null,null,null,null,null,null,null,31032017,42825]
[null,null,null,null,{"$f":"IF(Configuração!C5408=\"\",\"\",Configuração!B5408)","v":""},null,null,null,null,null,null,null,null,null,null,null,null,null,null,null,null,31032022,44651]
[null,null,null,null,{"$f":"IF(Configuração!C5409=\"\",\"\",Configuração!B5409)","v":""},null,null,null,null,null,null,null,null,null,null,null,null,null,null,null,null,31032023,45016]
[null,null,null,null,{"$f":"IF(Configuração!C5414=\"\",\"\",Configuração!B5414)","v":""},null,null,null,null,null,null,null,null,null,null,null,null,null,null,null,null,31052013,41425]
[null,null,null,null,{"$f":"IF(Configuração!C5419=\"\",\"\",Configuração!B5419)","v":""},null,null,null,null,null,null,null,null,null,null,null,null,null,null,null,null,31052018,43251]
[null,null,null,null,{"$f":"IF(Configuração!C5421=\"\",\"\",Configuração!B5421)","v":""},null,null,null,null,null,null,null,null,null,null,null,null,null,null,null,null,31052020,43982]
[null,null,null,null,{"$f":"IF(Configuração!C5424=\"\",\"\",Configuração!B5424)","v":""},null,null,null,null,null,null,null,null,null,null,null,null,null,null,null,null,31052023,45077]
[null,null,null,null,{"$f":"IF(Configuração!C5429=\"\",\"\",Configuração!B5429)","v":""},null,null,null,null,null,null,null,null,null,null,null,null,null,null,null,null,31072013,41486]
[null,null,null,null,{"$f":"IF(Configuração!C5434=\"\",\"\",Configuração!B5434)","v":""},null,null,null,null,null,null,null,null,null,null,null,null,null,null,null,null,31072018,43312]
[null,null,null,null,{"$f":"IF(Configuração!C5439=\"\",\"\",Configuração!B5439)","v":""},null,null,null,null,null,null,null,null,null,null,null,null,null,null,null,null,31072023,45138]
[null,null,null,null,{"$f":"IF(Configuração!C5440=\"\",\"\",Configuração!B5440)","v":""},null,null,null,null,null,null,null,null,null,null,null,null,null,null,null,null,31082009,40056]
[null,null,null,null,{"$f":"IF(Configuração!C5445=\"\",\"\",Configuração!B5445)","v":""},null,null,null,null,null,null,null,null,null,null,null,null,null,null,null,null,31082014,41882]
[null,null,null,null,{"$f":"IF(Configuração!C5448=\"\",\"\",Configuração!B5448)","v":""},null,null,null,null,null,null,null,null,null,null,null,null,null,null,null,null,31082017,42978]
[null,null,null,null,{"$f":"IF(Configuração!C5454=\"\",\"\",Configuração!B5454)","v":""},null,null,null,null,null,null,null,null,null,null,null,null,null,null,null,null,31082023,45169]
[null,null,null,null,{"$f":"IF(Configuração!C5455=\"\",\"\",Configuração!B5455)","v":""},null,null,null,null,null,null,null,null,null,null,null,null,null,null,null,null,31102009,40117]
[null,null,null,null,{"$f":"IF(Configuração!C5460=\"\",\"\",Configuração!B5460)","v":""},null,null,null,null,null,null,null,null,null,null,null,null,null,null,null,null,31102014,41943]
[null,null,null,null,{"$f":"IF(Configuração!C5465=\"\",\"\",Configuração!B5465)","v":""},null,null,null,null,null,null,null,null,null,null,null,null,null,null,null,null,31102019,43769]
[null,null,null,null,{"$f":"IF(Configuração!C5470=\"\",\"\",Configuração!B5470)","v":""},null,null,null,null,null,null,null,null,null,null,null,null,null,null,null,null,31122009,40178]
[null,null,null,null,{"$f":"IF(Configuração!C5471=\"\",\"\",Configuração!B5471)","v":""},null,null,null,null,null,null,null,null,null,null,null,null,null,null,null,null,31122010,40543]
[null,null,null,null,{"$f":"IF(Configuração!C5475=\"\",\"\",Configuração!B5475)","v":""},null,null,null,null,null,null,null,null,null,null,null,null,null,null,null,null,31122014,42004]
[null,null,null,null,{"$f":"IF(Configuração!C5480=\"\",\"\",Configuração!B5480)","v":""},null,null,null,null,null,null,null,null,null,null,null,null,null,null,null,null,31122019,43830]
[null,null,null,null,{"$f":"IF(Configuração!C5485=\"\",\"\",Configuração!B5485)","v":""}]
[null,null,null,null,{"$f":"IF(Configuração!C5486=\"\",\"\",Configuração!B5486)","v":""}]
[null,null,null,null,{"$f":"IF(Configuração!C5491=\"\",\"\",Configuração!B5491)","v":""}]
[null,null,null,null,{"$f":"IF(Configuração!C5496=\"\",\"\",Configuração!B5496)","v":""}]
[null,null,null,null,{"$f":"IF(Configuração!C5501=\"\",\"\",Configuração!B5501)","v":""}]
[null,null,null,null,{"$f":"IF(Configuração!C5504=\"\",\"\",Configuração!B5504)","v":""}]
[null,null,null,null,{"$f":"IF(Configuração!C5506=\"\",\"\",Configuração!B5506)","v":""}]
[null,null,null,null,{"$f":"IF(Configuração!C5511=\"\",\"\",Configuração!B5511)","v":""}]
[null,null,null,null,{"$f":"IF(Configuração!C5516=\"\",\"\",Configuração!B5516)","v":""}]
[null,null,null,null,{"$f":"IF(Configuração!C5517=\"\",\"\",Configuração!B5517)","v":""}]
[null,null,null,null,{"$f":"IF(Configuração!C5522=\"\",\"\",Configuração!B5522)","v":""}]
[null,null,null,null,{"$f":"IF(Configuração!C5527=\"\",\"\",Configuração!B5527)","v":""}]
[null,null,null,null,{"$f":"IF(Configuração!C5532=\"\",\"\",Configuração!B5532)","v":""}]
[null,null,null,null,{"$f":"IF(Configuração!C5535=\"\",\"\",Configuração!B5535)","v":""}]
[null,null,null,null,{"$f":"IF(Configuração!C5537=\"\",\"\",Configuração!B5537)","v":""}]
[null,null,null,null,{"$f":"IF(Configuração!C5542=\"\",\"\",Configuração!B5542)","v":""}]
[null,null,null,null,{"$f":"IF(Configuração!C5547=\"\",\"\",Configuração!B5547)","v":""}]
[null,null,null,null,{"$f":"IF(Configuração!C5548=\"\",\"\",Configuração!B5548)","v":""}]
[null,null,null,null,{"$f":"IF(Configuração!C5553=\"\",\"\",Configuração!B5553)","v":""}]
[null,null,null,null,{"$f":"IF(Configuração!C5558=\"\",\"\",Configuração!B5558)","v":""}]
[null,null,null,null,{"$f":"IF(Configuração!C5562=\"\",\"\",Configuração!B5562)","v":""}]
[null,null,null,null,{"$f":"IF(Configuração!C5563=\"\",\"\",Configuração!B5563)","v":""}]
[null,null,null,null,{"$f":"IF(Configuração!C5568=\"\",\"\",Configuração!B5568)","v":""}]
[null,null,null,null,{"$f":"IF(Configuração!C5573=\"\",\"\",Configuração!B5573)","v":""}]
[null,null,null,null,{"$f":"IF(Configuração!C5578=\"\",\"\",Configuração!B5578)","v":""}]
[null,null,null,null,{"$f":"IF(Configuração!C5579=\"\",\"\",Configuração!B5579)","v":""}]
[null,null,null,null,{"$f":"IF(Configuração!C5584=\"\",\"\",Configuração!B5584)","v":""}]
[null,null,null,null,{"$f":"IF(Configuração!C5589=\"\",\"\",Configuração!B5589)","v":""}]
[null,null,null,null,{"$f":"IF(Configuração!C5593=\"\",\"\",Configuração!B5593)","v":""}]
[null,null,null,null,{"$f":"IF(Configuração!C5594=\"\",\"\",Configuração!B5594)","v":""}]
[null,null,null,null,{"$f":"IF(Configuração!C5599=\"\",\"\",Configuração!B5599)","v":""}]
[null,null,null,null,{"$f":"IF(Configuração!C5604=\"\",\"\",Configuração!B5604)","v":""}]
[null,null,null,null,{"$f":"IF(Configuração!C5609=\"\",\"\",Configuração!B5609)","v":""}]
[null,null,null,null,{"$f":"IF(Configuração!C5610=\"\",\"\",Configuração!B5610)","v":""}]
[null,null,null,null,{"$f":"IF(Configuração!C5615=\"\",\"\",Configuração!B5615)","v":""}]
[null,null,null,null,{"$f":"IF(Configuração!C5619=\"\",\"\",Configuração!B5619)","v":""}]
[null,null,null,null,{"$f":"IF(Configuração!C5624=\"\",\"\",Configuração!B5624)","v":""}]
[null,null,null,null,{"$f":"IF(Configuração!C5625=\"\",\"\",Configuração!B5625)","v":""}]
[null,null,null,null,{"$f":"IF(Configuração!C5630=\"\",\"\",Configuração!B5630)","v":""}]
[null,null,null,null,{"$f":"IF(Configuração!C5635=\"\",\"\",Configuração!B5635)","v":""}]
[null,null,null,null,{"$f":"IF(Configuração!C5640=\"\",\"\",Configuração!B5640)","v":""}]
[null,null,null,null,{"$f":"IF(Configuração!C5641=\"\",\"\",Configuração!B5641)","v":""}]
[null,null,null,null,{"$f":"IF(Configuração!C5646=\"\",\"\",Configuração!B5646)","v":""}]
[null,null,null,null,{"$f":"IF(Configuração!C5650=\"\",\"\",Configuração!B5650)","v":""}]
[null,null,null,null,{"$f":"IF(Configuração!C5655=\"\",\"\",Configuração!B5655)","v":""}]
[null,null,null,null,{"$f":"IF(Configuração!C5656=\"\",\"\",Configuração!B5656)","v":""}]
[null,null,null,null,{"$f":"IF(Configuração!C5661=\"\",\"\",Configuração!B5661)","v":""}]
[null,null,null,null,{"$f":"IF(Configuração!C5666=\"\",\"\",Configuração!B5666)","v":""}]
[null,null,null,null,{"$f":"IF(Configuração!C5671=\"\",\"\",Configuração!B5671)","v":""}]
[null,null,null,null,{"$f":"IF(Configuração!C5673=\"\",\"\",Configuração!B5673)","v":""}]
[null,null,null,null,{"$f":"IF(Configuração!C5676=\"\",\"\",Configuração!B5676)","v":""}]
[null,null,null,null,{"$f":"IF(Configuração!C5681=\"\",\"\",Configuração!B5681)","v":""}]
[null,null,null,null,{"$f":"IF(Configuração!C5686=\"\",\"\",Configuração!B5686)","v":""}]
[null,null,null,null,{"$f":"IF(Configuração!C5687=\"\",\"\",Configuração!B5687)","v":""}]
[null,null,null,null,{"$f":"IF(Configuração!C5692=\"\",\"\",Configuração!B5692)","v":""}]
[null,null,null,null,{"$f":"IF(Configuração!C5697=\"\",\"\",Configuração!B5697)","v":""}]
[null,null,null,null,{"$f":"IF(Configuração!C5700=\"\",\"\",Configuração!B5700)","v":""}]
[null,null,null,null,{"$f":"IF(Configuração!C5702=\"\",\"\",Configuração!B5702)","v":""}]
[null,null,null,null,{"$f":"IF(Configuração!C5707=\"\",\"\",Configuração!B5707)","v":""}]
[null,null,null,null,{"$f":"IF(Configuração!C5712=\"\",\"\",Configuração!B5712)","v":""}]
[null,null,null,null,{"$f":"IF(Configuração!C5717=\"\",\"\",Configuração!B5717)","v":""}]
[null,null,null,null,{"$f":"IF(Configuração!C5718=\"\",\"\",Configuração!B5718)","v":""}]
[null,null,null,null,{"$f":"IF(Configuração!C5723=\"\",\"\",Configuração!B5723)","v":""}]
[null,null,null,null,{"$f":"IF(Configuração!C5726=\"\",\"\",Configuração!B5726)","v":""}]
[null,null,null,null,{"$f":"IF(Configuração!C5732=\"\",\"\",Configuração!B5732)","v":""}]
[null,null,null,null,{"$f":"IF(Configuração!C5733=\"\",\"\",Configuração!B5733)","v":""}]
[null,null,null,null,{"$f":"IF(Configuração!C5738=\"\",\"\",Configuração!B5738)","v":""}]
[null,null,null,null,{"$f":"IF(Configuração!C5743=\"\",\"\",Configuração!B5743)","v":""}]
[null,null,null,null,{"$f":"IF(Configuração!C5748=\"\",\"\",Configuração!B5748)","v":""}]
[null,null,null,null,{"$f":"IF(Configuração!C5749=\"\",\"\",Configuração!B5749)","v":""}]
[null,null,null,null,{"$f":"IF(Configuração!C5753=\"\",\"\",Configuração!B5753)","v":""}]
[null,null,null,null,{"$f":"IF(Configuração!C5758=\"\",\"\",Configuração!B5758)","v":""}]
[null,null,null,null,{"$f":"IF(Configuração!C5763=\"\",\"\",Configuração!B5763)","v":""}]
[null,null,null,null,{"$f":"IF(Configuração!C5764=\"\",\"\",Configuração!B5764)","v":""}]
[null,null,null,null,{"$f":"IF(Configuração!C5769=\"\",\"\",Configuração!B5769)","v":""}]
[null,null,null,null,{"$f":"IF(Configuração!C5774=\"\",\"\",Configuração!B5774)","v":""}]
[null,null,null,null,{"$f":"IF(Configuração!C5779=\"\",\"\",Configuração!B5779)","v":""}]
[null,null,null,null,{"$f":"IF(Configuração!C5780=\"\",\"\",Configuração!B5780)","v":""}]
[null,null,null,null,{"$f":"IF(Configuração!C5784=\"\",\"\",Configuração!B5784)","v":""}]
[null,null,null,null,{"$f":"IF(Configuração!C5789=\"\",\"\",Configuração!B5789)","v":""}]
[null,null,null,null,{"$f":"IF(Configuração!C5794=\"\",\"\",Configuração!B5794)","v":""}]
[null,null,null,null,{"$f":"IF(Configuração!C5795=\"\",\"\",Configuração!B5795)","v":""}]
[null,null,null,null,{"$f":"IF(Configuração!C5800=\"\",\"\",Configuração!B5800)","v":""}]
[null,null,null,null,{"$f":"IF(Configuração!C5805=\"\",\"\",Configuração!B5805)","v":""}]
[null,null,null,null,{"$f":"IF(Configuração!C5810=\"\",\"\",Configuração!B5810)","v":""}]
[null,null,null,null,{"$f":"IF(Configuração!C5811=\"\",\"\",Configuração!B5811)","v":""}]
[null,null,null,null,{"$f":"IF(Configuração!C5815=\"\",\"\",Configuração!B5815)","v":""}]
[null,null,null,null,{"$f":"IF(Configuração!C5820=\"\",\"\",Configuração!B5820)","v":""}]
[null,null,null,null,{"$f":"IF(Configuração!C5825=\"\",\"\",Configuração!B5825)","v":""}]
[null,null,null,null,{"$f":"IF(Configuração!C5826=\"\",\"\",Configuração!B5826)","v":""}]
[null,null,null,null,{"$f":"IF(Configuração!C5831=\"\",\"\",Configuração!B5831)","v":""}]
[null,null,null,null,{"$f":"IF(Configuração!C5836=\"\",\"\",Configuração!B5836)","v":""}]
[null,null,null,null,{"$f":"IF(Configuração!C5838=\"\",\"\",Configuração!B5838)","v":""}]
[null,null,null,null,{"$f":"IF(Configuração!C5841=\"\",\"\",Configuração!B5841)","v":""}]
[null,null,null,null,{"$f":"IF(Configuração!C5846=\"\",\"\",Configuração!B5846)","v":""}]
[null,null,null,null,{"$f":"IF(Configuração!C5851=\"\",\"\",Configuração!B5851)","v":""}]
[null,null,null,null,{"$f":"IF(Configuração!C5856=\"\",\"\",Configuração!B5856)","v":""}]
[null,null,null,null,{"$f":"IF(Configuração!C5857=\"\",\"\",Configuração!B5857)","v":""}]
[null,null,null,null,{"$f":"IF(Configuração!C5862=\"\",\"\",Configuração!B5862)","v":""}]
[null,null,null,null,{"$f":"IF(Configuração!C5867=\"\",\"\",Configuração!B5867)","v":""}]
[null,null,null,null,{"$f":"IF(Configuração!C5871=\"\",\"\",Configuração!B5871)","v":""}]
[null,null,null,null,{"$f":"IF(Configuração!C5872=\"\",\"\",Configuração!B5872)","v":""}]
[null,null,null,null,{"$f":"IF(Configuração!C5877=\"\",\"\",Configuração!B5877)","v":""}]
[null,null,null,null,{"$f":"IF(Configuração!C5882=\"\",\"\",Configuração!B5882)","v":""}]
[null,null,null,null,{"$f":"IF(Configuração!C5887=\"\",\"\",Configuração!B5887)","v":""}]
[null,null,null,null,{"$f":"IF(Configuração!C5888=\"\",\"\",Configuração!B5888)","v":""}]
[null,null,null,null,{"$f":"IF(Configuração!C5893=\"\",\"\",Configuração!B5893)","v":""}]
[null,null,null,null,{"$f":"IF(Configuração!C5898=\"\",\"\",Configuração!B5898)","v":""}]
[null,null,null,null,{"$f":"IF(Configuração!C5902=\"\",\"\",Configuração!B5902)","v":""}]
[null,null,null,null,{"$f":"IF(Configuração!C5903=\"\",\"\",Configuração!B5903)","v":""}]
[null,null,null,null,{"$f":"IF(Configuração!C5908=\"\",\"\",Configuração!B5908)","v":""}]
[null,null,null,null,{"$f":"IF(Configuração!C5913=\"\",\"\",Configuração!B5913)","v":""}]
[null,null,null,null,{"$f":"IF(Configuração!C5918=\"\",\"\",Configuração!B5918)","v":""}]
[null,null,null,null,{"$f":"IF(Configuração!C5919=\"\",\"\",Configuração!B5919)","v":""}]
[null,null,null,null,{"$f":"IF(Configuração!C5925=\"\",\"\",Configuração!B5925)","v":""}]
[null,null,null,null,{"$f":"IF(Configuração!C5928=\"\",\"\",Configuração!B5928)","v":""}]
[null,null,null,null,{"$f":"IF(Configuração!C5933=\"\",\"\",Configuração!B5933)","v":""}]
[null,null,null,null,{"$f":"IF(Configuração!C5934=\"\",\"\",Configuração!B5934)","v":""}]
[null,null,null,null,{"$f":"IF(Configuração!C5939=\"\",\"\",Configuração!B5939)","v":""}]
[null,null,null,null,{"$f":"IF(Configuração!C5944=\"\",\"\",Configuração!B5944)","v":""}]
[null,null,null,null,{"$f":"IF(Configuração!C5949=\"\",\"\",Configuração!B5949)","v":""}]
[null,null,null,null,{"$f":"IF(Configuração!C5952=\"\",\"\",Configuração!B5952)","v":""}]
[null,null,null,null,{"$f":"IF(Configuração!C5954=\"\",\"\",Configuração!B5954)","v":""}]
[null,null,null,null,{"$f":"IF(Configuração!C5959=\"\",\"\",Configuração!B5959)","v":""}]
[null,null,null,null,{"$f":"IF(Configuração!C5964=\"\",\"\",Configuração!B5964)","v":""}]
[null,null,null,null,{"$f":"IF(Configuração!C5965=\"\",\"\",Configuração!B5965)","v":""}]
[null,null,null,null,{"$f":"IF(Configuração!C5970=\"\",\"\",Configuração!B5970)","v":""}]
[null,null,null,null,{"$f":"IF(Configuração!C5975=\"\",\"\",Configuração!B5975)","v":""}]
[null,null,null,null,{"$f":"IF(Configuração!C5978=\"\",\"\",Configuração!B5978)","v":""}]
[null,null,null,null,{"$f":"IF(Configuração!C5980=\"\",\"\",Configuração!B5980)","v":""}]
[null,null,null,null,{"$f":"IF(Configuração!C5985=\"\",\"\",Configuração!B5985)","v":""}]
[null,null,null,null,{"$f":"IF(Configuração!C5990=\"\",\"\",Configuração!B5990)","v":""}]
[null,null,null,null,{"$f":"IF(Configuração!C5995=\"\",\"\",Configuração!B5995)","v":""}]
[null,null,null,null,{"$f":"IF(Configuração!C5996=\"\",\"\",Configuração!B5996)","v":""}]
[null,null,null,null,{"$f":"IF(Configuração!C6001=\"\",\"\",Configuração!B6001)","v":""}]
[null,null,null,null,{"$f":"IF(Configuração!C6006=\"\",\"\",Configuração!B6006)","v":""}]
[null,null,null,null,{"$f":"IF(Configuração!C6009=\"\",\"\",Configuração!B6009)","v":""}]
[null,null,null,null,{"$f":"IF(Configuração!C6011=\"\",\"\",Configuração!B6011)","v":""}]
[null,null,null,null,{"$f":"IF(Configuração!C6016=\"\",\"\",Configuração!B6016)","v":""}]
[null,null,null,null,{"$f":"IF(Configuração!C6021=\"\",\"\",Configuração!B6021)","v":""}]
[null,null,null,null,{"$f":"IF(Configuração!C6026=\"\",\"\",Configuração!B6026)","v":""}]
[null,null,null,null,{"$f":"IF(Configuração!C6027=\"\",\"\",Configuração!B6027)","v":""}]
[null,null,null,null,{"$f":"IF(Configuração!C6032=\"\",\"\",Configuração!B6032)","v":""}]
[null,null,null,null,{"$f":"IF(Configuração!C6036=\"\",\"\",Configuração!B6036)","v":""}]
[null,null,null,null,{"$f":"IF(Configuração!C6041=\"\",\"\",Configuração!B6041)","v":""}]
[null,null,null,null,{"$f":"IF(Configuração!C6042=\"\",\"\",Configuração!B6042)","v":""}]
[null,null,null,null,{"$f":"IF(Configuração!C6047=\"\",\"\",Configuração!B6047)","v":""}]
[null,null,null,null,{"$f":"IF(Configuração!C6052=\"\",\"\",Configuração!B6052)","v":""}]
[null,null,null,null,{"$f":"IF(Configuração!C6057=\"\",\"\",Configuração!B6057)","v":""}]
[null,null,null,null,{"$f":"IF(Configuração!C6058=\"\",\"\",Configuração!B6058)","v":""}]
[null,null,null,null,{"$f":"IF(Configuração!C6063=\"\",\"\",Configuração!B6063)","v":""}]
[null,null,null,null,{"$f":"IF(Configuração!C6067=\"\",\"\",Configuração!B6067)","v":""}]
[null,null,null,null,{"$f":"IF(Configuração!C6072=\"\",\"\",Configuração!B6072)","v":""}]
[null,null,null,null,{"$f":"IF(Configuração!C6073=\"\",\"\",Configuração!B6073)","v":""}]
[null,null,null,null,{"$f":"IF(Configuração!C6078=\"\",\"\",Configuração!B6078)","v":""}]
[null,null,null,null,{"$f":"IF(Configuração!C6083=\"\",\"\",Configuração!B6083)","v":""}]
[null,null,null,null,{"$f":"IF(Configuração!C6088=\"\",\"\",Configuração!B6088)","v":""}]
[null,null,null,null,{"$f":"IF(Configuração!C6089=\"\",\"\",Configuração!B6089)","v":""}]
[null,null,null,null,{"$f":"IF(Configuração!C6093=\"\",\"\",Configuração!B6093)","v":""}]
[null,null,null,null,{"$f":"IF(Configuração!C6098=\"\",\"\",Configuração!B6098)","v":""}]
[null,null,null,null,{"$f":"IF(Configuração!C6103=\"\",\"\",Configuração!B6103)","v":""}]
[null,null,null,null,{"$f":"IF(Configuração!C6104=\"\",\"\",Configuração!B6104)","v":""}]
[null,null,null,null,{"$f":"IF(Configuração!C6109=\"\",\"\",Configuração!B6109)","v":""}]
[null,null,null,null,{"$f":"IF(Configuração!C6114=\"\",\"\",Configuração!B6114)","v":""}]
[null,null,null,null,{"$f":"IF(Configuração!C6119=\"\",\"\",Configuração!B6119)","v":""}]
[null,null,null,null,{"$f":"IF(Configuração!C6120=\"\",\"\",Configuração!B6120)","v":""}]
[null,null,null,null,{"$f":"IF(Configuração!C6124=\"\",\"\",Configuração!B6124)","v":""}]
[null,null,null,null,{"$f":"IF(Configuração!C6129=\"\",\"\",Configuração!B6129)","v":""}]
[null,null,null,null,{"$f":"IF(Configuração!C6134=\"\",\"\",Configuração!B6134)","v":""}]
[null,null,null,null,{"$f":"IF(Configuração!C6135=\"\",\"\",Configuração!B6135)","v":""}]
[null,null,null,null,{"$f":"IF(Configuração!C6140=\"\",\"\",Configuração!B6140)","v":""}]
[null,null,null,null,{"$f":"IF(Configuração!C6145=\"\",\"\",Configuração!B6145)","v":""}]
[null,null,null,null,{"$f":"IF(Configuração!C6147=\"\",\"\",Configuração!B6147)","v":""}]
[null,null,null,null,{"$f":"IF(Configuração!C6150=\"\",\"\",Configuração!B6150)","v":""}]
[null,null,null,null,{"$f":"IF(Configuração!C6155=\"\",\"\",Configuração!B6155)","v":""}]
[null,null,null,null,{"$f":"IF(Configuração!C6160=\"\",\"\",Configuração!B6160)","v":""}]
[null,null,null,null,{"$f":"IF(Configuração!C6165=\"\",\"\",Configuração!B6165)","v":""}]
[null,null,null,null,{"$f":"IF(Configuração!C6166=\"\",\"\",Configuração!B6166)","v":""}]
[null,null,null,null,{"$f":"IF(Configuração!C6171=\"\",\"\",Configuração!B6171)","v":""}]
[null,null,null,null,{"$f":"IF(Configuração!C6174=\"\",\"\",Configuração!B6174)","v":""}]
[null,null,null,null,{"$f":"IF(Configuração!C6180=\"\",\"\",Configuração!B6180)","v":""}]
[null,null,null,null,{"$f":"IF(Configuração!C6181=\"\",\"\",Configuração!B6181)","v":""}]
[null,null,null,null,{"$f":"IF(Configuração!C6186=\"\",\"\",Configuração!B6186)","v":""}]
[null,null,null,null,{"$f":"IF(Configuração!C6191=\"\",\"\",Configuração!B6191)","v":""}]
[null,null,null,null,{"$f":"IF(Configuração!C6196=\"\",\"\",Configuração!B6196)","v":""}]
[null,null,null,null,{"$f":"IF(Configuração!C6197=\"\",\"\",Configuração!B6197)","v":""}]
[null,null,null,null,{"$f":"IF(Configuração!C6203=\"\",\"\",Configuração!B6203)","v":""}]
[null,null,null,null,{"$f":"IF(Configuração!C6206=\"\",\"\",Configuração!B6206)","v":""}]
[null,null,null,null,{"$f":"IF(Configuração!C6211=\"\",\"\",Configuração!B6211)","v":""}]
[null,null,null,null,{"$f":"IF(Configuração!C6212=\"\",\"\",Configuração!B6212)","v":""}]
[null,null,null,null,{"$f":"IF(Configuração!C6217=\"\",\"\",Configuração!B6217)","v":""}]
[null,null,null,null,{"$f":"IF(Configuração!C6222=\"\",\"\",Configuração!B6222)","v":""}]
[null,null,null,null,{"$f":"IF(Configuração!C6227=\"\",\"\",Configuração!B6227)","v":""}]
[null,null,null,null,{"$f":"IF(Configuração!C6228=\"\",\"\",Configuração!B6228)","v":""}]
[null,null,null,null,{"$f":"IF(Configuração!C6232=\"\",\"\",Configuração!B6232)","v":""}]
[null,null,null,null,{"$f":"IF(Configuração!C6237=\"\",\"\",Configuração!B6237)","v":""}]
[null,null,null,null,{"$f":"IF(Configuração!C6242=\"\",\"\",Configuração!B6242)","v":""}]
[null,null,null,null,{"$f":"IF(Configuração!C6243=\"\",\"\",Configuração!B6243)","v":""}]
[null,null,null,null,{"$f":"IF(Configuração!C6248=\"\",\"\",Configuração!B6248)","v":""}]
[null,null,null,null,{"$f":"IF(Configuração!C6253=\"\",\"\",Configuração!B6253)","v":""}]
[null,null,null,null,{"$f":"IF(Configuração!C6258=\"\",\"\",Configuração!B6258)","v":""}]
[null,null,null,null,{"$f":"IF(Configuração!C6261=\"\",\"\",Configuração!B6261)","v":""}]
[null,null,null,null,{"$f":"IF(Configuração!C6263=\"\",\"\",Configuração!B6263)","v":""}]
[null,null,null,null,{"$f":"IF(Configuração!C6268=\"\",\"\",Configuração!B6268)","v":""}]
[null,null,null,null,{"$f":"IF(Configuração!C6273=\"\",\"\",Configuração!B6273)","v":""}]
[null,null,null,null,{"$f":"IF(Configuração!C6274=\"\",\"\",Configuração!B6274)","v":""}]
[null,null,null,null,{"$f":"IF(Configuração!C6279=\"\",\"\",Configuração!B6279)","v":""}]
[null,null,null,null,{"$f":"IF(Configuração!C6284=\"\",\"\",Configuração!B6284)","v":""}]
[null,null,null,null,{"$f":"IF(Configuração!C6288=\"\",\"\",Configuração!B6288)","v":""}]
[null,null,null,null,{"$f":"IF(Configuração!C6289=\"\",\"\",Configuração!B6289)","v":""}]
[null,null,null,null,{"$f":"IF(Configuração!C6294=\"\",\"\",Configuração!B6294)","v":""}]
[null,null,null,null,{"$f":"IF(Configuração!C6299=\"\",\"\",Configuração!B6299)","v":""}]
[null,null,null,null,{"$f":"IF(Configuração!C6304=\"\",\"\",Configuração!B6304)","v":""}]
[null,null,null,null,{"$f":"IF(Configuração!C6305=\"\",\"\",Configuração!B6305)","v":""}]
[null,null,null,null,{"$f":"IF(Configuração!C6310=\"\",\"\",Configuração!B6310)","v":""}]
[null,null,null,null,{"$f":"IF(Configuração!C6315=\"\",\"\",Configuração!B6315)","v":""}]
[null,null,null,null,{"$f":"IF(Configuração!C6319=\"\",\"\",Configuração!B6319)","v":""}]
[null,null,null,null,{"$f":"IF(Configuração!C6320=\"\",\"\",Configuração!B6320)","v":""}]
[null,null,null,null,{"$f":"IF(Configuração!C6325=\"\",\"\",Configuração!B6325)","v":""}]
[null,null,null,null,{"$f":"IF(Configuração!C6330=\"\",\"\",Configuração!B6330)","v":""}]
[null,null,null,null,{"$f":"IF(Configuração!C6335=\"\",\"\",Configuração!B6335)","v":""}]
[null,null,null,null,{"$f":"IF(Configuração!C6336=\"\",\"\",Configuração!B6336)","v":""}]
[null,null,null,null,{"$f":"IF(Configuração!C6341=\"\",\"\",Configuração!B6341)","v":""}]
[null,null,null,null,{"$f":"IF(Configuração!C6346=\"\",\"\",Configuração!B6346)","v":""}]
[null,null,null,null,{"$f":"IF(Configuração!C6350=\"\",\"\",Configuração!B6350)","v":""}]
[null,null,null,null,{"$f":"IF(Configuração!C6351=\"\",\"\",Configuração!B6351)","v":""}]
[null,null,null,null,{"$f":"IF(Configuração!C6356=\"\",\"\",Configuração!B6356)","v":""}]
[null,null,null,null,{"$f":"IF(Configuração!C6361=\"\",\"\",Configuração!B6361)","v":""}]
[null,null,null,null,{"$f":"IF(Configuração!C6366=\"\",\"\",Configuração!B6366)","v":""}]
[null,null,null,null,{"$f":"IF(Configuração!C6367=\"\",\"\",Configuração!B6367)","v":""}]
[null,null,null,null,{"$f":"IF(Configuração!C6372=\"\",\"\",Configuração!B6372)","v":""}]
[null,null,null,null,{"$f":"IF(Configuração!C6376=\"\",\"\",Configuração!B6376)","v":""}]
[null,null,null,null,{"$f":"IF(Configuração!C6381=\"\",\"\",Configuração!B6381)","v":""}]
[null,null,null,null,{"$f":"IF(Configuração!C6382=\"\",\"\",Configuração!B6382)","v":""}]
[null,null,null,null,{"$f":"IF(Configuração!C6387=\"\",\"\",Configuração!B6387)","v":""}]
[null,null,null,null,{"$f":"IF(Configuração!C6392=\"\",\"\",Configuração!B6392)","v":""}]
[null,null,null,null,{"$f":"IF(Configuração!C6397=\"\",\"\",Configuração!B6397)","v":""}]
[null,null,null,null,{"$f":"IF(Configuração!C6399=\"\",\"\",Configuração!B6399)","v":""}]
[null,null,null,null,{"$f":"IF(Configuração!C6402=\"\",\"\",Configuração!B6402)","v":""}]
[null,null,null,null,{"$f":"IF(Configuração!C6407=\"\",\"\",Configuração!B6407)","v":""}]
[null,null,null,null,{"$f":"IF(Configuração!C6412=\"\",\"\",Configuração!B6412)","v":""}]
[null,null,null,null,{"$f":"IF(Configuração!C6413=\"\",\"\",Configuração!B6413)","v":""}]
[null,null,null,null,{"$f":"IF(Configuração!C6418=\"\",\"\",Configuração!B6418)","v":""}]
[null,null,null,null,{"$f":"IF(Configuração!C6423=\"\",\"\",Configuração!B6423)","v":""}]
[null,null,null,null,{"$f":"IF(Configuração!C6426=\"\",\"\",Configuração!B6426)","v":""}]
[null,null,null,null,{"$f":"IF(Configuração!C6428=\"\",\"\",Configuração!B6428)","v":""}]
[null,null,null,null,{"$f":"IF(Configuração!C6433=\"\",\"\",Configuração!B6433)","v":""}]
[null,null,null,null,{"$f":"IF(Configuração!C6438=\"\",\"\",Configuração!B6438)","v":""}]
[null,null,null,null,{"$f":"IF(Configuração!C6443=\"\",\"\",Configuração!B6443)","v":""}]
[null,null,null,null,{"$f":"IF(Configuração!C6444=\"\",\"\",Configuração!B6444)","v":""}]
[null,null,null,null,{"$f":"IF(Configuração!C6449=\"\",\"\",Configuração!B6449)","v":""}]
[null,null,null,null,{"$f":"IF(Configuração!C6454=\"\",\"\",Configuração!B6454)","v":""}]
[null,null,null,null,{"$f":"IF(Configuração!C6457=\"\",\"\",Configuração!B6457)","v":""}]
[null,null,null,null,{"$f":"IF(Configuração!C6459=\"\",\"\",Configuração!B6459)","v":""}]
[null,null,null,null,{"$f":"IF(Configuração!C6464=\"\",\"\",Configuração!B6464)","v":""}]
[null,null,null,null,{"$f":"IF(Configuração!C6469=\"\",\"\",Configuração!B6469)","v":""}]
[null,null,null,null,{"$f":"IF(Configuração!C6474=\"\",\"\",Configuração!B6474)","v":""}]
[null,null,null,null,{"$f":"IF(Configuração!C6475=\"\",\"\",Configuração!B6475)","v":""}]
[null,null,null,null,{"$f":"IF(Configuração!C6480=\"\",\"\",Configuração!B6480)","v":""}]
[null,null,null,null,{"$f":"IF(Configuração!C6483=\"\",\"\",Configuração!B6483)","v":""}]
[null,null,null,null,{"$f":"IF(Configuração!C6489=\"\",\"\",Configuração!B6489)","v":""}]
[null,null,null,null,{"$f":"IF(Configuração!C6490=\"\",\"\",Configuração!B6490)","v":""}]
[null,null,null,null,{"$f":"IF(Configuração!C6495=\"\",\"\",Configuração!B6495)","v":""}]
[null,null,null,null,{"$f":"IF(Configuração!C6500=\"\",\"\",Configuração!B6500)","v":""}]
[null,null,null,null,{"$f":"IF(Configuração!C6505=\"\",\"\",Configuração!B6505)","v":""}]
[null,null,null,null,{"$f":"IF(Configuração!C6506=\"\",\"\",Configuração!B6506)","v":""}]
[null,null,null,null,{"$f":"IF(Configuração!C6510=\"\",\"\",Configuração!B6510)","v":""}]
[null,null,null,null,{"$f":"IF(Configuração!C6515=\"\",\"\",Configuração!B6515)","v":""}]
[null,null,null,null,{"$f":"IF(Configuração!C6520=\"\",\"\",Configuração!B6520)","v":""}]
[null,null,null,null,{"$f":"IF(Configuração!C6521=\"\",\"\",Configuração!B6521)","v":""}]
[null,null,null,null,{"$f":"IF(Configuração!C6526=\"\",\"\",Configuração!B6526)","v":""}]
[null,null,null,null,{"$f":"IF(Configuração!C6531=\"\",\"\",Configuração!B6531)","v":""}]
[null,null,null,null,{"$f":"IF(Configuração!C6536=\"\",\"\",Configuração!B6536)","v":""}]
[null,null,null,null,{"$f":"IF(Configuração!C6537=\"\",\"\",Configuração!B6537)","v":""}]
[null,null,null,null,{"$f":"IF(Configuração!C6541=\"\",\"\",Configuração!B6541)","v":""}]
[null,null,null,null,{"$f":"IF(Configuração!C6546=\"\",\"\",Configuração!B6546)","v":""}]
[null,null,null,null,{"$f":"IF(Configuração!C6551=\"\",\"\",Configuração!B6551)","v":""}]
[null,null,null,null,{"$f":"IF(Configuração!C6552=\"\",\"\",Configuração!B6552)","v":""}]
[null,null,null,null,{"$f":"IF(Configuração!C6557=\"\",\"\",Configuração!B6557)","v":""}]
[null,null,null,null,{"$f":"IF(Configuração!C6562=\"\",\"\",Configuração!B6562)","v":""}]
[null,null,null,null,{"$f":"IF(Configuração!C6567=\"\",\"\",Configuração!B6567)","v":""}]
[null,null,null,null,{"$f":"IF(Configuração!C6568=\"\",\"\",Configuração!B6568)","v":""}]
[null,null,null,null,{"$f":"IF(Configuração!C6572=\"\",\"\",Configuração!B6572)","v":""}]
[null,null,null,null,{"$f":"IF(Configuração!C6577=\"\",\"\",Configuração!B6577)","v":""}]
[null,null,null,null,{"$f":"IF(Configuração!C6582=\"\",\"\",Configuração!B6582)","v":""}]
[null,null,null,null,{"$f":"IF(Configuração!C6583=\"\",\"\",Configuração!B6583)","v":""}]
[null,null,null,null,{"$f":"IF(Configuração!C6588=\"\",\"\",Configuração!B6588)","v":""}]
[null,null,null,null,{"$f":"IF(Configuração!C6593=\"\",\"\",Configuração!B6593)","v":""}]
[null,null,null,null,{"$f":"IF(Configuração!C6597=\"\",\"\",Configuração!B6597)","v":""}]
[null,null,null,null,{"$f":"IF(Configuração!C6598=\"\",\"\",Configuração!B6598)","v":""}]
[null,null,null,null,{"$f":"IF(Configuração!C6603=\"\",\"\",Configuração!B6603)","v":""}]
[null,null,null,null,{"$f":"IF(Configuração!C6608=\"\",\"\",Configuração!B6608)","v":""}]
[null,null,null,null,{"$f":"IF(Configuração!C6613=\"\",\"\",Configuração!B6613)","v":""}]
[null,null,null,null,{"$f":"IF(Configuração!C6614=\"\",\"\",Configuração!B6614)","v":""}]
[null,null,null,null,{"$f":"IF(Configuração!C6619=\"\",\"\",Configuração!B6619)","v":""}]
[null,null,null,null,{"$f":"IF(Configuração!C6624=\"\",\"\",Configuração!B6624)","v":""}]
[null,null,null,null,{"$f":"IF(Configuração!C6628=\"\",\"\",Configuração!B6628)","v":""}]
[null,null,null,null,{"$f":"IF(Configuração!C6629=\"\",\"\",Configuração!B6629)","v":""}]
[null,null,null,null,{"$f":"IF(Configuração!C6634=\"\",\"\",Configuração!B6634)","v":""}]
[null,null,null,null,{"$f":"IF(Configuração!C6639=\"\",\"\",Configuração!B6639)","v":""}]
[null,null,null,null,{"$f":"IF(Configuração!C6644=\"\",\"\",Configuração!B6644)","v":""}]
[null,null,null,null,{"$f":"IF(Configuração!C6645=\"\",\"\",Configuração!B6645)","v":""}]
[null,null,null,null,{"$f":"IF(Configuração!C6651=\"\",\"\",Configuração!B6651)","v":""}]
[null,null,null,null,{"$f":"IF(Configuração!C6654=\"\",\"\",Configuração!B6654)","v":""}]
[null,null,null,null,{"$f":"IF(Configuração!C6659=\"\",\"\",Configuração!B6659)","v":""}]
[null,null,null,null,{"$f":"IF(Configuração!C6660=\"\",\"\",Configuração!B6660)","v":""}]
[null,null,null,null,{"$f":"IF(Configuração!C6665=\"\",\"\",Configuração!B6665)","v":""}]
[null,null,null,null,{"$f":"IF(Configuração!C6670=\"\",\"\",Configuração!B6670)","v":""}]
[null,null,null,null,{"$f":"IF(Configuração!C6675=\"\",\"\",Configuração!B6675)","v":""}]
[null,null,null,null,{"$f":"IF(Configuração!C6676=\"\",\"\",Configuração!B6676)","v":""}]
[null,null,null,null,{"$f":"IF(Configuração!C6682=\"\",\"\",Configuração!B6682)","v":""}]
[null,null,null,null,{"$f":"IF(Configuração!C6685=\"\",\"\",Configuração!B6685)","v":""}]
[null,null,null,null,{"$f":"IF(Configuração!C6690=\"\",\"\",Configuração!B6690)","v":""}]
[null,null,null,null,{"$f":"IF(Configuração!C6691=\"\",\"\",Configuração!B6691)","v":""}]
[null,null,null,null,{"$f":"IF(Configuração!C6696=\"\",\"\",Configuração!B6696)","v":""}]
[null,null,null,null,{"$f":"IF(Configuração!C6701=\"\",\"\",Configuração!B6701)","v":""}]
[null,null,null,null,{"$f":"IF(Configuração!C6706=\"\",\"\",Configuração!B6706)","v":""}]
[null,null,null,null,{"$f":"IF(Configuração!C6709=\"\",\"\",Configuração!B6709)","v":""}]
[null,null,null,null,{"$f":"IF(Configuração!C6711=\"\",\"\",Configuração!B6711)","v":""}]
[null,null,null,null,{"$f":"IF(Configuração!C6716=\"\",\"\",Configuração!B6716)","v":""}]
[null,null,null,null,{"$f":"IF(Configuração!C6721=\"\",\"\",Configuração!B6721)","v":""}]
[null,null,null,null,{"$f":"IF(Configuração!C6722=\"\",\"\",Configuração!B6722)","v":""}]
[null,null,null,null,{"$f":"IF(Configuração!C6727=\"\",\"\",Configuração!B6727)","v":""}]
[null,null,null,null,{"$f":"IF(Configuração!C6732=\"\",\"\",Configuração!B6732)","v":""}]
[null,null,null,null,{"$f":"IF(Configuração!C6735=\"\",\"\",Configuração!B6735)","v":""}]
[null,null,null,null,{"$f":"IF(Configuração!C6737=\"\",\"\",Configuração!B6737)","v":""}]
[null,null,null,null,{"$f":"IF(Configuração!C6742=\"\",\"\",Configuração!B6742)","v":""}]
[null,null,null,null,{"$f":"IF(Configuração!C6747=\"\",\"\",Configuração!B6747)","v":""}]
[null,null,null,null,{"$f":"IF(Configuração!C6752=\"\",\"\",Configuração!B6752)","v":""}]
[null,null,null,null,{"$f":"IF(Configuração!C6753=\"\",\"\",Configuração!B6753)","v":""}]
[null,null,null,null,{"$f":"IF(Configuração!C6758=\"\",\"\",Configuração!B6758)","v":""}]
[null,null,null,null,{"$f":"IF(Configuração!C6762=\"\",\"\",Configuração!B6762)","v":""}]
[null,null,null,null,{"$f":"IF(Configuração!C6767=\"\",\"\",Configuração!B6767)","v":""}]
[null,null,null,null,{"$f":"IF(Configuração!C6768=\"\",\"\",Configuração!B6768)","v":""}]
[null,null,null,null,{"$f":"IF(Configuração!C6773=\"\",\"\",Configuração!B6773)","v":""}]
[null,null,null,null,{"$f":"IF(Configuração!C6778=\"\",\"\",Configuração!B6778)","v":""}]
[null,null,null,null,{"$f":"IF(Configuração!C6783=\"\",\"\",Configuração!B6783)","v":""}]
[null,null,null,null,{"$f":"IF(Configuração!C6784=\"\",\"\",Configuração!B6784)","v":""}]
[null,null,null,null,{"$f":"IF(Configuração!C6789=\"\",\"\",Configuração!B6789)","v":""}]
[null,null,null,null,{"$f":"IF(Configuração!C6793=\"\",\"\",Configuração!B6793)","v":""}]
[null,null,null,null,{"$f":"IF(Configuração!C6798=\"\",\"\",Configuração!B6798)","v":""}]
[null,null,null,null,{"$f":"IF(Configuração!C6799=\"\",\"\",Configuração!B6799)","v":""}]
[null,null,null,null,{"$f":"IF(Configuração!C6804=\"\",\"\",Configuração!B6804)","v":""}]
[null,null,null,null,{"$f":"IF(Configuração!C6809=\"\",\"\",Configuração!B6809)","v":""}]
[null,null,null,null,{"$f":"IF(Configuração!C6814=\"\",\"\",Configuração!B6814)","v":""}]
[null,null,null,null,{"$f":"IF(Configuração!C6815=\"\",\"\",Configuração!B6815)","v":""}]
[null,null,null,null,{"$f":"IF(Configuração!C6820=\"\",\"\",Configuração!B6820)","v":""}]
[null,null,null,null,{"$f":"IF(Configuração!C6824=\"\",\"\",Configuração!B6824)","v":""}]
[null,null,null,null,{"$f":"IF(Configuração!C6829=\"\",\"\",Configuração!B6829)","v":""}]
[null,null,null,null,{"$f":"IF(Configuração!C6830=\"\",\"\",Configuração!B6830)","v":""}]
[null,null,null,null,{"$f":"IF(Configuração!C6835=\"\",\"\",Configuração!B6835)","v":""}]
[null,null,null,null,{"$f":"IF(Configuração!C6840=\"\",\"\",Configuração!B6840)","v":""}]
[null,null,null,null,{"$f":"IF(Configuração!C6845=\"\",\"\",Configuração!B6845)","v":""}]
[null,null,null,null,{"$f":"IF(Configuração!C6846=\"\",\"\",Configuração!B6846)","v":""}]
[null,null,null,null,{"$f":"IF(Configuração!C6850=\"\",\"\",Configuração!B6850)","v":""}]
[null,null,null,null,{"$f":"IF(Configuração!C6855=\"\",\"\",Configuração!B6855)","v":""}]
[null,null,null,null,{"$f":"IF(Configuração!C6860=\"\",\"\",Configuração!B6860)","v":""}]
[null,null,null,null,{"$f":"IF(Configuração!C6861=\"\",\"\",Configuração!B6861)","v":""}]
[null,null,null,null,{"$f":"IF(Configuração!C6866=\"\",\"\",Configuração!B6866)","v":""}]
[null,null,null,null,{"$f":"IF(Configuração!C6871=\"\",\"\",Configuração!B6871)","v":""}]
[null,null,null,null,{"$f":"IF(Configuração!C6873=\"\",\"\",Configuração!B6873)","v":""}]
[null,null,null,null,{"$f":"IF(Configuração!C6876=\"\",\"\",Configuração!B6876)","v":""}]
[null,null,null,null,{"$f":"IF(Configuração!C6881=\"\",\"\",Configuração!B6881)","v":""}]
[null,null,null,null,{"$f":"IF(Configuração!C6886=\"\",\"\",Configuração!B6886)","v":""}]
[null,null,null,null,{"$f":"IF(Configuração!C6891=\"\",\"\",Configuração!B6891)","v":""}]
[null,null,null,null,{"$f":"IF(Configuração!C6892=\"\",\"\",Configuração!B6892)","v":""}]
[null,null,null,null,{"$f":"IF(Configuração!C6897=\"\",\"\",Configuração!B6897)","v":""}]
[null,null,null,null,{"$f":"IF(Configuração!C6902=\"\",\"\",Configuração!B6902)","v":""}]
[null,null,null,null,{"$f":"IF(Configuração!C6904=\"\",\"\",Configuração!B6904)","v":""}]
[null,null,null,null,{"$f":"IF(Configuração!C6907=\"\",\"\",Configuração!B6907)","v":""}]
[null,null,null,null,{"$f":"IF(Configuração!C6912=\"\",\"\",Configuração!B6912)","v":""}]
[null,null,null,null,{"$f":"IF(Configuração!C6917=\"\",\"\",Configuração!B6917)","v":""}]
[null,null,null,null,{"$f":"IF(Configuração!C6922=\"\",\"\",Configuração!B6922)","v":""}]
[null,null,null,null,{"$f":"IF(Configuração!C6923=\"\",\"\",Configuração!B6923)","v":""}]
[null,null,null,null,{"$f":"IF(Configuração!C6928=\"\",\"\",Configuração!B6928)","v":""}]
[null,null,null,null,{"$f":"IF(Configuração!C6931=\"\",\"\",Configuração!B6931)","v":""}]
[null,null,null,null,{"$f":"IF(Configuração!C6937=\"\",\"\",Configuração!B6937)","v":""}]
[null,null,null,null,{"$f":"IF(Configuração!C6938=\"\",\"\",Configuração!B6938)","v":""}]
[null,null,null,null,{"$f":"IF(Configuração!C6943=\"\",\"\",Configuração!B6943)","v":""}]
[null,null,null,null,{"$f":"IF(Configuração!C6948=\"\",\"\",Configuração!B6948)","v":""}]
[null,null,null,null,{"$f":"IF(Configuração!C6953=\"\",\"\",Configuração!B6953)","v":""}]
[null,null,null,null,{"$f":"IF(Configuração!C6954=\"\",\"\",Configuração!B6954)","v":""}]
[null,null,null,null,{"$f":"IF(Configuração!C6960=\"\",\"\",Configuração!B6960)","v":""}]
[null,null,null,null,{"$f":"IF(Configuração!C6963=\"\",\"\",Configuração!B6963)","v":""}]
[null,null,null,null,{"$f":"IF(Configuração!C6968=\"\",\"\",Configuração!B6968)","v":""}]
[null,null,null,null,{"$f":"IF(Configuração!C6969=\"\",\"\",Configuração!B6969)","v":""}]
[null,null,null,null,{"$f":"IF(Configuração!C6974=\"\",\"\",Configuração!B6974)","v":""}]
[null,null,null,null,{"$f":"IF(Configuração!C6979=\"\",\"\",Configuração!B6979)","v":""}]
[null,null,null,null,{"$f":"IF(Configuração!C6984=\"\",\"\",Configuração!B6984)","v":""}]
[null,null,null,null,{"$f":"IF(Configuração!C6987=\"\",\"\",Configuração!B6987)","v":""}]
[null,null,null,null,{"$f":"IF(Configuração!C6989=\"\",\"\",Configuração!B6989)","v":""}]
[null,null,null,null,{"$f":"IF(Configuração!C6994=\"\",\"\",Configuração!B6994)","v":""}]
[null,null,null,null,{"$f":"IF(Configuração!C6999=\"\",\"\",Configuração!B6999)","v":""}]
[null,null,null,null,{"$f":"IF(Configuração!C7000=\"\",\"\",Configuração!B7000)","v":""}]
[null,null,null,null,{"$f":"IF(Configuração!C7005=\"\",\"\",Configuração!B7005)","v":""}]
[null,null,null,null,{"$f":"IF(Configuração!C7010=\"\",\"\",Configuração!B7010)","v":""}]
[null,null,null,null,{"$f":"IF(Configuração!C7015=\"\",\"\",Configuração!B7015)","v":""}]
[null,null,null,null,{"$f":"IF(Configuração!C7018=\"\",\"\",Configuração!B7018)","v":""}]
[null,null,null,null,{"$f":"IF(Configuração!C7020=\"\",\"\",Configuração!B7020)","v":""}]
[null,null,null,null,{"$f":"IF(Configuração!C7025=\"\",\"\",Configuração!B7025)","v":""}]
[null,null,null,null,{"$f":"IF(Configuração!C7030=\"\",\"\",Configuração!B7030)","v":""}]
[null,null,null,null,{"$f":"IF(Configuração!C7031=\"\",\"\",Configuração!B7031)","v":""}]
[null,null,null,null,{"$f":"IF(Configuração!C7036=\"\",\"\",Configuração!B7036)","v":""}]
[null,null,null,null,{"$f":"IF(Configuração!C7041=\"\",\"\",Configuração!B7041)","v":""}]
[null,null,null,null,{"$f":"IF(Configuração!C7045=\"\",\"\",Configuração!B7045)","v":""}]
[null,null,null,null,{"$f":"IF(Configuração!C7046=\"\",\"\",Configuração!B7046)","v":""}]
[null,null,null,null,{"$f":"IF(Configuração!C7051=\"\",\"\",Configuração!B7051)","v":""}]
[null,null,null,null,{"$f":"IF(Configuração!C7056=\"\",\"\",Configuração!B7056)","v":""}]
[null,null,null,null,{"$f":"IF(Configuração!C7061=\"\",\"\",Configuração!B7061)","v":""}]
[null,null,null,null,{"$f":"IF(Configuração!C7062=\"\",\"\",Configuração!B7062)","v":""}]
[null,null,null,null,{"$f":"IF(Configuração!C7067=\"\",\"\",Configuração!B7067)","v":""}]
[null,null,null,null,{"$f":"IF(Configuração!C7071=\"\",\"\",Configuração!B7071)","v":""}]
[null,null,null,null,{"$f":"IF(Configuração!C7076=\"\",\"\",Configuração!B7076)","v":""}]
[null,null,null,null,{"$f":"IF(Configuração!C7077=\"\",\"\",Configuração!B7077)","v":""}]
[null,null,null,null,{"$f":"IF(Configuração!C7082=\"\",\"\",Configuração!B7082)","v":""}]
[null,null,null,null,{"$f":"IF(Configuração!C7087=\"\",\"\",Configuração!B7087)","v":""}]
[null,null,null,null,{"$f":"IF(Configuração!C7092=\"\",\"\",Configuração!B7092)","v":""}]
[null,null,null,null,{"$f":"IF(Configuração!C7093=\"\",\"\",Configuração!B7093)","v":""}]
[null,null,null,null,{"$f":"IF(Configuração!C7098=\"\",\"\",Configuração!B7098)","v":""}]
[null,null,null,null,{"$f":"IF(Configuração!C7102=\"\",\"\",Configuração!B7102)","v":""}]
[null,null,null,null,{"$f":"IF(Configuração!C7107=\"\",\"\",Configuração!B7107)","v":""}]
[null,null,null,null,{"$f":"IF(Configuração!C7108=\"\",\"\",Configuração!B7108)","v":""}]
[null,null,null,null,{"$f":"IF(Configuração!C7113=\"\",\"\",Configuração!B7113)","v":""}]
[null,null,null,null,{"$f":"IF(Configuração!C7118=\"\",\"\",Configuração!B7118)","v":""}]
[null,null,null,null,{"$f":"IF(Configuração!C7123=\"\",\"\",Configuração!B7123)","v":""}]
[null,null,null,null,{"$f":"IF(Configuração!C7124=\"\",\"\",Configuração!B7124)","v":""}]
[null,null,null,null,{"$f":"IF(Configuração!C7129=\"\",\"\",Configuração!B7129)","v":""}]
[null,null,null,null,{"$f":"IF(Configuração!C7133=\"\",\"\",Configuração!B7133)","v":""}]
[null,null,null,null,{"$f":"IF(Configuração!C7138=\"\",\"\",Configuração!B7138)","v":""}]
[null,null,null,null,{"$f":"IF(Configuração!C7139=\"\",\"\",Configuração!B7139)","v":""}]
[null,null,null,null,{"$f":"IF(Configuração!C7144=\"\",\"\",Configuração!B7144)","v":""}]
[null,null,null,null,{"$f":"IF(Configuração!C7149=\"\",\"\",Configuração!B7149)","v":""}]
[null,null,null,null,{"$f":"IF(Configuração!C7154=\"\",\"\",Configuração!B7154)","v":""}]
[null,null,null,null,{"$f":"IF(Configuração!C7156=\"\",\"\",Configuração!B7156)","v":""}]
[null,null,null,null,{"$f":"IF(Configuração!C7159=\"\",\"\",Configuração!B7159)","v":""}]
[null,null,null,null,{"$f":"IF(Configuração!C7164=\"\",\"\",Configuração!B7164)","v":""}]
[null,null,null,null,{"$f":"IF(Configuração!C7169=\"\",\"\",Configuração!B7169)","v":""}]
[null,null,null,null,{"$f":"IF(Configuração!C7170=\"\",\"\",Configuração!B7170)","v":""}]
[null,null,null,null,{"$f":"IF(Configuração!C7175=\"\",\"\",Configuração!B7175)","v":""}]
[null,null,null,null,{"$f":"IF(Configuração!C7180=\"\",\"\",Configuração!B7180)","v":""}]
[null,null,null,null,{"$f":"IF(Configuração!C7182=\"\",\"\",Configuração!B7182)","v":""}]
[null,null,null,null,{"$f":"IF(Configuração!C7185=\"\",\"\",Configuração!B7185)","v":""}]
[null,null,null,null,{"$f":"IF(Configuração!C7190=\"\",\"\",Configuração!B7190)","v":""}]
[null,null,null,null,{"$f":"IF(Configuração!C7195=\"\",\"\",Configuração!B7195)","v":""}]
[null,null,null,null,{"$f":"IF(Configuração!C7200=\"\",\"\",Configuração!B7200)","v":""}]
[null,null,null,null,{"$f":"IF(Configuração!C7201=\"\",\"\",Configuração!B7201)","v":""}]
[null,null,null,null,{"$f":"IF(Configuração!C7206=\"\",\"\",Configuração!B7206)","v":""}]
[null,null,null,null,{"$f":"IF(Configuração!C7209=\"\",\"\",Configuração!B7209)","v":""}]
[null,null,null,null,{"$f":"IF(Configuração!C7215=\"\",\"\",Configuração!B7215)","v":""}]
[null,null,null,null,{"$f":"IF(Configuração!C7216=\"\",\"\",Configuração!B7216)","v":""}]
[null,null,null,null,{"$f":"IF(Configuração!C7221=\"\",\"\",Configuração!B7221)","v":""}]
[null,null,null,null,{"$f":"IF(Configuração!C7226=\"\",\"\",Configuração!B7226)","v":""}]
[null,null,null,null,{"$f":"IF(Configuração!C7231=\"\",\"\",Configuração!B7231)","v":""}]
[null,null,null,null,{"$f":"IF(Configuração!C7232=\"\",\"\",Configuração!B7232)","v":""}]
[null,null,null,null,{"$f":"IF(Configuração!C7237=\"\",\"\",Configuração!B7237)","v":""}]
[null,null,null,null,{"$f":"IF(Configuração!C7240=\"\",\"\",Configuração!B7240)","v":""}]
[null,null,null,null,{"$f":"IF(Configuração!C7246=\"\",\"\",Configuração!B7246)","v":""}]
[null,null,null,null,{"$f":"IF(Configuração!C7247=\"\",\"\",Configuração!B7247)","v":""}]
[null,null,null,null,{"$f":"IF(Configuração!C7252=\"\",\"\",Configuração!B7252)","v":""}]
[null,null,null,null,{"$f":"IF(Configuração!C7257=\"\",\"\",Configuração!B7257)","v":""}]
[null,null,null,null,{"$f":"IF(Configuração!C7262=\"\",\"\",Configuração!B7262)","v":""}]
[null,null,null,null,{"$f":"IF(Configuração!C7263=\"\",\"\",Configuração!B7263)","v":""}]
[null,null,null,null,{"$f":"IF(Configuração!C7267=\"\",\"\",Configuração!B7267)","v":""}]
[null,null,null,null,{"$f":"IF(Configuração!C7272=\"\",\"\",Configuração!B7272)","v":""}]
[null,null,null,null,{"$f":"IF(Configuração!C7277=\"\",\"\",Configuração!B7277)","v":""}]
[null,null,null,null,{"$f":"IF(Configuração!C7278=\"\",\"\",Configuração!B7278)","v":""}]
[null,null,null,null,{"$f":"IF(Configuração!C7283=\"\",\"\",Configuração!B7283)","v":""}]
[null,null,null,null,{"$f":"IF(Configuração!C7288=\"\",\"\",Configuração!B7288)","v":""}]
[null,null,null,null,{"$f":"IF(Configuração!C7293=\"\",\"\",Configuração!B7293)","v":""}]
[null,null,null,null,{"$f":"IF(Configuração!C7294=\"\",\"\",Configuração!B7294)","v":""}]
[null,null,null,null,{"$f":"IF(Configuração!C7298=\"\",\"\",Configuração!B7298)","v":""}]
[null,null,null,null,{"$f":"IF(Configuração!C7303=\"\",\"\",Configuração!B7303)","v":""}]
[null,null,null,null,{"$f":"IF(Configuração!C7308=\"\",\"\",Configuração!B7308)","v":""}]
[null,null,null,null,{"$f":"IF(Configuração!C7309=\"\",\"\",Configuração!B7309)","v":""}]
[null,null,null,null,{"$f":"IF(Configuração!C7314=\"\",\"\",Configuração!B7314)","v":""}]
[null,null,null,null,{"$f":"IF(Configuração!C7319=\"\",\"\",Configuração!B7319)","v":""}]
[null,null,null,null,{"$f":"IF(Configuração!C7323=\"\",\"\",Configuração!B7323)","v":""}]
[null,null,null,null,{"$f":"IF(Configuração!C7324=\"\",\"\",Configuração!B7324)","v":""}]
[null,null,null,null,{"$f":"IF(Configuração!C7329=\"\",\"\",Configuração!B7329)","v":""}]
[null,null,null,null,{"$f":"IF(Configuração!C7334=\"\",\"\",Configuração!B7334)","v":""}]
[null,null,null,null,{"$f":"IF(Configuração!C7339=\"\",\"\",Configuração!B7339)","v":""}]
[null,null,null,null,{"$f":"IF(Configuração!C7340=\"\",\"\",Configuração!B7340)","v":""}]
[null,null,null,null,{"$f":"IF(Configuração!C7345=\"\",\"\",Configuração!B7345)","v":""}]
[null,null,null,null,{"$f":"IF(Configuração!C7350=\"\",\"\",Configuração!B7350)","v":""}]
[null,null,null,null,{"$f":"IF(Configuração!C7354=\"\",\"\",Configuração!B7354)","v":""}]
[null,null,null,null,{"$f":"IF(Configuração!C7355=\"\",\"\",Configuração!B7355)","v":""}]
[null,null,null,null,{"$f":"IF(Configuração!C7360=\"\",\"\",Configuração!B7360)","v":""}]
[null,null,null,null,{"$f":"IF(Configuração!C7365=\"\",\"\",Configuração!B7365)","v":""}]
[null,null,null,null,{"$f":"IF(Configuração!C7370=\"\",\"\",Configuração!B7370)","v":""}]
[null,null,null,null,{"$f":"IF(Configuração!C7371=\"\",\"\",Configuração!B7371)","v":""}]
[null,null,null,null,{"$f":"IF(Configuração!C7376=\"\",\"\",Configuração!B7376)","v":""}]
[null,null,null,null,{"$f":"IF(Configuração!C7381=\"\",\"\",Configuração!B7381)","v":""}]
[null,null,null,null,{"$f":"IF(Configuração!C7385=\"\",\"\",Configuração!B7385)","v":""}]
[null,null,null,null,{"$f":"IF(Configuração!C7386=\"\",\"\",Configuração!B7386)","v":""}]
[null,null,null,null,{"$f":"IF(Configuração!C7391=\"\",\"\",Configuração!B7391)","v":""}]
[null,null,null,null,{"$f":"IF(Configuração!C7396=\"\",\"\",Configuração!B7396)","v":""}]
[null,null,null,null,{"$f":"IF(Configuração!C7401=\"\",\"\",Configuração!B7401)","v":""}]
[null,null,null,null,{"$f":"IF(Configuração!C7402=\"\",\"\",Configuração!B7402)","v":""}]
[null,null,null,null,{"$f":"IF(Configuração!C7408=\"\",\"\",Configuração!B7408)","v":""}]
[null,null,null,null,{"$f":"IF(Configuração!C7411=\"\",\"\",Configuração!B7411)","v":""}]
[null,null,null,null,{"$f":"IF(Configuração!C7416=\"\",\"\",Configuração!B7416)","v":""}]
[null,null,null,null,{"$f":"IF(Configuração!C7417=\"\",\"\",Configuração!B7417)","v":""}]
[null,null,null,null,{"$f":"IF(Configuração!C7422=\"\",\"\",Configuração!B7422)","v":""}]
[null,null,null,null,{"$f":"IF(Configuração!C7427=\"\",\"\",Configuração!B7427)","v":""}]
[null,null,null,null,{"$f":"IF(Configuração!C7432=\"\",\"\",Configuração!B7432)","v":""}]
[null,null,null,null,{"$f":"IF(Configuração!C7434=\"\",\"\",Configuração!B7434)","v":""}]
[null,null,null,null,{"$f":"IF(Configuração!C7437=\"\",\"\",Configuração!B7437)","v":""}]
[null,null,null,null,{"$f":"IF(Configuração!C7442=\"\",\"\",Configuração!B7442)","v":""}]
[null,null,null,null,{"$f":"IF(Configuração!C7447=\"\",\"\",Configuração!B7447)","v":""}]
[null,null,null,null,{"$f":"IF(Configuração!C7448=\"\",\"\",Configuração!B7448)","v":""}]
[null,null,null,null,{"$f":"IF(Configuração!C7453=\"\",\"\",Configuração!B7453)","v":""}]
[null,null,null,null,{"$f":"IF(Configuração!C7458=\"\",\"\",Configuração!B7458)","v":""}]
[null,null,null,null,{"$f":"IF(Configuração!C7463=\"\",\"\",Configuração!B7463)","v":""}]
[null,null,null,null,{"$f":"IF(Configuração!C7465=\"\",\"\",Configuração!B7465)","v":""}]
[null,null,null,null,{"$f":"IF(Configuração!C7468=\"\",\"\",Configuração!B7468)","v":""}]
[null,null,null,null,{"$f":"IF(Configuração!C7473=\"\",\"\",Configuração!B7473)","v":""}]
[null,null,null,null,{"$f":"IF(Configuração!C7478=\"\",\"\",Configuração!B7478)","v":""}]
[null,null,null,null,{"$f":"IF(Configuração!C7479=\"\",\"\",Configuração!B7479)","v":""}]
[null,null,null,null,{"$f":"IF(Configuração!C7484=\"\",\"\",Configuração!B7484)","v":""}]
[null,null,null,null,{"$f":"IF(Configuração!C7489=\"\",\"\",Configuração!B7489)","v":""}]
[null,null,null,null,{"$f":"IF(Configuração!C7492=\"\",\"\",Configuração!B7492)","v":""}]
[null,null,null,null,{"$f":"IF(Configuração!C7494=\"\",\"\",Configuração!B7494)","v":""}]
[null,null,null,null,{"$f":"IF(Configuração!C7499=\"\",\"\",Configuração!B7499)","v":""}]
[null,null,null,null,{"$f":"IF(Configuração!C7504=\"\",\"\",Configuração!B7504)","v":""}]
[null,null,null,null,{"$f":"IF(Configuração!C7509=\"\",\"\",Configuração!B7509)","v":""}]
[null,null,null,null,{"$f":"IF(Configuração!C7510=\"\",\"\",Configuração!B7510)","v":""}]
[null,null,null,null,{"$f":"IF(Configuração!C7515=\"\",\"\",Configuração!B7515)","v":""}]
[null,null,null,null,{"$f":"IF(Configuração!C7519=\"\",\"\",Configuração!B7519)","v":""}]
[null,null,null,null,{"$f":"IF(Configuração!C7524=\"\",\"\",Configuração!B7524)","v":""}]
[null,null,null,null,{"$f":"IF(Configuração!C7525=\"\",\"\",Configuração!B7525)","v":""}]
[null,null,null,null,{"$f":"IF(Configuração!C7530=\"\",\"\",Configuração!B7530)","v":""}]
[null,null,null,null,{"$f":"IF(Configuração!C7535=\"\",\"\",Configuração!B7535)","v":""}]
[null,null,null,null,{"$f":"IF(Configuração!C7540=\"\",\"\",Configuração!B7540)","v":""}]
[null,null,null,null,{"$f":"IF(Configuração!C7541=\"\",\"\",Configuração!B7541)","v":""}]
[null,null,null,null,{"$f":"IF(Configuração!C7545=\"\",\"\",Configuração!B7545)","v":""}]
[null,null,null,null,{"$f":"IF(Configuração!C7550=\"\",\"\",Configuração!B7550)","v":""}]
[null,null,null,null,{"$f":"IF(Configuração!C7555=\"\",\"\",Configuração!B7555)","v":""}]
[null,null,null,null,{"$f":"IF(Configuração!C7556=\"\",\"\",Configuração!B7556)","v":""}]
[null,null,null,null,{"$f":"IF(Configuração!C7561=\"\",\"\",Configuração!B7561)","v":""}]
[null,null,null,null,{"$f":"IF(Configuração!C7566=\"\",\"\",Configuração!B7566)","v":""}]
[null,null,null,null,{"$f":"IF(Configuração!C7571=\"\",\"\",Configuração!B7571)","v":""}]
[null,null,null,null,{"$f":"IF(Configuração!C7572=\"\",\"\",Configuração!B7572)","v":""}]
[null,null,null,null,{"$f":"IF(Configuração!C7576=\"\",\"\",Configuração!B7576)","v":""}]
[null,null,null,null,{"$f":"IF(Configuração!C7581=\"\",\"\",Configuração!B7581)","v":""}]
[null,null,null,null,{"$f":"IF(Configuração!C7586=\"\",\"\",Configuração!B7586)","v":""}]
[null,null,null,null,{"$f":"IF(Configuração!C7587=\"\",\"\",Configuração!B7587)","v":""}]
[null,null,null,null,{"$f":"IF(Configuração!C7592=\"\",\"\",Configuração!B7592)","v":""}]
[null,null,null,null,{"$f":"IF(Configuração!C7597=\"\",\"\",Configuração!B7597)","v":""}]
[null,null,null,null,{"$f":"IF(Configuração!C7602=\"\",\"\",Configuração!B7602)","v":""}]
[null,null,null,null,{"$f":"IF(Configuração!C7603=\"\",\"\",Configuração!B7603)","v":""}]
[null,null,null,null,{"$f":"IF(Configuração!C7607=\"\",\"\",Configuração!B7607)","v":""}]
[null,null,null,null,{"$f":"IF(Configuração!C7612=\"\",\"\",Configuração!B7612)","v":""}]
[null,null,null,null,{"$f":"IF(Configuração!C7617=\"\",\"\",Configuração!B7617)","v":""}]
[null,null,null,null,{"$f":"IF(Configuração!C7618=\"\",\"\",Configuração!B7618)","v":""}]
[null,null,null,null,{"$f":"IF(Configuração!C7623=\"\",\"\",Configuração!B7623)","v":""}]
[null,null,null,null,{"$f":"IF(Configuração!C7628=\"\",\"\",Configuração!B7628)","v":""}]
[null,null,null,null,{"$f":"IF(Configuração!C7630=\"\",\"\",Configuração!B7630)","v":""}]
[null,null,null,null,{"$f":"IF(Configuração!C7633=\"\",\"\",Configuração!B7633)","v":""}]
[null,null,null,null,{"$f":"IF(Configuração!C7638=\"\",\"\",Configuração!B7638)","v":""}]
[null,null,null,null,{"$f":"IF(Configuração!C7643=\"\",\"\",Configuração!B7643)","v":""}]
[null,null,null,null,{"$f":"IF(Configuração!C7648=\"\",\"\",Configuração!B7648)","v":""}]
[null,null,null,null,{"$f":"IF(Configuração!C7649=\"\",\"\",Configuração!B7649)","v":""}]
[null,null,null,null,{"$f":"IF(Configuração!C7654=\"\",\"\",Configuração!B7654)","v":""}]
[null,null,null,null,{"$f":"IF(Configuração!C7659=\"\",\"\",Configuração!B7659)","v":""}]
[null,null,null,null,{"$f":"IF(Configuração!C7663=\"\",\"\",Configuração!B7663)","v":""}]
[null,null,null,null,{"$f":"IF(Configuração!C7664=\"\",\"\",Configuração!B7664)","v":""}]
[null,null,null,null,{"$f":"IF(Configuração!C7669=\"\",\"\",Configuração!B7669)","v":""}]
[null,null,null,null,{"$f":"IF(Configuração!C7674=\"\",\"\",Configuração!B7674)","v":""}]
[null,null,null,null,{"$f":"IF(Configuração!C7679=\"\",\"\",Configuração!B7679)","v":""}]
[null,null,null,null,{"$f":"IF(Configuração!C7680=\"\",\"\",Configuração!B7680)","v":""}]
[null,null,null,null,{"$f":"IF(Configuração!C7686=\"\",\"\",Configuração!B7686)","v":""}]
[null,null,null,null,{"$f":"IF(Configuração!C7689=\"\",\"\",Configuração!B7689)","v":""}]
[null,null,null,null,{"$f":"IF(Configuração!C7694=\"\",\"\",Configuração!B7694)","v":""}]
[null,null,null,null,{"$f":"IF(Configuração!C7695=\"\",\"\",Configuração!B7695)","v":""}]
[null,null,null,null,{"$f":"IF(Configuração!C7700=\"\",\"\",Configuração!B7700)","v":""}]
[null,null,null,null,{"$f":"IF(Configuração!C7705=\"\",\"\",Configuração!B7705)","v":""}]
[null,null,null,null,{"$f":"IF(Configuração!C7710=\"\",\"\",Configuração!B7710)","v":""}]
[null,null,null,null,{"$f":"IF(Configuração!C7711=\"\",\"\",Configuração!B7711)","v":""}]
[null,null,null,null,{"$f":"IF(Configuração!C7717=\"\",\"\",Configuração!B7717)","v":""}]
[null,null,null,null,{"$f":"IF(Configuração!C7720=\"\",\"\",Configuração!B7720)","v":""}]
[null,null,null,null,{"$f":"IF(Configuração!C7725=\"\",\"\",Configuração!B7725)","v":""}]
[null,null,null,null,{"$f":"IF(Configuração!C7726=\"\",\"\",Configuração!B7726)","v":""}]
[null,null,null,null,{"$f":"IF(Configuração!C7731=\"\",\"\",Configuração!B7731)","v":""}]
[null,null,null,null,{"$f":"IF(Configuração!C7736=\"\",\"\",Configuração!B7736)","v":""}]
[null,null,null,null,{"$f":"IF(Configuração!C7741=\"\",\"\",Configuração!B7741)","v":""}]
[null,null,null,null,{"$f":"IF(Configuração!C7744=\"\",\"\",Configuração!B7744)","v":""}]
[null,null,null,null,{"$f":"IF(Configuração!C7746=\"\",\"\",Configuração!B7746)","v":""}]
[null,null,null,null,{"$f":"IF(Configuração!C7751=\"\",\"\",Configuração!B7751)","v":""}]
[null,null,null,null,{"$f":"IF(Configuração!C7756=\"\",\"\",Configuração!B7756)","v":""}]
[null,null,null,null,{"$f":"IF(Configuração!C7757=\"\",\"\",Configuração!B7757)","v":""}]
[null,null,null,null,{"$f":"IF(Configuração!C7762=\"\",\"\",Configuração!B7762)","v":""}]
[null,null,null,null,{"$f":"IF(Configuração!C7767=\"\",\"\",Configuração!B7767)","v":""}]
[null,null,null,null,{"$f":"IF(Configuração!C7771=\"\",\"\",Configuração!B7771)","v":""}]
[null,null,null,null,{"$f":"IF(Configuração!C7772=\"\",\"\",Configuração!B7772)","v":""}]
[null,null,null,null,{"$f":"IF(Configuração!C7777=\"\",\"\",Configuração!B7777)","v":""}]
[null,null,null,null,{"$f":"IF(Configuração!C7782=\"\",\"\",Configuração!B7782)","v":""}]
[null,null,null,null,{"$f":"IF(Configuração!C7787=\"\",\"\",Configuração!B7787)","v":""}]
[null,null,null,null,{"$f":"IF(Configuração!C7788=\"\",\"\",Configuração!B7788)","v":""}]
[null,null,null,null,{"$f":"IF(Configuração!C7793=\"\",\"\",Configuração!B7793)","v":""}]
[null,null,null,null,{"$f":"IF(Configuração!C7797=\"\",\"\",Configuração!B7797)","v":""}]
[null,null,null,null,{"$f":"IF(Configuração!C7802=\"\",\"\",Configuração!B7802)","v":""}]
[null,null,null,null,{"$f":"IF(Configuração!C7803=\"\",\"\",Configuração!B7803)","v":""}]
[null,null,null,null,{"$f":"IF(Configuração!C7808=\"\",\"\",Configuração!B7808)","v":""}]
[null,null,null,null,{"$f":"IF(Configuração!C7813=\"\",\"\",Configuração!B7813)","v":""}]
[null,null,null,null,{"$f":"IF(Configuração!C7818=\"\",\"\",Configuração!B7818)","v":""}]
[null,null,null,null,{"$f":"IF(Configuração!C7819=\"\",\"\",Configuração!B7819)","v":""}]
[null,null,null,null,{"$f":"IF(Configuração!C7824=\"\",\"\",Configuração!B7824)","v":""}]
[null,null,null,null,{"$f":"IF(Configuração!C7828=\"\",\"\",Configuração!B7828)","v":""}]
[null,null,null,null,{"$f":"IF(Configuração!C7833=\"\",\"\",Configuração!B7833)","v":""}]
[null,null,null,null,{"$f":"IF(Configuração!C7834=\"\",\"\",Configuração!B7834)","v":""}]
[null,null,null,null,{"$f":"IF(Configuração!C7839=\"\",\"\",Configuração!B7839)","v":""}]
[null,null,null,null,{"$f":"IF(Configuração!C7844=\"\",\"\",Configuração!B7844)","v":""}]
[null,null,null,null,{"$f":"IF(Configuração!C7849=\"\",\"\",Configuração!B7849)","v":""}]
[null,null,null,null,{"$f":"IF(Configuração!C7850=\"\",\"\",Configuração!B7850)","v":""}]
[null,null,null,null,{"$f":"IF(Configuração!C7855=\"\",\"\",Configuração!B7855)","v":""}]
[null,null,null,null,{"$f":"IF(Configuração!C7859=\"\",\"\",Configuração!B7859)","v":""}]
[null,null,null,null,{"$f":"IF(Configuração!C7864=\"\",\"\",Configuração!B7864)","v":""}]
[null,null,null,null,{"$f":"IF(Configuração!C7865=\"\",\"\",Configuração!B7865)","v":""}]
[null,null,null,null,{"$f":"IF(Configuração!C7870=\"\",\"\",Configuração!B7870)","v":""}]
[null,null,null,null,{"$f":"IF(Configuração!C7875=\"\",\"\",Configuração!B7875)","v":""}]
[null,null,null,null,{"$f":"IF(Configuração!C7880=\"\",\"\",Configuração!B7880)","v":""}]
[null,null,null,null,{"$f":"IF(Configuração!C7882=\"\",\"\",Configuração!B7882)","v":""}]
[null,null,null,null,{"$f":"IF(Configuração!C7885=\"\",\"\",Configuração!B7885)","v":""}]
[null,null,null,null,{"$f":"IF(Configuração!C7890=\"\",\"\",Configuração!B7890)","v":""}]
[null,null,null,null,{"$f":"IF(Configuração!C7895=\"\",\"\",Configuração!B7895)","v":""}]
[null,null,null,null,{"$f":"IF(Configuração!C7896=\"\",\"\",Configuração!B7896)","v":""}]
[null,null,null,null,{"$f":"IF(Configuração!C7901=\"\",\"\",Configuração!B7901)","v":""}]
[null,null,null,null,{"$f":"IF(Configuração!C7906=\"\",\"\",Configuração!B7906)","v":""}]
[null,null,null,null,{"$f":"IF(Configuração!C7908=\"\",\"\",Configuração!B7908)","v":""}]
[null,null,null,null,{"$f":"IF(Configuração!C7911=\"\",\"\",Configuração!B7911)","v":""}]
[null,null,null,null,{"$f":"IF(Configuração!C7916=\"\",\"\",Configuração!B7916)","v":""}]
[null,null,null,null,{"$f":"IF(Configuração!C7921=\"\",\"\",Configuração!B7921)","v":""}]
[null,null,null,null,{"$f":"IF(Configuração!C7926=\"\",\"\",Configuração!B7926)","v":""}]
[null,null,null,null,{"$f":"IF(Configuração!C7927=\"\",\"\",Configuração!B7927)","v":""}]
[null,null,null,null,{"$f":"IF(Configuração!C7932=\"\",\"\",Configuração!B7932)","v":""}]
[null,null,null,null,{"$f":"IF(Configuração!C7937=\"\",\"\",Configuração!B7937)","v":""}]
[null,null,null,null,{"$f":"IF(Configuração!C7939=\"\",\"\",Configuração!B7939)","v":""}]
[null,null,null,null,{"$f":"IF(Configuração!C7942=\"\",\"\",Configuração!B7942)","v":""}]
[null,null,null,null,{"$f":"IF(Configuração!C7947=\"\",\"\",Configuração!B7947)","v":""}]
[null,null,null,null,{"$f":"IF(Configuração!C7952=\"\",\"\",Configuração!B7952)","v":""}]
[null,null,null,null,{"$f":"IF(Configuração!C7957=\"\",\"\",Configuração!B7957)","v":""}]
[null,null,null,null,{"$f":"IF(Configuração!C7958=\"\",\"\",Configuração!B7958)","v":""}]
[null,null,null,null,{"$f":"IF(Configuração!C7963=\"\",\"\",Configuração!B7963)","v":""}]
[null,null,null,null,{"$f":"IF(Configuração!C7966=\"\",\"\",Configuração!B7966)","v":""}]
[null,null,null,null,{"$f":"IF(Configuração!C7972=\"\",\"\",Configuração!B7972)","v":""}]
[null,null,null,null,{"$f":"IF(Configuração!C7973=\"\",\"\",Configuração!B7973)","v":""}]
[null,null,null,null,{"$f":"IF(Configuração!C7978=\"\",\"\",Configuração!B7978)","v":""}]
[null,null,null,null,{"$f":"IF(Configuração!C7983=\"\",\"\",Configuração!B7983)","v":""}]
[null,null,null,null,{"$f":"IF(Configuração!C7988=\"\",\"\",Configuração!B7988)","v":""}]
[null,null,null,null,{"$f":"IF(Configuração!C7989=\"\",\"\",Configuração!B7989)","v":""}]
[null,null,null,null,{"$f":"IF(Configuração!C7993=\"\",\"\",Configuração!B7993)","v":""}]
[null,null,null,null,{"$f":"IF(Configuração!C7998=\"\",\"\",Configuração!B7998)","v":""}]
[null,null,null,null,{"$f":"IF(Configuração!C8003=\"\",\"\",Configuração!B8003)","v":""}]
[null,null,null,null,{"$f":"IF(Configuração!C8004=\"\",\"\",Configuração!B8004)","v":""}]
[null,null,null,null,{"$f":"IF(Configuração!C8009=\"\",\"\",Configuração!B8009)","v":""}]
[null,null,null,null,{"$f":"IF(Configuração!C8014=\"\",\"\",Configuração!B8014)","v":""}]
[null,null,null,null,{"$f":"IF(Configuração!C8019=\"\",\"\",Configuração!B8019)","v":""}]
[null,null,null,null,{"$f":"IF(Configuração!C8022=\"\",\"\",Configuração!B8022)","v":""}]
[null,null,null,null,{"$f":"IF(Configuração!C8024=\"\",\"\",Configuração!B8024)","v":""}]
[null,null,null,null,{"$f":"IF(Configuração!C8029=\"\",\"\",Configuração!B8029)","v":""}]
[null,null,null,null,{"$f":"IF(Configuração!C8034=\"\",\"\",Configuração!B8034)","v":""}]
[null,null,null,null,{"$f":"IF(Configuração!C8035=\"\",\"\",Configuração!B8035)","v":""}]
[null,null,null,null,{"$f":"IF(Configuração!C8040=\"\",\"\",Configuração!B8040)","v":""}]
[null,null,null,null,{"$f":"IF(Configuração!C8045=\"\",\"\",Configuração!B8045)","v":""}]
[null,null,null,null,{"$f":"IF(Configuração!C8050=\"\",\"\",Configuração!B8050)","v":""}]
[null,null,null,null,{"$f":"IF(Configuração!C8053=\"\",\"\",Configuração!B8053)","v":""}]
[null,null,null,null,{"$f":"IF(Configuração!C8055=\"\",\"\",Configuração!B8055)","v":""}]
[null,null,null,null,{"$f":"IF(Configuração!C8060=\"\",\"\",Configuração!B8060)","v":""}]
[null,null,null,null,{"$f":"IF(Configuração!C8065=\"\",\"\",Configuração!B8065)","v":""}]
[null,null,null,null,{"$f":"IF(Configuração!C8066=\"\",\"\",Configuração!B8066)","v":""}]
[null,null,null,null,{"$f":"IF(Configuração!C8071=\"\",\"\",Configuração!B8071)","v":""}]
[null,null,null,null,{"$f":"IF(Configuração!C8076=\"\",\"\",Configuração!B8076)","v":""}]
[null,null,null,null,{"$f":"IF(Configuração!C8080=\"\",\"\",Configuração!B8080)","v":""}]
[null,null,null,null,{"$f":"IF(Configuração!C8081=\"\",\"\",Configuração!B8081)","v":""}]
[null,null,null,null,{"$f":"IF(Configuração!C8086=\"\",\"\",Configuração!B8086)","v":""}]
[null,null,null,null,{"$f":"IF(Configuração!C8091=\"\",\"\",Configuração!B8091)","v":""}]
[null,null,null,null,{"$f":"IF(Configuração!C8096=\"\",\"\",Configuração!B8096)","v":""}]
[null,null,null,null,{"$f":"IF(Configuração!C8097=\"\",\"\",Configuração!B8097)","v":""}]
[null,null,null,null,{"$f":"IF(Configuração!C8102=\"\",\"\",Configuração!B8102)","v":""}]
[null,null,null,null,{"$f":"IF(Configuração!C8107=\"\",\"\",Configuração!B8107)","v":""}]
[null,null,null,null,{"$f":"IF(Configuração!C8111=\"\",\"\",Configuração!B8111)","v":""}]
[null,null,null,null,{"$f":"IF(Configuração!C8112=\"\",\"\",Configuração!B8112)","v":""}]
[null,null,null,null,{"$f":"IF(Configuração!C8117=\"\",\"\",Configuração!B8117)","v":""}]
[null,null,null,null,{"$f":"IF(Configuração!C8122=\"\",\"\",Configuração!B8122)","v":""}]
[null,null,null,null,{"$f":"IF(Configuração!C8127=\"\",\"\",Configuração!B8127)","v":""}]
[null,null,null,null,{"$f":"IF(Configuração!C8128=\"\",\"\",Configuração!B8128)","v":""}]
[null,null,null,null,{"$f":"IF(Configuração!C8133=\"\",\"\",Configuração!B8133)","v":""}]
[null,null,null,null,{"$f":"IF(Configuração!C8137=\"\",\"\",Configuração!B8137)","v":""}]
[null,null,null,null,{"$f":"IF(Configuração!C8142=\"\",\"\",Configuração!B8142)","v":""}]
[null,null,null,null,{"$f":"IF(Configuração!C8143=\"\",\"\",Configuração!B8143)","v":""}]
[null,null,null,null,{"$f":"IF(Configuração!C8148=\"\",\"\",Configuração!B8148)","v":""}]
[null,null,null,null,{"$f":"IF(Configuração!C8153=\"\",\"\",Configuração!B8153)","v":""}]
[null,null,null,null,{"$f":"IF(Configuração!C8158=\"\",\"\",Configuração!B8158)","v":""}]
[null,null,null,null,{"$f":"IF(Configuração!C8159=\"\",\"\",Configuração!B8159)","v":""}]
[null,null,null,null,{"$f":"IF(Configuração!C8165=\"\",\"\",Configuração!B8165)","v":""}]
[null,null,null,null,{"$f":"IF(Configuração!C8168=\"\",\"\",Configuração!B8168)","v":""}]
[null,null,null,null,{"$f":"IF(Configuração!C8173=\"\",\"\",Configuração!B8173)","v":""}]
[null,null,null,null,{"$f":"IF(Configuração!C8174=\"\",\"\",Configuração!B8174)","v":""}]
[null,null,null,null,{"$f":"IF(Configuração!C8179=\"\",\"\",Configuração!B8179)","v":""}]
[null,null,null,null,{"$f":"IF(Configuração!C8184=\"\",\"\",Configuração!B8184)","v":""}]
[null,null,null,null,{"$f":"IF(Configuração!C8189=\"\",\"\",Configuração!B8189)","v":""}]
[null,null,null,null,{"$f":"IF(Configuração!C8191=\"\",\"\",Configuração!B8191)","v":""}]
[null,null,null,null,{"$f":"IF(Configuração!C8194=\"\",\"\",Configuração!B8194)","v":""}]
[null,null,null,null,{"$f":"IF(Configuração!C8199=\"\",\"\",Configuração!B8199)","v":""}]
[null,null,null,null,{"$f":"IF(Configuração!C8204=\"\",\"\",Configuração!B8204)","v":""}]
[null,null,null,null,{"$f":"IF(Configuração!C8205=\"\",\"\",Configuração!B8205)","v":""}]
[null,null,null,null,{"$f":"IF(Configuração!C8210=\"\",\"\",Configuração!B8210)","v":""}]
[null,null,null,null,{"$f":"IF(Configuração!C8215=\"\",\"\",Configuração!B8215)","v":""}]
[null,null,null,null,{"$f":"IF(Configuração!C8218=\"\",\"\",Configuração!B8218)","v":""}]
[null,null,null,null,{"$f":"IF(Configuração!C8220=\"\",\"\",Configuração!B8220)","v":""}]
[null,null,null,null,{"$f":"IF(Configuração!C8225=\"\",\"\",Configuração!B8225)","v":""}]
[null,null,null,null,{"$f":"IF(Configuração!C8230=\"\",\"\",Configuração!B8230)","v":""}]
[null,null,null,null,{"$f":"IF(Configuração!C8235=\"\",\"\",Configuração!B8235)","v":""}]
[null,null,null,null,{"$f":"IF(Configuração!C8236=\"\",\"\",Configuração!B8236)","v":""}]
[null,null,null,null,{"$f":"IF(Configuração!C8241=\"\",\"\",Configuração!B8241)","v":""}]
[null,null,null,null,{"$f":"IF(Configuração!C8245=\"\",\"\",Configuração!B8245)","v":""}]
[null,null,null,null,{"$f":"IF(Configuração!C8250=\"\",\"\",Configuração!B8250)","v":""}]
[null,null,null,null,{"$f":"IF(Configuração!C8251=\"\",\"\",Configuração!B8251)","v":""}]
[null,null,null,null,{"$f":"IF(Configuração!C8256=\"\",\"\",Configuração!B8256)","v":""}]
[null,null,null,null,{"$f":"IF(Configuração!C8261=\"\",\"\",Configuração!B8261)","v":""}]
[null,null,null,null,{"$f":"IF(Configuração!C8266=\"\",\"\",Configuração!B8266)","v":""}]
[null,null,null,null,{"$f":"IF(Configuração!C8267=\"\",\"\",Configuração!B8267)","v":""}]
[null,null,null,null,{"$f":"IF(Configuração!C8272=\"\",\"\",Configuração!B8272)","v":""}]
[null,null,null,null,{"$f":"IF(Configuração!C8276=\"\",\"\",Configuração!B8276)","v":""}]
[null,null,null,null,{"$f":"IF(Configuração!C8281=\"\",\"\",Configuração!B8281)","v":""}]
[null,null,null,null,{"$f":"IF(Configuração!C8282=\"\",\"\",Configuração!B8282)","v":""}]
[null,null,null,null,{"$f":"IF(Configuração!C8287=\"\",\"\",Configuração!B8287)","v":""}]
[null,null,null,null,{"$f":"IF(Configuração!C8292=\"\",\"\",Configuração!B8292)","v":""}]
[null,null,null,null,{"$f":"IF(Configuração!C8297=\"\",\"\",Configuração!B8297)","v":""}]
[null,null,null,null,{"$f":"IF(Configuração!C8298=\"\",\"\",Configuração!B8298)","v":""}]
[null,null,null,null,{"$f":"IF(Configuração!C8302=\"\",\"\",Configuração!B8302)","v":""}]
[null,null,null,null,{"$f":"IF(Configuração!C8307=\"\",\"\",Configuração!B8307)","v":""}]
[null,null,null,null,{"$f":"IF(Configuração!C8312=\"\",\"\",Configuração!B8312)","v":""}]
[null,null,null,null,{"$f":"IF(Configuração!C8313=\"\",\"\",Configuração!B8313)","v":""}]
[null,null,null,null,{"$f":"IF(Configuração!C8318=\"\",\"\",Configuração!B8318)","v":""}]
[null,null,null,null,{"$f":"IF(Configuração!C8323=\"\",\"\",Configuração!B8323)","v":""}]
[null,null,null,null,{"$f":"IF(Configuração!C8328=\"\",\"\",Configuração!B8328)","v":""}]
[null,null,null,null,{"$f":"IF(Configuração!C8329=\"\",\"\",Configuração!B8329)","v":""}]
[null,null,null,null,{"$f":"IF(Configuração!C8333=\"\",\"\",Configuração!B8333)","v":""}]
[null,null,null,null,{"$f":"IF(Configuração!C8338=\"\",\"\",Configuração!B8338)","v":""}]
[null,null,null,null,{"$f":"IF(Configuração!C8343=\"\",\"\",Configuração!B8343)","v":""}]
[null,null,null,null,{"$f":"IF(Configuração!C8344=\"\",\"\",Configuração!B8344)","v":""}]
[null,null,null,null,{"$f":"IF(Configuração!C8349=\"\",\"\",Configuração!B8349)","v":""}]
[null,null,null,null,{"$f":"IF(Configuração!C8354=\"\",\"\",Configuração!B8354)","v":""}]
[null,null,null,null,{"$f":"IF(Configuração!C8356=\"\",\"\",Configuração!B8356)","v":""}]
[null,null,null,null,{"$f":"IF(Configuração!C8359=\"\",\"\",Configuração!B8359)","v":""}]
[null,null,null,null,{"$f":"IF(Configuração!C8364=\"\",\"\",Configuração!B8364)","v":""}]
[null,null,null,null,{"$f":"IF(Configuração!C8369=\"\",\"\",Configuração!B8369)","v":""}]
[null,null,null,null,{"$f":"IF(Configuração!C8374=\"\",\"\",Configuração!B8374)","v":""}]
[null,null,null,null,{"$f":"IF(Configuração!C8375=\"\",\"\",Configuração!B8375)","v":""}]
[null,null,null,null,{"$f":"IF(Configuração!C8380=\"\",\"\",Configuração!B8380)","v":""}]
[null,null,null,null,{"$f":"IF(Configuração!C8385=\"\",\"\",Configuração!B8385)","v":""}]
[null,null,null,null,{"$f":"IF(Configuração!C8387=\"\",\"\",Configuração!B8387)","v":""}]
[null,null,null,null,{"$f":"IF(Configuração!C8390=\"\",\"\",Configuração!B8390)","v":""}]
[null,null,null,null,{"$f":"IF(Configuração!C8395=\"\",\"\",Configuração!B8395)","v":""}]
[null,null,null,null,{"$f":"IF(Configuração!C8400=\"\",\"\",Configuração!B8400)","v":""}]
[null,null,null,null,{"$f":"IF(Configuração!C8405=\"\",\"\",Configuração!B8405)","v":""}]
[null,null,null,null,{"$f":"IF(Configuração!C8406=\"\",\"\",Configuração!B8406)","v":""}]
[null,null,null,null,{"$f":"IF(Configuração!C8411=\"\",\"\",Configuração!B8411)","v":""}]
[null,null,null,null,{"$f":"IF(Configuração!C8416=\"\",\"\",Configuração!B8416)","v":""}]
[null,null,null,null,{"$f":"IF(Configuração!C8420=\"\",\"\",Configuração!B8420)","v":""}]
[null,null,null,null,{"$f":"IF(Configuração!C8421=\"\",\"\",Configuração!B8421)","v":""}]
[null,null,null,null,{"$f":"IF(Configuração!C8426=\"\",\"\",Configuração!B8426)","v":""}]
[null,null,null,null,{"$f":"IF(Configuração!C8431=\"\",\"\",Configuração!B8431)","v":""}]
[null,null,null,null,{"$f":"IF(Configuração!C8436=\"\",\"\",Configuração!B8436)","v":""}]
[null,null,null,null,{"$f":"IF(Configuração!C8437=\"\",\"\",Configuração!B8437)","v":""}]
[null,null,null,null,{"$f":"IF(Configuração!C8443=\"\",\"\",Configuração!B8443)","v":""}]
[null,null,null,null,{"$f":"IF(Configuração!C8446=\"\",\"\",Configuração!B8446)","v":""}]
[null,null,null,null,{"$f":"IF(Configuração!C8451=\"\",\"\",Configuração!B8451)","v":""}]
[null,null,null,null,{"$f":"IF(Configuração!C8452=\"\",\"\",Configuração!B8452)","v":""}]
[null,null,null,null,{"$f":"IF(Configuração!C8457=\"\",\"\",Configuração!B8457)","v":""}]
[null,null,null,null,{"$f":"IF(Configuração!C8462=\"\",\"\",Configuração!B8462)","v":""}]
[null,null,null,null,{"$f":"IF(Configuração!C8467=\"\",\"\",Configuração!B8467)","v":""}]
[null,null,null,null,{"$f":"IF(Configuração!C8470=\"\",\"\",Configuração!B8470)","v":""}]
[null,null,null,null,{"$f":"IF(Configuração!C8472=\"\",\"\",Configuração!B8472)","v":""}]
[null,null,null,null,{"$f":"IF(Configuração!C8477=\"\",\"\",Configuração!B8477)","v":""}]
[null,null,null,null,{"$f":"IF(Configuração!C8482=\"\",\"\",Configuração!B8482)","v":""}]
[null,null,null,null,{"$f":"IF(Configuração!C8483=\"\",\"\",Configuração!B8483)","v":""}]
[null,null,null,null,{"$f":"IF(Configuração!C8488=\"\",\"\",Configuração!B8488)","v":""}]
[null,null,null,null,{"$f":"IF(Configuração!C8493=\"\",\"\",Configuração!B8493)","v":""}]
[null,null,null,null,{"$f":"IF(Configuração!C8498=\"\",\"\",Configuração!B8498)","v":""}]
[null,null,null,null,{"$f":"IF(Configuração!C8501=\"\",\"\",Configuração!B8501)","v":""}]
[null,null,null,null,{"$f":"IF(Configuração!C8503=\"\",\"\",Configuração!B8503)","v":""}]
[null,null,null,null,{"$f":"IF(Configuração!C8508=\"\",\"\",Configuração!B8508)","v":""}]
[null,null,null,null,{"$f":"IF(Configuração!C8513=\"\",\"\",Configuração!B8513)","v":""}]
[null,null,null,null,{"$f":"IF(Configuração!C8514=\"\",\"\",Configuração!B8514)","v":""}]
[null,null,null,null,{"$f":"IF(Configuração!C8519=\"\",\"\",Configuração!B8519)","v":""}]
[null,null,null,null,{"$f":"IF(Configuração!C8524=\"\",\"\",Configuração!B8524)","v":""}]
[null,null,null,null,{"$f":"IF(Configuração!C8527=\"\",\"\",Configuração!B8527)","v":""}]
[null,null,null,null,{"$f":"IF(Configuração!C8529=\"\",\"\",Configuração!B8529)","v":""}]
[null,null,null,null,{"$f":"IF(Configuração!C8534=\"\",\"\",Configuração!B8534)","v":""}]
[null,null,null,null,{"$f":"IF(Configuração!C8539=\"\",\"\",Configuração!B8539)","v":""}]
[null,null,null,null,{"$f":"IF(Configuração!C8544=\"\",\"\",Configuração!B8544)","v":""}]
[null,null,null,null,{"$f":"IF(Configuração!C8545=\"\",\"\",Configuração!B8545)","v":""}]
[null,null,null,null,{"$f":"IF(Configuração!C8550=\"\",\"\",Configuração!B8550)","v":""}]
[null,null,null,null,{"$f":"IF(Configuração!C8554=\"\",\"\",Configuração!B8554)","v":""}]
[null,null,null,null,{"$f":"IF(Configuração!C8559=\"\",\"\",Configuração!B8559)","v":""}]
[null,null,null,null,{"$f":"IF(Configuração!C8560=\"\",\"\",Configuração!B8560)","v":""}]
[null,null,null,null,{"$f":"IF(Configuração!C8565=\"\",\"\",Configuração!B8565)","v":""}]
[null,null,null,null,{"$f":"IF(Configuração!C8570=\"\",\"\",Configuração!B8570)","v":""}]
[null,null,null,null,{"$f":"IF(Configuração!C8575=\"\",\"\",Configuração!B8575)","v":""}]
[null,null,null,null,{"$f":"IF(Configuração!C8576=\"\",\"\",Configuração!B8576)","v":""}]
[null,null,null,null,{"$f":"IF(Configuração!C8581=\"\",\"\",Configuração!B8581)","v":""}]
[null,null,null,null,{"$f":"IF(Configuração!C8585=\"\",\"\",Configuração!B8585)","v":""}]
[null,null,null,null,{"$f":"IF(Configuração!C8590=\"\",\"\",Configuração!B8590)","v":""}]
[null,null,null,null,{"$f":"IF(Configuração!C8591=\"\",\"\",Configuração!B8591)","v":""}]
[null,null,null,null,{"$f":"IF(Configuração!C8596=\"\",\"\",Configuração!B8596)","v":""}]
[null,null,null,null,{"$f":"IF(Configuração!C8601=\"\",\"\",Configuração!B8601)","v":""}]
[null,null,null,null,{"$f":"IF(Configuração!C8606=\"\",\"\",Configuração!B8606)","v":""}]
[null,null,null,null,{"$f":"IF(Configuração!C8607=\"\",\"\",Configuração!B8607)","v":""}]
[null,null,null,null,{"$f":"IF(Configuração!C8612=\"\",\"\",Configuração!B8612)","v":""}]
[null,null,null,null,{"$f":"IF(Configuração!C8616=\"\",\"\",Configuração!B8616)","v":""}]
[null,null,null,null,{"$f":"IF(Configuração!C8621=\"\",\"\",Configuração!B8621)","v":""}]
[null,null,null,null,{"$f":"IF(Configuração!C8622=\"\",\"\",Configuração!B8622)","v":""}]
[null,null,null,null,{"$f":"IF(Configuração!C8627=\"\",\"\",Configuração!B8627)","v":""}]
[null,null,null,null,{"$f":"IF(Configuração!C8632=\"\",\"\",Configuração!B8632)","v":""}]
[null,null,null,null,{"$f":"IF(Configuração!C8637=\"\",\"\",Configuração!B8637)","v":""}]
[null,null,null,null,{"$f":"IF(Configuração!C8638=\"\",\"\",Configuração!B8638)","v":""}]
[null,null,null,null,{"$f":"IF(Configuração!C8642=\"\",\"\",Configuração!B8642)","v":""}]
[null,null,null,null,{"$f":"IF(Configuração!C8647=\"\",\"\",Configuração!B8647)","v":""}]
[null,null,null,null,{"$f":"IF(Configuração!C8652=\"\",\"\",Configuração!B8652)","v":""}]
[null,null,null,null,{"$f":"IF(Configuração!C8653=\"\",\"\",Configuração!B8653)","v":""}]
[null,null,null,null,{"$f":"IF(Configuração!C8658=\"\",\"\",Configuração!B8658)","v":""}]
[null,null,null,null,{"$f":"IF(Configuração!C8663=\"\",\"\",Configuração!B8663)","v":""}]
[null,null,null,null,{"$f":"IF(Configuração!C8665=\"\",\"\",Configuração!B8665)","v":""}]
[null,null,null,null,{"$f":"IF(Configuração!C8668=\"\",\"\",Configuração!B8668)","v":""}]
[null,null,null,null,{"$f":"IF(Configuração!C8673=\"\",\"\",Configuração!B8673)","v":""}]
[null,null,null,null,{"$f":"IF(Configuração!C8678=\"\",\"\",Configuração!B8678)","v":""}]
[null,null,null,null,{"$f":"IF(Configuração!C8683=\"\",\"\",Configuração!B8683)","v":""}]
[null,null,null,null,{"$f":"IF(Configuração!C8684=\"\",\"\",Configuração!B8684)","v":""}]
[null,null,null,null,{"$f":"IF(Configuração!C8689=\"\",\"\",Configuração!B8689)","v":""}]
[null,null,null,null,{"$f":"IF(Configuração!C8692=\"\",\"\",Configuração!B8692)","v":""}]
[null,null,null,null,{"$f":"IF(Configuração!C8698=\"\",\"\",Configuração!B8698)","v":""}]
[null,null,null,null,{"$f":"IF(Configuração!C8699=\"\",\"\",Configuração!B8699)","v":""}]
[null,null,null,null,{"$f":"IF(Configuração!C8704=\"\",\"\",Configuração!B8704)","v":""}]
[null,null,null,null,{"$f":"IF(Configuração!C8709=\"\",\"\",Configuração!B8709)","v":""}]
[null,null,null,null,{"$f":"IF(Configuração!C8714=\"\",\"\",Configuração!B8714)","v":""}]
[null,null,null,null,{"$f":"IF(Configuração!C8715=\"\",\"\",Configuração!B8715)","v":""}]
[null,null,null,null,{"$f":"IF(Configuração!C8720=\"\",\"\",Configuração!B8720)","v":""}]
[null,null,null,null,{"$f":"IF(Configuração!C8723=\"\",\"\",Configuração!B8723)","v":""}]
[null,null,null,null,{"$f":"IF(Configuração!C8729=\"\",\"\",Configuração!B8729)","v":""}]
[null,null,null,null,{"$f":"IF(Configuração!C8730=\"\",\"\",Configuração!B8730)","v":""}]
[null,null,null,null,{"$f":"IF(Configuração!C8735=\"\",\"\",Configuração!B8735)","v":""}]
[null,null,null,null,{"$f":"IF(Configuração!C8740=\"\",\"\",Configuração!B8740)","v":""}]
[null,null,null,null,{"$f":"IF(Configuração!C8745=\"\",\"\",Configuração!B8745)","v":""}]
[null,null,null,null,{"$f":"IF(Configuração!C8746=\"\",\"\",Configuração!B8746)","v":""}]
[null,null,null,null,{"$f":"IF(Configuração!C8750=\"\",\"\",Configuração!B8750)","v":""}]
[null,null,null,null,{"$f":"IF(Configuração!C8755=\"\",\"\",Configuração!B8755)","v":""}]
[null,null,null,null,{"$f":"IF(Configuração!C8760=\"\",\"\",Configuração!B8760)","v":""}]
[null,null,null,null,{"$f":"IF(Configuração!C8761=\"\",\"\",Configuração!B8761)","v":""}]
[null,null,null,null,{"$f":"IF(Configuração!C8766=\"\",\"\",Configuração!B8766)","v":""}]
[null,null,null,null,{"$f":"IF(Configuração!C8771=\"\",\"\",Configuração!B8771)","v":""}]
[null,null,null,null,{"$f":"IF(Configuração!C8776=\"\",\"\",Configuração!B8776)","v":""}]
[null,null,null,null,{"$f":"IF(Configuração!C8779=\"\",\"\",Configuração!B8779)","v":""}]
[null,null,null,null,{"$f":"IF(Configuração!C8781=\"\",\"\",Configuração!B8781)","v":""}]
[null,null,null,null,{"$f":"IF(Configuração!C8786=\"\",\"\",Configuração!B8786)","v":""}]
[null,null,null,null,{"$f":"IF(Configuração!C8791=\"\",\"\",Configuração!B8791)","v":""}]
[null,null,null,null,{"$f":"IF(Configuração!C8792=\"\",\"\",Configuração!B8792)","v":""}]
[null,null,null,null,{"$f":"IF(Configuração!C8797=\"\",\"\",Configuração!B8797)","v":""}]
[null,null,null,null,{"$f":"IF(Configuração!C8802=\"\",\"\",Configuração!B8802)","v":""}]
[null,null,null,null,{"$f":"IF(Configuração!C8806=\"\",\"\",Configuração!B8806)","v":""}]
[null,null,null,null,{"$f":"IF(Configuração!C8807=\"\",\"\",Configuração!B8807)","v":""}]
[null,null,null,null,{"$f":"IF(Configuração!C8812=\"\",\"\",Configuração!B8812)","v":""}]
[null,null,null,null,{"$f":"IF(Configuração!C8817=\"\",\"\",Configuração!B8817)","v":""}]
[null,null,null,null,{"$f":"IF(Configuração!C8822=\"\",\"\",Configuração!B8822)","v":""}]
[null,null,null,null,{"$f":"IF(Configuração!C8823=\"\",\"\",Configuração!B8823)","v":""}]
[null,null,null,null,{"$f":"IF(Configuração!C8828=\"\",\"\",Configuração!B8828)","v":""}]
[null,null,null,null,{"$f":"IF(Configuração!C8833=\"\",\"\",Configuração!B8833)","v":""}]
[null,null,null,null,{"$f":"IF(Configuração!C8837=\"\",\"\",Configuração!B8837)","v":""}]
[null,null,null,null,{"$f":"IF(Configuração!C8838=\"\",\"\",Configuração!B8838)","v":""}]
[null,null,null,null,{"$f":"IF(Configuração!C8843=\"\",\"\",Configuração!B8843)","v":""}]
[null,null,null,null,{"$f":"IF(Configuração!C8848=\"\",\"\",Configuração!B8848)","v":""}]
[null,null,null,null,{"$f":"IF(Configuração!C8853=\"\",\"\",Configuração!B8853)","v":""}]
[null,null,null,null,{"$f":"IF(Configuração!C8854=\"\",\"\",Configuração!B8854)","v":""}]
[null,null,null,null,{"$f":"IF(Configuração!C8859=\"\",\"\",Configuração!B8859)","v":""}]
[null,null,null,null,{"$f":"IF(Configuração!C8864=\"\",\"\",Configuração!B8864)","v":""}]
[null,null,null,null,{"$f":"IF(Configuração!C8868=\"\",\"\",Configuração!B8868)","v":""}]
[null,null,null,null,{"$f":"IF(Configuração!C8869=\"\",\"\",Configuração!B8869)","v":""}]
[null,null,null,null,{"$f":"IF(Configuração!C8874=\"\",\"\",Configuração!B8874)","v":""}]
[null,null,null,null,{"$f":"IF(Configuração!C8879=\"\",\"\",Configuração!B8879)","v":""}]
[null,null,null,null,{"$f":"IF(Configuração!C8884=\"\",\"\",Configuração!B8884)","v":""}]
[null,null,null,null,{"$f":"IF(Configuração!C8885=\"\",\"\",Configuração!B8885)","v":""}]
[null,null,null,null,{"$f":"IF(Configuração!C8890=\"\",\"\",Configuração!B8890)","v":""}]
[null,null,null,null,{"$f":"IF(Configuração!C8894=\"\",\"\",Configuração!B8894)","v":""}]
[null,null,null,null,{"$f":"IF(Configuração!C8899=\"\",\"\",Configuração!B8899)","v":""}]
[null,null,null,null,{"$f":"IF(Configuração!C8900=\"\",\"\",Configuração!B8900)","v":""}]
[null,null,null,null,{"$f":"IF(Configuração!C8905=\"\",\"\",Configuração!B8905)","v":""}]
[null,null,null,null,{"$f":"IF(Configuração!C8910=\"\",\"\",Configuração!B8910)","v":""}]
[null,null,null,null,{"$f":"IF(Configuração!C8915=\"\",\"\",Configuração!B8915)","v":""}]
[null,null,null,null,{"$f":"IF(Configuração!C8917=\"\",\"\",Configuração!B8917)","v":""}]
[null,null,null,null,{"$f":"IF(Configuração!C8920=\"\",\"\",Configuração!B8920)","v":""}]
[null,null,null,null,{"$f":"IF(Configuração!C8925=\"\",\"\",Configuração!B8925)","v":""}]
[null,null,null,null,{"$f":"IF(Configuração!C8930=\"\",\"\",Configuração!B8930)","v":""}]
[null,null,null,null,{"$f":"IF(Configuração!C8931=\"\",\"\",Configuração!B8931)","v":""}]
[null,null,null,null,{"$f":"IF(Configuração!C8936=\"\",\"\",Configuração!B8936)","v":""}]
[null,null,null,null,{"$f":"IF(Configuração!C8941=\"\",\"\",Configuração!B8941)","v":""}]
[null,null,null,null,{"$f":"IF(Configuração!C8946=\"\",\"\",Configuração!B8946)","v":""}]
[null,null,null,null,{"$f":"IF(Configuração!C8948=\"\",\"\",Configuração!B8948)","v":""}]
[null,null,null,null,{"$f":"IF(Configuração!C8951=\"\",\"\",Configuração!B8951)","v":""}]
[null,null,null,null,{"$f":"IF(Configuração!C8956=\"\",\"\",Configuração!B8956)","v":""}]
[null,null,null,null,{"$f":"IF(Configuração!C8961=\"\",\"\",Configuração!B8961)","v":""}]
[null,null,null,null,{"$f":"IF(Configuração!C8962=\"\",\"\",Configuração!B8962)","v":""}]
[null,null,null,null,{"$f":"IF(Configuração!C8967=\"\",\"\",Configuração!B8967)","v":""}]
[null,null,null,null,{"$f":"IF(Configuração!C8972=\"\",\"\",Configuração!B8972)","v":""}]
[null,null,null,null,{"$f":"IF(Configuração!C8975=\"\",\"\",Configuração!B8975)","v":""}]
[null,null,null,null,{"$f":"IF(Configuração!C8977=\"\",\"\",Configuração!B8977)","v":""}]
[null,null,null,null,{"$f":"IF(Configuração!C8982=\"\",\"\",Configuração!B8982)","v":""}]
[null,null,null,null,{"$f":"IF(Configuração!C8987=\"\",\"\",Configuração!B8987)","v":""}]
[null,null,null,null,{"$f":"IF(Configuração!C8992=\"\",\"\",Configuração!B8992)","v":""}]
[null,null,null,null,{"$f":"IF(Configuração!C8993=\"\",\"\",Configuração!B8993)","v":""}]
[null,null,null,null,{"$f":"IF(Configuração!C8998=\"\",\"\",Configuração!B8998)","v":""}]
[null,null,null,null,{"$f":"IF(Configuração!C9001=\"\",\"\",Configuração!B9001)","v":""}]
[null,null,null,null,{"$f":"IF(Configuração!C9007=\"\",\"\",Configuração!B9007)","v":""}]
[null,null,null,null,{"$f":"IF(Configuração!C9008=\"\",\"\",Configuração!B9008)","v":""}]
[null,null,null,null,{"$f":"IF(Configuração!C9013=\"\",\"\",Configuração!B9013)","v":""}]
[null,null,null,null,{"$f":"IF(Configuração!C9018=\"\",\"\",Configuração!B9018)","v":""}]
[null,null,null,null,{"$f":"IF(Configuração!C9023=\"\",\"\",Configuração!B9023)","v":""}]
[null,null,null,null,{"$f":"IF(Configuração!C9024=\"\",\"\",Configuração!B9024)","v":""}]
[null,null,null,null,{"$f":"IF(Configuração!C9028=\"\",\"\",Configuração!B9028)","v":""}]
[null,null,null,null,{"$f":"IF(Configuração!C9033=\"\",\"\",Configuração!B9033)","v":""}]
[null,null,null,null,{"$f":"IF(Configuração!C9038=\"\",\"\",Configuração!B9038)","v":""}]
[null,null,null,null,{"$f":"IF(Configuração!C9039=\"\",\"\",Configuração!B9039)","v":""}]
[null,null,null,null,{"$f":"IF(Configuração!C9044=\"\",\"\",Configuração!B9044)","v":""}]
[null,null,null,null,{"$f":"IF(Configuração!C9049=\"\",\"\",Configuração!B9049)","v":""}]
[null,null,null,null,{"$f":"IF(Configuração!C9054=\"\",\"\",Configuração!B9054)","v":""}]
[null,null,null,null,{"$f":"IF(Configuração!C9055=\"\",\"\",Configuração!B9055)","v":""}]
[null,null,null,null,{"$f":"IF(Configuração!C9059=\"\",\"\",Configuração!B9059)","v":""}]
[null,null,null,null,{"$f":"IF(Configuração!C9064=\"\",\"\",Configuração!B9064)","v":""}]
[null,null,null,null,{"$f":"IF(Configuração!C9069=\"\",\"\",Configuração!B9069)","v":""}]
[null,null,null,null,{"$f":"IF(Configuração!C9070=\"\",\"\",Configuração!B9070)","v":""}]
[null,null,null,null,{"$f":"IF(Configuração!C9075=\"\",\"\",Configuração!B9075)","v":""}]
[null,null,null,null,{"$f":"IF(Configuração!C9080=\"\",\"\",Configuração!B9080)","v":""}]
[null,null,null,null,{"$f":"IF(Configuração!C9085=\"\",\"\",Configuração!B9085)","v":""}]
[null,null,null,null,{"$f":"IF(Configuração!C9086=\"\",\"\",Configuração!B9086)","v":""}]
[null,null,null,null,{"$f":"IF(Configuração!C9090=\"\",\"\",Configuração!B9090)","v":""}]
[null,null,null,null,{"$f":"IF(Configuração!C9095=\"\",\"\",Configuração!B9095)","v":""}]
[null,null,null,null,{"$f":"IF(Configuração!C9100=\"\",\"\",Configuração!B9100)","v":""}]
[null,null,null,null,{"$f":"IF(Configuração!C9101=\"\",\"\",Configuração!B9101)","v":""}]
[null,null,null,null,{"$f":"IF(Configuração!C9106=\"\",\"\",Configuração!B9106)","v":""}]
[null,null,null,null,{"$f":"IF(Configuração!C9111=\"\",\"\",Configuração!B9111)","v":""}]
[null,null,null,null,{"$f":"IF(Configuração!C9115=\"\",\"\",Configuração!B9115)","v":""}]
[null,null,null,null,{"$f":"IF(Configuração!C9116=\"\",\"\",Configuração!B9116)","v":""}]
[null,null,null,null,{"$f":"IF(Configuração!C9121=\"\",\"\",Configuração!B9121)","v":""}]
[null,null,null,null,{"$f":"IF(Configuração!C9126=\"\",\"\",Configuração!B9126)","v":""}]
[null,null,null,null,{"$f":"IF(Configuração!C9131=\"\",\"\",Configuração!B9131)","v":""}]
[null,null,null,null,{"$f":"IF(Configuração!C9132=\"\",\"\",Configuração!B9132)","v":""}]
[null,null,null,null,{"$f":"IF(Configuração!C9137=\"\",\"\",Configuração!B9137)","v":""}]
[null,null,null,null,{"$f":"IF(Configuração!C9142=\"\",\"\",Configuração!B9142)","v":""}]
[null,null,null,null,{"$f":"IF(Configuração!C9146=\"\",\"\",Configuração!B9146)","v":""}]
[null,null,null,null,{"$f":"IF(Configuração!C9147=\"\",\"\",Configuração!B9147)","v":""}]
[null,null,null,null,{"$f":"IF(Configuração!C9152=\"\",\"\",Configuração!B9152)","v":""}]
[null,null,null,null,{"$f":"IF(Configuração!C9157=\"\",\"\",Configuração!B9157)","v":""}]
[null,null,null,null,{"$f":"IF(Configuração!C9162=\"\",\"\",Configuração!B9162)","v":""}]
[null,null,null,null,{"$f":"IF(Configuração!C9163=\"\",\"\",Configuração!B9163)","v":""}]
[null,null,null,null,{"$f":"IF(Configuração!C9168=\"\",\"\",Configuração!B9168)","v":""}]
[null,null,null,null,{"$f":"IF(Configuração!C9173=\"\",\"\",Configuração!B9173)","v":""}]
[null,null,null,null,{"$f":"IF(Configuração!C9177=\"\",\"\",Configuração!B9177)","v":""}]
[null,null,null,null,{"$f":"IF(Configuração!C9178=\"\",\"\",Configuração!B9178)","v":""}]
[null,null,null,null,{"$f":"IF(Configuração!C9183=\"\",\"\",Configuração!B9183)","v":""}]
[null,null,null,null,{"$f":"IF(Configuração!C9188=\"\",\"\",Configuração!B9188)","v":""}]
[null,null,null,null,{"$f":"IF(Configuração!C9193=\"\",\"\",Configuração!B9193)","v":""}]
[null,null,null,null,{"$f":"IF(Configuração!C9194=\"\",\"\",Configuração!B9194)","v":""}]
[null,null,null,null,{"$f":"IF(Configuração!C9200=\"\",\"\",Configuração!B9200)","v":""}]
[null,null,null,null,{"$f":"IF(Configuração!C9203=\"\",\"\",Configuração!B9203)","v":""}]
[null,null,null,null,{"$f":"IF(Configuração!C9208=\"\",\"\",Configuração!B9208)","v":""}]
[null,null,null,null,{"$f":"IF(Configuração!C9209=\"\",\"\",Configuração!B9209)","v":""}]
[null,null,null,null,{"$f":"IF(Configuração!C9214=\"\",\"\",Configuração!B9214)","v":""}]
[null,null,null,null,{"$f":"IF(Configuração!C9219=\"\",\"\",Configuração!B9219)","v":""}]
[null,null,null,null,{"$f":"IF(Configuração!C9224=\"\",\"\",Configuração!B9224)","v":""}]
[null,null,null,null,{"$f":"IF(Configuração!C9227=\"\",\"\",Configuração!B9227)","v":""}]
[null,null,null,null,{"$f":"IF(Configuração!C9229=\"\",\"\",Configuração!B9229)","v":""}]
[null,null,null,null,{"$f":"IF(Configuração!C9234=\"\",\"\",Configuração!B9234)","v":""}]
[null,null,null,null,{"$f":"IF(Configuração!C9239=\"\",\"\",Configuração!B9239)","v":""}]
[null,null,null,null,{"$f":"IF(Configuração!C9240=\"\",\"\",Configuração!B9240)","v":""}]
[null,null,null,null,{"$f":"IF(Configuração!C9245=\"\",\"\",Configuração!B9245)","v":""}]
[null,null,null,null,{"$f":"IF(Configuração!C9250=\"\",\"\",Configuração!B9250)","v":""}]
[null,null,null,null,{"$f":"IF(Configuração!C9253=\"\",\"\",Configuração!B9253)","v":""}]
[null,null,null,null,{"$f":"IF(Configuração!C9255=\"\",\"\",Configuração!B9255)","v":""}]
[null,null,null,null,{"$f":"IF(Configuração!C9260=\"\",\"\",Configuração!B9260)","v":""}]
[null,null,null,null,{"$f":"IF(Configuração!C9265=\"\",\"\",Configuração!B9265)","v":""}]
[null,null,null,null,{"$f":"IF(Configuração!C9270=\"\",\"\",Configuração!B9270)","v":""}]
[null,null,null,null,{"$f":"IF(Configuração!C9271=\"\",\"\",Configuração!B9271)","v":""}]
[null,null,null,null,{"$f":"IF(Configuração!C9276=\"\",\"\",Configuração!B9276)","v":""}]
[null,null,null,null,{"$f":"IF(Configuração!C9281=\"\",\"\",Configuração!B9281)","v":""}]
[null,null,null,null,{"$f":"IF(Configuração!C9284=\"\",\"\",Configuração!B9284)","v":""}]
[null,null,null,null,{"$f":"IF(Configuração!C9286=\"\",\"\",Configuração!B9286)","v":""}]
[null,null,null,null,{"$f":"IF(Configuração!C9291=\"\",\"\",Configuração!B9291)","v":""}]
[null,null,null,null,{"$f":"IF(Configuração!C9296=\"\",\"\",Configuração!B9296)","v":""}]
[null,null,null,null,{"$f":"IF(Configuração!C9301=\"\",\"\",Configuração!B9301)","v":""}]
[null,null,null,null,{"$f":"IF(Configuração!C9302=\"\",\"\",Configuração!B9302)","v":""}]
[null,null,null,null,{"$f":"IF(Configuração!C9307=\"\",\"\",Configuração!B9307)","v":""}]
[null,null,null,null,{"$f":"IF(Configuração!C9311=\"\",\"\",Configuração!B9311)","v":""}]
[null,null,null,null,{"$f":"IF(Configuração!C9316=\"\",\"\",Configuração!B9316)","v":""}]
[null,null,null,null,{"$f":"IF(Configuração!C9317=\"\",\"\",Configuração!B9317)","v":""}]
[null,null,null,null,{"$f":"IF(Configuração!C9322=\"\",\"\",Configuração!B9322)","v":""}]
[null,null,null,null,{"$f":"IF(Configuração!C9327=\"\",\"\",Configuração!B9327)","v":""}]
[null,null,null,null,{"$f":"IF(Configuração!C9332=\"\",\"\",Configuração!B9332)","v":""}]
[null,null,null,null,{"$f":"IF(Configuração!C9333=\"\",\"\",Configuração!B9333)","v":""}]
[null,null,null,null,{"$f":"IF(Configuração!C9338=\"\",\"\",Configuração!B9338)","v":""}]
[null,null,null,null,{"$f":"IF(Configuração!C9342=\"\",\"\",Configuração!B9342)","v":""}]
[null,null,null,null,{"$f":"IF(Configuração!C9347=\"\",\"\",Configuração!B9347)","v":""}]
[null,null,null,null,{"$f":"IF(Configuração!C9348=\"\",\"\",Configuração!B9348)","v":""}]
[null,null,null,null,{"$f":"IF(Configuração!C9353=\"\",\"\",Configuração!B9353)","v":""}]
[null,null,null,null,{"$f":"IF(Configuração!C9358=\"\",\"\",Configuração!B9358)","v":""}]
[null,null,null,null,{"$f":"IF(Configuração!C9363=\"\",\"\",Configuração!B9363)","v":""}]
[null,null,null,null,{"$f":"IF(Configuração!C9364=\"\",\"\",Configuração!B9364)","v":""}]
[null,null,null,null,{"$f":"IF(Configuração!C9368=\"\",\"\",Configuração!B9368)","v":""}]
[null,null,null,null,{"$f":"IF(Configuração!C9373=\"\",\"\",Configuração!B9373)","v":""}]
[null,null,null,null,{"$f":"IF(Configuração!C9378=\"\",\"\",Configuração!B9378)","v":""}]
[null,null,null,null,{"$f":"IF(Configuração!C9379=\"\",\"\",Configuração!B9379)","v":""}]
[null,null,null,null,{"$f":"IF(Configuração!C9384=\"\",\"\",Configuração!B9384)","v":""}]
[null,null,null,null,{"$f":"IF(Configuração!C9389=\"\",\"\",Configuração!B9389)","v":""}]
[null,null,null,null,{"$f":"IF(Configuração!C9394=\"\",\"\",Configuração!B9394)","v":""}]
[null,null,null,null,{"$f":"IF(Configuração!C9395=\"\",\"\",Configuração!B9395)","v":""}]
[null,null,null,null,{"$f":"IF(Configuração!C9399=\"\",\"\",Configuração!B9399)","v":""}]
[null,null,null,null,{"$f":"IF(Configuração!C9404=\"\",\"\",Configuração!B9404)","v":""}]
[null,null,null,null,{"$f":"IF(Configuração!C9409=\"\",\"\",Configuração!B9409)","v":""}]
[null,null,null,null,{"$f":"IF(Configuração!C9410=\"\",\"\",Configuração!B9410)","v":""}]
[null,null,null,null,{"$f":"IF(Configuração!C9415=\"\",\"\",Configuração!B9415)","v":""}]
[null,null,null,null,{"$f":"IF(Configuração!C9420=\"\",\"\",Configuração!B9420)","v":""}]
[null,null,null,null,{"$f":"IF(Configuração!C9422=\"\",\"\",Configuração!B9422)","v":""}]
[null,null,null,null,{"$f":"IF(Configuração!C9425=\"\",\"\",Configuração!B9425)","v":""}]
[null,null,null,null,{"$f":"IF(Configuração!C9430=\"\",\"\",Configuração!B9430)","v":""}]
[null,null,null,null,{"$f":"IF(Configuração!C9435=\"\",\"\",Configuração!B9435)","v":""}]
[null,null,null,null,{"$f":"IF(Configuração!C9440=\"\",\"\",Configuração!B9440)","v":""}]
[null,null,null,null,{"$f":"IF(Configuração!C9441=\"\",\"\",Configuração!B9441)","v":""}]
[null,null,null,null,{"$f":"IF(Configuração!C9446=\"\",\"\",Configuração!B9446)","v":""}]
[null,null,null,null,{"$f":"IF(Configuração!C9449=\"\",\"\",Configuração!B9449)","v":""}]
[null,null,null,null,{"$f":"IF(Configuração!C9455=\"\",\"\",Configuração!B9455)","v":""}]
[null,null,null,null,{"$f":"IF(Configuração!C9456=\"\",\"\",Configuração!B9456)","v":""}]
[null,null,null,null,{"$f":"IF(Configuração!C9461=\"\",\"\",Configuração!B9461)","v":""}]
[null,null,null,null,{"$f":"IF(Configuração!C9466=\"\",\"\",Configuração!B9466)","v":""}]
[null,null,null,null,{"$f":"IF(Configuração!C9471=\"\",\"\",Configuração!B9471)","v":""}]
[null,null,null,null,{"$f":"IF(Configuração!C9472=\"\",\"\",Configuração!B9472)","v":""}]
[null,null,null,null,{"$f":"IF(Configuração!C9478=\"\",\"\",Configuração!B9478)","v":""}]
[null,null,null,null,{"$f":"IF(Configuração!C9481=\"\",\"\",Configuração!B9481)","v":""}]
[null,null,null,null,{"$f":"IF(Configuração!C9486=\"\",\"\",Configuração!B9486)","v":""}]
[null,null,null,null,{"$f":"IF(Configuração!C9487=\"\",\"\",Configuração!B9487)","v":""}]
[null,null,null,null,{"$f":"IF(Configuração!C9492=\"\",\"\",Configuração!B9492)","v":""}]
[null,null,null,null,{"$f":"IF(Configuração!C9497=\"\",\"\",Configuração!B9497)","v":""}]
[null,null,null,null,{"$f":"IF(Configuração!C9502=\"\",\"\",Configuração!B9502)","v":""}]
[null,null,null,null,{"$f":"IF(Configuração!C9503=\"\",\"\",Configuração!B9503)","v":""}]
[null,null,null,null,{"$f":"IF(Configuração!C9507=\"\",\"\",Configuração!B9507)","v":""}]
[null,null,null,null,{"$f":"IF(Configuração!C9508=\"\",\"\",Configuração!B9508)","v":""}]
[null,null,null,null,{"$f":"IF(Configuração!C9509=\"\",\"\",Configuração!B9509)","v":""}]
[null,null,null,null,{"$f":"IF(Configuração!C9510=\"\",\"\",Configuração!B9510)","v":""}]
[null,null,null,null,{"$f":"IF(Configuração!C9511=\"\",\"\",Configuração!B9511)","v":""}]
[null,null,null,null,{"$f":"IF(Configuração!C9512=\"\",\"\",Configuração!B9512)","v":""}]
[null,null,null,null,{"$f":"IF(Configuração!C9513=\"\",\"\",Configuração!B9513)","v":""}]
[null,null,null,null,{"$f":"IF(Configuração!C9514=\"\",\"\",Configuração!B9514)","v":""}]
[null,null,null,null,{"$f":"IF(Configuração!C9515=\"\",\"\",Configuração!B9515)","v":""}]
[null,null,null,null,{"$f":"IF(Configuração!C9516=\"\",\"\",Configuração!B9516)","v":""}]
[null,null,null,null,{"$f":"IF(Configuração!C9517=\"\",\"\",Configuração!B9517)","v":""}]
[null,null,null,null,{"$f":"IF(Configuração!C9518=\"\",\"\",Configuração!B9518)","v":""}]
[null,null,null,null,{"$f":"IF(Configuração!C9519=\"\",\"\",Configuração!B9519)","v":""}]
[null,null,null,null,{"$f":"IF(Configuração!C9520=\"\",\"\",Configuração!B9520)","v":""}]
[null,null,null,null,{"$f":"IF(Configuração!C9521=\"\",\"\",Configuração!B9521)","v":""}]
[null,null,null,null,{"$f":"IF(Configuração!C9522=\"\",\"\",Configuração!B9522)","v":""}]
[null,null,null,null,{"$f":"IF(Configuração!C9523=\"\",\"\",Configuração!B9523)","v":""}]
[null,null,null,null,{"$f":"IF(Configuração!C9524=\"\",\"\",Configuração!B9524)","v":""}]
[null,null,null,null,{"$f":"IF(Configuração!C9525=\"\",\"\",Configuração!B9525)","v":""}]
[null,null,null,null,{"$f":"IF(Configuração!C9526=\"\",\"\",Configuração!B9526)","v":""}]
[null,null,null,null,{"$f":"IF(Configuração!C9527=\"\",\"\",Configuração!B9527)","v":""}]
[null,null,null,null,{"$f":"IF(Configuração!C9528=\"\",\"\",Configuração!B9528)","v":""}]
[null,null,null,null,{"$f":"IF(Configuração!C9529=\"\",\"\",Configuração!B9529)","v":""}]
[null,null,null,null,{"$f":"IF(Configuração!C9530=\"\",\"\",Configuração!B9530)","v":""}]
[null,null,null,null,{"$f":"IF(Configuração!C9531=\"\",\"\",Configuração!B9531)","v":""}]
[null,null,null,null,{"$f":"IF(Configuração!C9532=\"\",\"\",Configuração!B9532)","v":""}]
[null,null,null,null,{"$f":"IF(Configuração!C9533=\"\",\"\",Configuração!B9533)","v":""}]
[null,null,null,null,{"$f":"IF(Configuração!C9534=\"\",\"\",Configuração!B9534)","v":""}]
[null,null,null,null,{"$f":"IF(Configuração!C9535=\"\",\"\",Configuração!B9535)","v":""}]
[null,null,null,null,{"$f":"IF(Configuração!C9536=\"\",\"\",Configuração!B9536)","v":""}]
[null,null,null,null,{"$f":"IF(Configuração!C9537=\"\",\"\",Configuração!B9537)","v":""}]
[null,null,null,null,{"$f":"IF(Configuração!C9538=\"\",\"\",Configuração!B9538)","v":""}]
[null,null,null,null,{"$f":"IF(Configuração!C9539=\"\",\"\",Configuração!B9539)","v":""}]
[null,null,null,null,{"$f":"IF(Configuração!C9540=\"\",\"\",Configuração!B9540)","v":""}]
[null,null,null,null,{"$f":"IF(Configuração!C9541=\"\",\"\",Configuração!B9541)","v":""}]
[null,null,null,null,{"$f":"IF(Configuração!C9542=\"\",\"\",Configuração!B9542)","v":""}]
[null,null,null,null,{"$f":"IF(Configuração!C9543=\"\",\"\",Configuração!B9543)","v":""}]
[null,null,null,null,{"$f":"IF(Configuração!C9544=\"\",\"\",Configuração!B9544)","v":""}]
[null,null,null,null,{"$f":"IF(Configuração!C9545=\"\",\"\",Configuração!B9545)","v":""}]
[null,null,null,null,{"$f":"IF(Configuração!C9546=\"\",\"\",Configuração!B9546)","v":""}]
[null,null,null,null,{"$f":"IF(Configuração!C9547=\"\",\"\",Configuração!B9547)","v":""}]
[null,null,null,null,{"$f":"IF(Configuração!C9548=\"\",\"\",Configuração!B9548)","v":""}]
[null,null,null,null,{"$f":"IF(Configuração!C9549=\"\",\"\",Configuração!B9549)","v":""}]
[null,null,null,null,{"$f":"IF(Configuração!C9550=\"\",\"\",Configuração!B9550)","v":""}]
[null,null,null,null,{"$f":"IF(Configuração!C9551=\"\",\"\",Configuração!B9551)","v":""}]
[null,null,null,null,{"$f":"IF(Configuração!C9552=\"\",\"\",Configuração!B9552)","v":""}]
[null,null,null,null,{"$f":"IF(Configuração!C9553=\"\",\"\",Configuração!B9553)","v":""}]
[null,null,null,null,{"$f":"IF(Configuração!C9554=\"\",\"\",Configuração!B9554)","v":""}]
[null,null,null,null,{"$f":"IF(Configuração!C9555=\"\",\"\",Configuração!B9555)","v":""}]
[null,null,null,null,{"$f":"IF(Configuração!C9556=\"\",\"\",Configuração!B9556)","v":""}]
[null,null,null,null,{"$f":"IF(Configuração!C9557=\"\",\"\",Configuração!B9557)","v":""}]
[null,null,null,null,{"$f":"IF(Configuração!C9558=\"\",\"\",Configuração!B9558)","v":""}]
[null,null,null,null,{"$f":"IF(Configuração!C9559=\"\",\"\",Configuração!B9559)","v":""}]
[null,null,null,null,{"$f":"IF(Configuração!C9560=\"\",\"\",Configuração!B9560)","v":""}]
[null,null,null,null,{"$f":"IF(Configuração!C9561=\"\",\"\",Configuração!B9561)","v":""}]
[null,null,null,null,{"$f":"IF(Configuração!C9562=\"\",\"\",Configuração!B9562)","v":""}]
[null,null,null,null,{"$f":"IF(Configuração!C9563=\"\",\"\",Configuração!B9563)","v":""}]
[null,null,null,null,{"$f":"IF(Configuração!C9564=\"\",\"\",Configuração!B9564)","v":""}]
[null,null,null,null,{"$f":"IF(Configuração!C9565=\"\",\"\",Configuração!B9565)","v":""}]
[null,null,null,null,{"$f":"IF(Configuração!C9566=\"\",\"\",Configuração!B9566)","v":""}]
[null,null,null,null,{"$f":"IF(Configuração!C9567=\"\",\"\",Configuração!B9567)","v":""}]
[null,null,null,null,{"$f":"IF(Configuração!C9568=\"\",\"\",Configuração!B9568)","v":""}]
[null,null,null,null,{"$f":"IF(Configuração!C9569=\"\",\"\",Configuração!B9569)","v":""}]
[null,null,null,null,{"$f":"IF(Configuração!C9570=\"\",\"\",Configuração!B9570)","v":""}]
[null,null,null,null,{"$f":"IF(Configuração!C9571=\"\",\"\",Configuração!B9571)","v":""}]
[null,null,null,null,{"$f":"IF(Configuração!C9572=\"\",\"\",Configuração!B9572)","v":""}]
[null,null,null,null,{"$f":"IF(Configuração!C9573=\"\",\"\",Configuração!B9573)","v":""}]
[null,null,null,null,{"$f":"IF(Configuração!C9574=\"\",\"\",Configuração!B9574)","v":""}]
[null,null,null,null,{"$f":"IF(Configuração!C9575=\"\",\"\",Configuração!B9575)","v":""}]
[null,null,null,null,{"$f":"IF(Configuração!C9576=\"\",\"\",Configuração!B9576)","v":""}]
[null,null,null,null,{"$f":"IF(Configuração!C9577=\"\",\"\",Configuração!B9577)","v":""}]
[null,null,null,null,{"$f":"IF(Configuração!C9578=\"\",\"\",Configuração!B9578)","v":""}]
[null,null,null,null,{"$f":"IF(Configuração!C9579=\"\",\"\",Configuração!B9579)","v":""}]
[null,null,null,null,{"$f":"IF(Configuração!C9580=\"\",\"\",Configuração!B9580)","v":""}]
[null,null,null,null,{"$f":"IF(Configuração!C9581=\"\",\"\",Configuração!B9581)","v":""}]
[null,null,null,null,{"$f":"IF(Configuração!C9582=\"\",\"\",Configuração!B9582)","v":""}]
[null,null,null,null,{"$f":"IF(Configuração!C9583=\"\",\"\",Configuração!B9583)","v":""}]
[null,null,null,null,{"$f":"IF(Configuração!C9584=\"\",\"\",Configuração!B9584)","v":""}]
[null,null,null,null,{"$f":"IF(Configuração!C9585=\"\",\"\",Configuração!B9585)","v":""}]
[null,null,null,null,{"$f":"IF(Configuração!C9586=\"\",\"\",Configuração!B9586)","v":""}]
[null,null,null,null,{"$f":"IF(Configuração!C9587=\"\",\"\",Configuração!B9587)","v":""}]
[null,null,null,null,{"$f":"IF(Configuração!C9588=\"\",\"\",Configuração!B9588)","v":""}]
[null,null,null,null,{"$f":"IF(Configuração!C9589=\"\",\"\",Configuração!B9589)","v":""}]
[null,null,null,null,{"$f":"IF(Configuração!C9590=\"\",\"\",Configuração!B9590)","v":""}]
[null,null,null,null,{"$f":"IF(Configuração!C9591=\"\",\"\",Configuração!B9591)","v":""}]
[null,null,null,null,{"$f":"IF(Configuração!C9592=\"\",\"\",Configuração!B9592)","v":""}]
[null,null,null,null,{"$f":"IF(Configuração!C9593=\"\",\"\",Configuração!B9593)","v":""}]
[null,null,null,null,{"$f":"IF(Configuração!C9594=\"\",\"\",Configuração!B9594)","v":""}]
[null,null,null,null,{"$f":"IF(Configuração!C9595=\"\",\"\",Configuração!B9595)","v":""}]
[null,null,null,null,{"$f":"IF(Configuração!C9596=\"\",\"\",Configuração!B9596)","v":""}]
[null,null,null,null,{"$f":"IF(Configuração!C9597=\"\",\"\",Configuração!B9597)","v":""}]
[null,null,null,null,{"$f":"IF(Configuração!C9598=\"\",\"\",Configuração!B9598)","v":""}]
[null,null,null,null,{"$f":"IF(Configuração!C9599=\"\",\"\",Configuração!B9599)","v":""}]
[null,null,null,null,{"$f":"IF(Configuração!C9600=\"\",\"\",Configuração!B9600)","v":""}]
[null,null,null,null,{"$f":"IF(Configuração!C9601=\"\",\"\",Configuração!B9601)","v":""}]
[null,null,null,null,{"$f":"IF(Configuração!C9602=\"\",\"\",Configuração!B9602)","v":""}]
[null,null,null,null,{"$f":"IF(Configuração!C9603=\"\",\"\",Configuração!B9603)","v":""}]
[null,null,null,null,{"$f":"IF(Configuração!C9604=\"\",\"\",Configuração!B9604)","v":""}]
[null,null,null,null,{"$f":"IF(Configuração!C9605=\"\",\"\",Configuração!B9605)","v":""}]
[null,null,null,null,{"$f":"IF(Configuração!C9606=\"\",\"\",Configuração!B9606)","v":""}]
[null,null,null,null,{"$f":"IF(Configuração!C9607=\"\",\"\",Configuração!B9607)","v":""}]
[null,null,null,null,{"$f":"IF(Configuração!C9608=\"\",\"\",Configuração!B9608)","v":""}]
[null,null,null,null,{"$f":"IF(Configuração!C9609=\"\",\"\",Configuração!B9609)","v":""}]
[null,null,null,null,{"$f":"IF(Configuração!C9610=\"\",\"\",Configuração!B9610)","v":""}]
[null,null,null,null,{"$f":"IF(Configuração!C9611=\"\",\"\",Configuração!B9611)","v":""}]
[null,null,null,null,{"$f":"IF(Configuração!C9612=\"\",\"\",Configuração!B9612)","v":""}]
[null,null,null,null,{"$f":"IF(Configuração!C9613=\"\",\"\",Configuração!B9613)","v":""}]
[null,null,null,null,{"$f":"IF(Configuração!C9614=\"\",\"\",Configuração!B9614)","v":""}]
[null,null,null,null,{"$f":"IF(Configuração!C9615=\"\",\"\",Configuração!B9615)","v":""}]
[null,null,null,null,{"$f":"IF(Configuração!C9616=\"\",\"\",Configuração!B9616)","v":""}]
[null,null,null,null,{"$f":"IF(Configuração!C9617=\"\",\"\",Configuração!B9617)","v":""}]
[null,null,null,null,{"$f":"IF(Configuração!C9618=\"\",\"\",Configuração!B9618)","v":""}]
[null,null,null,null,{"$f":"IF(Configuração!C9619=\"\",\"\",Configuração!B9619)","v":""}]
[null,null,null,null,{"$f":"IF(Configuração!C9620=\"\",\"\",Configuração!B9620)","v":""}]
[null,null,null,null,{"$f":"IF(Configuração!C9621=\"\",\"\",Configuração!B9621)","v":""}]
[null,null,null,null,{"$f":"IF(Configuração!C9622=\"\",\"\",Configuração!B9622)","v":""}]
[null,null,null,null,{"$f":"IF(Configuração!C9623=\"\",\"\",Configuração!B9623)","v":""}]
[null,null,null,null,{"$f":"IF(Configuração!C9624=\"\",\"\",Configuração!B9624)","v":""}]
[null,null,null,null,{"$f":"IF(Configuração!C9625=\"\",\"\",Configuração!B9625)","v":""}]
[null,null,null,null,{"$f":"IF(Configuração!C9626=\"\",\"\",Configuração!B9626)","v":""}]
[null,null,null,null,{"$f":"IF(Configuração!C9627=\"\",\"\",Configuração!B9627)","v":""}]
[null,null,null,null,{"$f":"IF(Configuração!C9628=\"\",\"\",Configuração!B9628)","v":""}]
[null,null,null,null,{"$f":"IF(Configuração!C9629=\"\",\"\",Configuração!B9629)","v":""}]
[null,null,null,null,{"$f":"IF(Configuração!C9630=\"\",\"\",Configuração!B9630)","v":""}]
[null,null,null,null,{"$f":"IF(Configuração!C9631=\"\",\"\",Configuração!B9631)","v":""}]
[null,null,null,null,{"$f":"IF(Configuração!C9632=\"\",\"\",Configuração!B9632)","v":""}]
[null,null,null,null,{"$f":"IF(Configuração!C9633=\"\",\"\",Configuração!B9633)","v":""}]
[null,null,null,null,{"$f":"IF(Configuração!C9634=\"\",\"\",Configuração!B9634)","v":""}]
[null,null,null,null,{"$f":"IF(Configuração!C9635=\"\",\"\",Configuração!B9635)","v":""}]
[null,null,null,null,{"$f":"IF(Configuração!C9636=\"\",\"\",Configuração!B9636)","v":""}]
[null,null,null,null,{"$f":"IF(Configuração!C9637=\"\",\"\",Configuração!B9637)","v":""}]
[null,null,null,null,{"$f":"IF(Configuração!C9638=\"\",\"\",Configuração!B9638)","v":""}]
[null,null,null,null,{"$f":"IF(Configuração!C9639=\"\",\"\",Configuração!B9639)","v":""}]
[null,null,null,null,{"$f":"IF(Configuração!C9640=\"\",\"\",Configuração!B9640)","v":""}]
[null,null,null,null,{"$f":"IF(Configuração!C9641=\"\",\"\",Configuração!B9641)","v":""}]
[null,null,null,null,{"$f":"IF(Configuração!C9642=\"\",\"\",Configuração!B9642)","v":""}]
[null,null,null,null,{"$f":"IF(Configuração!C9643=\"\",\"\",Configuração!B9643)","v":""}]
[null,null,null,null,{"$f":"IF(Configuração!C9644=\"\",\"\",Configuração!B9644)","v":""}]
[null,null,null,null,{"$f":"IF(Configuração!C9645=\"\",\"\",Configuração!B9645)","v":""}]
[null,null,null,null,{"$f":"IF(Configuração!C9646=\"\",\"\",Configuração!B9646)","v":""}]
[null,null,null,null,{"$f":"IF(Configuração!C9647=\"\",\"\",Configuração!B9647)","v":""}]
[null,null,null,null,{"$f":"IF(Configuração!C9648=\"\",\"\",Configuração!B9648)","v":""}]
[null,null,null,null,{"$f":"IF(Configuração!C9649=\"\",\"\",Configuração!B9649)","v":""}]
[null,null,null,null,{"$f":"IF(Configuração!C9650=\"\",\"\",Configuração!B9650)","v":""}]
[null,null,null,null,{"$f":"IF(Configuração!C9651=\"\",\"\",Configuração!B9651)","v":""}]
[null,null,null,null,{"$f":"IF(Configuração!C9652=\"\",\"\",Configuração!B9652)","v":""}]
[null,null,null,null,{"$f":"IF(Configuração!C9653=\"\",\"\",Configuração!B9653)","v":""}]
[null,null,null,null,{"$f":"IF(Configuração!C9654=\"\",\"\",Configuração!B9654)","v":""}]
[null,null,null,null,{"$f":"IF(Configuração!C9655=\"\",\"\",Configuração!B9655)","v":""}]
[null,null,null,null,{"$f":"IF(Configuração!C9656=\"\",\"\",Configuração!B9656)","v":""}]
[null,null,null,null,{"$f":"IF(Configuração!C9657=\"\",\"\",Configuração!B9657)","v":""}]
[null,null,null,null,{"$f":"IF(Configuração!C9658=\"\",\"\",Configuração!B9658)","v":""}]
[null,null,null,null,{"$f":"IF(Configuração!C9659=\"\",\"\",Configuração!B9659)","v":""}]
[null,null,null,null,{"$f":"IF(Configuração!C9660=\"\",\"\",Configuração!B9660)","v":""}]
[null,null,null,null,{"$f":"IF(Configuração!C9661=\"\",\"\",Configuração!B9661)","v":""}]
[null,null,null,null,{"$f":"IF(Configuração!C9662=\"\",\"\",Configuração!B9662)","v":""}]
[null,null,null,null,{"$f":"IF(Configuração!C9663=\"\",\"\",Configuração!B9663)","v":""}]
[null,null,null,null,{"$f":"IF(Configuração!C9664=\"\",\"\",Configuração!B9664)","v":""}]
[null,null,null,null,{"$f":"IF(Configuração!C9665=\"\",\"\",Configuração!B9665)","v":""}]
[null,null,null,null,{"$f":"IF(Configuração!C9666=\"\",\"\",Configuração!B9666)","v":""}]
[null,null,null,null,{"$f":"IF(Configuração!C9667=\"\",\"\",Configuração!B9667)","v":""}]
[null,null,null,null,{"$f":"IF(Configuração!C9668=\"\",\"\",Configuração!B9668)","v":""}]
[null,null,null,null,{"$f":"IF(Configuração!C9669=\"\",\"\",Configuração!B9669)","v":""}]
[null,null,null,null,{"$f":"IF(Configuração!C9670=\"\",\"\",Configuração!B9670)","v":""}]
[null,null,null,null,{"$f":"IF(Configuração!C9671=\"\",\"\",Configuração!B9671)","v":""}]
[null,null,null,null,{"$f":"IF(Configuração!C9672=\"\",\"\",Configuração!B9672)","v":""}]
[null,null,null,null,{"$f":"IF(Configuração!C9673=\"\",\"\",Configuração!B9673)","v":""}]
[null,null,null,null,{"$f":"IF(Configuração!C9674=\"\",\"\",Configuração!B9674)","v":""}]
[null,null,null,null,{"$f":"IF(Configuração!C9675=\"\",\"\",Configuração!B9675)","v":""}]
[null,null,null,null,{"$f":"IF(Configuração!C9676=\"\",\"\",Configuração!B9676)","v":""}]
[null,null,null,null,{"$f":"IF(Configuração!C9677=\"\",\"\",Configuração!B9677)","v":""}]
[null,null,null,null,{"$f":"IF(Configuração!C9678=\"\",\"\",Configuração!B9678)","v":""}]
[null,null,null,null,{"$f":"IF(Configuração!C9679=\"\",\"\",Configuração!B9679)","v":""}]
[null,null,null,null,{"$f":"IF(Configuração!C9680=\"\",\"\",Configuração!B9680)","v":""}]
[null,null,null,null,{"$f":"IF(Configuração!C9681=\"\",\"\",Configuração!B9681)","v":""}]
[null,null,null,null,{"$f":"IF(Configuração!C9682=\"\",\"\",Configuração!B9682)","v":""}]
[null,null,null,null,{"$f":"IF(Configuração!C9683=\"\",\"\",Configuração!B9683)","v":""}]
[null,null,null,null,{"$f":"IF(Configuração!C9684=\"\",\"\",Configuração!B9684)","v":""}]
[null,null,null,null,{"$f":"IF(Configuração!C9685=\"\",\"\",Configuração!B9685)","v":""}]
[null,null,null,null,{"$f":"IF(Configuração!C9686=\"\",\"\",Configuração!B9686)","v":""}]
[null,null,null,null,{"$f":"IF(Configuração!C9687=\"\",\"\",Configuração!B9687)","v":""}]
[null,null,null,null,{"$f":"IF(Configuração!C9688=\"\",\"\",Configuração!B9688)","v":""}]
[null,null,null,null,{"$f":"IF(Configuração!C9689=\"\",\"\",Configuração!B9689)","v":""}]
[null,null,null,null,{"$f":"IF(Configuração!C9690=\"\",\"\",Configuração!B9690)","v":""}]
[null,null,null,null,{"$f":"IF(Configuração!C9691=\"\",\"\",Configuração!B9691)","v":""}]
[null,null,null,null,{"$f":"IF(Configuração!C9692=\"\",\"\",Configuração!B9692)","v":""}]
[null,null,null,null,{"$f":"IF(Configuração!C9693=\"\",\"\",Configuração!B9693)","v":""}]
[null,null,null,null,{"$f":"IF(Configuração!C9694=\"\",\"\",Configuração!B9694)","v":""}]
[null,null,null,null,{"$f":"IF(Configuração!C9695=\"\",\"\",Configuração!B9695)","v":""}]
[null,null,null,null,{"$f":"IF(Configuração!C9696=\"\",\"\",Configuração!B9696)","v":""}]
[null,null,null,null,{"$f":"IF(Configuração!C9697=\"\",\"\",Configuração!B9697)","v":""}]
[null,null,null,null,{"$f":"IF(Configuração!C9698=\"\",\"\",Configuração!B9698)","v":""}]
[null,null,null,null,{"$f":"IF(Configuração!C9699=\"\",\"\",Configuração!B9699)","v":""}]
[null,null,null,null,{"$f":"IF(Configuração!C9700=\"\",\"\",Configuração!B9700)","v":""}]
[null,null,null,null,{"$f":"IF(Configuração!C9701=\"\",\"\",Configuração!B9701)","v":""}]
[null,null,null,null,{"$f":"IF(Configuração!C9702=\"\",\"\",Configuração!B9702)","v":""}]
[null,null,null,null,{"$f":"IF(Configuração!C9703=\"\",\"\",Configuração!B9703)","v":""}]
[null,null,null,null,{"$f":"IF(Configuração!C9704=\"\",\"\",Configuração!B9704)","v":""}]
[null,null,null,null,{"$f":"IF(Configuração!C9705=\"\",\"\",Configuração!B9705)","v":""}]
[null,null,null,null,{"$f":"IF(Configuração!C9706=\"\",\"\",Configuração!B9706)","v":""}]
[null,null,null,null,{"$f":"IF(Configuração!C9707=\"\",\"\",Configuração!B9707)","v":""}]
[null,null,null,null,{"$f":"IF(Configuração!C9708=\"\",\"\",Configuração!B9708)","v":""}]
[null,null,null,null,{"$f":"IF(Configuração!C9709=\"\",\"\",Configuração!B9709)","v":""}]
[null,null,null,null,{"$f":"IF(Configuração!C9710=\"\",\"\",Configuração!B9710)","v":""}]
[null,null,null,null,{"$f":"IF(Configuração!C9711=\"\",\"\",Configuração!B9711)","v":""}]
[null,null,null,null,{"$f":"IF(Configuração!C9712=\"\",\"\",Configuração!B9712)","v":""}]
[null,null,null,null,{"$f":"IF(Configuração!C9713=\"\",\"\",Configuração!B9713)","v":""}]
[null,null,null,null,{"$f":"IF(Configuração!C9714=\"\",\"\",Configuração!B9714)","v":""}]
[null,null,null,null,{"$f":"IF(Configuração!C9715=\"\",\"\",Configuração!B9715)","v":""}]
[null,null,null,null,{"$f":"IF(Configuração!C9716=\"\",\"\",Configuração!B9716)","v":""}]
[null,null,null,null,{"$f":"IF(Configuração!C9717=\"\",\"\",Configuração!B9717)","v":""}]
[null,null,null,null,{"$f":"IF(Configuração!C9718=\"\",\"\",Configuração!B9718)","v":""}]
[null,null,null,null,{"$f":"IF(Configuração!C9719=\"\",\"\",Configuração!B9719)","v":""}]
[null,null,null,null,{"$f":"IF(Configuração!C9720=\"\",\"\",Configuração!B9720)","v":""}]
[null,null,null,null,{"$f":"IF(Configuração!C9721=\"\",\"\",Configuração!B9721)","v":""}]
[null,null,null,null,{"$f":"IF(Configuração!C9722=\"\",\"\",Configuração!B9722)","v":""}]
[null,null,null,null,{"$f":"IF(Configuração!C9723=\"\",\"\",Configuração!B9723)","v":""}]
[null,null,null,null,{"$f":"IF(Configuração!C9724=\"\",\"\",Configuração!B9724)","v":""}]
[null,null,null,null,{"$f":"IF(Configuração!C9725=\"\",\"\",Configuração!B9725)","v":""}]
[null,null,null,null,{"$f":"IF(Configuração!C9726=\"\",\"\",Configuração!B9726)","v":""}]
[null,null,null,null,{"$f":"IF(Configuração!C9727=\"\",\"\",Configuração!B9727)","v":""}]
[null,null,null,null,{"$f":"IF(Configuração!C9728=\"\",\"\",Configuração!B9728)","v":""}]
[null,null,null,null,{"$f":"IF(Configuração!C9729=\"\",\"\",Configuração!B9729)","v":""}]
[null,null,null,null,{"$f":"IF(Configuração!C9730=\"\",\"\",Configuração!B9730)","v":""}]
[null,null,null,null,{"$f":"IF(Configuração!C9731=\"\",\"\",Configuração!B9731)","v":""}]
[null,null,null,null,{"$f":"IF(Configuração!C9732=\"\",\"\",Configuração!B9732)","v":""}]
[null,null,null,null,{"$f":"IF(Configuração!C9733=\"\",\"\",Configuração!B9733)","v":""}]
[null,null,null,null,{"$f":"IF(Configuração!C9734=\"\",\"\",Configuração!B9734)","v":""}]
[null,null,null,null,{"$f":"IF(Configuração!C9735=\"\",\"\",Configuração!B9735)","v":""}]
[null,null,null,null,{"$f":"IF(Configuração!C9736=\"\",\"\",Configuração!B9736)","v":""}]
[null,null,null,null,{"$f":"IF(Configuração!C9737=\"\",\"\",Configuração!B9737)","v":""}]
[null,null,null,null,{"$f":"IF(Configuração!C9738=\"\",\"\",Configuração!B9738)","v":""}]
[null,null,null,null,{"$f":"IF(Configuração!C9739=\"\",\"\",Configuração!B9739)","v":""}]
[null,null,null,null,{"$f":"IF(Configuração!C9740=\"\",\"\",Configuração!B9740)","v":""}]
[null,null,null,null,{"$f":"IF(Configuração!C9741=\"\",\"\",Configuração!B9741)","v":""}]
[null,null,null,null,{"$f":"IF(Configuração!C9742=\"\",\"\",Configuração!B9742)","v":""}]
[null,null,null,null,{"$f":"IF(Configuração!C9743=\"\",\"\",Configuração!B9743)","v":""}]
[null,null,null,null,{"$f":"IF(Configuração!C9744=\"\",\"\",Configuração!B9744)","v":""}]
[null,null,null,null,{"$f":"IF(Configuração!C9745=\"\",\"\",Configuração!B9745)","v":""}]
[null,null,null,null,{"$f":"IF(Configuração!C9746=\"\",\"\",Configuração!B9746)","v":""}]
[null,null,null,null,{"$f":"IF(Configuração!C9747=\"\",\"\",Configuração!B9747)","v":""}]
[null,null,null,null,{"$f":"IF(Configuração!C9748=\"\",\"\",Configuração!B9748)","v":""}]
[null,null,null,null,{"$f":"IF(Configuração!C9749=\"\",\"\",Configuração!B9749)","v":""}]
[null,null,null,null,{"$f":"IF(Configuração!C9750=\"\",\"\",Configuração!B9750)","v":""}]
[null,null,null,null,{"$f":"IF(Configuração!C9751=\"\",\"\",Configuração!B9751)","v":""}]
[null,null,null,null,{"$f":"IF(Configuração!C9752=\"\",\"\",Configuração!B9752)","v":""}]
[null,null,null,null,{"$f":"IF(Configuração!C9753=\"\",\"\",Configuração!B9753)","v":""}]
[null,null,null,null,{"$f":"IF(Configuração!C9754=\"\",\"\",Configuração!B9754)","v":""}]
[null,null,null,null,{"$f":"IF(Configuração!C9755=\"\",\"\",Configuração!B9755)","v":""}]
[null,null,null,null,{"$f":"IF(Configuração!C9756=\"\",\"\",Configuração!B9756)","v":""}]
[null,null,null,null,{"$f":"IF(Configuração!C9757=\"\",\"\",Configuração!B9757)","v":""}]
[null,null,null,null,{"$f":"IF(Configuração!C9758=\"\",\"\",Configuração!B9758)","v":""}]
[null,null,null,null,{"$f":"IF(Configuração!C9759=\"\",\"\",Configuração!B9759)","v":""}]
[null,null,null,null,{"$f":"IF(Configuração!C9760=\"\",\"\",Configuração!B9760)","v":""}]
[null,null,null,null,{"$f":"IF(Configuração!C9761=\"\",\"\",Configuração!B9761)","v":""}]
[null,null,null,null,{"$f":"IF(Configuração!C9762=\"\",\"\",Configuração!B9762)","v":""}]
[null,null,null,null,{"$f":"IF(Configuração!C9763=\"\",\"\",Configuração!B9763)","v":""}]
[null,null,null,null,{"$f":"IF(Configuração!C9764=\"\",\"\",Configuração!B9764)","v":""}]
[null,null,null,null,{"$f":"IF(Configuração!C9765=\"\",\"\",Configuração!B9765)","v":""}]
[null,null,null,null,{"$f":"IF(Configuração!C9766=\"\",\"\",Configuração!B9766)","v":""}]
[null,null,null,null,{"$f":"IF(Configuração!C9767=\"\",\"\",Configuração!B9767)","v":""}]
[null,null,null,null,{"$f":"IF(Configuração!C9768=\"\",\"\",Configuração!B9768)","v":""}]
[null,null,null,null,{"$f":"IF(Configuração!C9769=\"\",\"\",Configuração!B9769)","v":""}]
[null,null,null,null,{"$f":"IF(Configuração!C9770=\"\",\"\",Configuração!B9770)","v":""}]
[null,null,null,null,{"$f":"IF(Configuração!C9771=\"\",\"\",Configuração!B9771)","v":""}]
[null,null,null,null,{"$f":"IF(Configuração!C9772=\"\",\"\",Configuração!B9772)","v":""}]
[null,null,null,null,{"$f":"IF(Configuração!C9773=\"\",\"\",Configuração!B9773)","v":""}]
[null,null,null,null,{"$f":"IF(Configuração!C9774=\"\",\"\",Configuração!B9774)","v":""}]
[null,null,null,null,{"$f":"IF(Configuração!C9775=\"\",\"\",Configuração!B9775)","v":""}]
[null,null,null,null,{"$f":"IF(Configuração!C9776=\"\",\"\",Configuração!B9776)","v":""}]
[null,null,null,null,{"$f":"IF(Configuração!C9777=\"\",\"\",Configuração!B9777)","v":""}]
[null,null,null,null,{"$f":"IF(Configuração!C9778=\"\",\"\",Configuração!B9778)","v":""}]
[null,null,null,null,{"$f":"IF(Configuração!C9779=\"\",\"\",Configuração!B9779)","v":""}]
[null,null,null,null,{"$f":"IF(Configuração!C9780=\"\",\"\",Configuração!B9780)","v":""}]
[null,null,null,null,{"$f":"IF(Configuração!C9781=\"\",\"\",Configuração!B9781)","v":""}]
[null,null,null,null,{"$f":"IF(Configuração!C9782=\"\",\"\",Configuração!B9782)","v":""}]
[null,null,null,null,{"$f":"IF(Configuração!C9783=\"\",\"\",Configuração!B9783)","v":""}]
[null,null,null,null,{"$f":"IF(Configuração!C9784=\"\",\"\",Configuração!B9784)","v":""}]
[null,null,null,null,{"$f":"IF(Configuração!C9785=\"\",\"\",Configuração!B9785)","v":""}]
[null,null,null,null,{"$f":"IF(Configuração!C9786=\"\",\"\",Configuração!B9786)","v":""}]
[null,null,null,null,{"$f":"IF(Configuração!C9787=\"\",\"\",Configuração!B9787)","v":""}]
[null,null,null,null,{"$f":"IF(Configuração!C9788=\"\",\"\",Configuração!B9788)","v":""}]
[null,null,null,null,{"$f":"IF(Configuração!C9789=\"\",\"\",Configuração!B9789)","v":""}]
[null,null,null,null,{"$f":"IF(Configuração!C9790=\"\",\"\",Configuração!B9790)","v":""}]
[null,null,null,null,{"$f":"IF(Configuração!C9791=\"\",\"\",Configuração!B9791)","v":""}]
[null,null,null,null,{"$f":"IF(Configuração!C9792=\"\",\"\",Configuração!B9792)","v":""}]
[null,null,null,null,{"$f":"IF(Configuração!C9793=\"\",\"\",Configuração!B9793)","v":""}]
[null,null,null,null,{"$f":"IF(Configuração!C9794=\"\",\"\",Configuração!B9794)","v":""}]
[null,null,null,null,{"$f":"IF(Configuração!C9795=\"\",\"\",Configuração!B9795)","v":""}]
[null,null,null,null,{"$f":"IF(Configuração!C9796=\"\",\"\",Configuração!B9796)","v":""}]
[null,null,null,null,{"$f":"IF(Configuração!C9797=\"\",\"\",Configuração!B9797)","v":""}]
[null,null,null,null,{"$f":"IF(Configuração!C9798=\"\",\"\",Configuração!B9798)","v":""}]
[null,null,null,null,{"$f":"IF(Configuração!C9799=\"\",\"\",Configuração!B9799)","v":""}]
[null,null,null,null,{"$f":"IF(Configuração!C9800=\"\",\"\",Configuração!B9800)","v":""}]
[null,null,null,null,{"$f":"IF(Configuração!C9801=\"\",\"\",Configuração!B9801)","v":""}]
[null,null,null,null,{"$f":"IF(Configuração!C9802=\"\",\"\",Configuração!B9802)","v":""}]
[null,null,null,null,{"$f":"IF(Configuração!C9803=\"\",\"\",Configuração!B9803)","v":""}]
[null,null,null,null,{"$f":"IF(Configuração!C9804=\"\",\"\",Configuração!B9804)","v":""}]
[null,null,null,null,{"$f":"IF(Configuração!C9805=\"\",\"\",Configuração!B9805)","v":""}]
[null,null,null,null,{"$f":"IF(Configuração!C9806=\"\",\"\",Configuração!B9806)","v":""}]
[null,null,null,null,{"$f":"IF(Configuração!C9807=\"\",\"\",Configuração!B9807)","v":""}]
[null,null,null,null,{"$f":"IF(Configuração!C9808=\"\",\"\",Configuração!B9808)","v":""}]
[null,null,null,null,{"$f":"IF(Configuração!C9809=\"\",\"\",Configuração!B9809)","v":""}]
[null,null,null,null,{"$f":"IF(Configuração!C9810=\"\",\"\",Configuração!B9810)","v":""}]
[null,null,null,null,{"$f":"IF(Configuração!C9811=\"\",\"\",Configuração!B9811)","v":""}]
[null,null,null,null,{"$f":"IF(Configuração!C9812=\"\",\"\",Configuração!B9812)","v":""}]
[null,null,null,null,{"$f":"IF(Configuração!C9813=\"\",\"\",Configuração!B9813)","v":""}]
[null,null,null,null,{"$f":"IF(Configuração!C9814=\"\",\"\",Configuração!B9814)","v":""}]
[null,null,null,null,{"$f":"IF(Configuração!C9815=\"\",\"\",Configuração!B9815)","v":""}]
[null,null,null,null,{"$f":"IF(Configuração!C9816=\"\",\"\",Configuração!B9816)","v":""}]
[null,null,null,null,{"$f":"IF(Configuração!C9817=\"\",\"\",Configuração!B9817)","v":""}]
[null,null,null,null,{"$f":"IF(Configuração!C9818=\"\",\"\",Configuração!B9818)","v":""}]
[null,null,null,null,{"$f":"IF(Configuração!C9819=\"\",\"\",Configuração!B9819)","v":""}]
[null,null,null,null,{"$f":"IF(Configuração!C9820=\"\",\"\",Configuração!B9820)","v":""}]
[null,null,null,null,{"$f":"IF(Configuração!C9821=\"\",\"\",Configuração!B9821)","v":""}]
[null,null,null,null,{"$f":"IF(Configuração!C9822=\"\",\"\",Configuração!B9822)","v":""}]
[null,null,null,null,{"$f":"IF(Configuração!C9823=\"\",\"\",Configuração!B9823)","v":""}]
[null,null,null,null,{"$f":"IF(Configuração!C9824=\"\",\"\",Configuração!B9824)","v":""}]
[null,null,null,null,{"$f":"IF(Configuração!C9825=\"\",\"\",Configuração!B9825)","v":""}]
[null,null,null,null,{"$f":"IF(Configuração!C9826=\"\",\"\",Configuração!B9826)","v":""}]
[null,null,null,null,{"$f":"IF(Configuração!C9827=\"\",\"\",Configuração!B9827)","v":""}]
[null,null,null,null,{"$f":"IF(Configuração!C9828=\"\",\"\",Configuração!B9828)","v":""}]
[null,null,null,null,{"$f":"IF(Configuração!C9829=\"\",\"\",Configuração!B9829)","v":""}]
[null,null,null,null,{"$f":"IF(Configuração!C9830=\"\",\"\",Configuração!B9830)","v":""}]
[null,null,null,null,{"$f":"IF(Configuração!C9831=\"\",\"\",Configuração!B9831)","v":""}]
[null,null,null,null,{"$f":"IF(Configuração!C9832=\"\",\"\",Configuração!B9832)","v":""}]
[null,null,null,null,{"$f":"IF(Configuração!C9833=\"\",\"\",Configuração!B9833)","v":""}]
[null,null,null,null,{"$f":"IF(Configuração!C9834=\"\",\"\",Configuração!B9834)","v":""}]
[null,null,null,null,{"$f":"IF(Configuração!C9835=\"\",\"\",Configuração!B9835)","v":""}]
[null,null,null,null,{"$f":"IF(Configuração!C9836=\"\",\"\",Configuração!B9836)","v":""}]
[null,null,null,null,{"$f":"IF(Configuração!C9837=\"\",\"\",Configuração!B9837)","v":""}]
[null,null,null,null,{"$f":"IF(Configuração!C9838=\"\",\"\",Configuração!B9838)","v":""}]
[null,null,null,null,{"$f":"IF(Configuração!C9839=\"\",\"\",Configuração!B9839)","v":""}]
[null,null,null,null,{"$f":"IF(Configuração!C9840=\"\",\"\",Configuração!B9840)","v":""}]
[null,null,null,null,{"$f":"IF(Configuração!C9841=\"\",\"\",Configuração!B9841)","v":""}]
[null,null,null,null,{"$f":"IF(Configuração!C9842=\"\",\"\",Configuração!B9842)","v":""}]
[null,null,null,null,{"$f":"IF(Configuração!C9843=\"\",\"\",Configuração!B9843)","v":""}]
[null,null,null,null,{"$f":"IF(Configuração!C9844=\"\",\"\",Configuração!B9844)","v":""}]
[null,null,null,null,{"$f":"IF(Configuração!C9845=\"\",\"\",Configuração!B9845)","v":""}]
[null,null,null,null,{"$f":"IF(Configuração!C9846=\"\",\"\",Configuração!B9846)","v":""}]
[null,null,null,null,{"$f":"IF(Configuração!C9847=\"\",\"\",Configuração!B9847)","v":""}]
[null,null,null,null,{"$f":"IF(Configuração!C9848=\"\",\"\",Configuração!B9848)","v":""}]
[null,null,null,null,{"$f":"IF(Configuração!C9849=\"\",\"\",Configuração!B9849)","v":""}]
[null,null,null,null,{"$f":"IF(Configuração!C9850=\"\",\"\",Configuração!B9850)","v":""}]
[null,null,null,null,{"$f":"IF(Configuração!C9851=\"\",\"\",Configuração!B9851)","v":""}]
[null,null,null,null,{"$f":"IF(Configuração!C9852=\"\",\"\",Configuração!B9852)","v":""}]
[null,null,null,null,{"$f":"IF(Configuração!C9853=\"\",\"\",Configuração!B9853)","v":""}]
[null,null,null,null,{"$f":"IF(Configuração!C9854=\"\",\"\",Configuração!B9854)","v":""}]
[null,null,null,null,{"$f":"IF(Configuração!C9855=\"\",\"\",Configuração!B9855)","v":""}]
[null,null,null,null,{"$f":"IF(Configuração!C9856=\"\",\"\",Configuração!B9856)","v":""}]
[null,null,null,null,{"$f":"IF(Configuração!C9857=\"\",\"\",Configuração!B9857)","v":""}]
[null,null,null,null,{"$f":"IF(Configuração!C9858=\"\",\"\",Configuração!B9858)","v":""}]
[null,null,null,null,{"$f":"IF(Configuração!C9859=\"\",\"\",Configuração!B9859)","v":""}]
[null,null,null,null,{"$f":"IF(Configuração!C9860=\"\",\"\",Configuração!B9860)","v":""}]
[null,null,null,null,{"$f":"IF(Configuração!C9861=\"\",\"\",Configuração!B9861)","v":""}]
[null,null,null,null,{"$f":"IF(Configuração!C9862=\"\",\"\",Configuração!B9862)","v":""}]
[null,null,null,null,{"$f":"IF(Configuração!C9863=\"\",\"\",Configuração!B9863)","v":""}]
[null,null,null,null,{"$f":"IF(Configuração!C9864=\"\",\"\",Configuração!B9864)","v":""}]
[null,null,null,null,{"$f":"IF(Configuração!C9865=\"\",\"\",Configuração!B9865)","v":""}]
[null,null,null,null,{"$f":"IF(Configuração!C9866=\"\",\"\",Configuração!B9866)","v":""}]
[null,null,null,null,{"$f":"IF(Configuração!C9867=\"\",\"\",Configuração!B9867)","v":""}]
[null,null,null,null,{"$f":"IF(Configuração!C9868=\"\",\"\",Configuração!B9868)","v":""}]
[null,null,null,null,{"$f":"IF(Configuração!C9869=\"\",\"\",Configuração!B9869)","v":""}]
[null,null,null,null,{"$f":"IF(Configuração!C9870=\"\",\"\",Configuração!B9870)","v":""}]
[null,null,null,null,{"$f":"IF(Configuração!C9871=\"\",\"\",Configuração!B9871)","v":""}]
[null,null,null,null,{"$f":"IF(Configuração!C9872=\"\",\"\",Configuração!B9872)","v":""}]
[null,null,null,null,{"$f":"IF(Configuração!C9873=\"\",\"\",Configuração!B9873)","v":""}]
[null,null,null,null,{"$f":"IF(Configuração!C9874=\"\",\"\",Configuração!B9874)","v":""}]
[null,null,null,null,{"$f":"IF(Configuração!C9875=\"\",\"\",Configuração!B9875)","v":""}]
[null,null,null,null,{"$f":"IF(Configuração!C9876=\"\",\"\",Configuração!B9876)","v":""}]
[null,null,null,null,{"$f":"IF(Configuração!C9877=\"\",\"\",Configuração!B9877)","v":""}]
[null,null,null,null,{"$f":"IF(Configuração!C9878=\"\",\"\",Configuração!B9878)","v":""}]
[null,null,null,null,{"$f":"IF(Configuração!C9879=\"\",\"\",Configuração!B9879)","v":""}]
[null,null,null,null,{"$f":"IF(Configuração!C9880=\"\",\"\",Configuração!B9880)","v":""}]
[null,null,null,null,{"$f":"IF(Configuração!C9881=\"\",\"\",Configuração!B9881)","v":""}]
[null,null,null,null,{"$f":"IF(Configuração!C9882=\"\",\"\",Configuração!B9882)","v":""}]
[null,null,null,null,{"$f":"IF(Configuração!C9883=\"\",\"\",Configuração!B9883)","v":""}]
[null,null,null,null,{"$f":"IF(Configuração!C9884=\"\",\"\",Configuração!B9884)","v":""}]
[null,null,null,null,{"$f":"IF(Configuração!C9885=\"\",\"\",Configuração!B9885)","v":""}]
[null,null,null,null,{"$f":"IF(Configuração!C9886=\"\",\"\",Configuração!B9886)","v":""}]
[null,null,null,null,{"$f":"IF(Configuração!C9887=\"\",\"\",Configuração!B9887)","v":""}]
[null,null,null,null,{"$f":"IF(Configuração!C9888=\"\",\"\",Configuração!B9888)","v":""}]
[null,null,null,null,{"$f":"IF(Configuração!C9889=\"\",\"\",Configuração!B9889)","v":""}]
[null,null,null,null,{"$f":"IF(Configuração!C9890=\"\",\"\",Configuração!B9890)","v":""}]
[null,null,null,null,{"$f":"IF(Configuração!C9891=\"\",\"\",Configuração!B9891)","v":""}]
[null,null,null,null,{"$f":"IF(Configuração!C9892=\"\",\"\",Configuração!B9892)","v":""}]
[null,null,null,null,{"$f":"IF(Configuração!C9893=\"\",\"\",Configuração!B9893)","v":""}]
[null,null,null,null,{"$f":"IF(Configuração!C9894=\"\",\"\",Configuração!B9894)","v":""}]
[null,null,null,null,{"$f":"IF(Configuração!C9895=\"\",\"\",Configuração!B9895)","v":""}]
[null,null,null,null,{"$f":"IF(Configuração!C9896=\"\",\"\",Configuração!B9896)","v":""}]
[null,null,null,null,{"$f":"IF(Configuração!C9897=\"\",\"\",Configuração!B9897)","v":""}]
[null,null,null,null,{"$f":"IF(Configuração!C9898=\"\",\"\",Configuração!B9898)","v":""}]
[null,null,null,null,{"$f":"IF(Configuração!C9899=\"\",\"\",Configuração!B9899)","v":""}]
[null,null,null,null,{"$f":"IF(Configuração!C9900=\"\",\"\",Configuração!B9900)","v":""}]
[null,null,null,null,{"$f":"IF(Configuração!C9901=\"\",\"\",Configuração!B9901)","v":""}]
[null,null,null,null,{"$f":"IF(Configuração!C9902=\"\",\"\",Configuração!B9902)","v":""}]
[null,null,null,null,{"$f":"IF(Configuração!C9903=\"\",\"\",Configuração!B9903)","v":""}]
[null,null,null,null,{"$f":"IF(Configuração!C9904=\"\",\"\",Configuração!B9904)","v":""}]
[null,null,null,null,{"$f":"IF(Configuração!C9905=\"\",\"\",Configuração!B9905)","v":""}]
[null,null,null,null,{"$f":"IF(Configuração!C9906=\"\",\"\",Configuração!B9906)","v":""}]
[null,null,null,null,{"$f":"IF(Configuração!C9907=\"\",\"\",Configuração!B9907)","v":""}]
[null,null,null,null,{"$f":"IF(Configuração!C9908=\"\",\"\",Configuração!B9908)","v":""}]
[null,null,null,null,{"$f":"IF(Configuração!C9909=\"\",\"\",Configuração!B9909)","v":""}]
[null,null,null,null,{"$f":"IF(Configuração!C9910=\"\",\"\",Configuração!B9910)","v":""}]
[null,null,null,null,{"$f":"IF(Configuração!C9911=\"\",\"\",Configuração!B9911)","v":""}]
[null,null,null,null,{"$f":"IF(Configuração!C9912=\"\",\"\",Configuração!B9912)","v":""}]
[null,null,null,null,{"$f":"IF(Configuração!C9913=\"\",\"\",Configuração!B9913)","v":""}]
[null,null,null,null,{"$f":"IF(Configuração!C9914=\"\",\"\",Configuração!B9914)","v":""}]
[null,null,null,null,{"$f":"IF(Configuração!C9915=\"\",\"\",Configuração!B9915)","v":""}]
[null,null,null,null,{"$f":"IF(Configuração!C9916=\"\",\"\",Configuração!B9916)","v":""}]
[null,null,null,null,{"$f":"IF(Configuração!C9917=\"\",\"\",Configuração!B9917)","v":""}]
[null,null,null,null,{"$f":"IF(Configuração!C9918=\"\",\"\",Configuração!B9918)","v":""}]
[null,null,null,null,{"$f":"IF(Configuração!C9919=\"\",\"\",Configuração!B9919)","v":""}]
[null,null,null,null,{"$f":"IF(Configuração!C9920=\"\",\"\",Configuração!B9920)","v":""}]
[null,null,null,null,{"$f":"IF(Configuração!C9921=\"\",\"\",Configuração!B9921)","v":""}]
[null,null,null,null,{"$f":"IF(Configuração!C9922=\"\",\"\",Configuração!B9922)","v":""}]
[null,null,null,null,{"$f":"IF(Configuração!C9923=\"\",\"\",Configuração!B9923)","v":""}]
[null,null,null,null,{"$f":"IF(Configuração!C9924=\"\",\"\",Configuração!B9924)","v":""}]
[null,null,null,null,{"$f":"IF(Configuração!C9925=\"\",\"\",Configuração!B9925)","v":""}]
[null,null,null,null,{"$f":"IF(Configuração!C9926=\"\",\"\",Configuração!B9926)","v":""}]
[null,null,null,null,{"$f":"IF(Configuração!C9927=\"\",\"\",Configuração!B9927)","v":""}]
[null,null,null,null,{"$f":"IF(Configuração!C9928=\"\",\"\",Configuração!B9928)","v":""}]
[null,null,null,null,{"$f":"IF(Configuração!C9929=\"\",\"\",Configuração!B9929)","v":""}]
[null,null,null,null,{"$f":"IF(Configuração!C9930=\"\",\"\",Configuração!B9930)","v":""}]
[null,null,null,null,{"$f":"IF(Configuração!C9931=\"\",\"\",Configuração!B9931)","v":""}]
[null,null,null,null,{"$f":"IF(Configuração!C9932=\"\",\"\",Configuração!B9932)","v":""}]
[null,null,null,null,{"$f":"IF(Configuração!C9933=\"\",\"\",Configuração!B9933)","v":""}]
[null,null,null,null,{"$f":"IF(Configuração!C9934=\"\",\"\",Configuração!B9934)","v":""}]
[null,null,null,null,{"$f":"IF(Configuração!C9935=\"\",\"\",Configuração!B9935)","v":""}]
[null,null,null,null,{"$f":"IF(Configuração!C9936=\"\",\"\",Configuração!B9936)","v":""}]
[null,null,null,null,{"$f":"IF(Configuração!C9937=\"\",\"\",Configuração!B9937)","v":""}]
[null,null,null,null,{"$f":"IF(Configuração!C9938=\"\",\"\",Configuração!B9938)","v":""}]
[null,null,null,null,{"$f":"IF(Configuração!C9939=\"\",\"\",Configuração!B9939)","v":""}]
[null,null,null,null,{"$f":"IF(Configuração!C9940=\"\",\"\",Configuração!B9940)","v":""}]
[null,null,null,null,{"$f":"IF(Configuração!C9941=\"\",\"\",Configuração!B9941)","v":""}]
[null,null,null,null,{"$f":"IF(Configuração!C9942=\"\",\"\",Configuração!B9942)","v":""}]
[null,null,null,null,{"$f":"IF(Configuração!C9943=\"\",\"\",Configuração!B9943)","v":""}]
[null,null,null,null,{"$f":"IF(Configuração!C9944=\"\",\"\",Configuração!B9944)","v":""}]
[null,null,null,null,{"$f":"IF(Configuração!C9945=\"\",\"\",Configuração!B9945)","v":""}]
[null,null,null,null,{"$f":"IF(Configuração!C9946=\"\",\"\",Configuração!B9946)","v":""}]
[null,null,null,null,{"$f":"IF(Configuração!C9947=\"\",\"\",Configuração!B9947)","v":""}]
[null,null,null,null,{"$f":"IF(Configuração!C9948=\"\",\"\",Configuração!B9948)","v":""}]
[null,null,null,null,{"$f":"IF(Configuração!C9949=\"\",\"\",Configuração!B9949)","v":""}]
[null,null,null,null,{"$f":"IF(Configuração!C9950=\"\",\"\",Configuração!B9950)","v":""}]
[null,null,null,null,{"$f":"IF(Configuração!C9951=\"\",\"\",Configuração!B9951)","v":""}]
[null,null,null,null,{"$f":"IF(Configuração!C9952=\"\",\"\",Configuração!B9952)","v":""}]
[null,null,null,null,{"$f":"IF(Configuração!C9953=\"\",\"\",Configuração!B9953)","v":""}]
[null,null,null,null,{"$f":"IF(Configuração!C9954=\"\",\"\",Configuração!B9954)","v":""}]
[null,null,null,null,{"$f":"IF(Configuração!C9955=\"\",\"\",Configuração!B9955)","v":""}]
[null,null,null,null,{"$f":"IF(Configuração!C9956=\"\",\"\",Configuração!B9956)","v":""}]
[null,null,null,null,{"$f":"IF(Configuração!C9957=\"\",\"\",Configuração!B9957)","v":""}]
[null,null,null,null,{"$f":"IF(Configuração!C9958=\"\",\"\",Configuração!B9958)","v":""}]
[null,null,null,null,{"$f":"IF(Configuração!C9959=\"\",\"\",Configuração!B9959)","v":""}]
[null,null,null,null,{"$f":"IF(Configuração!C9960=\"\",\"\",Configuração!B9960)","v":""}]
[null,null,null,null,{"$f":"IF(Configuração!C9961=\"\",\"\",Configuração!B9961)","v":""}]
[null,null,null,null,{"$f":"IF(Configuração!C9962=\"\",\"\",Configuração!B9962)","v":""}]
[null,null,null,null,{"$f":"IF(Configuração!C9963=\"\",\"\",Configuração!B9963)","v":""}]
[null,null,null,null,{"$f":"IF(Configuração!C9964=\"\",\"\",Configuração!B9964)","v":""}]
[null,null,null,null,{"$f":"IF(Configuração!C9965=\"\",\"\",Configuração!B9965)","v":""}]
[null,null,null,null,{"$f":"IF(Configuração!C9966=\"\",\"\",Configuração!B9966)","v":""}]
[null,null,null,null,{"$f":"IF(Configuração!C9967=\"\",\"\",Configuração!B9967)","v":""}]
[null,null,null,null,{"$f":"IF(Configuração!C9968=\"\",\"\",Configuração!B9968)","v":""}]
[null,null,null,null,{"$f":"IF(Configuração!C9969=\"\",\"\",Configuração!B9969)","v":""}]
[null,null,null,null,{"$f":"IF(Configuração!C9970=\"\",\"\",Configuração!B9970)","v":""}]
[null,null,null,null,{"$f":"IF(Configuração!C9971=\"\",\"\",Configuração!B9971)","v":""}]
[null,null,null,null,{"$f":"IF(Configuração!C9972=\"\",\"\",Configuração!B9972)","v":""}]
[null,null,null,null,{"$f":"IF(Configuração!C9973=\"\",\"\",Configuração!B9973)","v":""}]
[null,null,null,null,{"$f":"IF(Configuração!C9974=\"\",\"\",Configuração!B9974)","v":""}]
[null,null,null,null,{"$f":"IF(Configuração!C9975=\"\",\"\",Configuração!B9975)","v":""}]
[null,null,null,null,{"$f":"IF(Configuração!C9976=\"\",\"\",Configuração!B9976)","v":""}]
[null,null,null,null,{"$f":"IF(Configuração!C9977=\"\",\"\",Configuração!B9977)","v":""}]
[null,null,null,null,{"$f":"IF(Configuração!C9978=\"\",\"\",Configuração!B9978)","v":""}]
[null,null,null,null,{"$f":"IF(Configuração!C9979=\"\",\"\",Configuração!B9979)","v":""}]
[null,null,null,null,{"$f":"IF(Configuração!C9980=\"\",\"\",Configuração!B9980)","v":""}]
[null,null,null,null,{"$f":"IF(Configuração!C9981=\"\",\"\",Configuração!B9981)","v":""}]
[null,null,null,null,{"$f":"IF(Configuração!C9982=\"\",\"\",Configuração!B9982)","v":""}]
[null,null,null,null,{"$f":"IF(Configuração!C9983=\"\",\"\",Configuração!B9983)","v":""}]
[null,null,null,null,{"$f":"IF(Configuração!C9984=\"\",\"\",Configuração!B9984)","v":""}]
[null,null,null,null,{"$f":"IF(Configuração!C9985=\"\",\"\",Configuração!B9985)","v":""}]
[null,null,null,null,{"$f":"IF(Configuração!C9986=\"\",\"\",Configuração!B9986)","v":""}]
[null,null,null,null,{"$f":"IF(Configuração!C9987=\"\",\"\",Configuração!B9987)","v":""}]
[null,null,null,null,{"$f":"IF(Configuração!C9988=\"\",\"\",Configuração!B9988)","v":""}]
[null,null,null,null,{"$f":"IF(Configuração!C9989=\"\",\"\",Configuração!B9989)","v":""}]
[null,null,null,null,{"$f":"IF(Configuração!C9990=\"\",\"\",Configuração!B9990)","v":""}]
[null,null,null,null,{"$f":"IF(Configuração!C9991=\"\",\"\",Configuração!B9991)","v":""}]
[null,null,null,null,{"$f":"IF(Configuração!C9992=\"\",\"\",Configuração!B9992)","v":""}]
[null,null,null,null,{"$f":"IF(Configuração!C9993=\"\",\"\",Configuração!B9993)","v":""}]
[null,null,null,null,{"$f":"IF(Configuração!C9994=\"\",\"\",Configuração!B9994)","v":""}]
[null,null,null,null,{"$f":"IF(Configuração!C9995=\"\",\"\",Configuração!B9995)","v":""}]
[null,null,null,null,{"$f":"IF(Configuração!C9996=\"\",\"\",Configuração!B9996)","v":""}]
[null,null,null,null,{"$f":"IF(Configuração!C9997=\"\",\"\",Configuração!B9997)","v":""}]
[null,null,null,null,{"$f":"IF(Configuração!C9998=\"\",\"\",Configuração!B9998)","v":""}]
[null,null,null,null,{"$f":"IF(Configuração!C9999=\"\",\"\",Configuração!B9999)","v":""}]
[null,null,null,null,{"$f":"IF(Configuração!C10000=\"\",\"\",Configuração!B10000)","v":""}]
[null,null,null,null,{"$f":"IF(Configuração!C10001=\"\",\"\",Configuração!B10001)","v":""}]
[null,null,null,null,{"$f":"IF(Configuração!C10002=\"\",\"\",Configuração!B10002)","v":""}]
[null,null,null,null,{"$f":"IF(Configuração!C10003=\"\",\"\",Configuração!B10003)","v":""}]
[null,null,null,null,{"$f":"IF(Configuração!C10004=\"\",\"\",Configuração!B10004)","v":""}]
[null,null,null,null,{"$f":"IF(Configuração!C10005=\"\",\"\",Configuração!B10005)","v":""}]
[null,null,null,null,{"$f":"IF(Configuração!C10006=\"\",\"\",Configuração!B10006)","v":""}]

{"sheet":"Configuração","index":2,"n_rows":10006,"n_cols":49,"rows_kept":10006,"cut":false,"hidden":false,"merged":[]}
[]
[null,"Configurações"]
[]
[null,"Parceiro de Negócio",null,null,null,"Plano de Contas",null,null,null,"Empresa",null,null,"Setor",null,null,"Portador",null,null,"Tipo de Operação",null,null,null,"Status",null,"31/12/2010","Forma de Pagamento",null,null,null,"Interfaces do Sistema"]
[]
[null,"Código","Descrição","Tipo",null,"Código","Conta","Descrição",null,"Código","Descrição",null,"Código","Descrição",null,"Código","Descrição",null,"Código","Descrição","C/D",null,"Código","Descrição",null,"Código","Descrição","Saldo Inicial",null,"Código","Descrição","Contador",null,null,"C/D",null,null,null,null,null,null,null,null,null,"Código","Conta","Descrição","Subgrupo","Grupo"]
[null,1,null,null,null,null,1,"ENTRADAS",null,1,"SEU NOME",null,1,"Financeiro",null,1,"Cartão",null,1,"Contas a Pagar","D",null,1,"Lançado",null,1,"Carteira",0,null,1,"CadastroContas",1,null,null,"C",null,null,null,null,null,null,null,null,null,null,{"$f":"IF(G7=\"\",\"\",G7)","v":1},{"$f":"IF(H7=\"\",\"\",H7)","v":"ENTRADAS"}]
[null,2,null,null,null,null,"1.01","RECEITAS OPERACIONAIS",null,2,null,null,2,"Comercial",null,2,"Cheque",null,2,"Contas a Receber","C",null,2,"Pago",null,2,"Caixa Econômica Federal",0,null,2,"FluxoCaixa",1,null,null,"D",null,null,null,null,null,null,null,null,null,null,{"$f":"IF(G8=\"\",\"\",G8)","v":"1.01"},{"$f":"IF(H8=\"\",\"\",H8)","v":"RECEITAS OPERACIONAIS"}]
[null,3,null,null,null,1,"1.01.001","Receita com Serviços",null,3,null,null,3,"Compras",null,3,"Boleto",null,3,"Transferências a Pagar","D (T)",null,null,null,null,3,"Banco do Brasil",0,null,null,null,null,null,null,"C (T)",null,null,null,null,null,null,null,null,null,1,"1.01.001","Receita com Serviços",{"$f":"IF(AU9=\"\",\"\",$AU$8)","v":"RECEITAS OPERACIONAIS"},{"$f":"IF(AU9=\"\",\"\",$AU$7)","v":"ENTRADAS"}]
[null,4,null,null,null,2,"1.01.002","Receita com Vendas",null,4,null,null,4,"Administração",null,4,"Transferência",null,4,"Transferências a Receber","C (T)",null,null,null,null,4,"Banco Inter",0,null,null,null,null,null,null,"D (T)",null,null,null,null,null,null,null,null,null,2,"1.01.002","Receita com Vendas",{"$f":"IF(AU10=\"\",\"\",$AU$8)","v":"RECEITAS OPERACIONAIS"},{"$f":"IF(AU10=\"\",\"\",$AU$7)","v":"ENTRADAS"}]
[null,5,null,null,null,3,null,null,null,5,null,null,null,null,null,5,"Debito Automático",null,null,null,null,null,null,null,null,5,null,null,null,null,null,null,null,null,null,null,null,null,null,null,null,null,null,null,3,"","",{"$f":"IF(AU11=\"\",\"\",$AU$8)","v":""},""]
[null,6,null,null,null,4,null,null,null,6,null,null,null,null,null,6,"Dinheiro",null,null,null,null,null,null,null,null,6,null,null,null,null,null,null,null,null,null,null,null,null,null,null,null,null,null,null,4,"","","",""]
[null,7,null,null,null,5,null,null,null,7,null,null,null,null,null,7,"Depósito",null,null,null,null,null,null,null,null,7,null,null,null,null,null,null,null,null,null,null,null,null,null,null,null,null,null,null,5,"","","",""]
[null,8,null,null,null,6,null,null,null,8,null,null,null,null,null,null,null,null,null,null,null,null,null,null,null,8,null,null,null,null,null,null,null,null,null,null,null,null,null,null,null,null,null,null,6,"","","",""]
[null,9,null,null,null,7,null,null,null,9,null,null,null,null,null,null,null,null,null,null,null,null,null,null,null,9,null,null,null,null,null,null,null,null,null,null,null,null,null,null,null,null,null,null,7,"","","",""]
[null,10,null,null,null,8,null,null,null,10,null,null,null,null,null,null,null,null,null,null,null,null,null,null,null,10,null,null,null,null,null,null,null,null,null,null,null,null,null,null,null,null,null,null,8,"","","",""]
[null,11,null,null,null,9,null,null,null,null,null,null,null,null,null,null,null,null,null,null,null,null,null,null,null,11,null,null,null,null,null,null,null,null,null,null,null,null,null,null,null,null,null,null,9,"","","",""]
[null,12,null,null,null,10,null,null,null,null,null,null,null,null,null,null,null,null,null,null,null,null,null,null,null,12,null,null,null,null,null,null,null,null,null,null,null,null,null,null,null,null,null,null,10,"","","",""]
[null,13,null,null,null,11,null,null,null,null,null,null,null,null,null,null,null,null,null,null,null,null,null,null,null,13,null,null,null,null,null,null,null,null,null,null,null,null,null,null,null,null,null,null,11,"","","",""]
[null,14,null,null,null,12,null,null,null,null,null,null,null,null,null,null,null,null,null,null,null,null,null,null,null,14,null,null,null,null,null,null,null,null,null,null,null,null,null,null,null,null,null,null,12,"","","",""]
[null,15,null,null,null,13,null,null,null,null,null,null,null,null,null,null,null,null,null,null,null,null,null,null,null,15,null,null,null,null,null,null,null,null,null,null,null,null,null,null,null,null,null,null,13,"","","",""]
[null,16,null,null,null,14,null,null,null,null,null,null,null,null,null,null,null,null,null,null,null,null,null,null,null,16,null,null,null,null,null,null,null,null,null,null,null,null,null,null,null,null,null,null,14,"","","",""]
[null,17,null,null,null,15,null,null,null,null,null,null,null,null,null,null,null,null,null,null,null,null,null,null,null,17,null,null,null,null,null,null,null,null,null,null,null,null,null,null,null,null,null,null,15,"","","",""]
[null,18,null,null,null,16,null,null,null,null,null,null,null,null,null,null,null,null,null,null,null,null,null,null,null,18,null,null,null,null,null,null,null,null,null,null,null,null,null,null,null,null,null,null,16,"","","",""]
[null,19,null,null,null,17,null,null,null,null,null,null,null,null,null,null,null,null,null,null,null,null,null,null,null,19,null,null,null,null,null,null,null,null,null,null,null,null,null,null,null,null,null,null,17,"","","",""]
[null,20,null,null,null,18,null,null,null,null,null,null,null,null,null,null,null,null,null,null,null,null,null,null,null,20,null,null,null,null,null,null,null,null,null,null,null,null,null,null,null,null,null,null,18,"","","",""]
[null,21,null,null,null,19,null,null,null,null,null,null,null,null,null,null,null,null,null,null,null,null,null,null,null,21,null,null,null,null,null,null,null,null,null,null,null,null,null,null,null,null,null,null,19,"","","",""]
[null,22,null,null,null,20,null,null,null,null,null,null,null,null,null,null,null,null,null,null,null,null,null,null,null,22,null,null,null,null,null,null,null,null,null,null,null,null,null,null,null,null,null,null,20,"","","",""]
[null,23,null,null,null,21,null,null,null,null,null,null,null,null,null,null,null,null,null,null,null,null,null,null,null,23,null,null,null,null,null,null,null,null,null,null,null,null,null,null,null,null,null,null,21,"","","",""]
[null,24,null,null,null,22,null,null,null,null,null,null,null,null,null,null,null,null,null,null,null,null,null,null,null,24,null,null,null,null,null,null,null,null,null,null,null,null,null,null,null,null,null,null,22,"","","",""]
[null,25,null,null,null,23,null,null,null,null,null,null,null,null,null,null,null,null,null,null,null,null,null,null,null,25,null,null,null,null,null,null,null,null,null,null,null,null,null,null,null,null,null,null,23,"","","",""]
[null,26,null,null,null,24,null,null,null,null,null,null,null,null,null,null,null,null,null,null,null,null,null,null,null,26,null,null,null,null,null,null,null,null,null,null,null,null,null,null,null,null,null,null,24,"","","",""]
[null,27,null,null,null,25,null,null,null,null,null,null,null,null,null,null,null,null,null,null,null,null,null,null,null,27,null,null,null,null,null,null,null,null,null,null,null,null,null,null,null,null,null,null,25,"","","",""]
[null,28,null,null,null,26,null,null,null,null,null,null,null,null,null,null,null,null,null,null,null,null,null,null,null,28,null,null,null,null,null,null,null,null,null,null,null,null,null,null,null,null,null,null,26,"","","",""]
[null,29,null,null,null,27,null,null,null,null,null,null,null,null,null,null,null,null,null,null,null,null,null,null,null,29,null,null,null,null,null,null,null,null,null,null,null,null,null,null,null,null,null,null,27,"","","",""]
[null,30,null,null,null,28,null,null,null,null,null,null,null,null,null,null,null,null,null,null,null,null,null,null,null,30,null,null,null,null,null,null,null,null,null,null,null,null,null,null,null,null,null,null,28,"","","",""]
[null,31,null,null,null,29,null,null,null,null,null,null,null,null,null,null,null,null,null,null,null,null,null,null,null,null,null,null,null,null,null,null,null,null,null,null,null,null,null,null,null,null,null,null,29,"","","",""]
[null,32,null,null,null,30,null,null,null,null,null,null,null,null,null,null,null,null,null,null,null,null,null,null,null,null,null,null,null,null,null,null,null,null,null,null,null,null,null,null,null,null,null,null,30,"","","",""]
[null,33,null,null,null,31,null,null,null,null,null,null,null,null,null,null,null,null,null,null,null,null,null,null,null,null,null,null,null,null,null,null,null,null,null,null,null,null,null,null,null,null,null,null,31,"","","",""]
[null,34,null,null,null,32,null,null,null,null,null,null,null,null,null,null,null,null,null,null,null,null,null,null,null,null,null,null,null,null,null,null,null,null,null,null,null,null,null,null,null,null,null,null,32,"","","",""]
[null,35,null,null,null,33,null,null,null,null,null,null,null,null,null,null,null,null,null,null,null,null,null,null,null,null,null,null,null,null,null,null,null,null,null,null,null,null,null,null,null,null,null,null,33,"","","",""]
[null,36,null,null,null,34,null,null,null,null,null,null,null,null,null,null,null,null,null,null,null,null,null,null,null,null,null,null,null,null,null,null,null,null,null,null,null,null,null,null,null,null,null,null,34,"","","",""]
[null,37,null,null,null,35,null,null,null,null,null,null,null,null,null,null,null,null,null,null,null,null,null,null,null,null,null,null,null,null,null,null,null,null,null,null,null,null,null,null,null,null,null,null,35,"","","",""]
[null,38,null,null,null,36,null,null,null,null,null,null,null,null,null,null,null,null,null,null,null,null,null,null,null,null,null,null,null,null,null,null,null,null,null,null,null,null,null,null,null,null,null,null,36,"","","",""]
[null,39,null,null,null,37,null,null,null,null,null,null,null,null,null,null,null,null,null,null,null,null,null,null,null,null,null,null,null,null,null,null,null,null,null,null,null,null,null,null,null,null,null,null,37,"","","",""]
[null,40,null,null,null,38,null,null,null,null,null,null,null,null,null,null,null,null,null,null,null,null,null,null,null,null,null,null,null,null,null,null,null,null,null,null,null,null,null,null,null,null,null,null,38,"","","",""]
[null,41,null,null,null,39,null,null,null,null,null,null,null,null,null,null,null,null,null,null,null,null,null,null,null,null,null,null,null,null,null,null,null,null,null,null,null,null,null,null,null,null,null,null,39,"","","",""]
[null,42,null,null,null,40,null,null,null,null,null,null,null,null,null,null,null,null,null,null,null,null,null,null,null,null,null,null,null,null,null,null,null,null,null,null,null,null,null,null,null,null,null,null,40,"","","",""]
[null,43,null,null,null,41,null,null,null,null,null,null,null,null,null,null,null,null,null,null,null,null,null,null,null,null,null,null,null,null,null,null,null,null,null,null,null,null,null,null,null,null,null,null,41,"","","",""]
[null,44,null,null,null,42,null,null,null,null,null,null,null,null,null,null,null,null,null,null,null,null,null,null,null,null,null,null,null,null,null,null,null,null,null,null,null,null,null,null,null,null,null,null,42,"","","",""]
[null,45,null,null,null,43,null,null,null,null,null,null,null,null,null,null,null,null,null,null,null,null,null,null,null,null,null,null,null,null,null,null,null,null,null,null,null,null,null,null,null,null,null,null,43,"","","",""]
[null,46,null,null,null,44,null,null,null,null,null,null,null,null,null,null,null,null,null,null,null,null,null,null,null,null,null,null,null,null,null,null,null,null,null,null,null,null,null,null,null,null,null,null,44,"","","",""]
[null,47,null,null,null,45,null,null,null,null,null,null,null,null,null,null,null,null,null,null,null,null,null,null,null,null,null,null,null,null,null,null,null,null,null,null,null,null,null,null,null,null,null,null,45,"","","",""]
[null,48,null,null,null,46,null,null,null,null,null,null,null,null,null,null,null,null,null,null,null,null,null,null,null,null,null,null,null,null,null,null,null,null,null,null,null,null,null,null,null,null,null,null,46,"","","",""]
[null,49,null,null,null,47,null,null,null,null,null,null,null,null,null,null,null,null,null,null,null,null,null,null,null,null,null,null,null,null,null,null,null,null,null,null,null,null,null,null,null,null,null,null,47,"","","",""]
[null,50,null,null,null,48,null,null,null,null,null,null,null,null,null,null,null,null,null,null,null,null,null,null,null,null,null,null,null,null,null,null,null,null,null,null,null,null,null,null,null,null,null,null,48,"","","",""]
[null,51,null,null,null,49,null,null,null,null,null,null,null,null,null,null,null,null,null,null,null,null,null,null,null,null,null,null,null,null,null,null,null,null,null,null,null,null,null,null,null,null,null,null,49,"","","",""]
[null,52,null,null,null,50,null,null,null,null,null,null,null,null,null,null,null,null,null,null,null,null,null,null,null,null,null,null,null,null,null,null,null,null,null,null,null,null,null,null,null,null,null,null,50,"","","",""]
[null,53,null,null,null,null,"1.02","RECEITAS NÃO OPERACIONAIS",null,null,null,null,null,null,null,null,null,null,null,null,null,null,null,null,null,null,null,null,null,null,null,null,null,null,null,null,null,null,null,null,null,null,null,null,null,"1.02","RECEITAS NÃO OPERACIONAIS"]
[null,54,null,null,null,51,"1.02.001","Reembolso de Combustível",null,null,null,null,null,null,null,null,null,null,null,null,null,null,null,null,null,null,null,null,null,null,null,null,null,null,null,null,null,null,null,null,null,null,null,null,51,"1.02.001","Reembolso de Combustível",{"$f":"IF(AU60=\"\",\"\",$AU$59)","v":"RECEITAS NÃO OPERACIONAIS"},"ENTRADAS"]
[null,55,null,null,null,52,"1.02.002","Descontos e Cortesias",null,null,null,null,null,null,null,null,null,null,null,null,null,null,null,null,null,null,null,null,null,null,null,null,null,null,null,null,null,null,null,null,null,null,null,null,52,"1.02.002","Descontos e Cortesias","RECEITAS NÃO OPERACIONAIS","ENTRADAS"]
[null,56,null,null,null,53,"1.02.003","Vale Refeição",null,null,null,null,null,null,null,null,null,null,null,null,null,null,null,null,null,null,null,null,null,null,null,null,null,null,null,null,null,null,null,null,null,null,null,null,53,"1.02.003","Vale Refeição","RECEITAS NÃO OPERACIONAIS","ENTRADAS"]
[null,57,null,null,null,54,"1.02.004","Lucro de Empresas (Retirada de Sócio)",null,null,null,null,null,null,null,null,null,null,null,null,null,null,null,null,null,null,null,null,null,null,null,null,null,null,null,null,null,null,null,null,null,null,null,null,54,"1.02.004","Lucro de Empresas (Retirada de Sócio)","RECEITAS NÃO OPERACIONAIS","ENTRADAS"]
[null,58,null,null,null,55,"1.02.005","Restituição do Imposto de Renda",null,null,null,null,null,null,null,null,null,null,null,null,null,null,null,null,null,null,null,null,null,null,null,null,null,null,null,null,null,null,null,null,null,null,null,null,55,"1.02.005","Restituição do Imposto de Renda","RECEITAS NÃO OPERACIONAIS","ENTRADAS"]
[null,59,null,null,null,56,"1.02.006","Venda de Patrimônio",null,null,null,null,null,null,null,null,null,null,null,null,null,null,null,null,null,null,null,null,null,null,null,null,null,null,null,null,null,null,null,null,null,null,null,null,56,"1.02.006","Venda de Patrimônio","RECEITAS NÃO OPERACIONAIS","ENTRADAS"]
[null,60,null,null,null,57,"1.02.007","Fundo de Garantia",null,null,null,null,null,null,null,null,null,null,null,null,null,null,null,null,null,null,null,null,null,null,null,null,null,null,null,null,null,null,null,null,null,null,null,null,57,"1.02.007","Fundo de Garantia","RECEITAS NÃO OPERACIONAIS","ENTRADAS"]
[null,61,null,null,null,58,"1.02.008","Aluguel de Imóvel",null,null,null,null,null,null,null,null,null,null,null,null,null,null,null,null,null,null,null,null,null,null,null,null,null,null,null,null,null,null,null,null,null,null,null,null,58,"1.02.008","Aluguel de Imóvel","RECEITAS NÃO OPERACIONAIS","ENTRADAS"]
[null,62,null,null,null,59,"1.02.009","Presentes em Dinheiro",null,null,null,null,null,null,null,null,null,null,null,null,null,null,null,null,null,null,null,null,null,null,null,null,null,null,null,null,null,null,null,null,null,null,null,null,59,"1.02.009","Presentes em Dinheiro","RECEITAS NÃO OPERACIONAIS","ENTRADAS"]
[null,63,null,null,null,60,"1.02.010","Dinheiro Encontrado",null,null,null,null,null,null,null,null,null,null,null,null,null,null,null,null,null,null,null,null,null,null,null,null,null,null,null,null,null,null,null,null,null,null,null,null,60,"1.02.010","Dinheiro Encontrado","RECEITAS NÃO OPERACIONAIS","ENTRADAS"]
[null,64,null,null,null,61,"1.02.011","Receitas Familiares",null,null,null,null,null,null,null,null,null,null,null,null,null,null,null,null,null,null,null,null,null,null,null,null,null,null,null,null,null,null,null,null,null,null,null,null,61,"1.02.011","Receitas Familiares","RECEITAS NÃO OPERACIONAIS","ENTRADAS"]
[null,65,null,null,null,62,null,null,null,null,null,null,null,null,null,null,null,null,null,null,null,null,null,null,null,null,null,null,null,null,null,null,null,null,null,null,null,null,null,null,null,null,null,null,62,"","","",""]
[null,66,null,null,null,63,null,null,null,null,null,null,null,null,null,null,null,null,null,null,null,null,null,null,null,null,null,null,null,null,null,null,null,null,null,null,null,null,null,null,null,null,null,null,63,{"$f":"IF(G72=\"\",\"\",G72)","v":""},{"$f":"IF(H72=\"\",\"\",H72)","v":""},"",""]
[null,67,null,null,null,64,null,null,null,null,null,null,null,null,null,null,null,null,null,null,null,null,null,null,null,null,null,null,null,null,null,null,null,null,null,null,null,null,null,null,null,null,null,null,64,"","","",""]
[null,68,null,null,null,65,null,null,null,null,null,null,null,null,null,null,null,null,null,null,null,null,null,null,null,null,null,null,null,null,null,null,null,null,null,null,null,null,null,null,null,null,null,null,65,"","","",{"$f":"IF(AU74=\"\",\"\",$AU$7)","v":""}]
[null,69,null,null,null,66,null,null,null,null,null,null,null,null,null,null,null,null,null,null,null,null,null,null,null,null,null,null,null,null,null,null,null,null,null,null,null,null,null,null,null,null,null,null,66,"","","",""]
[null,70,null,null,null,67,null,null,null,null,null,null,null,null,null,null,null,null,null,null,null,null,null,null,null,null,null,null,null,null,null,null,null,null,null,null,null,null,null,null,null,null,null,null,67,"","","",""]
[null,71,null,null,null,68,null,null,null,null,null,null,null,null,null,null,null,null,null,null,null,null,null,null,null,null,null,null,null,null,null,null,null,null,null,null,null,null,null,null,null,null,null,null,68,"","","",""]
[null,72,null,null,null,69,null,null,null,null,null,null,null,null,null,null,null,null,null,null,null,null,null,null,null,null,null,null,null,null,null,null,null,null,null,null,null,null,null,null,null,null,null,null,69,"","","",""]
[null,73,null,null,null,70,null,null,null,null,null,null,null,null,null,null,null,null,null,null,null,null,null,null,null,null,null,null,null,null,null,null,null,null,null,null,null,null,null,null,null,null,null,null,70,"","","",""]
[null,74,null,null,null,71,null,null,null,null,null,null,null,null,null,null,null,null,null,null,null,null,null,null,null,null,null,null,null,null,null,null,null,null,null,null,null,null,null,null,null,null,null,null,71,"","","",""]
[null,75,null,null,null,72,null,null,null,null,null,null,null,null,null,null,null,null,null,null,null,null,null,null,null,null,null,null,null,null,null,null,null,null,null,null,null,null,null,null,null,null,null,null,72,"","","",""]
[null,76,null,null,null,73,null,null,null,null,null,null,null,null,null,null,null,null,null,null,null,null,null,null,null,null,null,null,null,null,null,null,null,null,null,null,null,null,null,null,null,null,null,null,73,"","","",""]
[null,77,null,null,null,74,null,null,null,null,null,null,null,null,null,null,null,null,null,null,null,null,null,null,null,null,null,null,null,null,null,null,null,null,null,null,null,null,null,null,null,null,null,null,74,"","","",""]
[null,78,null,null,null,75,null,null,null,null,null,null,null,null,null,null,null,null,null,null,null,null,null,null,null,null,null,null,null,null,null,null,null,null,null,null,null,null,null,null,null,null,null,null,75,"","","",""]
[null,79,null,null,null,76,null,null,null,null,null,null,null,null,null,null,null,null,null,null,null,null,null,null,null,null,null,null,null,null,null,null,null,null,null,null,null,null,null,null,null,null,null,null,76,"","","",""]
[null,80,null,null,null,77,null,null,null,null,null,null,null,null,null,null,null,null,null,null,null,null,null,null,null,null,null,null,null,null,null,null,null,null,null,null,null,null,null,null,null,null,null,null,77,"","","",""]
[null,81,null,null,null,78,null,null,null,null,null,null,null,null,null,null,null,null,null,null,null,null,null,null,null,null,null,null,null,null,null,null,null,null,null,null,null,null,null,null,null,null,null,null,78,"","","",""]
[null,82,null,null,null,79,null,null,null,null,null,null,null,null,null,null,null,null,null,null,null,null,null,null,null,null,null,null,null,null,null,null,null,null,null,null,null,null,null,null,null,null,null,null,79,"","","",""]
[null,83,null,null,null,80,null,null,null,null,null,null,null,null,null,null,null,null,null,null,null,null,null,null,null,null,null,null,null,null,null,null,null,null,null,null,null,null,null,null,null,null,null,null,80,"","","",""]
[null,84,null,null,null,81,null,null,null,null,null,null,null,null,null,null,null,null,null,null,null,null,null,null,null,null,null,null,null,null,null,null,null,null,null,null,null,null,null,null,null,null,null,null,81,"","","",""]
[null,85,null,null,null,82,null,null,null,null,null,null,null,null,null,null,null,null,null,null,null,null,null,null,null,null,null,null,null,null,null,null,null,null,null,null,null,null,null,null,null,null,null,null,82,"","","",""]
[null,86,null,null,null,83,null,null,null,null,null,null,null,null,null,null,null,null,null,null,null,null,null,null,null,null,null,null,null,null,null,null,null,null,null,null,null,null,null,null,null,null,null,null,83,"","","",""]
[null,87,null,null,null,84,null,null,null,null,null,null,null,null,null,null,null,null,null,null,null,null,null,null,null,null,null,null,null,null,null,null,null,null,null,null,null,null,null,null,null,null,null,null,84,"","","",""]
[null,88,null,null,null,85,null,null,null,null,null,null,null,null,null,null,null,null,null,null,null,null,null,null,null,null,null,null,null,null,null,null,null,null,null,null,null,null,null,null,null,null,null,null,85,"","","",""]
[null,89,null,null,null,86,null,null,null,null,null,null,null,null,null,null,null,null,null,null,null,null,null,null,null,null,null,null,null,null,null,null,null,null,null,null,null,null,null,null,null,null,null,null,86,"","","",""]
[null,90,null,null,null,87,null,null,null,null,null,null,null,null,null,null,null,null,null,null,null,null,null,null,null,null,null,null,null,null,null,null,null,null,null,null,null,null,null,null,null,null,null,null,87,"","","",""]
[null,91,null,null,null,88,null,null,null,null,null,null,null,null,null,null,null,null,null,null,null,null,null,null,null,null,null,null,null,null,null,null,null,null,null,null,null,null,null,null,null,null,null,null,88,"","","",""]
[null,92,null,null,null,89,null,null,null,null,null,null,null,null,null,null,null,null,null,null,null,null,null,null,null,null,null,null,null,null,null,null,null,null,null,null,null,null,null,null,null,null,null,null,89,"","","",""]
[null,93,null,null,null,90,null,null,null,null,null,null,null,null,null,null,null,null,null,null,null,null,null,null,null,null,null,null,null,null,null,null,null,null,null,null,null,null,null,null,null,null,null,null,90,"","","",""]
[null,94,null,null,null,91,null,null,null,null,null,null,null,null,null,null,null,null,null,null,null,null,null,null,null,null,null,null,null,null,null,null,null,null,null,null,null,null,null,null,null,null,null,null,91,"","","",""]
[null,95,null,null,null,92,null,null,null,null,null,null,null,null,null,null,null,null,null,null,null,null,null,null,null,null,null,null,null,null,null,null,null,null,null,null,null,null,null,null,null,null,null,null,92,"","","",""]
[null,96,null,null,null,93,null,null,null,null,null,null,null,null,null,null,null,null,null,null,null,null,null,null,null,null,null,null,null,null,null,null,null,null,null,null,null,null,null,null,null,null,null,null,93,"","","",""]
[null,97,null,null,null,94,null,null,null,null,null,null,null,null,null,null,null,null,null,null,null,null,null,null,null,null,null,null,null,null,null,null,null,null,null,null,null,null,null,null,null,null,null,null,94,"","","",""]
[null,98,null,null,null,95,null,null,null,null,null,null,null,null,null,null,null,null,null,null,null,null,null,null,null,null,null,null,null,null,null,null,null,null,null,null,null,null,null,null,null,null,null,null,95,"","","",""]
[null,99,null,null,null,96,null,null,null,null,null,null,null,null,null,null,null,null,null,null,null,null,null,null,null,null,null,null,null,null,null,null,null,null,null,null,null,null,null,null,null,null,null,null,96,"","","",""]
[null,100,null,null,null,97,null,null,null,null,null,null,null,null,null,null,null,null,null,null,null,null,null,null,null,null,null,null,null,null,null,null,null,null,null,null,null,null,null,null,null,null,null,null,97,"","","",""]
[null,101,null,null,null,98,null,null,null,null,null,null,null,null,null,null,null,null,null,null,null,null,null,null,null,null,null,null,null,null,null,null,null,null,null,null,null,null,null,null,null,null,null,null,98,"","","",""]
[null,102,null,null,null,99,null,null,null,null,null,null,null,null,null,null,null,null,null,null,null,null,null,null,null,null,null,null,null,null,null,null,null,null,null,null,null,null,null,null,null,null,null,null,99,"","","",""]
[null,103,null,null,null,100,null,null,null,null,null,null,null,null,null,null,null,null,null,null,null,null,null,null,null,null,null,null,null,null,null,null,null,null,null,null,null,null,null,null,null,null,null,null,100,"","","",""]
[null,104,null,null,null,null,"1.03","RECEITAS FINANCEIRAS",null,null,null,null,null,null,null,null,null,null,null,null,null,null,null,null,null,null,null,null,null,null,null,null,null,null,null,null,null,null,null,null,null,null,null,null,null,"1.03","RECEITAS FINANCEIRAS"]
[null,105,null,null,null,101,"1.03.001","Renda de Aplicação Financeira",null,null,null,null,null,null,null,null,null,null,null,null,null,null,null,null,null,null,null,null,null,null,null,null,null,null,null,null,null,null,null,null,null,null,null,null,101,"1.03.001","Renda de Aplicação Financeira",{"$f":"IF(AU111=\"\",\"\",$AU$110)","v":"RECEITAS FINANCEIRAS"},"ENTRADAS"]
[null,106,null,null,null,102,"1.03.002","Fundos de Investimento",null,null,null,null,null,null,null,null,null,null,null,null,null,null,null,null,null,null,null,null,null,null,null,null,null,null,null,null,null,null,null,null,null,null,null,null,102,"1.03.002","Fundos de Investimento",{"$f":"IF(AU112=\"\",\"\",$AU$110)","v":"RECEITAS FINANCEIRAS"},"ENTRADAS"]
[null,107,null,null,null,103,null,null,null,null,null,null,null,null,null,null,null,null,null,null,null,null,null,null,null,null,null,null,null,null,null,null,null,null,null,null,null,null,null,null,null,null,null,null,103,"","","",""]
[null,108,null,null,null,104,null,null,null,null,null,null,null,null,null,null,null,null,null,null,null,null,null,null,null,null,null,null,null,null,null,null,null,null,null,null,null,null,null,null,null,null,null,null,104,"","","",""]
[null,109,null,null,null,105,null,null,null,null,null,null,null,null,null,null,null,null,null,null,null,null,null,null,null,null,null,null,null,null,null,null,null,null,null,null,null,null,null,null,null,null,null,null,105,"","","",""]
[null,110,null,null,null,106,null,null,null,null,null,null,null,null,null,null,null,null,null,null,null,null,null,null,null,null,null,null,null,null,null,null,null,null,null,null,null,null,null,null,null,null,null,null,106,"","","",""]
[null,111,null,null,null,107,null,null,null,null,null,null,null,null,null,null,null,null,null,null,null,null,null,null,null,null,null,null,null,null,null,null,null,null,null,null,null,null,null,null,null,null,null,null,107,"","","",""]
[null,112,null,null,null,108,null,null,null,null,null,null,null,null,null,null,null,null,null,null,null,null,null,null,null,null,null,null,null,null,null,null,null,null,null,null,null,null,null,null,null,null,null,null,108,"","","",""]
[null,113,null,null,null,109,null,null,null,null,null,null,null,null,null,null,null,null,null,null,null,null,null,null,null,null,null,null,null,null,null,null,null,null,null,null,null,null,null,null,null,null,null,null,109,"","","",""]
[null,114,null,null,null,110,null,null,null,null,null,null,null,null,null,null,null,null,null,null,null,null,null,null,null,null,null,null,null,null,null,null,null,null,null,null,null,null,null,null,null,null,null,null,110,"","","",""]
[null,115,null,null,null,111,null,null,null,null,null,null,null,null,null,null,null,null,null,null,null,null,null,null,null,null,null,null,null,null,null,null,null,null,null,null,null,null,null,null,null,null,null,null,111,"","","",""]
[null,116,null,null,null,112,null,null,null,null,null,null,null,null,null,null,null,null,null,null,null,null,null,null,null,null,null,null,null,null,null,null,null,null,null,null,null,null,null,null,null,null,null,null,112,"","","",""]
[null,117,null,null,null,113,null,null,null,null,null,null,null,null,null,null,null,null,null,null,null,null,null,null,null,null,null,null,null,null,null,null,null,null,null,null,null,null,null,null,null,null,null,null,113,"","","",""]
[null,118,null,null,null,114,null,null,null,null,null,null,null,null,null,null,null,null,null,null,null,null,null,null,null,null,null,null,null,null,null,null,null,null,null,null,null,null,null,null,null,null,null,null,114,"","","",""]
[null,119,null,null,null,115,null,null,null,null,null,null,null,null,null,null,null,null,null,null,null,null,null,null,null,null,null,null,null,null,null,null,null,null,null,null,null,null,null,null,null,null,null,null,115,"","","",""]
[null,120,null,null,null,116,null,null,null,null,null,null,null,null,null,null,null,null,null,null,null,null,null,null,null,null,null,null,null,null,null,null,null,null,null,null,null,null,null,null,null,null,null,null,116,"","","",""]
[null,121,null,null,null,117,null,null,null,null,null,null,null,null,null,null,null,null,null,null,null,null,null,null,null,null,null,null,null,null,null,null,null,null,null,null,null,null,null,null,null,null,null,null,117,"","","",""]
[null,122,null,null,null,118,null,null,null,null,null,null,null,null,null,null,null,null,null,null,null,null,null,null,null,null,null,null,null,null,null,null,null,null,null,null,null,null,null,null,null,null,null,null,118,"","","",""]
[null,123,null,null,null,119,null,null,null,null,null,null,null,null,null,null,null,null,null,null,null,null,null,null,null,null,null,null,null,null,null,null,null,null,null,null,null,null,null,null,null,null,null,null,119,"","","",""]
[null,124,null,null,null,120,null,null,null,null,null,null,null,null,null,null,null,null,null,null,null,null,null,null,null,null,null,null,null,null,null,null,null,null,null,null,null,null,null,null,null,null,null,null,120,"","","",""]
[null,125,null,null,null,121,null,null,null,null,null,null,null,null,null,null,null,null,null,null,null,null,null,null,null,null,null,null,null,null,null,null,null,null,null,null,null,null,null,null,null,null,null,null,121,"","","",""]
[null,126,null,null,null,122,null,null,null,null,null,null,null,null,null,null,null,null,null,null,null,null,null,null,null,null,null,null,null,null,null,null,null,null,null,null,null,null,null,null,null,null,null,null,122,"","","",""]
[null,127,null,null,null,123,null,null,null,null,null,null,null,null,null,null,null,null,null,null,null,null,null,null,null,null,null,null,null,null,null,null,null,null,null,null,null,null,null,null,null,null,null,null,123,"","","",""]
[null,128,null,null,null,124,null,null,null,null,null,null,null,null,null,null,null,null,null,null,null,null,null,null,null,null,null,null,null,null,null,null,null,null,null,null,null,null,null,null,null,null,null,null,124,"","","",""]
[null,129,null,null,null,125,null,null,null,null,null,null,null,null,null,null,null,null,null,null,null,null,null,null,null,null,null,null,null,null,null,null,null,null,null,null,null,null,null,null,null,null,null,null,125,"","","",""]
[null,130,null,null,null,126,null,null,null,null,null,null,null,null,null,null,null,null,null,null,null,null,null,null,null,null,null,null,null,null,null,null,null,null,null,null,null,null,null,null,null,null,null,null,126,{"$f":"IF(G136=\"\",\"\",G136)","v":""},{"$f":"IF(H136=\"\",\"\",H136)","v":""},"",""]
[null,131,null,null,null,127,null,null,null,null,null,null,null,null,null,null,null,null,null,null,null,null,null,null,null,null,null,null,null,null,null,null,null,null,null,null,null,null,null,null,null,null,null,null,127,"","","",""]
[null,132,null,null,null,128,null,null,null,null,null,null,null,null,null,null,null,null,null,null,null,null,null,null,null,null,null,null,null,null,null,null,null,null,null,null,null,null,null,null,null,null,null,null,128,"","","",{"$f":"IF(AU138=\"\",\"\",$AU$7)","v":""}]
[null,133,null,null,null,129,null,null,null,null,null,null,null,null,null,null,null,null,null,null,null,null,null,null,null,null,null,null,null,null,null,null,null,null,null,null,null,null,null,null,null,null,null,null,129,"","","",""]
[null,134,null,null,null,130,null,null,null,null,null,null,null,null,null,null,null,null,null,null,null,null,null,null,null,null,null,null,null,null,null,null,null,null,null,null,null,null,null,null,null,null,null,null,130,"","","",""]
[null,135,null,null,null,131,null,null,null,null,null,null,null,null,null,null,null,null,null,null,null,null,null,null,null,null,null,null,null,null,null,null,null,null,null,null,null,null,null,null,null,null,null,null,131,"","","",""]
[null,136,null,null,null,132,null,null,null,null,null,null,null,null,null,null,null,null,null,null,null,null,null,null,null,null,null,null,null,null,null,null,null,null,null,null,null,null,null,null,null,null,null,null,132,"","","",""]
[null,137,null,null,null,133,null,null,null,null,null,null,null,null,null,null,null,null,null,null,null,null,null,null,null,null,null,null,null,null,null,null,null,null,null,null,null,null,null,null,null,null,null,null,133,"","","",""]
[null,138,null,null,null,134,null,null,null,null,null,null,null,null,null,null,null,null,null,null,null,null,null,null,null,null,null,null,null,null,null,null,null,null,null,null,null,null,null,null,null,null,null,null,134,"","","",""]
[null,139,null,null,null,135,null,null,null,null,null,null,null,null,null,null,null,null,null,null,null,null,null,null,null,null,null,null,null,null,null,null,null,null,null,null,null,null,null,null,null,null,null,null,135,"","","",""]
[null,140,null,null,null,136,null,null,null,null,null,null,null,null,null,null,null,null,null,null,null,null,null,null,null,null,null,null,null,null,null,null,null,null,null,null,null,null,null,null,null,null,null,null,136,"","","",""]
[null,141,null,null,null,137,null,null,null,null,null,null,null,null,null,null,null,null,null,null,null,null,null,null,null,null,null,null,null,null,null,null,null,null,null,null,null,null,null,null,null,null,null,null,137,"","","",""]
[null,142,null,null,null,138,null,null,null,null,null,null,null,null,null,null,null,null,null,null,null,null,null,null,null,null,null,null,null,null,null,null,null,null,null,null,null,null,null,null,null,null,null,null,138,"","","",""]
[null,143,null,null,null,139,null,null,null,null,null,null,null,null,null,null,null,null,null,null,null,null,null,null,null,null,null,null,null,null,null,null,null,null,null,null,null,null,null,null,null,null,null,null,139,"","","",""]
[null,144,null,null,null,140,null,null,null,null,null,null,null,null,null,null,null,null,null,null,null,null,null,null,null,null,null,null,null,null,null,null,null,null,null,null,null,null,null,null,null,null,null,null,140,"","","",""]
[null,145,null,null,null,141,null,null,null,null,null,null,null,null,null,null,null,null,null,null,null,null,null,null,null,null,null,null,null,null,null,null,null,null,null,null,null,null,null,null,null,null,null,null,141,"","","",""]
[null,146,null,null,null,142,null,null,null,null,null,null,null,null,null,null,null,null,null,null,null,null,null,null,null,null,null,null,null,null,null,null,null,null,null,null,null,null,null,null,null,null,null,null,142,"","","",""]
[null,147,null,null,null,143,null,null,null,null,null,null,null,null,null,null,null,null,null,null,null,null,null,null,null,null,null,null,null,null,null,null,null,null,null,null,null,null,null,null,null,null,null,null,143,"","","",""]
[null,148,null,null,null,144,null,null,null,null,null,null,null,null,null,null,null,null,null,null,null,null,null,null,null,null,null,null,null,null,null,null,null,null,null,null,null,null,null,null,null,null,null,null,144,"","","",""]
[null,149,null,null,null,145,null,null,null,null,null,null,null,null,null,null,null,null,null,null,null,null,null,null,null,null,null,null,null,null,null,null,null,null,null,null,null,null,null,null,null,null,null,null,145,"","","",""]
[null,150,null,null,null,146,null,null,null,null,null,null,null,null,null,null,null,null,null,null,null,null,null,null,null,null,null,null,null,null,null,null,null,null,null,null,null,null,null,null,null,null,null,null,146,"","","",""]
[null,151,null,null,null,147,null,null,null,null,null,null,null,null,null,null,null,null,null,null,null,null,null,null,null,null,null,null,null,null,null,null,null,null,null,null,null,null,null,null,null,null,null,null,147,"","","",""]
[null,152,null,null,null,148,null,null,null,null,null,null,null,null,null,null,null,null,null,null,null,null,null,null,null,null,null,null,null,null,null,null,null,null,null,null,null,null,null,null,null,null,null,null,148,"","","",""]
[null,153,null,null,null,149,null,null,null,null,null,null,null,null,null,null,null,null,null,null,null,null,null,null,null,null,null,null,null,null,null,null,null,null,null,null,null,null,null,null,null,null,null,null,149,"","","",""]
[null,154,null,null,null,150,null,null,null,null,null,null,null,null,null,null,null,null,null,null,null,null,null,null,null,null,null,null,null,null,null,null,null,null,null,null,null,null,null,null,null,null,null,null,150,"","","",""]
[null,155,null,null,null,null,2,"SAIDAS",null,null,null,null,null,null,null,null,null,null,null,null,null,null,null,null,null,null,null,null,null,null,null,null,null,null,null,null,null,null,null,null,null,null,null,null,null,2,"SAIDAS"]
[null,156,null,null,null,null,"2.01","DESPESAS PESSOAIS",null,null,null,null,null,null,null,null,null,null,null,null,null,null,null,null,null,null,null,null,null,null,null,null,null,null,null,null,null,null,null,null,null,null,null,null,null,"2.01","DESPESAS PESSOAIS"]
[null,157,null,null,null,201,"2.01.001","Alimentação",null,null,null,null,null,null,null,null,null,null,null,null,null,null,null,null,null,null,null,null,null,null,null,null,null,null,null,null,null,null,null,null,null,null,null,null,201,"2.01.001","Alimentação",{"$f":"IF(AU163=\"\",\"\",$AU$162)","v":"DESPESAS PESSOAIS"},{"$f":"IF(AU163=\"\",\"\",$AU$161)","v":"SAIDAS"}]
[null,158,null,null,null,202,"2.01.002","Educação",null,null,null,null,null,null,null,null,null,null,null,null,null,null,null,null,null,null,null,null,null,null,null,null,null,null,null,null,null,null,null,null,null,null,null,null,202,"2.01.002","Educação",{"$f":"IF(AU164=\"\",\"\",$AU$162)","v":"DESPESAS PESSOAIS"},{"$f":"IF(AU164=\"\",\"\",$AU$161)","v":"SAIDAS"}]
[null,159,null,null,null,203,"2.01.003","Exames Medicos",null,null,null,null,null,null,null,null,null,null,null,null,null,null,null,null,null,null,null,null,null,null,null,null,null,null,null,null,null,null,null,null,null,null,null,null,203,"2.01.003","Exames Medicos",{"$f":"IF(AU165=\"\",\"\",$AU$162)","v":"DESPESAS PESSOAIS"},{"$f":"IF(AU165=\"\",\"\",$AU$161)","v":"SAIDAS"}]
[null,160,null,null,null,204,"2.01.004","Exames Odontológicos",null,null,null,null,null,null,null,null,null,null,null,null,null,null,null,null,null,null,null,null,null,null,null,null,null,null,null,null,null,null,null,null,null,null,null,null,204,"2.01.004","Exames Odontológicos","DESPESAS PESSOAIS",{"$f":"IF(AU166=\"\",\"\",$AU$161)","v":"SAIDAS"}]
[null,161,null,null,null,205,"2.01.005","Transporte",null,null,null,null,null,null,null,null,null,null,null,null,null,null,null,null,null,null,null,null,null,null,null,null,null,null,null,null,null,null,null,null,null,null,null,null,205,"2.01.005","Transporte","DESPESAS PESSOAIS","SAIDAS"]
[null,162,null,null,null,206,"2.01.006","Vestuário",null,null,null,null,null,null,null,null,null,null,null,null,null,null,null,null,null,null,null,null,null,null,null,null,null,null,null,null,null,null,null,null,null,null,null,null,206,"2.01.006","Vestuário","DESPESAS PESSOAIS","SAIDAS"]
[null,163,null,null,null,207,"2.01.007","Apresentação Pessoal",null,null,null,null,null,null,null,null,null,null,null,null,null,null,null,null,null,null,null,null,null,null,null,null,null,null,null,null,null,null,null,null,null,null,null,null,207,"2.01.007","Apresentação Pessoal","DESPESAS PESSOAIS","SAIDAS"]
[null,164,null,null,null,208,"2.01.008","Academia",null,null,null,null,null,null,null,null,null,null,null,null,null,null,null,null,null,null,null,null,null,null,null,null,null,null,null,null,null,null,null,null,null,null,null,null,208,"2.01.008","Academia","DESPESAS PESSOAIS","SAIDAS"]
[null,165,null,null,null,209,"2.01.009","Lazer",null,null,null,null,null,null,null,null,null,null,null,null,null,null,null,null,null,null,null,null,null,null,null,null,null,null,null,null,null,null,null,null,null,null,null,null,209,"2.01.009","Lazer","DESPESAS PESSOAIS","SAIDAS"]
[null,166,null,null,null,210,"2.01.010","Familiares",null,null,null,null,null,null,null,null,null,null,null,null,null,null,null,null,null,null,null,null,null,null,null,null,null,null,null,null,null,null,null,null,null,null,null,null,210,"2.01.010","Familiares","DESPESAS PESSOAIS","SAIDAS"]
[null,167,null,null,null,211,"2.01.011","Higiene Pessoal",null,null,null,null,null,null,null,null,null,null,null,null,null,null,null,null,null,null,null,null,null,null,null,null,null,null,null,null,null,null,null,null,null,null,null,null,211,"2.01.011","Higiene Pessoal","DESPESAS PESSOAIS","SAIDAS"]
[null,168,null,null,null,212,"2.01.012","Medicamentos",null,null,null,null,null,null,null,null,null,null,null,null,null,null,null,null,null,null,null,null,null,null,null,null,null,null,null,null,null,null,null,null,null,null,null,null,212,"2.01.012","Medicamentos","DESPESAS PESSOAIS","SAIDAS"]
[null,169,null,null,null,213,"2.01.013","Consultas Medicas",null,null,null,null,null,null,null,null,null,null,null,null,null,null,null,null,null,null,null,null,null,null,null,null,null,null,null,null,null,null,null,null,null,null,null,null,213,"2.01.013","Consultas Medicas","DESPESAS PESSOAIS","SAIDAS"]
[null,170,null,null,null,214,null,null,null,null,null,null,null,null,null,null,null,null,null,null,null,null,null,null,null,null,null,null,null,null,null,null,null,null,null,null,null,null,null,null,null,null,null,null,214,"","","",""]
[null,171,null,null,null,215,null,null,null,null,null,null,null,null,null,null,null,null,null,null,null,null,null,null,null,null,null,null,null,null,null,null,null,null,null,null,null,null,null,null,null,null,null,null,215,{"$f":"IF(G177=\"\",\"\",G177)","v":""},{"$f":"IF(H177=\"\",\"\",H177)","v":""},"",""]
[null,172,null,null,null,216,null,null,null,null,null,null,null,null,null,null,null,null,null,null,null,null,null,null,null,null,null,null,null,null,null,null,null,null,null,null,null,null,null,null,null,null,null,null,216,"","","",""]
[null,173,null,null,null,217,null,null,null,null,null,null,null,null,null,null,null,null,null,null,null,null,null,null,null,null,null,null,null,null,null,null,null,null,null,null,null,null,null,null,null,null,null,null,217,"","","",""]
[null,174,null,null,null,218,null,null,null,null,null,null,null,null,null,null,null,null,null,null,null,null,null,null,null,null,null,null,null,null,null,null,null,null,null,null,null,null,null,null,null,null,null,null,218,"","","",""]
[null,175,null,null,null,219,null,null,null,null,null,null,null,null,null,null,null,null,null,null,null,null,null,null,null,null,null,null,null,null,null,null,null,null,null,null,null,null,null,null,null,null,null,null,219,"","","",""]
[null,176,null,null,null,220,null,null,null,null,null,null,null,null,null,null,null,null,null,null,null,null,null,null,null,null,null,null,null,null,null,null,null,null,null,null,null,null,null,null,null,null,null,null,220,"","","",""]
[null,177,null,null,null,221,null,null,null,null,null,null,null,null,null,null,null,null,null,null,null,null,null,null,null,null,null,null,null,null,null,null,null,null,null,null,null,null,null,null,null,null,null,null,221,"","","",""]
[null,178,null,null,null,222,null,null,null,null,null,null,null,null,null,null,null,null,null,null,null,null,null,null,null,null,null,null,null,null,null,null,null,null,null,null,null,null,null,null,null,null,null,null,222,"","","",""]
[null,179,null,null,null,223,null,null,null,null,null,null,null,null,null,null,null,null,null,null,null,null,null,null,null,null,null,null,null,null,null,null,null,null,null,null,null,null,null,null,null,null,null,null,223,"","","",""]
[null,180,null,null,null,224,null,null,null,null,null,null,null,null,null,null,null,null,null,null,null,null,null,null,null,null,null,null,null,null,null,null,null,null,null,null,null,null,null,null,null,null,null,null,224,"","","",""]
[null,181,null,null,null,225,null,null,null,null,null,null,null,null,null,null,null,null,null,null,null,null,null,null,null,null,null,null,null,null,null,null,null,null,null,null,null,null,null,null,null,null,null,null,225,"","","",""]
[null,182,null,null,null,226,null,null,null,null,null,null,null,null,null,null,null,null,null,null,null,null,null,null,null,null,null,null,null,null,null,null,null,null,null,null,null,null,null,null,null,null,null,null,226,"","","",""]
[null,183,null,null,null,227,null,null,null,null,null,null,null,null,null,null,null,null,null,null,null,null,null,null,null,null,null,null,null,null,null,null,null,null,null,null,null,null,null,null,null,null,null,null,227,"","","",""]
[null,184,null,null,null,228,null,null,null,null,null,null,null,null,null,null,null,null,null,null,null,null,null,null,null,null,null,null,null,null,null,null,null,null,null,null,null,null,null,null,null,null,null,null,228,"","","",""]
[null,185,null,null,null,229,null,null,null,null,null,null,null,null,null,null,null,null,null,null,null,null,null,null,null,null,null,null,null,null,null,null,null,null,null,null,null,null,null,null,null,null,null,null,229,"","","",""]
[null,186,null,null,null,230,null,null,null,null,null,null,null,null,null,null,null,null,null,null,null,null,null,null,null,null,null,null,null,null,null,null,null,null,null,null,null,null,null,null,null,null,null,null,230,"","","",""]
[null,187,null,null,null,231,null,null,null,null,null,null,null,null,null,null,null,null,null,null,null,null,null,null,null,null,null,null,null,null,null,null,null,null,null,null,null,null,null,null,null,null,null,null,231,"","","",""]
[null,188,null,null,null,232,null,null,null,null,null,null,null,null,null,null,null,null,null,null,null,null,null,null,null,null,null,null,null,null,null,null,null,null,null,null,null,null,null,null,null,null,null,null,232,"","","",""]
[null,189,null,null,null,233,null,null,null,null,null,null,null,null,null,null,null,null,null,null,null,null,null,null,null,null,null,null,null,null,null,null,null,null,null,null,null,null,null,null,null,null,null,null,233,"","","",""]
[null,190,null,null,null,234,null,null,null,null,null,null,null,null,null,null,null,null,null,null,null,null,null,null,null,null,null,null,null,null,null,null,null,null,null,null,null,null,null,null,null,null,null,null,234,"","","",""]
[null,191,null,null,null,235,null,null,null,null,null,null,null,null,null,null,null,null,null,null,null,null,null,null,null,null,null,null,null,null,null,null,null,null,null,null,null,null,null,null,null,null,null,null,235,"","","",""]
[null,192,null,null,null,236,null,null,null,null,null,null,null,null,null,null,null,null,null,null,null,null,null,null,null,null,null,null,null,null,null,null,null,null,null,null,null,null,null,null,null,null,null,null,236,"","","",""]
[null,193,null,null,null,237,null,null,null,null,null,null,null,null,null,null,null,null,null,null,null,null,null,null,null,null,null,null,null,null,null,null,null,null,null,null,null,null,null,null,null,null,null,null,237,"","","",""]
[null,194,null,null,null,238,null,null,null,null,null,null,null,null,null,null,null,null,null,null,null,null,null,null,null,null,null,null,null,null,null,null,null,null,null,null,null,null,null,null,null,null,null,null,238,"","","",""]
[null,195,null,null,null,239,null,null,null,null,null,null,null,null,null,null,null,null,null,null,null,null,null,null,null,null,null,null,null,null,null,null,null,null,null,null,null,null,null,null,null,null,null,null,239,"","","",""]
[null,196,null,null,null,240,null,null,null,null,null,null,null,null,null,null,null,null,null,null,null,null,null,null,null,null,null,null,null,null,null,null,null,null,null,null,null,null,null,null,null,null,null,null,240,"","","",""]
[null,197,null,null,null,241,null,null,null,null,null,null,null,null,null,null,null,null,null,null,null,null,null,null,null,null,null,null,null,null,null,null,null,null,null,null,null,null,null,null,null,null,null,null,241,"","","",""]
[null,198,null,null,null,242,null,null,null,null,null,null,null,null,null,null,null,null,null,null,null,null,null,null,null,null,null,null,null,null,null,null,null,null,null,null,null,null,null,null,null,null,null,null,242,"","","",""]
[null,199,null,null,null,243,null,null,null,null,null,null,null,null,null,null,null,null,null,null,null,null,null,null,null,null,null,null,null,null,null,null,null,null,null,null,null,null,null,null,null,null,null,null,243,"","","",""]
[null,200,null,null,null,244,null,null,null,null,null,null,null,null,null,null,null,null,null,null,null,null,null,null,null,null,null,null,null,null,null,null,null,null,null,null,null,null,null,null,null,null,null,null,244,"","","",""]
[null,201,null,null,null,245,null,null,null,null,null,null,null,null,null,null,null,null,null,null,null,null,null,null,null,null,null,null,null,null,null,null,null,null,null,null,null,null,null,null,null,null,null,null,245,"","","",""]
[null,202,null,null,null,246,null,null,null,null,null,null,null,null,null,null,null,null,null,null,null,null,null,null,null,null,null,null,null,null,null,null,null,null,null,null,null,null,null,null,null,null,null,null,246,"","","",""]
[null,203,null,null,null,247,null,null,null,null,null,null,null,null,null,null,null,null,null,null,null,null,null,null,null,null,null,null,null,null,null,null,null,null,null,null,null,null,null,null,null,null,null,null,247,"","","",""]
[null,204,null,null,null,248,null,null,null,null,null,null,null,null,null,null,null,null,null,null,null,null,null,null,null,null,null,null,null,null,null,null,null,null,null,null,null,null,null,null,null,null,null,null,248,"","","",""]
[null,205,null,null,null,249,null,null,null,null,null,null,null,null,null,null,null,null,null,null,null,null,null,null,null,null,null,null,null,null,null,null,null,null,null,null,null,null,null,null,null,null,null,null,249,"","","",""]
[null,206,null,null,null,250,null,null,null,null,null,null,null,null,null,null,null,null,null,null,null,null,null,null,null,null,null,null,null,null,null,null,null,null,null,null,null,null,null,null,null,null,null,null,250,"","","",""]
[null,207,null,null,null,null,"2.02","FAMILIARES",null,null,null,null,null,null,null,null,null,null,null,null,null,null,null,null,null,null,null,null,null,null,null,null,null,null,null,null,null,null,null,null,null,null,null,null,null,"2.02","FAMILIARES"]
[null,208,null,null,null,251,"2.02.001","Fraldas",null,null,null,null,null,null,null,null,null,null,null,null,null,null,null,null,null,null,null,null,null,null,null,null,null,null,null,null,null,null,null,null,null,null,null,null,251,"2.02.001","Fraldas",{"$f":"IF(AU214=\"\",\"\",$AU$213)","v":"FAMILIARES"},"SAIDAS"]
[null,209,null,null,null,252,"2.02.002","Recordações",null,null,null,null,null,null,null,null,null,null,null,null,null,null,null,null,null,null,null,null,null,null,null,null,null,null,null,null,null,null,null,null,null,null,null,null,252,"2.02.002","Recordações",{"$f":"IF(AU215=\"\",\"\",$AU$213)","v":"FAMILIARES"},"SAIDAS"]
[null,210,null,null,null,253,"2.02.003","Brinquedos",null,null,null,null,null,null,null,null,null,null,null,null,null,null,null,null,null,null,null,null,null,null,null,null,null,null,null,null,null,null,null,null,null,null,null,null,253,"2.02.003","Brinquedos",{"$f":"IF(AU216=\"\",\"\",$AU$213)","v":"FAMILIARES"},"SAIDAS"]
[null,211,null,null,null,254,"2.02.004","Equipamentos Infantis",null,null,null,null,null,null,null,null,null,null,null,null,null,null,null,null,null,null,null,null,null,null,null,null,null,null,null,null,null,null,null,null,null,null,null,null,254,"2.02.004","Equipamentos Infantis","FAMILIARES","SAIDAS"]
[null,212,null,null,null,255,"2.02.005","Latas de Leite",null,null,null,null,null,null,null,null,null,null,null,null,null,null,null,null,null,null,null,null,null,null,null,null,null,null,null,null,null,null,null,null,null,null,null,null,255,"2.02.005","Latas de Leite","FAMILIARES","SAIDAS"]
[null,213,null,null,null,256,"2.02.006","Educação Infantil",null,null,null,null,null,null,null,null,null,null,null,null,null,null,null,null,null,null,null,null,null,null,null,null,null,null,null,null,null,null,null,null,null,null,null,null,256,"2.02.006","Educação Infantil","FAMILIARES","SAIDAS"]
[null,214,null,null,null,257,null,null,null,null,null,null,null,null,null,null,null,null,null,null,null,null,null,null,null,null,null,null,null,null,null,null,null,null,null,null,null,null,null,null,null,null,null,null,257,"","","",""]
[null,215,null,null,null,258,null,null,null,null,null,null,null,null,null,null,null,null,null,null,null,null,null,null,null,null,null,null,null,null,null,null,null,null,null,null,null,null,null,null,null,null,null,null,258,"","","",""]
[null,216,null,null,null,259,null,null,null,null,null,null,null,null,null,null,null,null,null,null,null,null,null,null,null,null,null,null,null,null,null,null,null,null,null,null,null,null,null,null,null,null,null,null,259,"","","",""]
[null,217,null,null,null,260,null,null,null,null,null,null,null,null,null,null,null,null,null,null,null,null,null,null,null,null,null,null,null,null,null,null,null,null,null,null,null,null,null,null,null,null,null,null,260,"","","",""]
[null,218,null,null,null,261,null,null,null,null,null,null,null,null,null,null,null,null,null,null,null,null,null,null,null,null,null,null,null,null,null,null,null,null,null,null,null,null,null,null,null,null,null,null,261,"","","",""]
[null,219,null,null,null,262,null,null,null,null,null,null,null,null,null,null,null,null,null,null,null,null,null,null,null,null,null,null,null,null,null,null,null,null,null,null,null,null,null,null,null,null,null,null,262,"","","",""]
[null,220,null,null,null,263,null,null,null,null,null,null,null,null,null,null,null,null,null,null,null,null,null,null,null,null,null,null,null,null,null,null,null,null,null,null,null,null,null,null,null,null,null,null,263,"","","",""]
[null,221,null,null,null,264,null,null,null,null,null,null,null,null,null,null,null,null,null,null,null,null,null,null,null,null,null,null,null,null,null,null,null,null,null,null,null,null,null,null,null,null,null,null,264,"","","",""]
[null,222,null,null,null,265,null,null,null,null,null,null,null,null,null,null,null,null,null,null,null,null,null,null,null,null,null,null,null,null,null,null,null,null,null,null,null,null,null,null,null,null,null,null,265,"","","",""]
[null,223,null,null,null,266,null,null,null,null,null,null,null,null,null,null,null,null,null,null,null,null,null,null,null,null,null,null,null,null,null,null,null,null,null,null,null,null,null,null,null,null,null,null,266,"","","",""]
[null,224,null,null,null,267,null,null,null,null,null,null,null,null,null,null,null,null,null,null,null,null,null,null,null,null,null,null,null,null,null,null,null,null,null,null,null,null,null,null,null,null,null,null,267,"","","",{"$f":"IF(AU230=\"\",\"\",$AU$161)","v":""}]
[null,225,null,null,null,268,null,null,null,null,null,null,null,null,null,null,null,null,null,null,null,null,null,null,null,null,null,null,null,null,null,null,null,null,null,null,null,null,null,null,null,null,null,null,268,"","","",""]
[null,226,null,null,null,269,null,null,null,null,null,null,null,null,null,null,null,null,null,null,null,null,null,null,null,null,null,null,null,null,null,null,null,null,null,null,null,null,null,null,null,null,null,null,269,"","","",""]
[null,227,null,null,null,270,null,null,null,null,null,null,null,null,null,null,null,null,null,null,null,null,null,null,null,null,null,null,null,null,null,null,null,null,null,null,null,null,null,null,null,null,null,null,270,"","","",""]
[null,228,null,null,null,271,null,null,null,null,null,null,null,null,null,null,null,null,null,null,null,null,null,null,null,null,null,null,null,null,null,null,null,null,null,null,null,null,null,null,null,null,null,null,271,"","","",""]
[null,229,null,null,null,272,null,null,null,null,null,null,null,null,null,null,null,null,null,null,null,null,null,null,null,null,null,null,null,null,null,null,null,null,null,null,null,null,null,null,null,null,null,null,272,"","","",""]
[null,230,null,null,null,273,null,null,null,null,null,null,null,null,null,null,null,null,null,null,null,null,null,null,null,null,null,null,null,null,null,null,null,null,null,null,null,null,null,null,null,null,null,null,273,"","","",""]
[null,231,null,null,null,274,null,null,null,null,null,null,null,null,null,null,null,null,null,null,null,null,null,null,null,null,null,null,null,null,null,null,null,null,null,null,null,null,null,null,null,null,null,null,274,"","","",""]
[null,232,null,null,null,275,null,null,null,null,null,null,null,null,null,null,null,null,null,null,null,null,null,null,null,null,null,null,null,null,null,null,null,null,null,null,null,null,null,null,null,null,null,null,275,"","","",""]
[null,233,null,null,null,276,null,null,null,null,null,null,null,null,null,null,null,null,null,null,null,null,null,null,null,null,null,null,null,null,null,null,null,null,null,null,null,null,null,null,null,null,null,null,276,"","","",""]
[null,234,null,null,null,277,null,null,null,null,null,null,null,null,null,null,null,null,null,null,null,null,null,null,null,null,null,null,null,null,null,null,null,null,null,null,null,null,null,null,null,null,null,null,277,"","","",""]
[null,235,null,null,null,278,null,null,null,null,null,null,null,null,null,null,null,null,null,null,null,null,null,null,null,null,null,null,null,null,null,null,null,null,null,null,null,null,null,null,null,null,null,null,278,{"$f":"IF(G241=\"\",\"\",G241)","v":""},{"$f":"IF(H241=\"\",\"\",H241)","v":""},"",""]
[null,236,null,null,null,279,null,null,null,null,null,null,null,null,null,null,null,null,null,null,null,null,null,null,null,null,null,null,null,null,null,null,null,null,null,null,null,null,null,null,null,null,null,null,279,"","","",""]
[null,237,null,null,null,280,null,null,null,null,null,null,null,null,null,null,null,null,null,null,null,null,null,null,null,null,null,null,null,null,null,null,null,null,null,null,null,null,null,null,null,null,null,null,280,"","","",""]
[null,238,null,null,null,281,null,null,null,null,null,null,null,null,null,null,null,null,null,null,null,null,null,null,null,null,null,null,null,null,null,null,null,null,null,null,null,null,null,null,null,null,null,null,281,"","","",""]
[null,239,null,null,null,282,null,null,null,null,null,null,null,null,null,null,null,null,null,null,null,null,null,null,null,null,null,null,null,null,null,null,null,null,null,null,null,null,null,null,null,null,null,null,282,"","","",""]
[null,240,null,null,null,283,null,null,null,null,null,null,null,null,null,null,null,null,null,null,null,null,null,null,null,null,null,null,null,null,null,null,null,null,null,null,null,null,null,null,null,null,null,null,283,"","","",""]
[null,241,null,null,null,284,null,null,null,null,null,null,null,null,null,null,null,null,null,null,null,null,null,null,null,null,null,null,null,null,null,null,null,null,null,null,null,null,null,null,null,null,null,null,284,"","","",""]
[null,242,null,null,null,285,null,null,null,null,null,null,null,null,null,null,null,null,null,null,null,null,null,null,null,null,null,null,null,null,null,null,null,null,null,null,null,null,null,null,null,null,null,null,285,"","","",""]
[null,243,null,null,null,286,null,null,null,null,null,null,null,null,null,null,null,null,null,null,null,null,null,null,null,null,null,null,null,null,null,null,null,null,null,null,null,null,null,null,null,null,null,null,286,"","","",""]
[null,244,null,null,null,287,null,null,null,null,null,null,null,null,null,null,null,null,null,null,null,null,null,null,null,null,null,null,null,null,null,null,null,null,null,null,null,null,null,null,null,null,null,null,287,"","","",""]
[null,245,null,null,null,288,null,null,null,null,null,null,null,null,null,null,null,null,null,null,null,null,null,null,null,null,null,null,null,null,null,null,null,null,null,null,null,null,null,null,null,null,null,null,288,"","","",""]
[null,246,null,null,null,289,null,null,null,null,null,null,null,null,null,null,null,null,null,null,null,null,null,null,null,null,null,null,null,null,null,null,null,null,null,null,null,null,null,null,null,null,null,null,289,"","","",""]
[null,247,null,null,null,290,null,null,null,null,null,null,null,null,null,null,null,null,null,null,null,null,null,null,null,null,null,null,null,null,null,null,null,null,null,null,null,null,null,null,null,null,null,null,290,"","","",""]
[null,248,null,null,null,291,null,null,null,null,null,null,null,null,null,null,null,null,null,null,null,null,null,null,null,null,null,null,null,null,null,null,null,null,null,null,null,null,null,null,null,null,null,null,291,"","","",""]
[null,249,null,null,null,292,null,null,null,null,null,null,null,null,null,null,null,null,null,null,null,null,null,null,null,null,null,null,null,null,null,null,null,null,null,null,null,null,null,null,null,null,null,null,292,"","","",""]
[null,250,null,null,null,293,null,null,null,null,null,null,null,null,null,null,null,null,null,null,null,null,null,null,null,null,null,null,null,null,null,null,null,null,null,null,null,null,null,null,null,null,null,null,293,"","","",""]
[null,251,null,null,null,294,null,null,null,null,null,null,null,null,null,null,null,null,null,null,null,null,null,null,null,null,null,null,null,null,null,null,null,null,null,null,null,null,null,null,null,null,null,null,294,"","","",""]
[null,252,null,null,null,295,null,null,null,null,null,null,null,null,null,null,null,null,null,null,null,null,null,null,null,null,null,null,null,null,null,null,null,null,null,null,null,null,null,null,null,null,null,null,295,"","","",""]
[null,253,null,null,null,296,null,null,null,null,null,null,null,null,null,null,null,null,null,null,null,null,null,null,null,null,null,null,null,null,null,null,null,null,null,null,null,null,null,null,null,null,null,null,296,"","","",""]
[null,254,null,null,null,297,null,null,null,null,null,null,null,null,null,null,null,null,null,null,null,null,null,null,null,null,null,null,null,null,null,null,null,null,null,null,null,null,null,null,null,null,null,null,297,"","","",""]
[null,255,null,null,null,298,null,null,null,null,null,null,null,null,null,null,null,null,null,null,null,null,null,null,null,null,null,null,null,null,null,null,null,null,null,null,null,null,null,null,null,null,null,null,298,"","","",""]
[null,256,null,null,null,299,null,null,null,null,null,null,null,null,null,null,null,null,null,null,null,null,null,null,null,null,null,null,null,null,null,null,null,null,null,null,null,null,null,null,null,null,null,null,299,"","","",""]
[null,257,null,null,null,300,null,null,null,null,null,null,null,null,null,null,null,null,null,null,null,null,null,null,null,null,null,null,null,null,null,null,null,null,null,null,null,null,null,null,null,null,null,null,300,"","","",""]
[null,258,null,null,null,null,"2.03","DESPESAS COM LOCAÇAO",null,null,null,null,null,null,null,null,null,null,null,null,null,null,null,null,null,null,null,null,null,null,null,null,null,null,null,null,null,null,null,null,null,null,null,null,null,"2.03","DESPESAS COM LOCAÇAO"]
[null,259,null,null,null,301,"2.03.001","Locação de Imoveis",null,null,null,null,null,null,null,null,null,null,null,null,null,null,null,null,null,null,null,null,null,null,null,null,null,null,null,null,null,null,null,null,null,null,null,null,301,"2.03.001","Locação de Imoveis",{"$f":"IF(AU265=\"\",\"\",$AU$264)","v":"DESPESAS COM LOCAÇAO"},"SAIDAS"]
[null,260,null,null,null,302,"2.03.002","Loção de Veículos",null,null,null,null,null,null,null,null,null,null,null,null,null,null,null,null,null,null,null,null,null,null,null,null,null,null,null,null,null,null,null,null,null,null,null,null,302,"2.03.002","Loção de Veículos",{"$f":"IF(AU266=\"\",\"\",$AU$264)","v":"DESPESAS COM LOCAÇAO"},"SAIDAS"]
[null,261,null,null,null,303,"2.03.003","Locação de Equipamentos",null,null,null,null,null,null,null,null,null,null,null,null,null,null,null,null,null,null,null,null,null,null,null,null,null,null,null,null,null,null,null,null,null,null,null,null,303,"2.03.003","Locação de Equipamentos","DESPESAS COM LOCAÇAO","SAIDAS"]
[null,262,null,null,null,304,null,null,null,null,null,null,null,null,null,null,null,null,null,null,null,null,null,null,null,null,null,null,null,null,null,null,null,null,null,null,null,null,null,null,null,null,null,null,304,"","","",""]
[null,263,null,null,null,305,null,null,null,null,null,null,null,null,null,null,null,null,null,null,null,null,null,null,null,null,null,null,null,null,null,null,null,null,null,null,null,null,null,null,null,null,null,null,305,"","","",""]
[null,264,null,null,null,306,null,null,null,null,null,null,null,null,null,null,null,null,null,null,null,null,null,null,null,null,null,null,null,null,null,null,null,null,null,null,null,null,null,null,null,null,null,null,306,"","","",""]
[null,265,null,null,null,307,null,null,null,null,null,null,null,null,null,null,null,null,null,null,null,null,null,null,null,null,null,null,null,null,null,null,null,null,null,null,null,null,null,null,null,null,null,null,307,"","","",""]
[null,266,null,null,null,308,null,null,null,null,null,null,null,null,null,null,null,null,null,null,null,null,null,null,null,null,null,null,null,null,null,null,null,null,null,null,null,null,null,null,null,null,null,null,308,"","","",""]
[null,267,null,null,null,309,null,null,null,null,null,null,null,null,null,null,null,null,null,null,null,null,null,null,null,null,null,null,null,null,null,null,null,null,null,null,null,null,null,null,null,null,null,null,309,"","","",""]
[null,268,null,null,null,310,null,null,null,null,null,null,null,null,null,null,null,null,null,null,null,null,null,null,null,null,null,null,null,null,null,null,null,null,null,null,null,null,null,null,null,null,null,null,310,"","","",""]
[null,269,null,null,null,311,null,null,null,null,null,null,null,null,null,null,null,null,null,null,null,null,null,null,null,null,null,null,null,null,null,null,null,null,null,null,null,null,null,null,null,null,null,null,311,"","","",""]
[null,270,null,null,null,312,null,null,null,null,null,null,null,null,null,null,null,null,null,null,null,null,null,null,null,null,null,null,null,null,null,null,null,null,null,null,null,null,null,null,null,null,null,null,312,"","","",""]
[null,271,null,null,null,313,null,null,null,null,null,null,null,null,null,null,null,null,null,null,null,null,null,null,null,null,null,null,null,null,null,null,null,null,null,null,null,null,null,null,null,null,null,null,313,"","","",""]
[null,272,null,null,null,314,null,null,null,null,null,null,null,null,null,null,null,null,null,null,null,null,null,null,null,null,null,null,null,null,null,null,null,null,null,null,null,null,null,null,null,null,null,null,314,"","","",""]
[null,273,null,null,null,315,null,null,null,null,null,null,null,null,null,null,null,null,null,null,null,null,null,null,null,null,null,null,null,null,null,null,null,null,null,null,null,null,null,null,null,null,null,null,315,"","","",""]
[null,274,null,null,null,316,null,null,null,null,null,null,null,null,null,null,null,null,null,null,null,null,null,null,null,null,null,null,null,null,null,null,null,null,null,null,null,null,null,null,null,null,null,null,316,"","","",""]
[null,275,null,null,null,317,null,null,null,null,null,null,null,null,null,null,null,null,null,null,null,null,null,null,null,null,null,null,null,null,null,null,null,null,null,null,null,null,null,null,null,null,null,null,317,"","","",""]
[null,276,null,null,null,318,null,null,null,null,null,null,null,null,null,null,null,null,null,null,null,null,null,null,null,null,null,null,null,null,null,null,null,null,null,null,null,null,null,null,null,null,null,null,318,"","","",""]
[null,277,null,null,null,319,null,null,null,null,null,null,null,null,null,null,null,null,null,null,null,null,null,null,null,null,null,null,null,null,null,null,null,null,null,null,null,null,null,null,null,null,null,null,319,"","","",""]
[null,278,null,null,null,320,null,null,null,null,null,null,null,null,null,null,null,null,null,null,null,null,null,null,null,null,null,null,null,null,null,null,null,null,null,null,null,null,null,null,null,null,null,null,320,"","","",""]
[null,279,null,null,null,321,null,null,null,null,null,null,null,null,null,null,null,null,null,null,null,null,null,null,null,null,null,null,null,null,null,null,null,null,null,null,null,null,null,null,null,null,null,null,321,"","","",""]
[null,280,null,null,null,322,null,null,null,null,null,null,null,null,null,null,null,null,null,null,null,null,null,null,null,null,null,null,null,null,null,null,null,null,null,null,null,null,null,null,null,null,null,null,322,"","","",""]
[null,281,null,null,null,323,null,null,null,null,null,null,null,null,null,null,null,null,null,null,null,null,null,null,null,null,null,null,null,null,null,null,null,null,null,null,null,null,null,null,null,null,null,null,323,"","","",""]
[null,282,null,null,null,324,null,null,null,null,null,null,null,null,null,null,null,null,null,null,null,null,null,null,null,null,null,null,null,null,null,null,null,null,null,null,null,null,null,null,null,null,null,null,324,"","","",""]
[null,283,null,null,null,325,null,null,null,null,null,null,null,null,null,null,null,null,null,null,null,null,null,null,null,null,null,null,null,null,null,null,null,null,null,null,null,null,null,null,null,null,null,null,325,"","","",""]
[null,284,null,null,null,326,null,null,null,null,null,null,null,null,null,null,null,null,null,null,null,null,null,null,null,null,null,null,null,null,null,null,null,null,null,null,null,null,null,null,null,null,null,null,326,"","","",""]
[null,285,null,null,null,327,null,null,null,null,null,null,null,null,null,null,null,null,null,null,null,null,null,null,null,null,null,null,null,null,null,null,null,null,null,null,null,null,null,null,null,null,null,null,327,"","","",""]
[null,286,null,null,null,328,null,null,null,null,null,null,null,null,null,null,null,null,null,null,null,null,null,null,null,null,null,null,null,null,null,null,null,null,null,null,null,null,null,null,null,null,null,null,328,"","","",""]
[null,287,null,null,null,329,null,null,null,null,null,null,null,null,null,null,null,null,null,null,null,null,null,null,null,null,null,null,null,null,null,null,null,null,null,null,null,null,null,null,null,null,null,null,329,"","","",""]
[null,288,null,null,null,330,null,null,null,null,null,null,null,null,null,null,null,null,null,null,null,null,null,null,null,null,null,null,null,null,null,null,null,null,null,null,null,null,null,null,null,null,null,null,330,"","","",{"$f":"IF(AU294=\"\",\"\",$AU$161)","v":""}]
[null,289,null,null,null,331,null,null,null,null,null,null,null,null,null,null,null,null,null,null,null,null,null,null,null,null,null,null,null,null,null,null,null,null,null,null,null,null,null,null,null,null,null,null,331,"","","",""]
[null,290,null,null,null,332,null,null,null,null,null,null,null,null,null,null,null,null,null,null,null,null,null,null,null,null,null,null,null,null,null,null,null,null,null,null,null,null,null,null,null,null,null,null,332,"","","",""]
[null,291,null,null,null,333,null,null,null,null,null,null,null,null,null,null,null,null,null,null,null,null,null,null,null,null,null,null,null,null,null,null,null,null,null,null,null,null,null,null,null,null,null,null,333,"","","",""]
[null,292,null,null,null,334,null,null,null,null,null,null,null,null,null,null,null,null,null,null,null,null,null,null,null,null,null,null,null,null,null,null,null,null,null,null,null,null,null,null,null,null,null,null,334,"","","",""]
[null,293,null,null,null,335,null,null,null,null,null,null,null,null,null,null,null,null,null,null,null,null,null,null,null,null,null,null,null,null,null,null,null,null,null,null,null,null,null,null,null,null,null,null,335,"","","",""]
[null,294,null,null,null,336,null,null,null,null,null,null,null,null,null,null,null,null,null,null,null,null,null,null,null,null,null,null,null,null,null,null,null,null,null,null,null,null,null,null,null,null,null,null,336,"","","",""]
[null,295,null,null,null,337,null,null,null,null,null,null,null,null,null,null,null,null,null,null,null,null,null,null,null,null,null,null,null,null,null,null,null,null,null,null,null,null,null,null,null,null,null,null,337,"","","",""]
[null,296,null,null,null,338,null,null,null,null,null,null,null,null,null,null,null,null,null,null,null,null,null,null,null,null,null,null,null,null,null,null,null,null,null,null,null,null,null,null,null,null,null,null,338,"","","",""]
[null,297,null,null,null,339,null,null,null,null,null,null,null,null,null,null,null,null,null,null,null,null,null,null,null,null,null,null,null,null,null,null,null,null,null,null,null,null,null,null,null,null,null,null,339,"","","",""]
[null,298,null,null,null,340,null,null,null,null,null,null,null,null,null,null,null,null,null,null,null,null,null,null,null,null,null,null,null,null,null,null,null,null,null,null,null,null,null,null,null,null,null,null,340,"","","",""]
[null,299,null,null,null,341,null,null,null,null,null,null,null,null,null,null,null,null,null,null,null,null,null,null,null,null,null,null,null,null,null,null,null,null,null,null,null,null,null,null,null,null,null,null,341,{"$f":"IF(G305=\"\",\"\",G305)","v":""},{"$f":"IF(H305=\"\",\"\",H305)","v":""},"",""]
[null,300,null,null,null,342,null,null,null,null,null,null,null,null,null,null,null,null,null,null,null,null,null,null,null,null,null,null,null,null,null,null,null,null,null,null,null,null,null,null,null,null,null,null,342,"","","",""]
[null,301,null,null,null,343,null,null,null,null,null,null,null,null,null,null,null,null,null,null,null,null,null,null,null,null,null,null,null,null,null,null,null,null,null,null,null,null,null,null,null,null,null,null,343,"","","",""]
[null,302,null,null,null,344,null,null,null,null,null,null,null,null,null,null,null,null,null,null,null,null,null,null,null,null,null,null,null,null,null,null,null,null,null,null,null,null,null,null,null,null,null,null,344,"","","",""]
[null,303,null,null,null,345,null,null,null,null,null,null,null,null,null,null,null,null,null,null,null,null,null,null,null,null,null,null,null,null,null,null,null,null,null,null,null,null,null,null,null,null,null,null,345,"","","",""]
[null,304,null,null,null,346,null,null,null,null,null,null,null,null,null,null,null,null,null,null,null,null,null,null,null,null,null,null,null,null,null,null,null,null,null,null,null,null,null,null,null,null,null,null,346,"","","",""]
[null,305,null,null,null,347,null,null,null,null,null,null,null,null,null,null,null,null,null,null,null,null,null,null,null,null,null,null,null,null,null,null,null,null,null,null,null,null,null,null,null,null,null,null,347,"","","",""]
[null,306,null,null,null,348,null,null,null,null,null,null,null,null,null,null,null,null,null,null,null,null,null,null,null,null,null,null,null,null,null,null,null,null,null,null,null,null,null,null,null,null,null,null,348,"","","",""]
[null,307,null,null,null,349,null,null,null,null,null,null,null,null,null,null,null,null,null,null,null,null,null,null,null,null,null,null,null,null,null,null,null,null,null,null,null,null,null,null,null,null,null,null,349,"","","",""]
[null,308,null,null,null,350,null,null,null,null,null,null,null,null,null,null,null,null,null,null,null,null,null,null,null,null,null,null,null,null,null,null,null,null,null,null,null,null,null,null,null,null,null,null,350,"","","",""]
[null,309,null,null,null,null,"2.04","DESPESAS COM FRETES",null,null,null,null,null,null,null,null,null,null,null,null,null,null,null,null,null,null,null,null,null,null,null,null,null,null,null,null,null,null,null,null,null,null,null,null,null,"2.04","DESPESAS COM FRETES"]
[null,310,null,null,null,351,"2.04.001","Taxi",null,null,null,null,null,null,null,null,null,null,null,null,null,null,null,null,null,null,null,null,null,null,null,null,null,null,null,null,null,null,null,null,null,null,null,null,351,"2.04.001","Taxi",{"$f":"IF(AU316=\"\",\"\",$AU$315)","v":"DESPESAS COM FRETES"},"SAIDAS"]
[null,311,null,null,null,352,"2.04.002","Fretes",null,null,null,null,null,null,null,null,null,null,null,null,null,null,null,null,null,null,null,null,null,null,null,null,null,null,null,null,null,null,null,null,null,null,null,null,352,"2.04.002","Fretes",{"$f":"IF(AU317=\"\",\"\",$AU$315)","v":"DESPESAS COM FRETES"},"SAIDAS"]
[null,312,null,null,null,353,null,null,null,null,null,null,null,null,null,null,null,null,null,null,null,null,null,null,null,null,null,null,null,null,null,null,null,null,null,null,null,null,null,null,null,null,null,null,353,"","","",""]
[null,313,null,null,null,354,null,null,null,null,null,null,null,null,null,null,null,null,null,null,null,null,null,null,null,null,null,null,null,null,null,null,null,null,null,null,null,null,null,null,null,null,null,null,354,"","","",""]
[null,314,null,null,null,355,null,null,null,null,null,null,null,null,null,null,null,null,null,null,null,null,null,null,null,null,null,null,null,null,null,null,null,null,null,null,null,null,null,null,null,null,null,null,355,"","","",""]
[null,315,null,null,null,356,null,null,null,null,null,null,null,null,null,null,null,null,null,null,null,null,null,null,null,null,null,null,null,null,null,null,null,null,null,null,null,null,null,null,null,null,null,null,356,"","","",""]
[null,316,null,null,null,357,null,null,null,null,null,null,null,null,null,null,null,null,null,null,null,null,null,null,null,null,null,null,null,null,null,null,null,null,null,null,null,null,null,null,null,null,null,null,357,"","","",""]
[null,317,null,null,null,358,null,null,null,null,null,null,null,null,null,null,null,null,null,null,null,null,null,null,null,null,null,null,null,null,null,null,null,null,null,null,null,null,null,null,null,null,null,null,358,"","","",""]
[null,318,null,null,null,359,null,null,null,null,null,null,null,null,null,null,null,null,null,null,null,null,null,null,null,null,null,null,null,null,null,null,null,null,null,null,null,null,null,null,null,null,null,null,359,"","","",""]
[null,319,null,null,null,360,null,null,null,null,null,null,null,null,null,null,null,null,null,null,null,null,null,null,null,null,null,null,null,null,null,null,null,null,null,null,null,null,null,null,null,null,null,null,360,"","","",""]
[null,320,null,null,null,361,null,null,null,null,null,null,null,null,null,null,null,null,null,null,null,null,null,null,null,null,null,null,null,null,null,null,null,null,null,null,null,null,null,null,null,null,null,null,361,"","","",""]
[null,321,null,null,null,362,null,null,null,null,null,null,null,null,null,null,null,null,null,null,null,null,null,null,null,null,null,null,null,null,null,null,null,null,null,null,null,null,null,null,null,null,null,null,362,"","","",""]
[null,322,null,null,null,363,null,null,null,null,null,null,null,null,null,null,null,null,null,null,null,null,null,null,null,null,null,null,null,null,null,null,null,null,null,null,null,null,null,null,null,null,null,null,363,"","","",""]
[null,323,null,null,null,364,null,null,null,null,null,null,null,null,null,null,null,null,null,null,null,null,null,null,null,null,null,null,null,null,null,null,null,null,null,null,null,null,null,null,null,null,null,null,364,"","","",""]
[null,324,null,null,null,365,null,null,null,null,null,null,null,null,null,null,null,null,null,null,null,null,null,null,null,null,null,null,null,null,null,null,null,null,null,null,null,null,null,null,null,null,null,null,365,"","","",""]
[null,325,null,null,null,366,null,null,null,null,null,null,null,null,null,null,null,null,null,null,null,null,null,null,null,null,null,null,null,null,null,null,null,null,null,null,null,null,null,null,null,null,null,null,366,"","","",""]
[null,326,null,null,null,367,null,null,null,null,null,null,null,null,null,null,null,null,null,null,null,null,null,null,null,null,null,null,null,null,null,null,null,null,null,null,null,null,null,null,null,null,null,null,367,"","","",""]
[null,327,null,null,null,368,null,null,null,null,null,null,null,null,null,null,null,null,null,null,null,null,null,null,null,null,null,null,null,null,null,null,null,null,null,null,null,null,null,null,null,null,null,null,368,"","","",""]
[null,328,null,null,null,369,null,null,null,null,null,null,null,null,null,null,null,null,null,null,null,null,null,null,null,null,null,null,null,null,null,null,null,null,null,null,null,null,null,null,null,null,null,null,369,"","","",""]
[null,329,null,null,null,370,null,null,null,null,null,null,null,null,null,null,null,null,null,null,null,null,null,null,null,null,null,null,null,null,null,null,null,null,null,null,null,null,null,null,null,null,null,null,370,"","","",""]
[null,330,null,null,null,371,null,null,null,null,null,null,null,null,null,null,null,null,null,null,null,null,null,null,null,null,null,null,null,null,null,null,null,null,null,null,null,null,null,null,null,null,null,null,371,"","","",""]
[null,331,null,null,null,372,null,null,null,null,null,null,null,null,null,null,null,null,null,null,null,null,null,null,null,null,null,null,null,null,null,null,null,null,null,null,null,null,null,null,null,null,null,null,372,"","","",""]
[null,332,null,null,null,373,null,null,null,null,null,null,null,null,null,null,null,null,null,null,null,null,null,null,null,null,null,null,null,null,null,null,null,null,null,null,null,null,null,null,null,null,null,null,373,"","","",""]
[null,333,null,null,null,374,null,null,null,null,null,null,null,null,null,null,null,null,null,null,null,null,null,null,null,null,null,null,null,null,null,null,null,null,null,null,null,null,null,null,null,null,null,null,374,"","","",""]
[null,334,null,null,null,375,null,null,null,null,null,null,null,null,null,null,null,null,null,null,null,null,null,null,null,null,null,null,null,null,null,null,null,null,null,null,null,null,null,null,null,null,null,null,375,"","","",""]
[null,335,null,null,null,376,null,null,null,null,null,null,null,null,null,null,null,null,null,null,null,null,null,null,null,null,null,null,null,null,null,null,null,null,null,null,null,null,null,null,null,null,null,null,376,"","","",""]
[null,336,null,null,null,377,null,null,null,null,null,null,null,null,null,null,null,null,null,null,null,null,null,null,null,null,null,null,null,null,null,null,null,null,null,null,null,null,null,null,null,null,null,null,377,"","","",""]
[null,337,null,null,null,378,null,null,null,null,null,null,null,null,null,null,null,null,null,null,null,null,null,null,null,null,null,null,null,null,null,null,null,null,null,null,null,null,null,null,null,null,null,null,378,"","","",""]
[null,338,null,null,null,379,null,null,null,null,null,null,null,null,null,null,null,null,null,null,null,null,null,null,null,null,null,null,null,null,null,null,null,null,null,null,null,null,null,null,null,null,null,null,379,"","","",""]
[null,339,null,null,null,380,null,null,null,null,null,null,null,null,null,null,null,null,null,null,null,null,null,null,null,null,null,null,null,null,null,null,null,null,null,null,null,null,null,null,null,null,null,null,380,"","","",""]
[null,340,null,null,null,381,null,null,null,null,null,null,null,null,null,null,null,null,null,null,null,null,null,null,null,null,null,null,null,null,null,null,null,null,null,null,null,null,null,null,null,null,null,null,381,"","","",""]
[null,341,null,null,null,382,null,null,null,null,null,null,null,null,null,null,null,null,null,null,null,null,null,null,null,null,null,null,null,null,null,null,null,null,null,null,null,null,null,null,null,null,null,null,382,"","","",""]
[null,342,null,null,null,383,null,null,null,null,null,null,null,null,null,null,null,null,null,null,null,null,null,null,null,null,null,null,null,null,null,null,null,null,null,null,null,null,null,null,null,null,null,null,383,"","","",""]
[null,343,null,null,null,384,null,null,null,null,null,null,null,null,null,null,null,null,null,null,null,null,null,null,null,null,null,null,null,null,null,null,null,null,null,null,null,null,null,null,null,null,null,null,384,"","","",""]
[null,344,null,null,null,385,null,null,null,null,null,null,null,null,null,null,null,null,null,null,null,null,null,null,null,null,null,null,null,null,null,null,null,null,null,null,null,null,null,null,null,null,null,null,385,"","","",""]
[null,345,null,null,null,386,null,null,null,null,null,null,null,null,null,null,null,null,null,null,null,null,null,null,null,null,null,null,null,null,null,null,null,null,null,null,null,null,null,null,null,null,null,null,386,"","","",""]
[null,346,null,null,null,387,null,null,null,null,null,null,null,null,null,null,null,null,null,null,null,null,null,null,null,null,null,null,null,null,null,null,null,null,null,null,null,null,null,null,null,null,null,null,387,"","","",""]
[null,347,null,null,null,388,null,null,null,null,null,null,null,null,null,null,null,null,null,null,null,null,null,null,null,null,null,null,null,null,null,null,null,null,null,null,null,null,null,null,null,null,null,null,388,"","","",""]
[null,348,null,null,null,389,null,null,null,null,null,null,null,null,null,null,null,null,null,null,null,null,null,null,null,null,null,null,null,null,null,null,null,null,null,null,null,null,null,null,null,null,null,null,389,"","","",""]
[null,349,null,null,null,390,null,null,null,null,null,null,null,null,null,null,null,null,null,null,null,null,null,null,null,null,null,null,null,null,null,null,null,null,null,null,null,null,null,null,null,null,null,null,390,"","","",""]
[null,350,null,null,null,391,null,null,null,null,null,null,null,null,null,null,null,null,null,null,null,null,null,null,null,null,null,null,null,null,null,null,null,null,null,null,null,null,null,null,null,null,null,null,391,"","","",""]
[null,351,null,null,null,392,null,null,null,null,null,null,null,null,null,null,null,null,null,null,null,null,null,null,null,null,null,null,null,null,null,null,null,null,null,null,null,null,null,null,null,null,null,null,392,"","","",""]
[null,352,null,null,null,393,null,null,null,null,null,null,null,null,null,null,null,null,null,null,null,null,null,null,null,null,null,null,null,null,null,null,null,null,null,null,null,null,null,null,null,null,null,null,393,"","","",{"$f":"IF(AU358=\"\",\"\",$AU$161)","v":""}]
[null,353,null,null,null,394,null,null,null,null,null,null,null,null,null,null,null,null,null,null,null,null,null,null,null,null,null,null,null,null,null,null,null,null,null,null,null,null,null,null,null,null,null,null,394,"","","",""]
[null,354,null,null,null,395,null,null,null,null,null,null,null,null,null,null,null,null,null,null,null,null,null,null,null,null,null,null,null,null,null,null,null,null,null,null,null,null,null,null,null,null,null,null,395,"","","",""]
[null,355,null,null,null,396,null,null,null,null,null,null,null,null,null,null,null,null,null,null,null,null,null,null,null,null,null,null,null,null,null,null,null,null,null,null,null,null,null,null,null,null,null,null,396,"","","",""]
[null,356,null,null,null,397,null,null,null,null,null,null,null,null,null,null,null,null,null,null,null,null,null,null,null,null,null,null,null,null,null,null,null,null,null,null,null,null,null,null,null,null,null,null,397,"","","",""]
[null,357,null,null,null,398,null,null,null,null,null,null,null,null,null,null,null,null,null,null,null,null,null,null,null,null,null,null,null,null,null,null,null,null,null,null,null,null,null,null,null,null,null,null,398,"","","",""]
[null,358,null,null,null,399,null,null,null,null,null,null,null,null,null,null,null,null,null,null,null,null,null,null,null,null,null,null,null,null,null,null,null,null,null,null,null,null,null,null,null,null,null,null,399,"","","",""]
[null,359,null,null,null,400,null,null,null,null,null,null,null,null,null,null,null,null,null,null,null,null,null,null,null,null,null,null,null,null,null,null,null,null,null,null,null,null,null,null,null,null,null,null,400,"","","",""]
[null,360,null,null,null,null,"2.05","DESPESAS SOCIAIS",null,null,null,null,null,null,null,null,null,null,null,null,null,null,null,null,null,null,null,null,null,null,null,null,null,null,null,null,null,null,null,null,null,null,null,null,null,"2.05","DESPESAS SOCIAIS"]
[null,361,null,null,null,401,"2.05.001","Doações",null,null,null,null,null,null,null,null,null,null,null,null,null,null,null,null,null,null,null,null,null,null,null,null,null,null,null,null,null,null,null,null,null,null,null,null,401,"2.05.001","Doações",{"$f":"IF(AU367=\"\",\"\",$AU$366)","v":"DESPESAS SOCIAIS"},"SAIDAS"]
[null,362,null,null,null,402,"2.05.002","Eventos",null,null,null,null,null,null,null,null,null,null,null,null,null,null,null,null,null,null,null,null,null,null,null,null,null,null,null,null,null,null,null,null,null,null,null,null,402,"2.05.002","Eventos",{"$f":"IF(AU368=\"\",\"\",$AU$366)","v":"DESPESAS SOCIAIS"},"SAIDAS"]
[null,363,null,null,null,403,"2.05.003","Presentes",null,null,null,null,null,null,null,null,null,null,null,null,null,null,null,null,null,null,null,null,null,null,null,null,null,null,null,null,null,null,null,null,null,null,null,null,403,{"$f":"IF(G369=\"\",\"\",G369)","v":"2.05.003"},{"$f":"IF(H369=\"\",\"\",H369)","v":"Presentes"},"DESPESAS SOCIAIS","SAIDAS"]
[null,364,null,null,null,404,"2.05.004","Rifas",null,null,null,null,null,null,null,null,null,null,null,null,null,null,null,null,null,null,null,null,null,null,null,null,null,null,null,null,null,null,null,null,null,null,null,null,404,"2.05.004","Rifas","DESPESAS SOCIAIS","SAIDAS"]
[null,365,null,null,null,405,null,null,null,null,null,null,null,null,null,null,null,null,null,null,null,null,null,null,null,null,null,null,null,null,null,null,null,null,null,null,null,null,null,null,null,null,null,null,405,"","","",""]
[null,366,null,null,null,406,null,null,null,null,null,null,null,null,null,null,null,null,null,null,null,null,null,null,null,null,null,null,null,null,null,null,null,null,null,null,null,null,null,null,null,null,null,null,406,"","","",""]
[null,367,null,null,null,407,null,null,null,null,null,null,null,null,null,null,null,null,null,null,null,null,null,null,null,null,null,null,null,null,null,null,null,null,null,null,null,null,null,null,null,null,null,null,407,"","","",""]
[null,368,null,null,null,408,null,null,null,null,null,null,null,null,null,null,null,null,null,null,null,null,null,null,null,null,null,null,null,null,null,null,null,null,null,null,null,null,null,null,null,null,null,null,408,"","","",""]
[null,369,null,null,null,409,null,null,null,null,null,null,null,null,null,null,null,null,null,null,null,null,null,null,null,null,null,null,null,null,null,null,null,null,null,null,null,null,null,null,null,null,null,null,409,"","","",""]
[null,370,null,null,null,410,null,null,null,null,null,null,null,null,null,null,null,null,null,null,null,null,null,null,null,null,null,null,null,null,null,null,null,null,null,null,null,null,null,null,null,null,null,null,410,"","","",""]
[null,371,null,null,null,411,null,null,null,null,null,null,null,null,null,null,null,null,null,null,null,null,null,null,null,null,null,null,null,null,null,null,null,null,null,null,null,null,null,null,null,null,null,null,411,"","","",""]
[null,372,null,null,null,412,null,null,null,null,null,null,null,null,null,null,null,null,null,null,null,null,null,null,null,null,null,null,null,null,null,null,null,null,null,null,null,null,null,null,null,null,null,null,412,"","","",""]
[null,373,null,null,null,413,null,null,null,null,null,null,null,null,null,null,null,null,null,null,null,null,null,null,null,null,null,null,null,null,null,null,null,null,null,null,null,null,null,null,null,null,null,null,413,"","","",""]
[null,374,null,null,null,414,null,null,null,null,null,null,null,null,null,null,null,null,null,null,null,null,null,null,null,null,null,null,null,null,null,null,null,null,null,null,null,null,null,null,null,null,null,null,414,"","","",""]
[null,375,null,null,null,415,null,null,null,null,null,null,null,null,null,null,null,null,null,null,null,null,null,null,null,null,null,null,null,null,null,null,null,null,null,null,null,null,null,null,null,null,null,null,415,"","","",""]
[null,376,null,null,null,416,null,null,null,null,null,null,null,null,null,null,null,null,null,null,null,null,null,null,null,null,null,null,null,null,null,null,null,null,null,null,null,null,null,null,null,null,null,null,416,"","","",""]
[null,377,null,null,null,417,null,null,null,null,null,null,null,null,null,null,null,null,null,null,null,null,null,null,null,null,null,null,null,null,null,null,null,null,null,null,null,null,null,null,null,null,null,null,417,"","","",""]
[null,378,null,null,null,418,null,null,null,null,null,null,null,null,null,null,null,null,null,null,null,null,null,null,null,null,null,null,null,null,null,null,null,null,null,null,null,null,null,null,null,null,null,null,418,"","","",""]
[null,379,null,null,null,419,null,null,null,null,null,null,null,null,null,null,null,null,null,null,null,null,null,null,null,null,null,null,null,null,null,null,null,null,null,null,null,null,null,null,null,null,null,null,419,"","","",""]
[null,380,null,null,null,420,null,null,null,null,null,null,null,null,null,null,null,null,null,null,null,null,null,null,null,null,null,null,null,null,null,null,null,null,null,null,null,null,null,null,null,null,null,null,420,"","","",""]
[null,381,null,null,null,421,null,null,null,null,null,null,null,null,null,null,null,null,null,null,null,null,null,null,null,null,null,null,null,null,null,null,null,null,null,null,null,null,null,null,null,null,null,null,421,"","","",""]
[null,382,null,null,null,422,null,null,null,null,null,null,null,null,null,null,null,null,null,null,null,null,null,null,null,null,null,null,null,null,null,null,null,null,null,null,null,null,null,null,null,null,null,null,422,"","","",""]
[null,383,null,null,null,423,null,null,null,null,null,null,null,null,null,null,null,null,null,null,null,null,null,null,null,null,null,null,null,null,null,null,null,null,null,null,null,null,null,null,null,null,null,null,423,"","","",""]
[null,384,null,null,null,424,null,null,null,null,null,null,null,null,null,null,null,null,null,null,null,null,null,null,null,null,null,null,null,null,null,null,null,null,null,null,null,null,null,null,null,null,null,null,424,"","","",""]
[null,385,null,null,null,425,null,null,null,null,null,null,null,null,null,null,null,null,null,null,null,null,null,null,null,null,null,null,null,null,null,null,null,null,null,null,null,null,null,null,null,null,null,null,425,"","","",""]
[null,386,null,null,null,426,null,null,null,null,null,null,null,null,null,null,null,null,null,null,null,null,null,null,null,null,null,null,null,null,null,null,null,null,null,null,null,null,null,null,null,null,null,null,426,"","","",""]
[null,387,null,null,null,427,null,null,null,null,null,null,null,null,null,null,null,null,null,null,null,null,null,null,null,null,null,null,null,null,null,null,null,null,null,null,null,null,null,null,null,null,null,null,427,"","","",""]
[null,388,null,null,null,428,null,null,null,null,null,null,null,null,null,null,null,null,null,null,null,null,null,null,null,null,null,null,null,null,null,null,null,null,null,null,null,null,null,null,null,null,null,null,428,"","","",""]
[null,389,null,null,null,429,null,null,null,null,null,null,null,null,null,null,null,null,null,null,null,null,null,null,null,null,null,null,null,null,null,null,null,null,null,null,null,null,null,null,null,null,null,null,429,"","","",""]
[null,390,null,null,null,430,null,null,null,null,null,null,null,null,null,null,null,null,null,null,null,null,null,null,null,null,null,null,null,null,null,null,null,null,null,null,null,null,null,null,null,null,null,null,430,"","","",""]
[null,391,null,null,null,431,null,null,null,null,null,null,null,null,null,null,null,null,null,null,null,null,null,null,null,null,null,null,null,null,null,null,null,null,null,null,null,null,null,null,null,null,null,null,431,"","","",""]
[null,392,null,null,null,432,null,null,null,null,null,null,null,null,null,null,null,null,null,null,null,null,null,null,null,null,null,null,null,null,null,null,null,null,null,null,null,null,null,null,null,null,null,null,432,"","","",""]
[null,393,null,null,null,433,null,null,null,null,null,null,null,null,null,null,null,null,null,null,null,null,null,null,null,null,null,null,null,null,null,null,null,null,null,null,null,null,null,null,null,null,null,null,433,"","","",""]
[null,394,null,null,null,434,null,null,null,null,null,null,null,null,null,null,null,null,null,null,null,null,null,null,null,null,null,null,null,null,null,null,null,null,null,null,null,null,null,null,null,null,null,null,434,"","","",""]
[null,395,null,null,null,435,null,null,null,null,null,null,null,null,null,null,null,null,null,null,null,null,null,null,null,null,null,null,null,null,null,null,null,null,null,null,null,null,null,null,null,null,null,null,435,"","","",""]
[null,396,null,null,null,436,null,null,null,null,null,null,null,null,null,null,null,null,null,null,null,null,null,null,null,null,null,null,null,null,null,null,null,null,null,null,null,null,null,null,null,null,null,null,436,"","","",""]
[null,397,null,null,null,437,null,null,null,null,null,null,null,null,null,null,null,null,null,null,null,null,null,null,null,null,null,null,null,null,null,null,null,null,null,null,null,null,null,null,null,null,null,null,437,"","","",""]
[null,398,null,null,null,438,null,null,null,null,null,null,null,null,null,null,null,null,null,null,null,null,null,null,null,null,null,null,null,null,null,null,null,null,null,null,null,null,null,null,null,null,null,null,438,"","","",""]
[null,399,null,null,null,439,null,null,null,null,null,null,null,null,null,null,null,null,null,null,null,null,null,null,null,null,null,null,null,null,null,null,null,null,null,null,null,null,null,null,null,null,null,null,439,"","","",""]
[null,400,null,null,null,440,null,null,null,null,null,null,null,null,null,null,null,null,null,null,null,null,null,null,null,null,null,null,null,null,null,null,null,null,null,null,null,null,null,null,null,null,null,null,440,"","","",""]
[null,401,null,null,null,441,null,null,null,null,null,null,null,null,null,null,null,null,null,null,null,null,null,null,null,null,null,null,null,null,null,null,null,null,null,null,null,null,null,null,null,null,null,null,441,"","","",""]
[null,402,null,null,null,442,null,null,null,null,null,null,null,null,null,null,null,null,null,null,null,null,null,null,null,null,null,null,null,null,null,null,null,null,null,null,null,null,null,null,null,null,null,null,442,"","","",""]
[null,403,null,null,null,443,null,null,null,null,null,null,null,null,null,null,null,null,null,null,null,null,null,null,null,null,null,null,null,null,null,null,null,null,null,null,null,null,null,null,null,null,null,null,443,"","","",""]
[null,404,null,null,null,444,null,null,null,null,null,null,null,null,null,null,null,null,null,null,null,null,null,null,null,null,null,null,null,null,null,null,null,null,null,null,null,null,null,null,null,null,null,null,444,"","","",""]
[null,405,null,null,null,445,null,null,null,null,null,null,null,null,null,null,null,null,null,null,null,null,null,null,null,null,null,null,null,null,null,null,null,null,null,null,null,null,null,null,null,null,null,null,445,"","","",""]
[null,406,null,null,null,446,null,null,null,null,null,null,null,null,null,null,null,null,null,null,null,null,null,null,null,null,null,null,null,null,null,null,null,null,null,null,null,null,null,null,null,null,null,null,446,"","","",""]
[null,407,null,null,null,447,null,null,null,null,null,null,null,null,null,null,null,null,null,null,null,null,null,null,null,null,null,null,null,null,null,null,null,null,null,null,null,null,null,null,null,null,null,null,447,"","","",""]
[null,408,null,null,null,448,null,null,null,null,null,null,null,null,null,null,null,null,null,null,null,null,null,null,null,null,null,null,null,null,null,null,null,null,null,null,null,null,null,null,null,null,null,null,448,"","","",""]
[null,409,null,null,null,449,null,null,null,null,null,null,null,null,null,null,null,null,null,null,null,null,null,null,null,null,null,null,null,null,null,null,null,null,null,null,null,null,null,null,null,null,null,null,449,"","","",""]
[null,410,null,null,null,450,null,null,null,null,null,null,null,null,null,null,null,null,null,null,null,null,null,null,null,null,null,null,null,null,null,null,null,null,null,null,null,null,null,null,null,null,null,null,450,"","","",""]
[null,411,null,null,null,null,"2.06","CONSERVAÇÃO E LIMPEZA",null,null,null,null,null,null,null,null,null,null,null,null,null,null,null,null,null,null,null,null,null,null,null,null,null,null,null,null,null,null,null,null,null,null,null,null,null,"2.06","CONSERVAÇÃO E LIMPEZA"]
[null,412,null,null,null,451,"2.06.001","Material de Higiene e Limpeza",null,null,null,null,null,null,null,null,null,null,null,null,null,null,null,null,null,null,null,null,null,null,null,null,null,null,null,null,null,null,null,null,null,null,null,null,451,"2.06.001","Material de Higiene e Limpeza",{"$f":"IF(AU418=\"\",\"\",$AU$417)","v":"CONSERVAÇÃO E LIMPEZA"},"SAIDAS"]
[null,413,null,null,null,452,"2.06.002","Consertos e Reparos Gerais",null,null,null,null,null,null,null,null,null,null,null,null,null,null,null,null,null,null,null,null,null,null,null,null,null,null,null,null,null,null,null,null,null,null,null,null,452,"2.06.002","Consertos e Reparos Gerais",{"$f":"IF(AU419=\"\",\"\",$AU$417)","v":"CONSERVAÇÃO E LIMPEZA"},"SAIDAS"]
[null,414,null,null,null,453,"2.06.003","Consertos de Veículos",null,null,null,null,null,null,null,null,null,null,null,null,null,null,null,null,null,null,null,null,null,null,null,null,null,null,null,null,null,null,null,null,null,null,null,null,453,"2.06.003","Consertos de Veículos","CONSERVAÇÃO E LIMPEZA","SAIDAS"]
[null,415,null,null,null,454,"2.06.004","Construções e Reformas",null,null,null,null,null,null,null,null,null,null,null,null,null,null,null,null,null,null,null,null,null,null,null,null,null,null,null,null,null,null,null,null,null,null,null,null,454,"2.06.004","Construções e Reformas","CONSERVAÇÃO E LIMPEZA","SAIDAS"]
[null,416,null,null,null,455,"2.06.005","Limpeza de Imóveis",null,null,null,null,null,null,null,null,null,null,null,null,null,null,null,null,null,null,null,null,null,null,null,null,null,null,null,null,null,null,null,null,null,null,null,null,455,"2.06.005","Limpeza de Imóveis","CONSERVAÇÃO E LIMPEZA",{"$f":"IF(AU422=\"\",\"\",$AU$161)","v":"SAIDAS"}]
[null,417,null,null,null,456,"2.06.006","Lavação de Veículos",null,null,null,null,null,null,null,null,null,null,null,null,null,null,null,null,null,null,null,null,null,null,null,null,null,null,null,null,null,null,null,null,null,null,null,null,456,"2.06.006","Lavação de Veículos","CONSERVAÇÃO E LIMPEZA","SAIDAS"]
[null,418,null,null,null,457,null,null,null,null,null,null,null,null,null,null,null,null,null,null,null,null,null,null,null,null,null,null,null,null,null,null,null,null,null,null,null,null,null,null,null,null,null,null,457,"","","",""]
[null,419,null,null,null,458,null,null,null,null,null,null,null,null,null,null,null,null,null,null,null,null,null,null,null,null,null,null,null,null,null,null,null,null,null,null,null,null,null,null,null,null,null,null,458,"","","",""]
[null,420,null,null,null,459,null,null,null,null,null,null,null,null,null,null,null,null,null,null,null,null,null,null,null,null,null,null,null,null,null,null,null,null,null,null,null,null,null,null,null,null,null,null,459,"","","",""]
[null,421,null,null,null,460,null,null,null,null,null,null,null,null,null,null,null,null,null,null,null,null,null,null,null,null,null,null,null,null,null,null,null,null,null,null,null,null,null,null,null,null,null,null,460,"","","",""]
[null,422,null,null,null,461,null,null,null,null,null,null,null,null,null,null,null,null,null,null,null,null,null,null,null,null,null,null,null,null,null,null,null,null,null,null,null,null,null,null,null,null,null,null,461,"","","",""]
[null,423,null,null,null,462,null,null,null,null,null,null,null,null,null,null,null,null,null,null,null,null,null,null,null,null,null,null,null,null,null,null,null,null,null,null,null,null,null,null,null,null,null,null,462,"","","",""]
[null,424,null,null,null,463,null,null,null,null,null,null,null,null,null,null,null,null,null,null,null,null,null,null,null,null,null,null,null,null,null,null,null,null,null,null,null,null,null,null,null,null,null,null,463,"","","",""]
[null,425,null,null,null,464,null,null,null,null,null,null,null,null,null,null,null,null,null,null,null,null,null,null,null,null,null,null,null,null,null,null,null,null,null,null,null,null,null,null,null,null,null,null,464,"","","",""]
[null,426,null,null,null,465,null,null,null,null,null,null,null,null,null,null,null,null,null,null,null,null,null,null,null,null,null,null,null,null,null,null,null,null,null,null,null,null,null,null,null,null,null,null,465,"","","",""]
[null,427,null,null,null,466,null,null,null,null,null,null,null,null,null,null,null,null,null,null,null,null,null,null,null,null,null,null,null,null,null,null,null,null,null,null,null,null,null,null,null,null,null,null,466,{"$f":"IF(G433=\"\",\"\",G433)","v":""},{"$f":"IF(H433=\"\",\"\",H433)","v":""},"",""]
[null,428,null,null,null,467,null,null,null,null,null,null,null,null,null,null,null,null,null,null,null,null,null,null,null,null,null,null,null,null,null,null,null,null,null,null,null,null,null,null,null,null,null,null,467,"","","",""]
[null,429,null,null,null,468,null,null,null,null,null,null,null,null,null,null,null,null,null,null,null,null,null,null,null,null,null,null,null,null,null,null,null,null,null,null,null,null,null,null,null,null,null,null,468,"","","",""]
[null,430,null,null,null,469,null,null,null,null,null,null,null,null,null,null,null,null,null,null,null,null,null,null,null,null,null,null,null,null,null,null,null,null,null,null,null,null,null,null,null,null,null,null,469,"","","",""]
[null,431,null,null,null,470,null,null,null,null,null,null,null,null,null,null,null,null,null,null,null,null,null,null,null,null,null,null,null,null,null,null,null,null,null,null,null,null,null,null,null,null,null,null,470,"","","",""]
[null,432,null,null,null,471,null,null,null,null,null,null,null,null,null,null,null,null,null,null,null,null,null,null,null,null,null,null,null,null,null,null,null,null,null,null,null,null,null,null,null,null,null,null,471,"","","",""]
[null,433,null,null,null,472,null,null,null,null,null,null,null,null,null,null,null,null,null,null,null,null,null,null,null,null,null,null,null,null,null,null,null,null,null,null,null,null,null,null,null,null,null,null,472,"","","",""]
[null,434,null,null,null,473,null,null,null,null,null,null,null,null,null,null,null,null,null,null,null,null,null,null,null,null,null,null,null,null,null,null,null,null,null,null,null,null,null,null,null,null,null,null,473,"","","",""]
[null,435,null,null,null,474,null,null,null,null,null,null,null,null,null,null,null,null,null,null,null,null,null,null,null,null,null,null,null,null,null,null,null,null,null,null,null,null,null,null,null,null,null,null,474,"","","",""]
[null,436,null,null,null,475,null,null,null,null,null,null,null,null,null,null,null,null,null,null,null,null,null,null,null,null,null,null,null,null,null,null,null,null,null,null,null,null,null,null,null,null,null,null,475,"","","",""]
[null,437,null,null,null,476,null,null,null,null,null,null,null,null,null,null,null,null,null,null,null,null,null,null,null,null,null,null,null,null,null,null,null,null,null,null,null,null,null,null,null,null,null,null,476,"","","",""]
[null,438,null,null,null,477,null,null,null,null,null,null,null,null,null,null,null,null,null,null,null,null,null,null,null,null,null,null,null,null,null,null,null,null,null,null,null,null,null,null,null,null,null,null,477,"","","",""]
[null,439,null,null,null,478,null,null,null,null,null,null,null,null,null,null,null,null,null,null,null,null,null,null,null,null,null,null,null,null,null,null,null,null,null,null,null,null,null,null,null,null,null,null,478,"","","",""]
[null,440,null,null,null,479,null,null,null,null,null,null,null,null,null,null,null,null,null,null,null,null,null,null,null,null,null,null,null,null,null,null,null,null,null,null,null,null,null,null,null,null,null,null,479,"","","",""]
[null,441,null,null,null,480,null,null,null,null,null,null,null,null,null,null,null,null,null,null,null,null,null,null,null,null,null,null,null,null,null,null,null,null,null,null,null,null,null,null,null,null,null,null,480,"","","",""]
[null,442,null,null,null,481,null,null,null,null,null,null,null,null,null,null,null,null,null,null,null,null,null,null,null,null,null,null,null,null,null,null,null,null,null,null,null,null,null,null,null,null,null,null,481,"","","",""]
[null,443,null,null,null,482,null,null,null,null,null,null,null,null,null,null,null,null,null,null,null,null,null,null,null,null,null,null,null,null,null,null,null,null,null,null,null,null,null,null,null,null,null,null,482,"","","",""]
[null,444,null,null,null,483,null,null,null,null,null,null,null,null,null,null,null,null,null,null,null,null,null,null,null,null,null,null,null,null,null,null,null,null,null,null,null,null,null,null,null,null,null,null,483,"","","",""]
[null,445,null,null,null,484,null,null,null,null,null,null,null,null,null,null,null,null,null,null,null,null,null,null,null,null,null,null,null,null,null,null,null,null,null,null,null,null,null,null,null,null,null,null,484,"","","",""]
[null,446,null,null,null,485,null,null,null,null,null,null,null,null,null,null,null,null,null,null,null,null,null,null,null,null,null,null,null,null,null,null,null,null,null,null,null,null,null,null,null,null,null,null,485,"","","",""]
[null,447,null,null,null,486,null,null,null,null,null,null,null,null,null,null,null,null,null,null,null,null,null,null,null,null,null,null,null,null,null,null,null,null,null,null,null,null,null,null,null,null,null,null,486,"","","",""]
[null,448,null,null,null,487,null,null,null,null,null,null,null,null,null,null,null,null,null,null,null,null,null,null,null,null,null,null,null,null,null,null,null,null,null,null,null,null,null,null,null,null,null,null,487,"","","",""]
[null,449,null,null,null,488,null,null,null,null,null,null,null,null,null,null,null,null,null,null,null,null,null,null,null,null,null,null,null,null,null,null,null,null,null,null,null,null,null,null,null,null,null,null,488,"","","",""]
[null,450,null,null,null,489,null,null,null,null,null,null,null,null,null,null,null,null,null,null,null,null,null,null,null,null,null,null,null,null,null,null,null,null,null,null,null,null,null,null,null,null,null,null,489,"","","",""]
[null,451,null,null,null,490,null,null,null,null,null,null,null,null,null,null,null,null,null,null,null,null,null,null,null,null,null,null,null,null,null,null,null,null,null,null,null,null,null,null,null,null,null,null,490,"","","",""]
[null,452,null,null,null,491,null,null,null,null,null,null,null,null,null,null,null,null,null,null,null,null,null,null,null,null,null,null,null,null,null,null,null,null,null,null,null,null,null,null,null,null,null,null,491,"","","",""]
[null,453,null,null,null,492,null,null,null,null,null,null,null,null,null,null,null,null,null,null,null,null,null,null,null,null,null,null,null,null,null,null,null,null,null,null,null,null,null,null,null,null,null,null,492,"","","",""]
[null,454,null,null,null,493,null,null,null,null,null,null,null,null,null,null,null,null,null,null,null,null,null,null,null,null,null,null,null,null,null,null,null,null,null,null,null,null,null,null,null,null,null,null,493,"","","",""]
[null,455,null,null,null,494,null,null,null,null,null,null,null,null,null,null,null,null,null,null,null,null,null,null,null,null,null,null,null,null,null,null,null,null,null,null,null,null,null,null,null,null,null,null,494,"","","",""]
[null,456,null,null,null,495,null,null,null,null,null,null,null,null,null,null,null,null,null,null,null,null,null,null,null,null,null,null,null,null,null,null,null,null,null,null,null,null,null,null,null,null,null,null,495,"","","",""]
[null,457,null,null,null,496,null,null,null,null,null,null,null,null,null,null,null,null,null,null,null,null,null,null,null,null,null,null,null,null,null,null,null,null,null,null,null,null,null,null,null,null,null,null,496,"","","",""]
[null,458,null,null,null,497,null,null,null,null,null,null,null,null,null,null,null,null,null,null,null,null,null,null,null,null,null,null,null,null,null,null,null,null,null,null,null,null,null,null,null,null,null,null,497,"","","",""]
[null,459,null,null,null,498,null,null,null,null,null,null,null,null,null,null,null,null,null,null,null,null,null,null,null,null,null,null,null,null,null,null,null,null,null,null,null,null,null,null,null,null,null,null,498,"","","",""]
[null,460,null,null,null,499,null,null,null,null,null,null,null,null,null,null,null,null,null,null,null,null,null,null,null,null,null,null,null,null,null,null,null,null,null,null,null,null,null,null,null,null,null,null,499,"","","",""]
[null,461,null,null,null,500,null,null,null,null,null,null,null,null,null,null,null,null,null,null,null,null,null,null,null,null,null,null,null,null,null,null,null,null,null,null,null,null,null,null,null,null,null,null,500,"","","",""]
[null,462,null,null,null,null,"2.07","DESPESAS FINANCEIRAS",null,null,null,null,null,null,null,null,null,null,null,null,null,null,null,null,null,null,null,null,null,null,null,null,null,null,null,null,null,null,null,null,null,null,null,null,null,"2.07","DESPESAS FINANCEIRAS"]
[null,463,null,null,null,501,"2.07.001","Taxas e Tarifas Bancárias",null,null,null,null,null,null,null,null,null,null,null,null,null,null,null,null,null,null,null,null,null,null,null,null,null,null,null,null,null,null,null,null,null,null,null,null,501,"2.07.001","Taxas e Tarifas Bancárias",{"$f":"IF(AU469=\"\",\"\",$AU$468)","v":"DESPESAS FINANCEIRAS"},"SAIDAS"]
[null,464,null,null,null,502,"2.07.002","Juros por Pagamentos em Atraso",null,null,null,null,null,null,null,null,null,null,null,null,null,null,null,null,null,null,null,null,null,null,null,null,null,null,null,null,null,null,null,null,null,null,null,null,502,"2.07.002","Juros por Pagamentos em Atraso",{"$f":"IF(AU470=\"\",\"\",$AU$468)","v":"DESPESAS FINANCEIRAS"},"SAIDAS"]
[null,465,null,null,null,503,"2.07.003","Multas",null,null,null,null,null,null,null,null,null,null,null,null,null,null,null,null,null,null,null,null,null,null,null,null,null,null,null,null,null,null,null,null,null,null,null,null,503,"2.07.003","Multas","DESPESAS FINANCEIRAS","SAIDAS"]
[null,466,null,null,null,504,"2.07.004","Taxa BVMF",null,null,null,null,null,null,null,null,null,null,null,null,null,null,null,null,null,null,null,null,null,null,null,null,null,null,null,null,null,null,null,null,null,null,null,null,504,"2.07.004","Taxa BVMF","DESPESAS FINANCEIRAS","SAIDAS"]
[null,467,null,null,null,505,"2.07.005","Mensalidade de Clube de Desconto",null,null,null,null,null,null,null,null,null,null,null,null,null,null,null,null,null,null,null,null,null,null,null,null,null,null,null,null,null,null,null,null,null,null,null,null,505,"2.07.005","Mensalidade de Clube de Desconto","DESPESAS FINANCEIRAS","SAIDAS"]
[null,468,null,null,null,506,"2.07.006","Juros de Empréstimos",null,null,null,null,null,null,null,null,null,null,null,null,null,null,null,null,null,null,null,null,null,null,null,null,null,null,null,null,null,null,null,null,null,null,null,null,506,"2.07.006","Juros de Empréstimos","DESPESAS FINANCEIRAS","SAIDAS"]
[null,469,null,null,null,507,"2.07.007","Encargos de Financiamento",null,null,null,null,null,null,null,null,null,null,null,null,null,null,null,null,null,null,null,null,null,null,null,null,null,null,null,null,null,null,null,null,null,null,null,null,507,"2.07.007","Encargos de Financiamento","DESPESAS FINANCEIRAS","SAIDAS"]
[null,470,null,null,null,508,"2.07.008","IOF",null,null,null,null,null,null,null,null,null,null,null,null,null,null,null,null,null,null,null,null,null,null,null,null,null,null,null,null,null,null,null,null,null,null,null,null,508,"2.07.008","IOF","DESPESAS FINANCEIRAS","SAIDAS"]
[null,471,null,null,null,509,"2.07.009","Variação Cambial",null,null,null,null,null,null,null,null,null,null,null,null,null,null,null,null,null,null,null,null,null,null,null,null,null,null,null,null,null,null,null,null,null,null,null,null,509,"2.07.009","Variação Cambial","DESPESAS FINANCEIRAS","SAIDAS"]
[null,472,null,null,null,510,null,null,null,null,null,null,null,null,null,null,null,null,null,null,null,null,null,null,null,null,null,null,null,null,null,null,null,null,null,null,null,null,null,null,null,null,null,null,510,"","","",""]
[null,473,null,null,null,511,null,null,null,null,null,null,null,null,null,null,null,null,null,null,null,null,null,null,null,null,null,null,null,null,null,null,null,null,null,null,null,null,null,null,null,null,null,null,511,"","","",""]
[null,474,null,null,null,512,null,null,null,null,null,null,null,null,null,null,null,null,null,null,null,null,null,null,null,null,null,null,null,null,null,null,null,null,null,null,null,null,null,null,null,null,null,null,512,"","","",""]
[null,475,null,null,null,513,null,null,null,null,null,null,null,null,null,null,null,null,null,null,null,null,null,null,null,null,null,null,null,null,null,null,null,null,null,null,null,null,null,null,null,null,null,null,513,"","","",""]
[null,476,null,null,null,514,null,null,null,null,null,null,null,null,null,null,null,null,null,null,null,null,null,null,null,null,null,null,null,null,null,null,null,null,null,null,null,null,null,null,null,null,null,null,514,"","","",""]
[null,477,null,null,null,515,null,null,null,null,null,null,null,null,null,null,null,null,null,null,null,null,null,null,null,null,null,null,null,null,null,null,null,null,null,null,null,null,null,null,null,null,null,null,515,"","","",""]
[null,478,null,null,null,516,null,null,null,null,null,null,null,null,null,null,null,null,null,null,null,null,null,null,null,null,null,null,null,null,null,null,null,null,null,null,null,null,null,null,null,null,null,null,516,"","","",""]
[null,479,null,null,null,517,null,null,null,null,null,null,null,null,null,null,null,null,null,null,null,null,null,null,null,null,null,null,null,null,null,null,null,null,null,null,null,null,null,null,null,null,null,null,517,"","","",""]
[null,480,null,null,null,518,null,null,null,null,null,null,null,null,null,null,null,null,null,null,null,null,null,null,null,null,null,null,null,null,null,null,null,null,null,null,null,null,null,null,null,null,null,null,518,"","","",{"$f":"IF(AU486=\"\",\"\",$AU$161)","v":""}]
[null,481,null,null,null,519,null,null,null,null,null,null,null,null,null,null,null,null,null,null,null,null,null,null,null,null,null,null,null,null,null,null,null,null,null,null,null,null,null,null,null,null,null,null,519,"","","",""]
[null,482,null,null,null,520,null,null,null,null,null,null,null,null,null,null,null,null,null,null,null,null,null,null,null,null,null,null,null,null,null,null,null,null,null,null,null,null,null,null,null,null,null,null,520,"","","",""]
[null,483,null,null,null,521,null,null,null,null,null,null,null,null,null,null,null,null,null,null,null,null,null,null,null,null,null,null,null,null,null,null,null,null,null,null,null,null,null,null,null,null,null,null,521,"","","",""]
[null,484,null,null,null,522,null,null,null,null,null,null,null,null,null,null,null,null,null,null,null,null,null,null,null,null,null,null,null,null,null,null,null,null,null,null,null,null,null,null,null,null,null,null,522,"","","",""]
[null,485,null,null,null,523,null,null,null,null,null,null,null,null,null,null,null,null,null,null,null,null,null,null,null,null,null,null,null,null,null,null,null,null,null,null,null,null,null,null,null,null,null,null,523,"","","",""]
[null,486,null,null,null,524,null,null,null,null,null,null,null,null,null,null,null,null,null,null,null,null,null,null,null,null,null,null,null,null,null,null,null,null,null,null,null,null,null,null,null,null,null,null,524,"","","",""]
[null,487,null,null,null,525,null,null,null,null,null,null,null,null,null,null,null,null,null,null,null,null,null,null,null,null,null,null,null,null,null,null,null,null,null,null,null,null,null,null,null,null,null,null,525,"","","",""]
[null,488,null,null,null,526,null,null,null,null,null,null,null,null,null,null,null,null,null,null,null,null,null,null,null,null,null,null,null,null,null,null,null,null,null,null,null,null,null,null,null,null,null,null,526,"","","",""]
[null,489,null,null,null,527,null,null,null,null,null,null,null,null,null,null,null,null,null,null,null,null,null,null,null,null,null,null,null,null,null,null,null,null,null,null,null,null,null,null,null,null,null,null,527,"","","",""]
[null,490,null,null,null,528,null,null,null,null,null,null,null,null,null,null,null,null,null,null,null,null,null,null,null,null,null,null,null,null,null,null,null,null,null,null,null,null,null,null,null,null,null,null,528,"","","",""]
[null,491,null,null,null,529,null,null,null,null,null,null,null,null,null,null,null,null,null,null,null,null,null,null,null,null,null,null,null,null,null,null,null,null,null,null,null,null,null,null,null,null,null,null,529,{"$f":"IF(G497=\"\",\"\",G497)","v":""},{"$f":"IF(H497=\"\",\"\",H497)","v":""},"",""]
[null,492,null,null,null,530,null,null,null,null,null,null,null,null,null,null,null,null,null,null,null,null,null,null,null,null,null,null,null,null,null,null,null,null,null,null,null,null,null,null,null,null,null,null,530,"","","",""]
[null,493,null,null,null,531,null,null,null,null,null,null,null,null,null,null,null,null,null,null,null,null,null,null,null,null,null,null,null,null,null,null,null,null,null,null,null,null,null,null,null,null,null,null,531,"","","",""]
[null,494,null,null,null,532,null,null,null,null,null,null,null,null,null,null,null,null,null,null,null,null,null,null,null,null,null,null,null,null,null,null,null,null,null,null,null,null,null,null,null,null,null,null,532,"","","",""]
[null,495,null,null,null,533,null,null,null,null,null,null,null,null,null,null,null,null,null,null,null,null,null,null,null,null,null,null,null,null,null,null,null,null,null,null,null,null,null,null,null,null,null,null,533,"","","",""]
[null,496,null,null,null,534,null,null,null,null,null,null,null,null,null,null,null,null,null,null,null,null,null,null,null,null,null,null,null,null,null,null,null,null,null,null,null,null,null,null,null,null,null,null,534,"","","",""]
[null,497,null,null,null,535,null,null,null,null,null,null,null,null,null,null,null,null,null,null,null,null,null,null,null,null,null,null,null,null,null,null,null,null,null,null,null,null,null,null,null,null,null,null,535,"","","",""]
[null,498,null,null,null,536,null,null,null,null,null,null,null,null,null,null,null,null,null,null,null,null,null,null,null,null,null,null,null,null,null,null,null,null,null,null,null,null,null,null,null,null,null,null,536,"","","",""]
[null,499,null,null,null,537,null,null,null,null,null,null,null,null,null,null,null,null,null,null,null,null,null,null,null,null,null,null,null,null,null,null,null,null,null,null,null,null,null,null,null,null,null,null,537,"","","",""]
[null,500,null,null,null,538,null,null,null,null,null,null,null,null,null,null,null,null,null,null,null,null,null,null,null,null,null,null,null,null,null,null,null,null,null,null,null,null,null,null,null,null,null,null,538,"","","",""]
[null,501,null,null,null,539,null,null,null,null,null,null,null,null,null,null,null,null,null,null,null,null,null,null,null,null,null,null,null,null,null,null,null,null,null,null,null,null,null,null,null,null,null,null,539,"","","",""]
[null,502,null,null,null,540,null,null,null,null,null,null,null,null,null,null,null,null,null,null,null,null,null,null,null,null,null,null,null,null,null,null,null,null,null,null,null,null,null,null,null,null,null,null,540,"","","",""]
[null,503,null,null,null,541,null,null,null,null,null,null,null,null,null,null,null,null,null,null,null,null,null,null,null,null,null,null,null,null,null,null,null,null,null,null,null,null,null,null,null,null,null,null,541,"","","",""]
[null,504,null,null,null,542,null,null,null,null,null,null,null,null,null,null,null,null,null,null,null,null,null,null,null,null,null,null,null,null,null,null,null,null,null,null,null,null,null,null,null,null,null,null,542,"","","",""]
[null,505,null,null,null,543,null,null,null,null,null,null,null,null,null,null,null,null,null,null,null,null,null,null,null,null,null,null,null,null,null,null,null,null,null,null,null,null,null,null,null,null,null,null,543,"","","",""]
[null,506,null,null,null,544,null,null,null,null,null,null,null,null,null,null,null,null,null,null,null,null,null,null,null,null,null,null,null,null,null,null,null,null,null,null,null,null,null,null,null,null,null,null,544,"","","",""]
[null,507,null,null,null,545,null,null,null,null,null,null,null,null,null,null,null,null,null,null,null,null,null,null,null,null,null,null,null,null,null,null,null,null,null,null,null,null,null,null,null,null,null,null,545,"","","",""]
[null,508,null,null,null,546,null,null,null,null,null,null,null,null,null,null,null,null,null,null,null,null,null,null,null,null,null,null,null,null,null,null,null,null,null,null,null,null,null,null,null,null,null,null,546,"","","",""]
[null,509,null,null,null,547,null,null,null,null,null,null,null,null,null,null,null,null,null,null,null,null,null,null,null,null,null,null,null,null,null,null,null,null,null,null,null,null,null,null,null,null,null,null,547,"","","",""]
[null,510,null,null,null,548,null,null,null,null,null,null,null,null,null,null,null,null,null,null,null,null,null,null,null,null,null,null,null,null,null,null,null,null,null,null,null,null,null,null,null,null,null,null,548,"","","",""]
[null,511,null,null,null,549,null,null,null,null,null,null,null,null,null,null,null,null,null,null,null,null,null,null,null,null,null,null,null,null,null,null,null,null,null,null,null,null,null,null,null,null,null,null,549,"","","",""]
[null,512,null,null,null,550,null,null,null,null,null,null,null,null,null,null,null,null,null,null,null,null,null,null,null,null,null,null,null,null,null,null,null,null,null,null,null,null,null,null,null,null,null,null,550,"","","",""]
[null,513,null,null,null,null,"2.08","DESPESAS TRIBUTARIAS",null,null,null,null,null,null,null,null,null,null,null,null,null,null,null,null,null,null,null,null,null,null,null,null,null,null,null,null,null,null,null,null,null,null,null,null,null,"2.08","DESPESAS TRIBUTARIAS"]
[null,514,null,null,null,551,"2.08.001","CNH - Carteira Nacional de Habilitação",null,null,null,null,null,null,null,null,null,null,null,null,null,null,null,null,null,null,null,null,null,null,null,null,null,null,null,null,null,null,null,null,null,null,null,null,551,"2.08.001","CNH - Carteira Nacional de Habilitação",{"$f":"IF(AU520=\"\",\"\",$AU$519)","v":"DESPESAS TRIBUTARIAS"},"SAIDAS"]
[null,515,null,null,null,552,"2.08.002","IPVA",null,null,null,null,null,null,null,null,null,null,null,null,null,null,null,null,null,null,null,null,null,null,null,null,null,null,null,null,null,null,null,null,null,null,null,null,552,"2.08.002","IPVA",{"$f":"IF(AU521=\"\",\"\",$AU$519)","v":"DESPESAS TRIBUTARIAS"},"SAIDAS"]
[null,516,null,null,null,553,"2.08.003","Licenciamento Anual de Veiculos",null,null,null,null,null,null,null,null,null,null,null,null,null,null,null,null,null,null,null,null,null,null,null,null,null,null,null,null,null,null,null,null,null,null,null,null,553,"2.08.003","Licenciamento Anual de Veiculos","DESPESAS TRIBUTARIAS","SAIDAS"]
[null,517,null,null,null,554,"2.08.004","DPVAT",null,null,null,null,null,null,null,null,null,null,null,null,null,null,null,null,null,null,null,null,null,null,null,null,null,null,null,null,null,null,null,null,null,null,null,null,554,"2.08.004","DPVAT","DESPESAS TRIBUTARIAS","SAIDAS"]
[null,518,null,null,null,555,"2.08.005","Imposto de Renda",null,null,null,null,null,null,null,null,null,null,null,null,null,null,null,null,null,null,null,null,null,null,null,null,null,null,null,null,null,null,null,null,null,null,null,null,555,"2.08.005","Imposto de Renda","DESPESAS TRIBUTARIAS","SAIDAS"]
[null,519,null,null,null,556,"2.08.006","Taxas de Documentação",null,null,null,null,null,null,null,null,null,null,null,null,null,null,null,null,null,null,null,null,null,null,null,null,null,null,null,null,null,null,null,null,null,null,null,null,556,"2.08.006","Taxas de Documentação","DESPESAS TRIBUTARIAS","SAIDAS"]
[null,520,null,null,null,557,"2.08.007","FRJ - Extrajudicial",null,null,null,null,null,null,null,null,null,null,null,null,null,null,null,null,null,null,null,null,null,null,null,null,null,null,null,null,null,null,null,null,null,null,null,null,557,"2.08.007","FRJ - Extrajudicial","DESPESAS TRIBUTARIAS","SAIDAS"]
[null,521,null,null,null,558,"2.08.008","ITBI",null,null,null,null,null,null,null,null,null,null,null,null,null,null,null,null,null,null,null,null,null,null,null,null,null,null,null,null,null,null,null,null,null,null,null,null,558,"2.08.008","ITBI","DESPESAS TRIBUTARIAS","SAIDAS"]
[null,522,null,null,null,559,"2.08.009","Carteira de Arrais Amador",null,null,null,null,null,null,null,null,null,null,null,null,null,null,null,null,null,null,null,null,null,null,null,null,null,null,null,null,null,null,null,null,null,null,null,null,559,"2.08.009","Carteira de Arrais Amador","DESPESAS TRIBUTARIAS","SAIDAS"]
[null,523,null,null,null,560,"2.08.010","IPTU",null,null,null,null,null,null,null,null,null,null,null,null,null,null,null,null,null,null,null,null,null,null,null,null,null,null,null,null,null,null,null,null,null,null,null,null,560,"2.08.010","IPTU","DESPESAS TRIBUTARIAS","SAIDAS"]
[null,524,null,null,null,561,"2.08.011","Taxa de Coleta de Lixo",null,null,null,null,null,null,null,null,null,null,null,null,null,null,null,null,null,null,null,null,null,null,null,null,null,null,null,null,null,null,null,null,null,null,null,null,561,"2.08.011","Taxa de Coleta de Lixo","DESPESAS TRIBUTARIAS","SAIDAS"]
[null,525,null,null,null,562,"2.08.012","Taxa de Vistoria Veicular",null,null,null,null,null,null,null,null,null,null,null,null,null,null,null,null,null,null,null,null,null,null,null,null,null,null,null,null,null,null,null,null,null,null,null,null,562,"2.08.012","Taxa de Vistoria Veicular","DESPESAS TRIBUTARIAS","SAIDAS"]
[null,526,null,null,null,563,"2.08.013","Taxa de Transferência de Veículo",null,null,null,null,null,null,null,null,null,null,null,null,null,null,null,null,null,null,null,null,null,null,null,null,null,null,null,null,null,null,null,null,null,null,null,null,563,"2.08.013","Taxa de Transferência de Veículo","DESPESAS TRIBUTARIAS","SAIDAS"]
[null,527,null,null,null,564,null,null,null,null,null,null,null,null,null,null,null,null,null,null,null,null,null,null,null,null,null,null,null,null,null,null,null,null,null,null,null,null,null,null,null,null,null,null,564,"","","",""]
[null,528,null,null,null,565,null,null,null,null,null,null,null,null,null,null,null,null,null,null,null,null,null,null,null,null,null,null,null,null,null,null,null,null,null,null,null,null,null,null,null,null,null,null,565,"","","",""]
[null,529,null,null,null,566,null,null,null,null,null,null,null,null,null,null,null,null,null,null,null,null,null,null,null,null,null,null,null,null,null,null,null,null,null,null,null,null,null,null,null,null,null,null,566,"","","",""]
[null,530,null,null,null,567,null,null,null,null,null,null,null,null,null,null,null,null,null,null,null,null,null,null,null,null,null,null,null,null,null,null,null,null,null,null,null,null,null,null,null,null,null,null,567,"","","",""]
[null,531,null,null,null,568,null,null,null,null,null,null,null,null,null,null,null,null,null,null,null,null,null,null,null,null,null,null,null,null,null,null,null,null,null,null,null,null,null,null,null,null,null,null,568,"","","",""]
[null,532,null,null,null,569,null,null,null,null,null,null,null,null,null,null,null,null,null,null,null,null,null,null,null,null,null,null,null,null,null,null,null,null,null,null,null,null,null,null,null,null,null,null,569,"","","",""]
[null,533,null,null,null,570,null,null,null,null,null,null,null,null,null,null,null,null,null,null,null,null,null,null,null,null,null,null,null,null,null,null,null,null,null,null,null,null,null,null,null,null,null,null,570,"","","",""]
[null,534,null,null,null,571,null,null,null,null,null,null,null,null,null,null,null,null,null,null,null,null,null,null,null,null,null,null,null,null,null,null,null,null,null,null,null,null,null,null,null,null,null,null,571,"","","",""]
[null,535,null,null,null,572,null,null,null,null,null,null,null,null,null,null,null,null,null,null,null,null,null,null,null,null,null,null,null,null,null,null,null,null,null,null,null,null,null,null,null,null,null,null,572,"","","",""]
[null,536,null,null,null,573,null,null,null,null,null,null,null,null,null,null,null,null,null,null,null,null,null,null,null,null,null,null,null,null,null,null,null,null,null,null,null,null,null,null,null,null,null,null,573,"","","",""]
[null,537,null,null,null,574,null,null,null,null,null,null,null,null,null,null,null,null,null,null,null,null,null,null,null,null,null,null,null,null,null,null,null,null,null,null,null,null,null,null,null,null,null,null,574,"","","",""]
[null,538,null,null,null,575,null,null,null,null,null,null,null,null,null,null,null,null,null,null,null,null,null,null,null,null,null,null,null,null,null,null,null,null,null,null,null,null,null,null,null,null,null,null,575,"","","",""]
[null,539,null,null,null,576,null,null,null,null,null,null,null,null,null,null,null,null,null,null,null,null,null,null,null,null,null,null,null,null,null,null,null,null,null,null,null,null,null,null,null,null,null,null,576,"","","",""]
[null,540,null,null,null,577,null,null,null,null,null,null,null,null,null,null,null,null,null,null,null,null,null,null,null,null,null,null,null,null,null,null,null,null,null,null,null,null,null,null,null,null,null,null,577,"","","",""]
[null,541,null,null,null,578,null,null,null,null,null,null,null,null,null,null,null,null,null,null,null,null,null,null,null,null,null,null,null,null,null,null,null,null,null,null,null,null,null,null,null,null,null,null,578,"","","",""]
[null,542,null,null,null,579,null,null,null,null,null,null,null,null,null,null,null,null,null,null,null,null,null,null,null,null,null,null,null,null,null,null,null,null,null,null,null,null,null,null,null,null,null,null,579,"","","",""]
[null,543,null,null,null,580,null,null,null,null,null,null,null,null,null,null,null,null,null,null,null,null,null,null,null,null,null,null,null,null,null,null,null,null,null,null,null,null,null,null,null,null,null,null,580,"","","",""]
[null,544,null,null,null,581,null,null,null,null,null,null,null,null,null,null,null,null,null,null,null,null,null,null,null,null,null,null,null,null,null,null,null,null,null,null,null,null,null,null,null,null,null,null,581,"","","",{"$f":"IF(AU550=\"\",\"\",$AU$161)","v":""}]
[null,545,null,null,null,582,null,null,null,null,null,null,null,null,null,null,null,null,null,null,null,null,null,null,null,null,null,null,null,null,null,null,null,null,null,null,null,null,null,null,null,null,null,null,582,"","","",""]
[null,546,null,null,null,583,null,null,null,null,null,null,null,null,null,null,null,null,null,null,null,null,null,null,null,null,null,null,null,null,null,null,null,null,null,null,null,null,null,null,null,null,null,null,583,"","","",""]
[null,547,null,null,null,584,null,null,null,null,null,null,null,null,null,null,null,null,null,null,null,null,null,null,null,null,null,null,null,null,null,null,null,null,null,null,null,null,null,null,null,null,null,null,584,"","","",""]
[null,548,null,null,null,585,null,null,null,null,null,null,null,null,null,null,null,null,null,null,null,null,null,null,null,null,null,null,null,null,null,null,null,null,null,null,null,null,null,null,null,null,null,null,585,"","","",""]
[null,549,null,null,null,586,null,null,null,null,null,null,null,null,null,null,null,null,null,null,null,null,null,null,null,null,null,null,null,null,null,null,null,null,null,null,null,null,null,null,null,null,null,null,586,"","","",""]
[null,550,null,null,null,587,null,null,null,null,null,null,null,null,null,null,null,null,null,null,null,null,null,null,null,null,null,null,null,null,null,null,null,null,null,null,null,null,null,null,null,null,null,null,587,"","","",""]
[null,551,null,null,null,588,null,null,null,null,null,null,null,null,null,null,null,null,null,null,null,null,null,null,null,null,null,null,null,null,null,null,null,null,null,null,null,null,null,null,null,null,null,null,588,"","","",""]
[null,552,null,null,null,589,null,null,null,null,null,null,null,null,null,null,null,null,null,null,null,null,null,null,null,null,null,null,null,null,null,null,null,null,null,null,null,null,null,null,null,null,null,null,589,"","","",""]
[null,553,null,null,null,590,null,null,null,null,null,null,null,null,null,null,null,null,null,null,null,null,null,null,null,null,null,null,null,null,null,null,null,null,null,null,null,null,null,null,null,null,null,null,590,"","","",""]
[null,554,null,null,null,591,null,null,null,null,null,null,null,null,null,null,null,null,null,null,null,null,null,null,null,null,null,null,null,null,null,null,null,null,null,null,null,null,null,null,null,null,null,null,591,"","","",""]
[null,555,null,null,null,592,null,null,null,null,null,null,null,null,null,null,null,null,null,null,null,null,null,null,null,null,null,null,null,null,null,null,null,null,null,null,null,null,null,null,null,null,null,null,592,{"$f":"IF(G561=\"\",\"\",G561)","v":""},{"$f":"IF(H561=\"\",\"\",H561)","v":""},"",""]
[null,556,null,null,null,593,null,null,null,null,null,null,null,null,null,null,null,null,null,null,null,null,null,null,null,null,null,null,null,null,null,null,null,null,null,null,null,null,null,null,null,null,null,null,593,"","","",""]
[null,557,null,null,null,594,null,null,null,null,null,null,null,null,null,null,null,null,null,null,null,null,null,null,null,null,null,null,null,null,null,null,null,null,null,null,null,null,null,null,null,null,null,null,594,"","","",""]
[null,558,null,null,null,595,null,null,null,null,null,null,null,null,null,null,null,null,null,null,null,null,null,null,null,null,null,null,null,null,null,null,null,null,null,null,null,null,null,null,null,null,null,null,595,"","","",""]
[null,559,null,null,null,596,null,null,null,null,null,null,null,null,null,null,null,null,null,null,null,null,null,null,null,null,null,null,null,null,null,null,null,null,null,null,null,null,null,null,null,null,null,null,596,"","","",""]
[null,560,null,null,null,597,null,null,null,null,null,null,null,null,null,null,null,null,null,null,null,null,null,null,null,null,null,null,null,null,null,null,null,null,null,null,null,null,null,null,null,null,null,null,597,"","","",""]
[null,561,null,null,null,598,null,null,null,null,null,null,null,null,null,null,null,null,null,null,null,null,null,null,null,null,null,null,null,null,null,null,null,null,null,null,null,null,null,null,null,null,null,null,598,"","","",""]
[null,562,null,null,null,599,null,null,null,null,null,null,null,null,null,null,null,null,null,null,null,null,null,null,null,null,null,null,null,null,null,null,null,null,null,null,null,null,null,null,null,null,null,null,599,"","","",""]
[null,563,null,null,null,600,null,null,null,null,null,null,null,null,null,null,null,null,null,null,null,null,null,null,null,null,null,null,null,null,null,null,null,null,null,null,null,null,null,null,null,null,null,null,600,"","","",""]
[null,564,null,null,null,null,"2.09","DESPESAS NAO OPERACIONAIS",null,null,null,null,null,null,null,null,null,null,null,null,null,null,null,null,null,null,null,null,null,null,null,null,null,null,null,null,null,null,null,null,null,null,null,null,null,"2.09","DESPESAS NAO OPERACIONAIS"]
[null,565,null,null,null,601,"2.09.001","Suprimentos de Informática",null,null,null,null,null,null,null,null,null,null,null,null,null,null,null,null,null,null,null,null,null,null,null,null,null,null,null,null,null,null,null,null,null,null,null,null,601,"2.09.001","Suprimentos de Informática",{"$f":"IF(AU571=\"\",\"\",$AU$570)","v":"DESPESAS NAO OPERACIONAIS"},"SAIDAS"]
[null,566,null,null,null,602,"2.09.002","Ferramentas e Utensílios",null,null,null,null,null,null,null,null,null,null,null,null,null,null,null,null,null,null,null,null,null,null,null,null,null,null,null,null,null,null,null,null,null,null,null,null,602,"2.09.002","Ferramentas e Utensílios",{"$f":"IF(AU572=\"\",\"\",$AU$570)","v":"DESPESAS NAO OPERACIONAIS"},"SAIDAS"]
[null,567,null,null,null,603,"2.09.003","Acidentes de Trânsito",null,null,null,null,null,null,null,null,null,null,null,null,null,null,null,null,null,null,null,null,null,null,null,null,null,null,null,null,null,null,null,null,null,null,null,null,603,"2.09.003","Acidentes de Trânsito","DESPESAS NAO OPERACIONAIS","SAIDAS"]
[null,568,null,null,null,604,"2.09.004","Multas de Trânsito",null,null,null,null,null,null,null,null,null,null,null,null,null,null,null,null,null,null,null,null,null,null,null,null,null,null,null,null,null,null,null,null,null,null,null,null,604,"2.09.004","Multas de Trânsito","DESPESAS NAO OPERACIONAIS","SAIDAS"]
[null,569,null,null,null,605,"2.09.005","Animais de Estimação",null,null,null,null,null,null,null,null,null,null,null,null,null,null,null,null,null,null,null,null,null,null,null,null,null,null,null,null,null,null,null,null,null,null,null,null,605,"2.09.005","Animais de Estimação","DESPESAS NAO OPERACIONAIS","SAIDAS"]
[null,570,null,null,null,606,"2.09.006","Acidentes Familiáres",null,null,null,null,null,null,null,null,null,null,null,null,null,null,null,null,null,null,null,null,null,null,null,null,null,null,null,null,null,null,null,null,null,null,null,null,606,"2.09.006","Acidentes Familiáres","DESPESAS NAO OPERACIONAIS","SAIDAS"]
[null,571,null,null,null,607,null,null,null,null,null,null,null,null,null,null,null,null,null,null,null,null,null,null,null,null,null,null,null,null,null,null,null,null,null,null,null,null,null,null,null,null,null,null,607,"","","",""]
[null,572,null,null,null,608,null,null,null,null,null,null,null,null,null,null,null,null,null,null,null,null,null,null,null,null,null,null,null,null,null,null,null,null,null,null,null,null,null,null,null,null,null,null,608,"","","",""]
[null,573,null,null,null,609,null,null,null,null,null,null,null,null,null,null,null,null,null,null,null,null,null,null,null,null,null,null,null,null,null,null,null,null,null,null,null,null,null,null,null,null,null,null,609,"","","",""]
[null,574,null,null,null,610,null,null,null,null,null,null,null,null,null,null,null,null,null,null,null,null,null,null,null,null,null,null,null,null,null,null,null,null,null,null,null,null,null,null,null,null,null,null,610,"","","",""]
[null,575,null,null,null,611,null,null,null,null,null,null,null,null,null,null,null,null,null,null,null,null,null,null,null,null,null,null,null,null,null,null,null,null,null,null,null,null,null,null,null,null,null,null,611,"","","",""]
[null,576,null,null,null,612,null,null,null,null,null,null,null,null,null,null,null,null,null,null,null,null,null,null,null,null,null,null,null,null,null,null,null,null,null,null,null,null,null,null,null,null,null,null,612,"","","",""]
[null,577,null,null,null,613,null,null,null,null,null,null,null,null,null,null,null,null,null,null,null,null,null,null,null,null,null,null,null,null,null,null,null,null,null,null,null,null,null,null,null,null,null,null,613,"","","",""]
[null,578,null,null,null,614,null,null,null,null,null,null,null,null,null,null,null,null,null,null,null,null,null,null,null,null,null,null,null,null,null,null,null,null,null,null,null,null,null,null,null,null,null,null,614,"","","",""]
[null,579,null,null,null,615,null,null,null,null,null,null,null,null,null,null,null,null,null,null,null,null,null,null,null,null,null,null,null,null,null,null,null,null,null,null,null,null,null,null,null,null,null,null,615,"","","",""]
[null,580,null,null,null,616,null,null,null,null,null,null,null,null,null,null,null,null,null,null,null,null,null,null,null,null,null,null,null,null,null,null,null,null,null,null,null,null,null,null,null,null,null,null,616,"","","",""]
[null,581,null,null,null,617,null,null,null,null,null,null,null,null,null,null,null,null,null,null,null,null,null,null,null,null,null,null,null,null,null,null,null,null,null,null,null,null,null,null,null,null,null,null,617,"","","",""]
[null,582,null,null,null,618,null,null,null,null,null,null,null,null,null,null,null,null,null,null,null,null,null,null,null,null,null,null,null,null,null,null,null,null,null,null,null,null,null,null,null,null,null,null,618,"","","",""]
[null,583,null,null,null,619,null,null,null,null,null,null,null,null,null,null,null,null,null,null,null,null,null,null,null,null,null,null,null,null,null,null,null,null,null,null,null,null,null,null,null,null,null,null,619,"","","",""]
[null,584,null,null,null,620,null,null,null,null,null,null,null,null,null,null,null,null,null,null,null,null,null,null,null,null,null,null,null,null,null,null,null,null,null,null,null,null,null,null,null,null,null,null,620,"","","",""]
[null,585,null,null,null,621,null,null,null,null,null,null,null,null,null,null,null,null,null,null,null,null,null,null,null,null,null,null,null,null,null,null,null,null,null,null,null,null,null,null,null,null,null,null,621,"","","",""]
[null,586,null,null,null,622,null,null,null,null,null,null,null,null,null,null,null,null,null,null,null,null,null,null,null,null,null,null,null,null,null,null,null,null,null,null,null,null,null,null,null,null,null,null,622,"","","",""]
[null,587,null,null,null,623,null,null,null,null,null,null,null,null,null,null,null,null,null,null,null,null,null,null,null,null,null,null,null,null,null,null,null,null,null,null,null,null,null,null,null,null,null,null,623,"","","",""]
[null,588,null,null,null,624,null,null,null,null,null,null,null,null,null,null,null,null,null,null,null,null,null,null,null,null,null,null,null,null,null,null,null,null,null,null,null,null,null,null,null,null,null,null,624,"","","",""]
[null,589,null,null,null,625,null,null,null,null,null,null,null,null,null,null,null,null,null,null,null,null,null,null,null,null,null,null,null,null,null,null,null,null,null,null,null,null,null,null,null,null,null,null,625,"","","",""]
[null,590,null,null,null,626,null,null,null,null,null,null,null,null,null,null,null,null,null,null,null,null,null,null,null,null,null,null,null,null,null,null,null,null,null,null,null,null,null,null,null,null,null,null,626,"","","",""]
[null,591,null,null,null,627,null,null,null,null,null,null,null,null,null,null,null,null,null,null,null,null,null,null,null,null,null,null,null,null,null,null,null,null,null,null,null,null,null,null,null,null,null,null,627,"","","",""]
[null,592,null,null,null,628,null,null,null,null,null,null,null,null,null,null,null,null,null,null,null,null,null,null,null,null,null,null,null,null,null,null,null,null,null,null,null,null,null,null,null,null,null,null,628,"","","",""]
[null,593,null,null,null,629,null,null,null,null,null,null,null,null,null,null,null,null,null,null,null,null,null,null,null,null,null,null,null,null,null,null,null,null,null,null,null,null,null,null,null,null,null,null,629,"","","",""]
[null,594,null,null,null,630,null,null,null,null,null,null,null,null,null,null,null,null,null,null,null,null,null,null,null,null,null,null,null,null,null,null,null,null,null,null,null,null,null,null,null,null,null,null,630,"","","",""]
[null,595,null,null,null,631,null,null,null,null,null,null,null,null,null,null,null,null,null,null,null,null,null,null,null,null,null,null,null,null,null,null,null,null,null,null,null,null,null,null,null,null,null,null,631,"","","",""]
[null,596,null,null,null,632,null,null,null,null,null,null,null,null,null,null,null,null,null,null,null,null,null,null,null,null,null,null,null,null,null,null,null,null,null,null,null,null,null,null,null,null,null,null,632,"","","",""]
[null,597,null,null,null,633,null,null,null,null,null,null,null,null,null,null,null,null,null,null,null,null,null,null,null,null,null,null,null,null,null,null,null,null,null,null,null,null,null,null,null,null,null,null,633,"","","",""]
[null,598,null,null,null,634,null,null,null,null,null,null,null,null,null,null,null,null,null,null,null,null,null,null,null,null,null,null,null,null,null,null,null,null,null,null,null,null,null,null,null,null,null,null,634,"","","",""]
[null,599,null,null,null,635,null,null,null,null,null,null,null,null,null,null,null,null,null,null,null,null,null,null,null,null,null,null,null,null,null,null,null,null,null,null,null,null,null,null,null,null,null,null,635,"","","",""]
[null,600,null,null,null,636,null,null,null,null,null,null,null,null,null,null,null,null,null,null,null,null,null,null,null,null,null,null,null,null,null,null,null,null,null,null,null,null,null,null,null,null,null,null,636,"","","",""]
[null,601,null,null,null,637,null,null,null,null,null,null,null,null,null,null,null,null,null,null,null,null,null,null,null,null,null,null,null,null,null,null,null,null,null,null,null,null,null,null,null,null,null,null,637,"","","",""]
[null,602,null,null,null,638,null,null,null,null,null,null,null,null,null,null,null,null,null,null,null,null,null,null,null,null,null,null,null,null,null,null,null,null,null,null,null,null,null,null,null,null,null,null,638,"","","",""]
[null,603,null,null,null,639,null,null,null,null,null,null,null,null,null,null,null,null,null,null,null,null,null,null,null,null,null,null,null,null,null,null,null,null,null,null,null,null,null,null,null,null,null,null,639,"","","",""]
[null,604,null,null,null,640,null,null,null,null,null,null,null,null,null,null,null,null,null,null,null,null,null,null,null,null,null,null,null,null,null,null,null,null,null,null,null,null,null,null,null,null,null,null,640,"","","",""]
[null,605,null,null,null,641,null,null,null,null,null,null,null,null,null,null,null,null,null,null,null,null,null,null,null,null,null,null,null,null,null,null,null,null,null,null,null,null,null,null,null,null,null,null,641,"","","",""]
[null,606,null,null,null,642,null,null,null,null,null,null,null,null,null,null,null,null,null,null,null,null,null,null,null,null,null,null,null,null,null,null,null,null,null,null,null,null,null,null,null,null,null,null,642,"","","",""]
[null,607,null,null,null,643,null,null,null,null,null,null,null,null,null,null,null,null,null,null,null,null,null,null,null,null,null,null,null,null,null,null,null,null,null,null,null,null,null,null,null,null,null,null,643,"","","",""]
[null,608,null,null,null,644,null,null,null,null,null,null,null,null,null,null,null,null,null,null,null,null,null,null,null,null,null,null,null,null,null,null,null,null,null,null,null,null,null,null,null,null,null,null,644,"","","",{"$f":"IF(AU614=\"\",\"\",$AU$161)","v":""}]
[null,609,null,null,null,645,null,null,null,null,null,null,null,null,null,null,null,null,null,null,null,null,null,null,null,null,null,null,null,null,null,null,null,null,null,null,null,null,null,null,null,null,null,null,645,"","","",""]
[null,610,null,null,null,646,null,null,null,null,null,null,null,null,null,null,null,null,null,null,null,null,null,null,null,null,null,null,null,null,null,null,null,null,null,null,null,null,null,null,null,null,null,null,646,"","","",""]
[null,611,null,null,null,647,null,null,null,null,null,null,null,null,null,null,null,null,null,null,null,null,null,null,null,null,null,null,null,null,null,null,null,null,null,null,null,null,null,null,null,null,null,null,647,"","","",""]
[null,612,null,null,null,648,null,null,null,null,null,null,null,null,null,null,null,null,null,null,null,null,null,null,null,null,null,null,null,null,null,null,null,null,null,null,null,null,null,null,null,null,null,null,648,"","",{"$f":"IF(AU618=\"\",\"\",$AU$570)","v":""},""]
[null,613,null,null,null,649,null,null,null,null,null,null,null,null,null,null,null,null,null,null,null,null,null,null,null,null,null,null,null,null,null,null,null,null,null,null,null,null,null,null,null,null,null,null,649,"","","",""]
[null,614,null,null,null,650,null,null,null,null,null,null,null,null,null,null,null,null,null,null,null,null,null,null,null,null,null,null,null,null,null,null,null,null,null,null,null,null,null,null,null,null,null,null,650,"","","",""]
[null,615,null,null,null,null,"2.10","DESPESAS ADM GERAIS",null,null,null,null,null,null,null,null,null,null,null,null,null,null,null,null,null,null,null,null,null,null,null,null,null,null,null,null,null,null,null,null,null,null,null,null,null,"2.10","DESPESAS ADM GERAIS"]
[null,616,null,null,null,651,"2.10.001","Cartorio",null,null,null,null,null,null,null,null,null,null,null,null,null,null,null,null,null,null,null,null,null,null,null,null,null,null,null,null,null,null,null,null,null,null,null,null,651,"2.10.001","Cartorio",{"$f":"IF(AU622=\"\",\"\",$AU$621)","v":"DESPESAS ADM GERAIS"},"SAIDAS"]
[null,617,null,null,null,652,"2.10.002","Fotocopias",null,null,null,null,null,null,null,null,null,null,null,null,null,null,null,null,null,null,null,null,null,null,null,null,null,null,null,null,null,null,null,null,null,null,null,null,652,"2.10.002","Fotocopias",{"$f":"IF(AU623=\"\",\"\",$AU$621)","v":"DESPESAS ADM GERAIS"},"SAIDAS"]
[null,618,null,null,null,653,"2.10.003","Postagens",null,null,null,null,null,null,null,null,null,null,null,null,null,null,null,null,null,null,null,null,null,null,null,null,null,null,null,null,null,null,null,null,null,null,null,null,653,"2.10.003","Postagens","DESPESAS ADM GERAIS","SAIDAS"]
[null,619,null,null,null,654,"2.10.004","Material de Escritorio",null,null,null,null,null,null,null,null,null,null,null,null,null,null,null,null,null,null,null,null,null,null,null,null,null,null,null,null,null,null,null,null,null,null,null,null,654,{"$f":"IF(G625=\"\",\"\",G625)","v":"2.10.004"},{"$f":"IF(H625=\"\",\"\",H625)","v":"Material de Escritorio"},"DESPESAS ADM GERAIS","SAIDAS"]
[null,620,null,null,null,655,"2.10.005","Encadernações",null,null,null,null,null,null,null,null,null,null,null,null,null,null,null,null,null,null,null,null,null,null,null,null,null,null,null,null,null,null,null,null,null,null,null,null,655,"2.10.005","Encadernações","DESPESAS ADM GERAIS","SAIDAS"]
[null,621,null,null,null,656,"2.10.006","Jornais e Revistas",null,null,null,null,null,null,null,null,null,null,null,null,null,null,null,null,null,null,null,null,null,null,null,null,null,null,null,null,null,null,null,null,null,null,null,null,656,"2.10.006","Jornais e Revistas","DESPESAS ADM GERAIS","SAIDAS"]
[null,622,null,null,null,657,"2.10.007","Seguro de Vida",null,null,null,null,null,null,null,null,null,null,null,null,null,null,null,null,null,null,null,null,null,null,null,null,null,null,null,null,null,null,null,null,null,null,null,null,657,"2.10.007","Seguro de Vida","DESPESAS ADM GERAIS","SAIDAS"]
[null,623,null,null,null,658,"2.10.008","Telefone",null,null,null,null,null,null,null,null,null,null,null,null,null,null,null,null,null,null,null,null,null,null,null,null,null,null,null,null,null,null,null,null,null,null,null,null,658,"2.10.008","Telefone","DESPESAS ADM GERAIS","SAIDAS"]
[null,624,null,null,null,659,"2.10.009","Energia Elétrica",null,null,null,null,null,null,null,null,null,null,null,null,null,null,null,null,null,null,null,null,null,null,null,null,null,null,null,null,null,null,null,null,null,null,null,null,659,"2.10.009","Energia Elétrica","DESPESAS ADM GERAIS","SAIDAS"]
[null,625,null,null,null,660,"2.10.010","Água e Esgoto",null,null,null,null,null,null,null,null,null,null,null,null,null,null,null,null,null,null,null,null,null,null,null,null,null,null,null,null,null,null,null,null,null,null,null,null,660,"2.10.010","Água e Esgoto","DESPESAS ADM GERAIS","SAIDAS"]
[null,626,null,null,null,661,"2.10.011","Internet",null,null,null,null,null,null,null,null,null,null,null,null,null,null,null,null,null,null,null,null,null,null,null,null,null,null,null,null,null,null,null,null,null,null,null,null,661,"2.10.011","Internet","DESPESAS ADM GERAIS","SAIDAS"]
[null,627,null,null,null,662,"2.10.012","Estacionamento",null,null,null,null,null,null,null,null,null,null,null,null,null,null,null,null,null,null,null,null,null,null,null,null,null,null,null,null,null,null,null,null,null,null,null,null,662,"2.10.012","Estacionamento","DESPESAS ADM GERAIS","SAIDAS"]
[null,628,null,null,null,663,"2.10.013","Combustível",null,null,null,null,null,null,null,null,null,null,null,null,null,null,null,null,null,null,null,null,null,null,null,null,null,null,null,null,null,null,null,null,null,null,null,null,663,"2.10.013","Combustível","DESPESAS ADM GERAIS","SAIDAS"]
[null,629,null,null,null,664,"2.10.014","Gás",null,null,null,null,null,null,null,null,null,null,null,null,null,null,null,null,null,null,null,null,null,null,null,null,null,null,null,null,null,null,null,null,null,null,null,null,664,"2.10.014","Gás","DESPESAS ADM GERAIS","SAIDAS"]
[null,630,null,null,null,665,"2.10.015","Revelações",null,null,null,null,null,null,null,null,null,null,null,null,null,null,null,null,null,null,null,null,null,null,null,null,null,null,null,null,null,null,null,null,null,null,null,null,665,"2.10.015","Revelações","DESPESAS ADM GERAIS","SAIDAS"]
[null,631,null,null,null,666,"2.10.016","Condomínio",null,null,null,null,null,null,null,null,null,null,null,null,null,null,null,null,null,null,null,null,null,null,null,null,null,null,null,null,null,null,null,null,null,null,null,null,666,"2.10.016","Condomínio","DESPESAS ADM GERAIS","SAIDAS"]
[null,632,null,null,null,667,"2.10.017","Serviços de Streaming",null,null,null,null,null,null,null,null,null,null,null,null,null,null,null,null,null,null,null,null,null,null,null,null,null,null,null,null,null,null,null,null,null,null,null,null,667,"2.10.017","Serviços de Streaming","DESPESAS ADM GERAIS","SAIDAS"]
[null,633,null,null,null,668,null,null,null,null,null,null,null,null,null,null,null,null,null,null,null,null,null,null,null,null,null,null,null,null,null,null,null,null,null,null,null,null,null,null,null,null,null,null,668,"","","",""]
[null,634,null,null,null,669,null,null,null,null,null,null,null,null,null,null,null,null,null,null,null,null,null,null,null,null,null,null,null,null,null,null,null,null,null,null,null,null,null,null,null,null,null,null,669,"","","",""]
[null,635,null,null,null,670,null,null,null,null,null,null,null,null,null,null,null,null,null,null,null,null,null,null,null,null,null,null,null,null,null,null,null,null,null,null,null,null,null,null,null,null,null,null,670,"","","",""]
[null,636,null,null,null,671,null,null,null,null,null,null,null,null,null,null,null,null,null,null,null,null,null,null,null,null,null,null,null,null,null,null,null,null,null,null,null,null,null,null,null,null,null,null,671,"","","",""]
[null,637,null,null,null,672,null,null,null,null,null,null,null,null,null,null,null,null,null,null,null,null,null,null,null,null,null,null,null,null,null,null,null,null,null,null,null,null,null,null,null,null,null,null,672,"","","",""]
[null,638,null,null,null,673,null,null,null,null,null,null,null,null,null,null,null,null,null,null,null,null,null,null,null,null,null,null,null,null,null,null,null,null,null,null,null,null,null,null,null,null,null,null,673,"","","",""]
[null,639,null,null,null,674,null,null,null,null,null,null,null,null,null,null,null,null,null,null,null,null,null,null,null,null,null,null,null,null,null,null,null,null,null,null,null,null,null,null,null,null,null,null,674,"","","",""]
[null,640,null,null,null,675,null,null,null,null,null,null,null,null,null,null,null,null,null,null,null,null,null,null,null,null,null,null,null,null,null,null,null,null,null,null,null,null,null,null,null,null,null,null,675,"","","",""]
[null,641,null,null,null,676,null,null,null,null,null,null,null,null,null,null,null,null,null,null,null,null,null,null,null,null,null,null,null,null,null,null,null,null,null,null,null,null,null,null,null,null,null,null,676,"","","",""]
[null,642,null,null,null,677,null,null,null,null,null,null,null,null,null,null,null,null,null,null,null,null,null,null,null,null,null,null,null,null,null,null,null,null,null,null,null,null,null,null,null,null,null,null,677,"","","",""]
[null,643,null,null,null,678,null,null,null,null,null,null,null,null,null,null,null,null,null,null,null,null,null,null,null,null,null,null,null,null,null,null,null,null,null,null,null,null,null,null,null,null,null,null,678,"","","",""]
[null,644,null,null,null,679,null,null,null,null,null,null,null,null,null,null,null,null,null,null,null,null,null,null,null,null,null,null,null,null,null,null,null,null,null,null,null,null,null,null,null,null,null,null,679,"","","",""]
[null,645,null,null,null,680,null,null,null,null,null,null,null,null,null,null,null,null,null,null,null,null,null,null,null,null,null,null,null,null,null,null,null,null,null,null,null,null,null,null,null,null,null,null,680,"","","",""]
[null,646,null,null,null,681,null,null,null,null,null,null,null,null,null,null,null,null,null,null,null,null,null,null,null,null,null,null,null,null,null,null,null,null,null,null,null,null,null,null,null,null,null,null,681,"","","",""]
[null,647,null,null,null,682,null,null,null,null,null,null,null,null,null,null,null,null,null,null,null,null,null,null,null,null,null,null,null,null,null,null,null,null,null,null,null,null,null,null,null,null,null,null,682,"","","",""]
[null,648,null,null,null,683,null,null,null,null,null,null,null,null,null,null,null,null,null,null,null,null,null,null,null,null,null,null,null,null,null,null,null,null,null,null,null,null,null,null,null,null,null,null,683,"","","",""]
[null,649,null,null,null,684,null,null,null,null,null,null,null,null,null,null,null,null,null,null,null,null,null,null,null,null,null,null,null,null,null,null,null,null,null,null,null,null,null,null,null,null,null,null,684,"","","",""]
[null,650,null,null,null,685,null,null,null,null,null,null,null,null,null,null,null,null,null,null,null,null,null,null,null,null,null,null,null,null,null,null,null,null,null,null,null,null,null,null,null,null,null,null,685,"","","",""]
[null,651,null,null,null,686,null,null,null,null,null,null,null,null,null,null,null,null,null,null,null,null,null,null,null,null,null,null,null,null,null,null,null,null,null,null,null,null,null,null,null,null,null,null,686,"","","",""]
[null,652,null,null,null,687,null,null,null,null,null,null,null,null,null,null,null,null,null,null,null,null,null,null,null,null,null,null,null,null,null,null,null,null,null,null,null,null,null,null,null,null,null,null,687,"","","",""]
[null,653,null,null,null,688,null,null,null,null,null,null,null,null,null,null,null,null,null,null,null,null,null,null,null,null,null,null,null,null,null,null,null,null,null,null,null,null,null,null,null,null,null,null,688,"","","",""]
[null,654,null,null,null,689,null,null,null,null,null,null,null,null,null,null,null,null,null,null,null,null,null,null,null,null,null,null,null,null,null,null,null,null,null,null,null,null,null,null,null,null,null,null,689,"","","",""]
[null,655,null,null,null,690,null,null,null,null,null,null,null,null,null,null,null,null,null,null,null,null,null,null,null,null,null,null,null,null,null,null,null,null,null,null,null,null,null,null,null,null,null,null,690,"","","",""]
[null,656,null,null,null,691,null,null,null,null,null,null,null,null,null,null,null,null,null,null,null,null,null,null,null,null,null,null,null,null,null,null,null,null,null,null,null,null,null,null,null,null,null,null,691,"","","",""]
[null,657,null,null,null,692,null,null,null,null,null,null,null,null,null,null,null,null,null,null,null,null,null,null,null,null,null,null,null,null,null,null,null,null,null,null,null,null,null,null,null,null,null,null,692,"","","",""]
[null,658,null,null,null,693,null,null,null,null,null,null,null,null,null,null,null,null,null,null,null,null,null,null,null,null,null,null,null,null,null,null,null,null,null,null,null,null,null,null,null,null,null,null,693,"","","",""]
[null,659,null,null,null,694,null,null,null,null,null,null,null,null,null,null,null,null,null,null,null,null,null,null,null,null,null,null,null,null,null,null,null,null,null,null,null,null,null,null,null,null,null,null,694,"","","",""]
[null,660,null,null,null,695,null,null,null,null,null,null,null,null,null,null,null,null,null,null,null,null,null,null,null,null,null,null,null,null,null,null,null,null,null,null,null,null,null,null,null,null,null,null,695,"","","",""]
[null,661,null,null,null,696,null,null,null,null,null,null,null,null,null,null,null,null,null,null,null,null,null,null,null,null,null,null,null,null,null,null,null,null,null,null,null,null,null,null,null,null,null,null,696,"","","",""]
[null,662,null,null,null,697,null,null,null,null,null,null,null,null,null,null,null,null,null,null,null,null,null,null,null,null,null,null,null,null,null,null,null,null,null,null,null,null,null,null,null,null,null,null,697,"","","",""]
[null,663,null,null,null,698,null,null,null,null,null,null,null,null,null,null,null,null,null,null,null,null,null,null,null,null,null,null,null,null,null,null,null,null,null,null,null,null,null,null,null,null,null,null,698,"","","",""]
[null,664,null,null,null,699,null,null,null,null,null,null,null,null,null,null,null,null,null,null,null,null,null,null,null,null,null,null,null,null,null,null,null,null,null,null,null,null,null,null,null,null,null,null,699,"","","",""]
[null,665,null,null,null,700,null,null,null,null,null,null,null,null,null,null,null,null,null,null,null,null,null,null,null,null,null,null,null,null,null,null,null,null,null,null,null,null,null,null,null,null,null,null,700,"","","",""]
[null,666,null,null,null,null,"2.11","VIAGENS",null,null,null,null,null,null,null,null,null,null,null,null,null,null,null,null,null,null,null,null,null,null,null,null,null,null,null,null,null,null,null,null,null,null,null,null,null,"2.11","VIAGENS"]
[null,667,null,null,null,701,"2.11.001","Alimentação",null,null,null,null,null,null,null,null,null,null,null,null,null,null,null,null,null,null,null,null,null,null,null,null,null,null,null,null,null,null,null,null,null,null,null,null,701,"2.11.001","Alimentação",{"$f":"IF(AU673=\"\",\"\",$AU$672)","v":"VIAGENS"},"SAIDAS"]
[null,668,null,null,null,702,"2.11.002","Estadia",null,null,null,null,null,null,null,null,null,null,null,null,null,null,null,null,null,null,null,null,null,null,null,null,null,null,null,null,null,null,null,null,null,null,null,null,702,"2.11.002","Estadia",{"$f":"IF(AU674=\"\",\"\",$AU$672)","v":"VIAGENS"},"SAIDAS"]
[null,669,null,null,null,703,"2.11.003","Passagens",null,null,null,null,null,null,null,null,null,null,null,null,null,null,null,null,null,null,null,null,null,null,null,null,null,null,null,null,null,null,null,null,null,null,null,null,703,"2.11.003","Passagens","VIAGENS","SAIDAS"]
[null,670,null,null,null,704,"2.11.004","Pedágios",null,null,null,null,null,null,null,null,null,null,null,null,null,null,null,null,null,null,null,null,null,null,null,null,null,null,null,null,null,null,null,null,null,null,null,null,704,"2.11.004","Pedágios","VIAGENS","SAIDAS"]
[null,671,null,null,null,705,null,null,null,null,null,null,null,null,null,null,null,null,null,null,null,null,null,null,null,null,null,null,null,null,null,null,null,null,null,null,null,null,null,null,null,null,null,null,705,"","","",""]
[null,672,null,null,null,706,null,null,null,null,null,null,null,null,null,null,null,null,null,null,null,null,null,null,null,null,null,null,null,null,null,null,null,null,null,null,null,null,null,null,null,null,null,null,706,"","","",{"$f":"IF(AU678=\"\",\"\",$AU$161)","v":""}]
[null,673,null,null,null,707,null,null,null,null,null,null,null,null,null,null,null,null,null,null,null,null,null,null,null,null,null,null,null,null,null,null,null,null,null,null,null,null,null,null,null,null,null,null,707,"","","",""]
[null,674,null,null,null,708,null,null,null,null,null,null,null,null,null,null,null,null,null,null,null,null,null,null,null,null,null,null,null,null,null,null,null,null,null,null,null,null,null,null,null,null,null,null,708,"","","",""]
[null,675,null,null,null,709,null,null,null,null,null,null,null,null,null,null,null,null,null,null,null,null,null,null,null,null,null,null,null,null,null,null,null,null,null,null,null,null,null,null,null,null,null,null,709,"","","",""]
[null,676,null,null,null,710,null,null,null,null,null,null,null,null,null,null,null,null,null,null,null,null,null,null,null,null,null,null,null,null,null,null,null,null,null,null,null,null,null,null,null,null,null,null,710,"","","",""]
[null,677,null,null,null,711,null,null,null,null,null,null,null,null,null,null,null,null,null,null,null,null,null,null,null,null,null,null,null,null,null,null,null,null,null,null,null,null,null,null,null,null,null,null,711,"","","",""]
[null,678,null,null,null,712,null,null,null,null,null,null,null,null,null,null,null,null,null,null,null,null,null,null,null,null,null,null,null,null,null,null,null,null,null,null,null,null,null,null,null,null,null,null,712,"","","",""]
[null,679,null,null,null,713,null,null,null,null,null,null,null,null,null,null,null,null,null,null,null,null,null,null,null,null,null,null,null,null,null,null,null,null,null,null,null,null,null,null,null,null,null,null,713,"","","",""]
[null,680,null,null,null,714,null,null,null,null,null,null,null,null,null,null,null,null,null,null,null,null,null,null,null,null,null,null,null,null,null,null,null,null,null,null,null,null,null,null,null,null,null,null,714,"","","",""]
[null,681,null,null,null,715,null,null,null,null,null,null,null,null,null,null,null,null,null,null,null,null,null,null,null,null,null,null,null,null,null,null,null,null,null,null,null,null,null,null,null,null,null,null,715,"","","",""]
[null,682,null,null,null,716,null,null,null,null,null,null,null,null,null,null,null,null,null,null,null,null,null,null,null,null,null,null,null,null,null,null,null,null,null,null,null,null,null,null,null,null,null,null,716,"","","",""]
[null,683,null,null,null,717,null,null,null,null,null,null,null,null,null,null,null,null,null,null,null,null,null,null,null,null,null,null,null,null,null,null,null,null,null,null,null,null,null,null,null,null,null,null,717,{"$f":"IF(G689=\"\",\"\",G689)","v":""},{"$f":"IF(H689=\"\",\"\",H689)","v":""},"",""]
[null,684,null,null,null,718,null,null,null,null,null,null,null,null,null,null,null,null,null,null,null,null,null,null,null,null,null,null,null,null,null,null,null,null,null,null,null,null,null,null,null,null,null,null,718,"","","",""]
[null,685,null,null,null,719,null,null,null,null,null,null,null,null,null,null,null,null,null,null,null,null,null,null,null,null,null,null,null,null,null,null,null,null,null,null,null,null,null,null,null,null,null,null,719,"","","",""]
[null,686,null,null,null,720,null,null,null,null,null,null,null,null,null,null,null,null,null,null,null,null,null,null,null,null,null,null,null,null,null,null,null,null,null,null,null,null,null,null,null,null,null,null,720,"","","",""]
[null,687,null,null,null,721,null,null,null,null,null,null,null,null,null,null,null,null,null,null,null,null,null,null,null,null,null,null,null,null,null,null,null,null,null,null,null,null,null,null,null,null,null,null,721,"","","",""]
[null,688,null,null,null,722,null,null,null,null,null,null,null,null,null,null,null,null,null,null,null,null,null,null,null,null,null,null,null,null,null,null,null,null,null,null,null,null,null,null,null,null,null,null,722,"","","",""]
[null,689,null,null,null,723,null,null,null,null,null,null,null,null,null,null,null,null,null,null,null,null,null,null,null,null,null,null,null,null,null,null,null,null,null,null,null,null,null,null,null,null,null,null,723,"","","",""]
[null,690,null,null,null,724,null,null,null,null,null,null,null,null,null,null,null,null,null,null,null,null,null,null,null,null,null,null,null,null,null,null,null,null,null,null,null,null,null,null,null,null,null,null,724,"","","",""]
[null,691,null,null,null,725,null,null,null,null,null,null,null,null,null,null,null,null,null,null,null,null,null,null,null,null,null,null,null,null,null,null,null,null,null,null,null,null,null,null,null,null,null,null,725,"","","",""]
[null,692,null,null,null,726,null,null,null,null,null,null,null,null,null,null,null,null,null,null,null,null,null,null,null,null,null,null,null,null,null,null,null,null,null,null,null,null,null,null,null,null,null,null,726,"","","",""]
[null,693,null,null,null,727,null,null,null,null,null,null,null,null,null,null,null,null,null,null,null,null,null,null,null,null,null,null,null,null,null,null,null,null,null,null,null,null,null,null,null,null,null,null,727,"","","",""]
[null,694,null,null,null,728,null,null,null,null,null,null,null,null,null,null,null,null,null,null,null,null,null,null,null,null,null,null,null,null,null,null,null,null,null,null,null,null,null,null,null,null,null,null,728,"","","",""]
[null,695,null,null,null,729,null,null,null,null,null,null,null,null,null,null,null,null,null,null,null,null,null,null,null,null,null,null,null,null,null,null,null,null,null,null,null,null,null,null,null,null,null,null,729,"","","",""]
[null,696,null,null,null,730,null,null,null,null,null,null,null,null,null,null,null,null,null,null,null,null,null,null,null,null,null,null,null,null,null,null,null,null,null,null,null,null,null,null,null,null,null,null,730,"","","",""]
[null,697,null,null,null,731,null,null,null,null,null,null,null,null,null,null,null,null,null,null,null,null,null,null,null,null,null,null,null,null,null,null,null,null,null,null,null,null,null,null,null,null,null,null,731,"","","",""]
[null,698,null,null,null,732,null,null,null,null,null,null,null,null,null,null,null,null,null,null,null,null,null,null,null,null,null,null,null,null,null,null,null,null,null,null,null,null,null,null,null,null,null,null,732,"","","",""]
[null,699,null,null,null,733,null,null,null,null,null,null,null,null,null,null,null,null,null,null,null,null,null,null,null,null,null,null,null,null,null,null,null,null,null,null,null,null,null,null,null,null,null,null,733,"","","",""]
[null,700,null,null,null,734,null,null,null,null,null,null,null,null,null,null,null,null,null,null,null,null,null,null,null,null,null,null,null,null,null,null,null,null,null,null,null,null,null,null,null,null,null,null,734,"","","",""]
[null,701,null,null,null,735,null,null,null,null,null,null,null,null,null,null,null,null,null,null,null,null,null,null,null,null,null,null,null,null,null,null,null,null,null,null,null,null,null,null,null,null,null,null,735,"","","",""]
[null,702,null,null,null,736,null,null,null,null,null,null,null,null,null,null,null,null,null,null,null,null,null,null,null,null,null,null,null,null,null,null,null,null,null,null,null,null,null,null,null,null,null,null,736,"","","",""]
[null,703,null,null,null,737,null,null,null,null,null,null,null,null,null,null,null,null,null,null,null,null,null,null,null,null,null,null,null,null,null,null,null,null,null,null,null,null,null,null,null,null,null,null,737,"","","",""]
[null,704,null,null,null,738,null,null,null,null,null,null,null,null,null,null,null,null,null,null,null,null,null,null,null,null,null,null,null,null,null,null,null,null,null,null,null,null,null,null,null,null,null,null,738,"","","",""]
[null,705,null,null,null,739,null,null,null,null,null,null,null,null,null,null,null,null,null,null,null,null,null,null,null,null,null,null,null,null,null,null,null,null,null,null,null,null,null,null,null,null,null,null,739,"","","",""]
[null,706,null,null,null,740,null,null,null,null,null,null,null,null,null,null,null,null,null,null,null,null,null,null,null,null,null,null,null,null,null,null,null,null,null,null,null,null,null,null,null,null,null,null,740,"","","",""]
[null,707,null,null,null,741,null,null,null,null,null,null,null,null,null,null,null,null,null,null,null,null,null,null,null,null,null,null,null,null,null,null,null,null,null,null,null,null,null,null,null,null,null,null,741,"","","",""]
[null,708,null,null,null,742,null,null,null,null,null,null,null,null,null,null,null,null,null,null,null,null,null,null,null,null,null,null,null,null,null,null,null,null,null,null,null,null,null,null,null,null,null,null,742,"","","",""]
[null,709,null,null,null,743,null,null,null,null,null,null,null,null,null,null,null,null,null,null,null,null,null,null,null,null,null,null,null,null,null,null,null,null,null,null,null,null,null,null,null,null,null,null,743,"","","",""]
[null,710,null,null,null,744,null,null,null,null,null,null,null,null,null,null,null,null,null,null,null,null,null,null,null,null,null,null,null,null,null,null,null,null,null,null,null,null,null,null,null,null,null,null,744,"","","",""]
[null,711,null,null,null,745,null,null,null,null,null,null,null,null,null,null,null,null,null,null,null,null,null,null,null,null,null,null,null,null,null,null,null,null,null,null,null,null,null,null,null,null,null,null,745,"","","",""]
[null,712,null,null,null,746,null,null,null,null,null,null,null,null,null,null,null,null,null,null,null,null,null,null,null,null,null,null,null,null,null,null,null,null,null,null,null,null,null,null,null,null,null,null,746,"","","",""]
[null,713,null,null,null,747,null,null,null,null,null,null,null,null,null,null,null,null,null,null,null,null,null,null,null,null,null,null,null,null,null,null,null,null,null,null,null,null,null,null,null,null,null,null,747,"","","",""]
[null,714,null,null,null,748,null,null,null,null,null,null,null,null,null,null,null,null,null,null,null,null,null,null,null,null,null,null,null,null,null,null,null,null,null,null,null,null,null,null,null,null,null,null,748,"","","",""]
[null,715,null,null,null,749,null,null,null,null,null,null,null,null,null,null,null,null,null,null,null,null,null,null,null,null,null,null,null,null,null,null,null,null,null,null,null,null,null,null,null,null,null,null,749,"","","",""]
[null,716,null,null,null,750,null,null,null,null,null,null,null,null,null,null,null,null,null,null,null,null,null,null,null,null,null,null,null,null,null,null,null,null,null,null,null,null,null,null,null,null,null,null,750,"","","",""]
[null,717,null,null,null,null,"2.12","ASSESSORIAS",null,null,null,null,null,null,null,null,null,null,null,null,null,null,null,null,null,null,null,null,null,null,null,null,null,null,null,null,null,null,null,null,null,null,null,null,null,"2.12","ASSESSORIAS"]
[null,718,null,null,null,751,"2.12.001","Assessoria Empresarial",null,null,null,null,null,null,null,null,null,null,null,null,null,null,null,null,null,null,null,null,null,null,null,null,null,null,null,null,null,null,null,null,null,null,null,null,751,"2.12.001","Assessoria Empresarial",{"$f":"IF(AU724=\"\",\"\",$AU$723)","v":"ASSESSORIAS"},"SAIDAS"]
[null,719,null,null,null,752,"2.12.002","Assessoria Juridica",null,null,null,null,null,null,null,null,null,null,null,null,null,null,null,null,null,null,null,null,null,null,null,null,null,null,null,null,null,null,null,null,null,null,null,null,752,"2.12.002","Assessoria Juridica",{"$f":"IF(AU725=\"\",\"\",$AU$723)","v":"ASSESSORIAS"},"SAIDAS"]
[null,720,null,null,null,753,"2.12.003","Assessoria Contabil",null,null,null,null,null,null,null,null,null,null,null,null,null,null,null,null,null,null,null,null,null,null,null,null,null,null,null,null,null,null,null,null,null,null,null,null,753,"2.12.003","Assessoria Contabil","ASSESSORIAS","SAIDAS"]
[null,721,null,null,null,754,"2.12.004","Assessoria de Comunicação",null,null,null,null,null,null,null,null,null,null,null,null,null,null,null,null,null,null,null,null,null,null,null,null,null,null,null,null,null,null,null,null,null,null,null,null,754,"2.12.004","Assessoria de Comunicação","ASSESSORIAS","SAIDAS"]
[null,722,null,null,null,755,"2.12.005","Assessoria de Informatica",null,null,null,null,null,null,null,null,null,null,null,null,null,null,null,null,null,null,null,null,null,null,null,null,null,null,null,null,null,null,null,null,null,null,null,null,755,"2.12.005","Assessoria de Informatica","ASSESSORIAS","SAIDAS"]
[null,723,null,null,null,756,"2.12.006","Assessoria de Prof. Especializados",null,null,null,null,null,null,null,null,null,null,null,null,null,null,null,null,null,null,null,null,null,null,null,null,null,null,null,null,null,null,null,null,null,null,null,null,756,"2.12.006","Assessoria de Prof. Especializados","ASSESSORIAS","SAIDAS"]
[null,724,null,null,null,757,"2.12.007","Assessoria Imobiliária",null,null,null,null,null,null,null,null,null,null,null,null,null,null,null,null,null,null,null,null,null,null,null,null,null,null,null,null,null,null,null,null,null,null,null,null,757,"2.12.007","Assessoria Imobiliária","ASSESSORIAS","SAIDAS"]
[null,725,null,null,null,758,null,null,null,null,null,null,null,null,null,null,null,null,null,null,null,null,null,null,null,null,null,null,null,null,null,null,null,null,null,null,null,null,null,null,null,null,null,null,758,"","","",""]
[null,726,null,null,null,759,null,null,null,null,null,null,null,null,null,null,null,null,null,null,null,null,null,null,null,null,null,null,null,null,null,null,null,null,null,null,null,null,null,null,null,null,null,null,759,"","","",""]
[null,727,null,null,null,760,null,null,null,null,null,null,null,null,null,null,null,null,null,null,null,null,null,null,null,null,null,null,null,null,null,null,null,null,null,null,null,null,null,null,null,null,null,null,760,"","","",""]
[null,728,null,null,null,761,null,null,null,null,null,null,null,null,null,null,null,null,null,null,null,null,null,null,null,null,null,null,null,null,null,null,null,null,null,null,null,null,null,null,null,null,null,null,761,"","","",""]
[null,729,null,null,null,762,null,null,null,null,null,null,null,null,null,null,null,null,null,null,null,null,null,null,null,null,null,null,null,null,null,null,null,null,null,null,null,null,null,null,null,null,null,null,762,"","","",""]
[null,730,null,null,null,763,null,null,null,null,null,null,null,null,null,null,null,null,null,null,null,null,null,null,null,null,null,null,null,null,null,null,null,null,null,null,null,null,null,null,null,null,null,null,763,"","","",""]
[null,731,null,null,null,764,null,null,null,null,null,null,null,null,null,null,null,null,null,null,null,null,null,null,null,null,null,null,null,null,null,null,null,null,null,null,null,null,null,null,null,null,null,null,764,"","","",""]
[null,732,null,null,null,765,null,null,null,null,null,null,null,null,null,null,null,null,null,null,null,null,null,null,null,null,null,null,null,null,null,null,null,null,null,null,null,null,null,null,null,null,null,null,765,"","","",""]
[null,733,null,null,null,766,null,null,null,null,null,null,null,null,null,null,null,null,null,null,null,null,null,null,null,null,null,null,null,null,null,null,null,null,null,null,null,null,null,null,null,null,null,null,766,"","","",""]
[null,734,null,null,null,767,null,null,null,null,null,null,null,null,null,null,null,null,null,null,null,null,null,null,null,null,null,null,null,null,null,null,null,null,null,null,null,null,null,null,null,null,null,null,767,"","","",""]
[null,735,null,null,null,768,null,null,null,null,null,null,null,null,null,null,null,null,null,null,null,null,null,null,null,null,null,null,null,null,null,null,null,null,null,null,null,null,null,null,null,null,null,null,768,"","","",""]
[null,736,null,null,null,769,null,null,null,null,null,null,null,null,null,null,null,null,null,null,null,null,null,null,null,null,null,null,null,null,null,null,null,null,null,null,null,null,null,null,null,null,null,null,769,"","","",{"$f":"IF(AU742=\"\",\"\",$AU$161)","v":""}]
[null,737,null,null,null,770,null,null,null,null,null,null,null,null,null,null,null,null,null,null,null,null,null,null,null,null,null,null,null,null,null,null,null,null,null,null,null,null,null,null,null,null,null,null,770,"","","",""]
[null,738,null,null,null,771,null,null,null,null,null,null,null,null,null,null,null,null,null,null,null,null,null,null,null,null,null,null,null,null,null,null,null,null,null,null,null,null,null,null,null,null,null,null,771,"","","",""]
[null,739,null,null,null,772,null,null,null,null,null,null,null,null,null,null,null,null,null,null,null,null,null,null,null,null,null,null,null,null,null,null,null,null,null,null,null,null,null,null,null,null,null,null,772,"","","",""]
[null,740,null,null,null,773,null,null,null,null,null,null,null,null,null,null,null,null,null,null,null,null,null,null,null,null,null,null,null,null,null,null,null,null,null,null,null,null,null,null,null,null,null,null,773,"","","",""]
[null,741,null,null,null,774,null,null,null,null,null,null,null,null,null,null,null,null,null,null,null,null,null,null,null,null,null,null,null,null,null,null,null,null,null,null,null,null,null,null,null,null,null,null,774,"","","",""]
[null,742,null,null,null,775,null,null,null,null,null,null,null,null,null,null,null,null,null,null,null,null,null,null,null,null,null,null,null,null,null,null,null,null,null,null,null,null,null,null,null,null,null,null,775,"","","",""]
[null,743,null,null,null,776,null,null,null,null,null,null,null,null,null,null,null,null,null,null,null,null,null,null,null,null,null,null,null,null,null,null,null,null,null,null,null,null,null,null,null,null,null,null,776,"","","",""]
[null,744,null,null,null,777,null,null,null,null,null,null,null,null,null,null,null,null,null,null,null,null,null,null,null,null,null,null,null,null,null,null,null,null,null,null,null,null,null,null,null,null,null,null,777,"","","",""]
[null,745,null,null,null,778,null,null,null,null,null,null,null,null,null,null,null,null,null,null,null,null,null,null,null,null,null,null,null,null,null,null,null,null,null,null,null,null,null,null,null,null,null,null,778,"","","",""]
[null,746,null,null,null,779,null,null,null,null,null,null,null,null,null,null,null,null,null,null,null,null,null,null,null,null,null,null,null,null,null,null,null,null,null,null,null,null,null,null,null,null,null,null,779,"","","",""]
[null,747,null,null,null,780,null,null,null,null,null,null,null,null,null,null,null,null,null,null,null,null,null,null,null,null,null,null,null,null,null,null,null,null,null,null,null,null,null,null,null,null,null,null,780,{"$f":"IF(G753=\"\",\"\",G753)","v":""},{"$f":"IF(H753=\"\",\"\",H753)","v":""},"",""]
[null,748,null,null,null,781,null,null,null,null,null,null,null,null,null,null,null,null,null,null,null,null,null,null,null,null,null,null,null,null,null,null,null,null,null,null,null,null,null,null,null,null,null,null,781,"","","",""]
[null,749,null,null,null,782,null,null,null,null,null,null,null,null,null,null,null,null,null,null,null,null,null,null,null,null,null,null,null,null,null,null,null,null,null,null,null,null,null,null,null,null,null,null,782,"","","",""]
[null,750,null,null,null,783,null,null,null,null,null,null,null,null,null,null,null,null,null,null,null,null,null,null,null,null,null,null,null,null,null,null,null,null,null,null,null,null,null,null,null,null,null,null,783,"","","",""]
[null,751,null,null,null,784,null,null,null,null,null,null,null,null,null,null,null,null,null,null,null,null,null,null,null,null,null,null,null,null,null,null,null,null,null,null,null,null,null,null,null,null,null,null,784,"","","",""]
[null,752,null,null,null,785,null,null,null,null,null,null,null,null,null,null,null,null,null,null,null,null,null,null,null,null,null,null,null,null,null,null,null,null,null,null,null,null,null,null,null,null,null,null,785,"","","",""]
[null,753,null,null,null,786,null,null,null,null,null,null,null,null,null,null,null,null,null,null,null,null,null,null,null,null,null,null,null,null,null,null,null,null,null,null,null,null,null,null,null,null,null,null,786,"","","",""]
[null,754,null,null,null,787,null,null,null,null,null,null,null,null,null,null,null,null,null,null,null,null,null,null,null,null,null,null,null,null,null,null,null,null,null,null,null,null,null,null,null,null,null,null,787,"","","",""]
[null,755,null,null,null,788,null,null,null,null,null,null,null,null,null,null,null,null,null,null,null,null,null,null,null,null,null,null,null,null,null,null,null,null,null,null,null,null,null,null,null,null,null,null,788,"","","",""]
[null,756,null,null,null,789,null,null,null,null,null,null,null,null,null,null,null,null,null,null,null,null,null,null,null,null,null,null,null,null,null,null,null,null,null,null,null,null,null,null,null,null,null,null,789,"","","",""]
[null,757,null,null,null,790,null,null,null,null,null,null,null,null,null,null,null,null,null,null,null,null,null,null,null,null,null,null,null,null,null,null,null,null,null,null,null,null,null,null,null,null,null,null,790,"","","",""]
[null,758,null,null,null,791,null,null,null,null,null,null,null,null,null,null,null,null,null,null,null,null,null,null,null,null,null,null,null,null,null,null,null,null,null,null,null,null,null,null,null,null,null,null,791,"","","",""]
[null,759,null,null,null,792,null,null,null,null,null,null,null,null,null,null,null,null,null,null,null,null,null,null,null,null,null,null,null,null,null,null,null,null,null,null,null,null,null,null,null,null,null,null,792,"","","",""]
[null,760,null,null,null,793,null,null,null,null,null,null,null,null,null,null,null,null,null,null,null,null,null,null,null,null,null,null,null,null,null,null,null,null,null,null,null,null,null,null,null,null,null,null,793,"","","",""]
[null,761,null,null,null,794,null,null,null,null,null,null,null,null,null,null,null,null,null,null,null,null,null,null,null,null,null,null,null,null,null,null,null,null,null,null,null,null,null,null,null,null,null,null,794,"","","",""]
[null,762,null,null,null,795,null,null,null,null,null,null,null,null,null,null,null,null,null,null,null,null,null,null,null,null,null,null,null,null,null,null,null,null,null,null,null,null,null,null,null,null,null,null,795,"","","",""]
[null,763,null,null,null,796,null,null,null,null,null,null,null,null,null,null,null,null,null,null,null,null,null,null,null,null,null,null,null,null,null,null,null,null,null,null,null,null,null,null,null,null,null,null,796,"","","",""]
[null,764,null,null,null,797,null,null,null,null,null,null,null,null,null,null,null,null,null,null,null,null,null,null,null,null,null,null,null,null,null,null,null,null,null,null,null,null,null,null,null,null,null,null,797,"","","",""]
[null,765,null,null,null,798,null,null,null,null,null,null,null,null,null,null,null,null,null,null,null,null,null,null,null,null,null,null,null,null,null,null,null,null,null,null,null,null,null,null,null,null,null,null,798,"","","",""]
[null,766,null,null,null,799,null,null,null,null,null,null,null,null,null,null,null,null,null,null,null,null,null,null,null,null,null,null,null,null,null,null,null,null,null,null,null,null,null,null,null,null,null,null,799,"","","",""]
[null,767,null,null,null,800,null,null,null,null,null,null,null,null,null,null,null,null,null,null,null,null,null,null,null,null,null,null,null,null,null,null,null,null,null,null,null,null,null,null,null,null,null,null,800,"","","",""]
[null,768,null,null,null,null,"2.13","PATRIMONIO",null,null,null,null,null,null,null,null,null,null,null,null,null,null,null,null,null,null,null,null,null,null,null,null,null,null,null,null,null,null,null,null,null,null,null,null,null,"2.13","PATRIMONIO"]
[null,769,null,null,null,801,"2.13.001","Aquisição de Imoveis",null,null,null,null,null,null,null,null,null,null,null,null,null,null,null,null,null,null,null,null,null,null,null,null,null,null,null,null,null,null,null,null,null,null,null,null,801,"2.13.001","Aquisição de Imoveis",{"$f":"IF(AU775=\"\",\"\",$AU$774)","v":"PATRIMONIO"},"SAIDAS"]
[null,770,null,null,null,802,"2.13.002","Aquisição de Móveis",null,null,null,null,null,null,null,null,null,null,null,null,null,null,null,null,null,null,null,null,null,null,null,null,null,null,null,null,null,null,null,null,null,null,null,null,802,"2.13.002","Aquisição de Móveis",{"$f":"IF(AU776=\"\",\"\",$AU$774)","v":"PATRIMONIO"},"SAIDAS"]
[null,771,null,null,null,803,"2.13.003","Aquisição de Veículos",null,null,null,null,null,null,null,null,null,null,null,null,null,null,null,null,null,null,null,null,null,null,null,null,null,null,null,null,null,null,null,null,null,null,null,null,803,"2.13.003","Aquisição de Veículos","PATRIMONIO","SAIDAS"]
[null,772,null,null,null,804,"2.13.004","Aquisição de Empresas (Ações)",null,null,null,null,null,null,null,null,null,null,null,null,null,null,null,null,null,null,null,null,null,null,null,null,null,null,null,null,null,null,null,null,null,null,null,null,804,"2.13.004","Aquisição de Empresas (Ações)","PATRIMONIO","SAIDAS"]
[null,773,null,null,null,805,"2.13.005","Aquisição de Eletroeletrônicos",null,null,null,null,null,null,null,null,null,null,null,null,null,null,null,null,null,null,null,null,null,null,null,null,null,null,null,null,null,null,null,null,null,null,null,null,805,"2.13.005","Aquisição de Eletroeletrônicos","PATRIMONIO","SAIDAS"]
[null,774,null,null,null,806,null,null,null,null,null,null,null,null,null,null,null,null,null,null,null,null,null,null,null,null,null,null,null,null,null,null,null,null,null,null,null,null,null,null,null,null,null,null,806,"","","",""]
[null,775,null,null,null,807,null,null,null,null,null,null,null,null,null,null,null,null,null,null,null,null,null,null,null,null,null,null,null,null,null,null,null,null,null,null,null,null,null,null,null,null,null,null,807,"","","",""]
[null,776,null,null,null,808,null,null,null,null,null,null,null,null,null,null,null,null,null,null,null,null,null,null,null,null,null,null,null,null,null,null,null,null,null,null,null,null,null,null,null,null,null,null,808,"","","",""]
[null,777,null,null,null,809,null,null,null,null,null,null,null,null,null,null,null,null,null,null,null,null,null,null,null,null,null,null,null,null,null,null,null,null,null,null,null,null,null,null,null,null,null,null,809,"","","",""]
[null,778,null,null,null,810,null,null,null,null,null,null,null,null,null,null,null,null,null,null,null,null,null,null,null,null,null,null,null,null,null,null,null,null,null,null,null,null,null,null,null,null,null,null,810,"","","",""]
[null,779,null,null,null,811,null,null,null,null,null,null,null,null,null,null,null,null,null,null,null,null,null,null,null,null,null,null,null,null,null,null,null,null,null,null,null,null,null,null,null,null,null,null,811,"","","",""]
[null,780,null,null,null,812,null,null,null,null,null,null,null,null,null,null,null,null,null,null,null,null,null,null,null,null,null,null,null,null,null,null,null,null,null,null,null,null,null,null,null,null,null,null,812,"","","",""]
[null,781,null,null,null,813,null,null,null,null,null,null,null,null,null,null,null,null,null,null,null,null,null,null,null,null,null,null,null,null,null,null,null,null,null,null,null,null,null,null,null,null,null,null,813,"","","",""]
[null,782,null,null,null,814,null,null,null,null,null,null,null,null,null,null,null,null,null,null,null,null,null,null,null,null,null,null,null,null,null,null,null,null,null,null,null,null,null,null,null,null,null,null,814,"","","",""]
[null,783,null,null,null,815,null,null,null,null,null,null,null,null,null,null,null,null,null,null,null,null,null,null,null,null,null,null,null,null,null,null,null,null,null,null,null,null,null,null,null,null,null,null,815,"","","",""]
[null,784,null,null,null,816,null,null,null,null,null,null,null,null,null,null,null,null,null,null,null,null,null,null,null,null,null,null,null,null,null,null,null,null,null,null,null,null,null,null,null,null,null,null,816,"","","",""]
[null,785,null,null,null,817,null,null,null,null,null,null,null,null,null,null,null,null,null,null,null,null,null,null,null,null,null,null,null,null,null,null,null,null,null,null,null,null,null,null,null,null,null,null,817,"","","",""]
[null,786,null,null,null,818,null,null,null,null,null,null,null,null,null,null,null,null,null,null,null,null,null,null,null,null,null,null,null,null,null,null,null,null,null,null,null,null,null,null,null,null,null,null,818,"","","",""]
[null,787,null,null,null,819,null,null,null,null,null,null,null,null,null,null,null,null,null,null,null,null,null,null,null,null,null,null,null,null,null,null,null,null,null,null,null,null,null,null,null,null,null,null,819,"","","",""]
[null,788,null,null,null,820,null,null,null,null,null,null,null,null,null,null,null,null,null,null,null,null,null,null,null,null,null,null,null,null,null,null,null,null,null,null,null,null,null,null,null,null,null,null,820,"","","",""]
[null,789,null,null,null,821,null,null,null,null,null,null,null,null,null,null,null,null,null,null,null,null,null,null,null,null,null,null,null,null,null,null,null,null,null,null,null,null,null,null,null,null,null,null,821,"","","",""]
[null,790,null,null,null,822,null,null,null,null,null,null,null,null,null,null,null,null,null,null,null,null,null,null,null,null,null,null,null,null,null,null,null,null,null,null,null,null,null,null,null,null,null,null,822,"","","",""]
[null,791,null,null,null,823,null,null,null,null,null,null,null,null,null,null,null,null,null,null,null,null,null,null,null,null,null,null,null,null,null,null,null,null,null,null,null,null,null,null,null,null,null,null,823,"","","",""]
[null,792,null,null,null,824,null,null,null,null,null,null,null,null,null,null,null,null,null,null,null,null,null,null,null,null,null,null,null,null,null,null,null,null,null,null,null,null,null,null,null,null,null,null,824,"","","",""]
[null,793,null,null,null,825,null,null,null,null,null,null,null,null,null,null,null,null,null,null,null,null,null,null,null,null,null,null,null,null,null,null,null,null,null,null,null,null,null,null,null,null,null,null,825,"","","",""]
[null,794,null,null,null,826,null,null,null,null,null,null,null,null,null,null,null,null,null,null,null,null,null,null,null,null,null,null,null,null,null,null,null,null,null,null,null,null,null,null,null,null,null,null,826,"","","",""]
[null,795,null,null,null,827,null,null,null,null,null,null,null,null,null,null,null,null,null,null,null,null,null,null,null,null,null,null,null,null,null,null,null,null,null,null,null,null,null,null,null,null,null,null,827,"","","",""]
[null,796,null,null,null,828,null,null,null,null,null,null,null,null,null,null,null,null,null,null,null,null,null,null,null,null,null,null,null,null,null,null,null,null,null,null,null,null,null,null,null,null,null,null,828,"","","",""]
[null,797,null,null,null,829,null,null,null,null,null,null,null,null,null,null,null,null,null,null,null,null,null,null,null,null,null,null,null,null,null,null,null,null,null,null,null,null,null,null,null,null,null,null,829,"","","",""]
[null,798,null,null,null,830,null,null,null,null,null,null,null,null,null,null,null,null,null,null,null,null,null,null,null,null,null,null,null,null,null,null,null,null,null,null,null,null,null,null,null,null,null,null,830,"","","",""]
[null,799,null,null,null,831,null,null,null,null,null,null,null,null,null,null,null,null,null,null,null,null,null,null,null,null,null,null,null,null,null,null,null,null,null,null,null,null,null,null,null,null,null,null,831,"","","",""]
[null,800,null,null,null,832,null,null,null,null,null,null,null,null,null,null,null,null,null,null,null,null,null,null,null,null,null,null,null,null,null,null,null,null,null,null,null,null,null,null,null,null,null,null,832,"","","",{"$f":"IF(AU806=\"\",\"\",$AU$161)","v":""}]
[null,801,null,null,null,833,null,null,null,null,null,null,null,null,null,null,null,null,null,null,null,null,null,null,null,null,null,null,null,null,null,null,null,null,null,null,null,null,null,null,null,null,null,null,833,"","","",""]
[null,802,null,null,null,834,null,null,null,null,null,null,null,null,null,null,null,null,null,null,null,null,null,null,null,null,null,null,null,null,null,null,null,null,null,null,null,null,null,null,null,null,null,null,834,"","","",""]
[null,803,null,null,null,835,null,null,null,null,null,null,null,null,null,null,null,null,null,null,null,null,null,null,null,null,null,null,null,null,null,null,null,null,null,null,null,null,null,null,null,null,null,null,835,"","","",""]
[null,804,null,null,null,836,null,null,null,null,null,null,null,null,null,null,null,null,null,null,null,null,null,null,null,null,null,null,null,null,null,null,null,null,null,null,null,null,null,null,null,null,null,null,836,"","","",""]
[null,805,null,null,null,837,null,null,null,null,null,null,null,null,null,null,null,null,null,null,null,null,null,null,null,null,null,null,null,null,null,null,null,null,null,null,null,null,null,null,null,null,null,null,837,"","","",""]
[null,806,null,null,null,838,null,null,null,null,null,null,null,null,null,null,null,null,null,null,null,null,null,null,null,null,null,null,null,null,null,null,null,null,null,null,null,null,null,null,null,null,null,null,838,"","","",""]
[null,807,null,null,null,839,null,null,null,null,null,null,null,null,null,null,null,null,null,null,null,null,null,null,null,null,null,null,null,null,null,null,null,null,null,null,null,null,null,null,null,null,null,null,839,"","","",""]
[null,808,null,null,null,840,null,null,null,null,null,null,null,null,null,null,null,null,null,null,null,null,null,null,null,null,null,null,null,null,null,null,null,null,null,null,null,null,null,null,null,null,null,null,840,"","","",""]
[null,809,null,null,null,841,null,null,null,null,null,null,null,null,null,null,null,null,null,null,null,null,null,null,null,null,null,null,null,null,null,null,null,null,null,null,null,null,null,null,null,null,null,null,841,"","","",""]
[null,810,null,null,null,842,null,null,null,null,null,null,null,null,null,null,null,null,null,null,null,null,null,null,null,null,null,null,null,null,null,null,null,null,null,null,null,null,null,null,null,null,null,null,842,"","","",""]
[null,811,null,null,null,843,null,null,null,null,null,null,null,null,null,null,null,null,null,null,null,null,null,null,null,null,null,null,null,null,null,null,null,null,null,null,null,null,null,null,null,null,null,null,843,{"$f":"IF(G817=\"\",\"\",G817)","v":""},{"$f":"IF(H817=\"\",\"\",H817)","v":""},"",""]
[null,812,null,null,null,844,null,null,null,null,null,null,null,null,null,null,null,null,null,null,null,null,null,null,null,null,null,null,null,null,null,null,null,null,null,null,null,null,null,null,null,null,null,null,844,"","","",""]
[null,813,null,null,null,845,null,null,null,null,null,null,null,null,null,null,null,null,null,null,null,null,null,null,null,null,null,null,null,null,null,null,null,null,null,null,null,null,null,null,null,null,null,null,845,"","","",""]
[null,814,null,null,null,846,null,null,null,null,null,null,null,null,null,null,null,null,null,null,null,null,null,null,null,null,null,null,null,null,null,null,null,null,null,null,null,null,null,null,null,null,null,null,846,"","","",""]
[null,815,null,null,null,847,null,null,null,null,null,null,null,null,null,null,null,null,null,null,null,null,null,null,null,null,null,null,null,null,null,null,null,null,null,null,null,null,null,null,null,null,null,null,847,"","","",""]
[null,816,null,null,null,848,null,null,null,null,null,null,null,null,null,null,null,null,null,null,null,null,null,null,null,null,null,null,null,null,null,null,null,null,null,null,null,null,null,null,null,null,null,null,848,"","","",""]
[null,817,null,null,null,849,null,null,null,null,null,null,null,null,null,null,null,null,null,null,null,null,null,null,null,null,null,null,null,null,null,null,null,null,null,null,null,null,null,null,null,null,null,null,849,"","","",""]
[null,818,null,null,null,850,null,null,null,null,null,null,null,null,null,null,null,null,null,null,null,null,null,null,null,null,null,null,null,null,null,null,null,null,null,null,null,null,null,null,null,null,null,null,850,"","","",""]
[null,819,null,null,null,null,"2.14","PAGTO DE EMPRÉSTIMOS",null,null,null,null,null,null,null,null,null,null,null,null,null,null,null,null,null,null,null,null,null,null,null,null,null,null,null,null,null,null,null,null,null,null,null,null,null,"2.14","PAGTO DE EMPRÉSTIMOS"]
[null,820,null,null,null,851,"2.14.001","Empréstimos de Bancos",null,null,null,null,null,null,null,null,null,null,null,null,null,null,null,null,null,null,null,null,null,null,null,null,null,null,null,null,null,null,null,null,null,null,null,null,851,"2.14.001","Empréstimos de Bancos",{"$f":"IF(AU826=\"\",\"\",$AU$825)","v":"PAGTO DE EMPRÉSTIMOS"},"SAIDAS"]
[null,821,null,null,null,852,"2.14.002","Empréstimos de Terceiros",null,null,null,null,null,null,null,null,null,null,null,null,null,null,null,null,null,null,null,null,null,null,null,null,null,null,null,null,null,null,null,null,null,null,null,null,852,"2.14.002","Empréstimos de Terceiros",{"$f":"IF(AU827=\"\",\"\",$AU$825)","v":"PAGTO DE EMPRÉSTIMOS"},"SAIDAS"]
[null,822,null,null,null,853,null,null,null,null,null,null,null,null,null,null,null,null,null,null,null,null,null,null,null,null,null,null,null,null,null,null,null,null,null,null,null,null,null,null,null,null,null,null,853,"","","",""]
[null,823,null,null,null,854,null,null,null,null,null,null,null,null,null,null,null,null,null,null,null,null,null,null,null,null,null,null,null,null,null,null,null,null,null,null,null,null,null,null,null,null,null,null,854,"","","",""]
[null,824,null,null,null,855,null,null,null,null,null,null,null,null,null,null,null,null,null,null,null,null,null,null,null,null,null,null,null,null,null,null,null,null,null,null,null,null,null,null,null,null,null,null,855,"","","",""]
[null,825,null,null,null,856,null,null,null,null,null,null,null,null,null,null,null,null,null,null,null,null,null,null,null,null,null,null,null,null,null,null,null,null,null,null,null,null,null,null,null,null,null,null,856,"","","",""]
[null,826,null,null,null,857,null,null,null,null,null,null,null,null,null,null,null,null,null,null,null,null,null,null,null,null,null,null,null,null,null,null,null,null,null,null,null,null,null,null,null,null,null,null,857,"","","",""]
[null,827,null,null,null,858,null,null,null,null,null,null,null,null,null,null,null,null,null,null,null,null,null,null,null,null,null,null,null,null,null,null,null,null,null,null,null,null,null,null,null,null,null,null,858,"","","",""]
[null,828,null,null,null,859,null,null,null,null,null,null,null,null,null,null,null,null,null,null,null,null,null,null,null,null,null,null,null,null,null,null,null,null,null,null,null,null,null,null,null,null,null,null,859,"","","",""]
[null,829,null,null,null,860,null,null,null,null,null,null,null,null,null,null,null,null,null,null,null,null,null,null,null,null,null,null,null,null,null,null,null,null,null,null,null,null,null,null,null,null,null,null,860,"","","",""]
[null,830,null,null,null,861,null,null,null,null,null,null,null,null,null,null,null,null,null,null,null,null,null,null,null,null,null,null,null,null,null,null,null,null,null,null,null,null,null,null,null,null,null,null,861,"","","",""]
[null,831,null,null,null,862,null,null,null,null,null,null,null,null,null,null,null,null,null,null,null,null,null,null,null,null,null,null,null,null,null,null,null,null,null,null,null,null,null,null,null,null,null,null,862,"","","",""]
[null,832,null,null,null,863,null,null,null,null,null,null,null,null,null,null,null,null,null,null,null,null,null,null,null,null,null,null,null,null,null,null,null,null,null,null,null,null,null,null,null,null,null,null,863,"","","",""]
[null,833,null,null,null,864,null,null,null,null,null,null,null,null,null,null,null,null,null,null,null,null,null,null,null,null,null,null,null,null,null,null,null,null,null,null,null,null,null,null,null,null,null,null,864,"","","",""]
[null,834,null,null,null,865,null,null,null,null,null,null,null,null,null,null,null,null,null,null,null,null,null,null,null,null,null,null,null,null,null,null,null,null,null,null,null,null,null,null,null,null,null,null,865,"","","",""]
[null,835,null,null,null,866,null,null,null,null,null,null,null,null,null,null,null,null,null,null,null,null,null,null,null,null,null,null,null,null,null,null,null,null,null,null,null,null,null,null,null,null,null,null,866,"","","",""]
[null,836,null,null,null,867,null,null,null,null,null,null,null,null,null,null,null,null,null,null,null,null,null,null,null,null,null,null,null,null,null,null,null,null,null,null,null,null,null,null,null,null,null,null,867,"","","",""]
[null,837,null,null,null,868,null,null,null,null,null,null,null,null,null,null,null,null,null,null,null,null,null,null,null,null,null,null,null,null,null,null,null,null,null,null,null,null,null,null,null,null,null,null,868,"","","",""]
[null,838,null,null,null,869,null,null,null,null,null,null,null,null,null,null,null,null,null,null,null,null,null,null,null,null,null,null,null,null,null,null,null,null,null,null,null,null,null,null,null,null,null,null,869,"","","",""]
[null,839,null,null,null,870,null,null,null,null,null,null,null,null,null,null,null,null,null,null,null,null,null,null,null,null,null,null,null,null,null,null,null,null,null,null,null,null,null,null,null,null,null,null,870,"","","",""]
[null,840,null,null,null,871,null,null,null,null,null,null,null,null,null,null,null,null,null,null,null,null,null,null,null,null,null,null,null,null,null,null,null,null,null,null,null,null,null,null,null,null,null,null,871,"","","",""]
[null,841,null,null,null,872,null,null,null,null,null,null,null,null,null,null,null,null,null,null,null,null,null,null,null,null,null,null,null,null,null,null,null,null,null,null,null,null,null,null,null,null,null,null,872,"","","",""]
[null,842,null,null,null,873,null,null,null,null,null,null,null,null,null,null,null,null,null,null,null,null,null,null,null,null,null,null,null,null,null,null,null,null,null,null,null,null,null,null,null,null,null,null,873,"","","",""]
[null,843,null,null,null,874,null,null,null,null,null,null,null,null,null,null,null,null,null,null,null,null,null,null,null,null,null,null,null,null,null,null,null,null,null,null,null,null,null,null,null,null,null,null,874,"","","",""]
[null,844,null,null,null,875,null,null,null,null,null,null,null,null,null,null,null,null,null,null,null,null,null,null,null,null,null,null,null,null,null,null,null,null,null,null,null,null,null,null,null,null,null,null,875,"","","",""]
[null,845,null,null,null,876,null,null,null,null,null,null,null,null,null,null,null,null,null,null,null,null,null,null,null,null,null,null,null,null,null,null,null,null,null,null,null,null,null,null,null,null,null,null,876,"","","",""]
[null,846,null,null,null,877,null,null,null,null,null,null,null,null,null,null,null,null,null,null,null,null,null,null,null,null,null,null,null,null,null,null,null,null,null,null,null,null,null,null,null,null,null,null,877,"","","",""]
[null,847,null,null,null,878,null,null,null,null,null,null,null,null,null,null,null,null,null,null,null,null,null,null,null,null,null,null,null,null,null,null,null,null,null,null,null,null,null,null,null,null,null,null,878,"","","",""]
[null,848,null,null,null,879,null,null,null,null,null,null,null,null,null,null,null,null,null,null,null,null,null,null,null,null,null,null,null,null,null,null,null,null,null,null,null,null,null,null,null,null,null,null,879,"","","",""]
[null,849,null,null,null,880,null,null,null,null,null,null,null,null,null,null,null,null,null,null,null,null,null,null,null,null,null,null,null,null,null,null,null,null,null,null,null,null,null,null,null,null,null,null,880,"","","",""]
[null,850,null,null,null,881,null,null,null,null,null,null,null,null,null,null,null,null,null,null,null,null,null,null,null,null,null,null,null,null,null,null,null,null,null,null,null,null,null,null,null,null,null,null,881,"","","",""]
[null,851,null,null,null,882,null,null,null,null,null,null,null,null,null,null,null,null,null,null,null,null,null,null,null,null,null,null,null,null,null,null,null,null,null,null,null,null,null,null,null,null,null,null,882,"","","",""]
[null,852,null,null,null,883,null,null,null,null,null,null,null,null,null,null,null,null,null,null,null,null,null,null,null,null,null,null,null,null,null,null,null,null,null,null,null,null,null,null,null,null,null,null,883,"","","",""]
[null,853,null,null,null,884,null,null,null,null,null,null,null,null,null,null,null,null,null,null,null,null,null,null,null,null,null,null,null,null,null,null,null,null,null,null,null,null,null,null,null,null,null,null,884,"","","",""]
[null,854,null,null,null,885,null,null,null,null,null,null,null,null,null,null,null,null,null,null,null,null,null,null,null,null,null,null,null,null,null,null,null,null,null,null,null,null,null,null,null,null,null,null,885,"","","",""]
[null,855,null,null,null,886,null,null,null,null,null,null,null,null,null,null,null,null,null,null,null,null,null,null,null,null,null,null,null,null,null,null,null,null,null,null,null,null,null,null,null,null,null,null,886,"","","",""]
[null,856,null,null,null,887,null,null,null,null,null,null,null,null,null,null,null,null,null,null,null,null,null,null,null,null,null,null,null,null,null,null,null,null,null,null,null,null,null,null,null,null,null,null,887,"","","",""]
[null,857,null,null,null,888,null,null,null,null,null,null,null,null,null,null,null,null,null,null,null,null,null,null,null,null,null,null,null,null,null,null,null,null,null,null,null,null,null,null,null,null,null,null,888,"","","",""]
[null,858,null,null,null,889,null,null,null,null,null,null,null,null,null,null,null,null,null,null,null,null,null,null,null,null,null,null,null,null,null,null,null,null,null,null,null,null,null,null,null,null,null,null,889,"","","",""]
[null,859,null,null,null,890,null,null,null,null,null,null,null,null,null,null,null,null,null,null,null,null,null,null,null,null,null,null,null,null,null,null,null,null,null,null,null,null,null,null,null,null,null,null,890,"","","",""]
[null,860,null,null,null,891,null,null,null,null,null,null,null,null,null,null,null,null,null,null,null,null,null,null,null,null,null,null,null,null,null,null,null,null,null,null,null,null,null,null,null,null,null,null,891,"","","",""]
[null,861,null,null,null,892,null,null,null,null,null,null,null,null,null,null,null,null,null,null,null,null,null,null,null,null,null,null,null,null,null,null,null,null,null,null,null,null,null,null,null,null,null,null,892,"","","",""]
[null,862,null,null,null,893,null,null,null,null,null,null,null,null,null,null,null,null,null,null,null,null,null,null,null,null,null,null,null,null,null,null,null,null,null,null,null,null,null,null,null,null,null,null,893,"","","",""]
[null,863,null,null,null,894,null,null,null,null,null,null,null,null,null,null,null,null,null,null,null,null,null,null,null,null,null,null,null,null,null,null,null,null,null,null,null,null,null,null,null,null,null,null,894,"","","",""]
[null,864,null,null,null,895,null,null,null,null,null,null,null,null,null,null,null,null,null,null,null,null,null,null,null,null,null,null,null,null,null,null,null,null,null,null,null,null,null,null,null,null,null,null,895,"","","",{"$f":"IF(AU870=\"\",\"\",$AU$161)","v":""}]
[null,865,null,null,null,896,null,null,null,null,null,null,null,null,null,null,null,null,null,null,null,null,null,null,null,null,null,null,null,null,null,null,null,null,null,null,null,null,null,null,null,null,null,null,896,"","","",""]
[null,866,null,null,null,897,null,null,null,null,null,null,null,null,null,null,null,null,null,null,null,null,null,null,null,null,null,null,null,null,null,null,null,null,null,null,null,null,null,null,null,null,null,null,897,"","","",""]
[null,867,null,null,null,898,null,null,null,null,null,null,null,null,null,null,null,null,null,null,null,null,null,null,null,null,null,null,null,null,null,null,null,null,null,null,null,null,null,null,null,null,null,null,898,"","","",""]
[null,868,null,null,null,899,null,null,null,null,null,null,null,null,null,null,null,null,null,null,null,null,null,null,null,null,null,null,null,null,null,null,null,null,null,null,null,null,null,null,null,null,null,null,899,"","","",""]
[null,869,null,null,null,900,null,null,null,null,null,null,null,null,null,null,null,null,null,null,null,null,null,null,null,null,null,null,null,null,null,null,null,null,null,null,null,null,null,null,null,null,null,null,900,"","","",""]
[null,870,null,null,null,null,3,"TRANSFERENCIAS",null,null,null,null,null,null,null,null,null,null,null,null,null,null,null,null,null,null,null,null,null,null,null,null,null,null,null,null,null,null,null,null,null,null,null,null,null,3,"TRANSFERENCIAS"]
[null,871,null,null,null,null,"3.01","TRANSFERENCIAS DE VALORES",null,null,null,null,null,null,null,null,null,null,null,null,null,null,null,null,null,null,null,null,null,null,null,null,null,null,null,null,null,null,null,null,null,null,null,null,null,"3.01","TRANSFERENCIAS DE VALORES"]
[null,872,null,null,null,1001,"3.01.001","Transferências Entre Contas",null,null,null,null,null,null,null,null,null,null,null,null,null,null,null,null,null,null,null,null,null,null,null,null,null,null,null,null,null,null,null,null,null,null,null,null,1001,"3.01.001","Transferências Entre Contas",{"$f":"IF(AU878=\"\",\"\",$AU$877)","v":"TRANSFERENCIAS DE VALORES"},{"$f":"IF(AU878=\"\",\"\",$AU$876)","v":"TRANSFERENCIAS"}]
[null,873,null,null,null,1002,"3.01.002","Empréstimos Para a Família",null,null,null,null,null,null,null,null,null,null,null,null,null,null,null,null,null,null,null,null,null,null,null,null,null,null,null,null,null,null,null,null,null,null,null,null,1002,"3.01.002","Empréstimos Para a Família",{"$f":"IF(AU879=\"\",\"\",$AU$877)","v":"TRANSFERENCIAS DE VALORES"},{"$f":"IF(AU879=\"\",\"\",$AU$876)","v":"TRANSFERENCIAS"}]
[null,874,null,null,null,1003,"3.01.003","Compras para Terceiros",null,null,null,null,null,null,null,null,null,null,null,null,null,null,null,null,null,null,null,null,null,null,null,null,null,null,null,null,null,null,null,null,null,null,null,null,1003,"3.01.003","Compras para Terceiros","TRANSFERENCIAS DE VALORES",{"$f":"IF(AU880=\"\",\"\",$AU$876)","v":"TRANSFERENCIAS"}]
[null,875,null,null,null,1004,"3.01.004","Pagamento de Contas para Terceiros",null,null,null,null,null,null,null,null,null,null,null,null,null,null,null,null,null,null,null,null,null,null,null,null,null,null,null,null,null,null,null,null,null,null,null,null,1004,{"$f":"IF(G881=\"\",\"\",G881)","v":"3.01.004"},{"$f":"IF(H881=\"\",\"\",H881)","v":"Pagamento de Contas para Terceiros"},"TRANSFERENCIAS DE VALORES","TRANSFERENCIAS"]
[null,876,null,null,null,1005,"3.01.005","Empréstimos de Terceiros",null,null,null,null,null,null,null,null,null,null,null,null,null,null,null,null,null,null,null,null,null,null,null,null,null,null,null,null,null,null,null,null,null,null,null,null,1005,"3.01.005","Empréstimos de Terceiros","TRANSFERENCIAS DE VALORES","TRANSFERENCIAS"]
[null,877,null,null,null,1006,"3.01.006","Estorno de Debito em Conta",null,null,null,null,null,null,null,null,null,null,null,null,null,null,null,null,null,null,null,null,null,null,null,null,null,null,null,null,null,null,null,null,null,null,null,null,1006,"3.01.006","Estorno de Debito em Conta","TRANSFERENCIAS DE VALORES","TRANSFERENCIAS"]
[null,878,null,null,null,1007,"3.01.007","Viagens Empresariais",null,null,null,null,null,null,null,null,null,null,null,null,null,null,null,null,null,null,null,null,null,null,null,null,null,null,null,null,null,null,null,null,null,null,null,null,1007,"3.01.007","Viagens Empresariais","TRANSFERENCIAS DE VALORES","TRANSFERENCIAS"]
[null,879,null,null,null,1008,"3.01.008","Pagamento de Contas para Família",null,null,null,null,null,null,null,null,null,null,null,null,null,null,null,null,null,null,null,null,null,null,null,null,null,null,null,null,null,null,null,null,null,null,null,null,1008,"3.01.008","Pagamento de Contas para Família","TRANSFERENCIAS DE VALORES","TRANSFERENCIAS"]
[null,880,null,null,null,1009,"3.01.009","Consórcios",null,null,null,null,null,null,null,null,null,null,null,null,null,null,null,null,null,null,null,null,null,null,null,null,null,null,null,null,null,null,null,null,null,null,null,null,1009,"3.01.009","Consórcios","TRANSFERENCIAS DE VALORES","TRANSFERENCIAS"]
[null,881,null,null,null,1010,"3.01.010","Cheque Descontado Antecipado",null,null,null,null,null,null,null,null,null,null,null,null,null,null,null,null,null,null,null,null,null,null,null,null,null,null,null,null,null,null,null,null,null,null,null,null,1010,"3.01.010","Cheque Descontado Antecipado","TRANSFERENCIAS DE VALORES","TRANSFERENCIAS"]
[null,882,null,null,null,1011,"3.01.011","Caução de Aluguel",null,null,null,null,null,null,null,null,null,null,null,null,null,null,null,null,null,null,null,null,null,null,null,null,null,null,null,null,null,null,null,null,null,null,null,null,1011,"3.01.011","Caução de Aluguel","TRANSFERENCIAS DE VALORES","TRANSFERENCIAS"]
[null,883,null,null,null,1012,"3.01.012","Cobrança Indevida",null,null,null,null,null,null,null,null,null,null,null,null,null,null,null,null,null,null,null,null,null,null,null,null,null,null,null,null,null,null,null,null,null,null,null,null,1012,"3.01.012","Cobrança Indevida","TRANSFERENCIAS DE VALORES","TRANSFERENCIAS"]
[null,884,null,null,null,1013,"3.01.013","Cheque sem Fundo",null,null,null,null,null,null,null,null,null,null,null,null,null,null,null,null,null,null,null,null,null,null,null,null,null,null,null,null,null,null,null,null,null,null,null,null,1013,"3.01.013","Cheque sem Fundo","TRANSFERENCIAS DE VALORES","TRANSFERENCIAS"]
[null,885,null,null,null,1014,"3.01.014","Compras para Revenda",null,null,null,null,null,null,null,null,null,null,null,null,null,null,null,null,null,null,null,null,null,null,null,null,null,null,null,null,null,null,null,null,null,null,null,null,1014,"3.01.014","Compras para Revenda","TRANSFERENCIAS DE VALORES","TRANSFERENCIAS"]
[null,886,null,null,null,1015,"3.01.015","Cheque Devolvido sem Favorecido",null,null,null,null,null,null,null,null,null,null,null,null,null,null,null,null,null,null,null,null,null,null,null,null,null,null,null,null,null,null,null,null,null,null,null,null,1015,"3.01.015","Cheque Devolvido sem Favorecido","TRANSFERENCIAS DE VALORES","TRANSFERENCIAS"]
[null,887,null,null,null,1016,"3.01.016","Investimento",null,null,null,null,null,null,null,null,null,null,null,null,null,null,null,null,null,null,null,null,null,null,null,null,null,null,null,null,null,null,null,null,null,null,null,null,1016,"3.01.016","Investimento","TRANSFERENCIAS DE VALORES","TRANSFERENCIAS"]
[null,888,null,null,null,1017,null,null,null,null,null,null,null,null,null,null,null,null,null,null,null,null,null,null,null,null,null,null,null,null,null,null,null,null,null,null,null,null,null,null,null,null,null,null,1017,"","","",""]
[null,889,null,null,null,1018,null,null,null,null,null,null,null,null,null,null,null,null,null,null,null,null,null,null,null,null,null,null,null,null,null,null,null,null,null,null,null,null,null,null,null,null,null,null,1018,"","","",""]
[null,890,null,null,null,1019,null,null,null,null,null,null,null,null,null,null,null,null,null,null,null,null,null,null,null,null,null,null,null,null,null,null,null,null,null,null,null,null,null,null,null,null,null,null,1019,"","","",""]
[null,891,null,null,null,1020,null,null,null,null,null,null,null,null,null,null,null,null,null,null,null,null,null,null,null,null,null,null,null,null,null,null,null,null,null,null,null,null,null,null,null,null,null,null,1020,"","","",""]
[null,892,null,null,null,1021,null,null,null,null,null,null,null,null,null,null,null,null,null,null,null,null,null,null,null,null,null,null,null,null,null,null,null,null,null,null,null,null,null,null,null,null,null,null,1021,"","","",""]
[null,893,null,null,null,1022,null,null,null,null,null,null,null,null,null,null,null,null,null,null,null,null,null,null,null,null,null,null,null,null,null,null,null,null,null,null,null,null,null,null,null,null,null,null,1022,"","","",""]
[null,894,null,null,null,1023,null,null,null,null,null,null,null,null,null,null,null,null,null,null,null,null,null,null,null,null,null,null,null,null,null,null,null,null,null,null,null,null,null,null,null,null,null,null,1023,"","","",""]
[null,895,null,null,null,1024,null,null,null,null,null,null,null,null,null,null,null,null,null,null,null,null,null,null,null,null,null,null,null,null,null,null,null,null,null,null,null,null,null,null,null,null,null,null,1024,"","","",""]
[null,896,null,null,null,1025,null,null,null,null,null,null,null,null,null,null,null,null,null,null,null,null,null,null,null,null,null,null,null,null,null,null,null,null,null,null,null,null,null,null,null,null,null,null,1025,"","","",""]
[null,897,null,null,null,1026,null,null,null,null,null,null,null,null,null,null,null,null,null,null,null,null,null,null,null,null,null,null,null,null,null,null,null,null,null,null,null,null,null,null,null,null,null,null,1026,"","","",""]
[null,898,null,null,null,1027,null,null,null,null,null,null,null,null,null,null,null,null,null,null,null,null,null,null,null,null,null,null,null,null,null,null,null,null,null,null,null,null,null,null,null,null,null,null,1027,"","","",""]
[null,899,null,null,null,1028,null,null,null,null,null,null,null,null,null,null,null,null,null,null,null,null,null,null,null,null,null,null,null,null,null,null,null,null,null,null,null,null,null,null,null,null,null,null,1028,"","","",""]
[null,900,null,null,null,1029,null,null,null,null,null,null,null,null,null,null,null,null,null,null,null,null,null,null,null,null,null,null,null,null,null,null,null,null,null,null,null,null,null,null,null,null,null,null,1029,"","","",""]
[null,901,null,null,null,1030,null,null,null,null,null,null,null,null,null,null,null,null,null,null,null,null,null,null,null,null,null,null,null,null,null,null,null,null,null,null,null,null,null,null,null,null,null,null,1030,"","","",""]
[null,902,null,null,null,1031,null,null,null,null,null,null,null,null,null,null,null,null,null,null,null,null,null,null,null,null,null,null,null,null,null,null,null,null,null,null,null,null,null,null,null,null,null,null,1031,"","","",""]
[null,903,null,null,null,1032,null,null,null,null,null,null,null,null,null,null,null,null,null,null,null,null,null,null,null,null,null,null,null,null,null,null,null,null,null,null,null,null,null,null,null,null,null,null,1032,"","","",""]
[null,904,null,null,null,1033,null,null,null,null,null,null,null,null,null,null,null,null,null,null,null,null,null,null,null,null,null,null,null,null,null,null,null,null,null,null,null,null,null,null,null,null,null,null,1033,"","","",""]
[null,905,null,null,null,1034,null,null,null,null,null,null,null,null,null,null,null,null,null,null,null,null,null,null,null,null,null,null,null,null,null,null,null,null,null,null,null,null,null,null,null,null,null,null,1034,"","","",""]
[null,906,null,null,null,1035,null,null,null,null,null,null,null,null,null,null,null,null,null,null,null,null,null,null,null,null,null,null,null,null,null,null,null,null,null,null,null,null,null,null,null,null,null,null,1035,"","","",""]
[null,907,null,null,null,1036,null,null,null,null,null,null,null,null,null,null,null,null,null,null,null,null,null,null,null,null,null,null,null,null,null,null,null,null,null,null,null,null,null,null,null,null,null,null,1036,"","","",""]
[null,908,null,null,null,1037,null,null,null,null,null,null,null,null,null,null,null,null,null,null,null,null,null,null,null,null,null,null,null,null,null,null,null,null,null,null,null,null,null,null,null,null,null,null,1037,"","","",""]
[null,909,null,null,null,1038,null,null,null,null,null,null,null,null,null,null,null,null,null,null,null,null,null,null,null,null,null,null,null,null,null,null,null,null,null,null,null,null,null,null,null,null,null,null,1038,"","","",""]
[null,910,null,null,null,1039,null,null,null,null,null,null,null,null,null,null,null,null,null,null,null,null,null,null,null,null,null,null,null,null,null,null,null,null,null,null,null,null,null,null,null,null,null,null,1039,"","","",""]
[null,911,null,null,null,1040,null,null,null,null,null,null,null,null,null,null,null,null,null,null,null,null,null,null,null,null,null,null,null,null,null,null,null,null,null,null,null,null,null,null,null,null,null,null,1040,"","","",""]
[null,912,null,null,null,1041,null,null,null,null,null,null,null,null,null,null,null,null,null,null,null,null,null,null,null,null,null,null,null,null,null,null,null,null,null,null,null,null,null,null,null,null,null,null,1041,"","","",""]
[null,913,null,null,null,1042,null,null,null,null,null,null,null,null,null,null,null,null,null,null,null,null,null,null,null,null,null,null,null,null,null,null,null,null,null,null,null,null,null,null,null,null,null,null,1042,"","","",""]
[null,914,null,null,null,1043,null,null,null,null,null,null,null,null,null,null,null,null,null,null,null,null,null,null,null,null,null,null,null,null,null,null,null,null,null,null,null,null,null,null,null,null,null,null,1043,"","","",""]
[null,915,null,null,null,1044,null,null,null,null,null,null,null,null,null,null,null,null,null,null,null,null,null,null,null,null,null,null,null,null,null,null,null,null,null,null,null,null,null,null,null,null,null,null,1044,"","","",""]
[null,916,null,null,null,1045,null,null,null,null,null,null,null,null,null,null,null,null,null,null,null,null,null,null,null,null,null,null,null,null,null,null,null,null,null,null,null,null,null,null,null,null,null,null,1045,"","","",""]
[null,917,null,null,null,1046,null,null,null,null,null,null,null,null,null,null,null,null,null,null,null,null,null,null,null,null,null,null,null,null,null,null,null,null,null,null,null,null,null,null,null,null,null,null,1046,"","","",""]
[null,918,null,null,null,1047,null,null,null,null,null,null,null,null,null,null,null,null,null,null,null,null,null,null,null,null,null,null,null,null,null,null,null,null,null,null,null,null,null,null,null,null,null,null,1047,"","","",""]
[null,919,null,null,null,1048,null,null,null,null,null,null,null,null,null,null,null,null,null,null,null,null,null,null,null,null,null,null,null,null,null,null,null,null,null,null,null,null,null,null,null,null,null,null,1048,"","","",""]
[null,920,null,null,null,1049,null,null,null,null,null,null,null,null,null,null,null,null,null,null,null,null,null,null,null,null,null,null,null,null,null,null,null,null,null,null,null,null,null,null,null,null,null,null,1049,"","","",""]
[null,921,null,null,null,1050,null,null,null,null,null,null,null,null,null,null,null,null,null,null,null,null,null,null,null,null,null,null,null,null,null,null,null,null,null,null,null,null,null,null,null,null,null,null,1050,"","","",""]
[null,922]
[null,923]
[null,924]
[null,925]
[null,926]
[null,927]
[null,928]
[null,929]
[null,930]
[null,931]
[null,932]
[null,933]
[null,934]
[null,935]
[null,936]
[null,937]
[null,938]
[null,939]
[null,940]
[null,941]
[null,942]
[null,943]
[null,944]
[null,945]
[null,946]
[null,947]
[null,948]
[null,949]
[null,950]
[null,951]
[null,952]
[null,953]
[null,954]
[null,955]
[null,956]
[null,957]
[null,958]
[null,959]
[null,960]
[null,961]
[null,962]
[null,963]
[null,964]
[null,965]
[null,966]
[null,967]
[null,968]
[null,969]
[null,970]
[null,971]
[null,972]
[null,973]
[null,974]
[null,975]
[null,976]
[null,977]
[null,978]
[null,979]
[null,980]
[null,981]
[null,982]
[null,983]
[null,984]
[null,985]
[null,986]
[null,987]
[null,988]
[null,989]
[null,990]
[null,991]
[null,992]
[null,993]
[null,994]
[null,995]
[null,996]
[null,997]
[null,998]
[null,999]
[null,1000]
[null,1001]
[null,1002]
[null,1003]
[null,1004]
[null,1005]
[null,1006]
[null,1007]
[null,1008]
[null,1009]
[null,1010]
[null,1011]
[null,1012]
[null,1013]
[null,1014]
[null,1015]
[null,1016]
[null,1017]
[null,1018]
[null,1019]
[null,1020]
[null,1021]
[null,1022]
[null,1023]
[null,1024]
[null,1025]
[null,1026]
[null,1027]
[null,1028]
[null,1029]
[null,1030]
[null,1031]
[null,1032]
[null,1033]
[null,1034]
[null,1035]
[null,1036]
[null,1037]
[null,1038]
[null,1039]
[null,1040]
[null,1041]
[null,1042]
[null,1043]
[null,1044]
[null,1045]
[null,1046]
[null,1047]
[null,1048]
[null,1049]
[null,1050]
[null,1051]
[null,1052]
[null,1053]
[null,1054]
[null,1055]
[null,1056]
[null,1057]
[null,1058]
[null,1059]
[null,1060]
[null,1061]
[null,1062]
[null,1063]
[null,1064]
[null,1065]
[null,1066]
[null,1067]
[null,1068]
[null,1069]
[null,1070]
[null,1071]
[null,1072]
[null,1073]
[null,1074]
[null,1075]
[null,1076]
[null,1077]
[null,1078]
[null,1079]
[null,1080]
[null,1081]
[null,1082]
[null,1083]
[null,1084]
[null,1085]
[null,1086]
[null,1087]
[null,1088]
[null,1089]
[null,1090]
[null,1091]
[null,1092]
[null,1093]
[null,1094]
[null,1095]
[null,1096]
[null,1097]
[null,1098]
[null,1099]
[null,1100]
[null,1101]
[null,1102]
[null,1103]
[null,1104]
[null,1105]
[null,1106]
[null,1107]
[null,1108]
[null,1109]
[null,1110]
[null,1111]
[null,1112]
[null,1113]
[null,1114]
[null,1115]
[null,1116]
[null,1117]
[null,1118]
[null,1119]
[null,1120]
[null,1121]
[null,1122]
[null,1123]
[null,1124]
[null,1125]
[null,1126]
[null,1127]
[null,1128]
[null,1129]
[null,1130]
[null,1131]
[null,1132]
[null,1133]
[null,1134]
[null,1135]
[null,1136]
[null,1137]
[null,1138]
[null,1139]
[null,1140]
[null,1141]
[null,1142]
[null,1143]
[null,1144]
[null,1145]
[null,1146]
[null,1147]
[null,1148]
[null,1149]
[null,1150]
[null,1151]
[null,1152]
[null,1153]
[null,1154]
[null,1155]
[null,1156]
[null,1157]
[null,1158]
[null,1159]
[null,1160]
[null,1161]
[null,1162]
[null,1163]
[null,1164]
[null,1165]
[null,1166]
[null,1167]
[null,1168]
[null,1169]
[null,1170]
[null,1171]
[null,1172]
[null,1173]
[null,1174]
[null,1175]
[null,1176]
[null,1177]
[null,1178]
[null,1179]
[null,1180]
[null,1181]
[null,1182]
[null,1183]
[null,1184]
[null,1185]
[null,1186]
[null,1187]
[null,1188]
[null,1189]
[null,1190]
[null,1191]
[null,1192]
[null,1193]
[null,1194]
[null,1195]
[null,1196]
[null,1197]
[null,1198]
[null,1199]
[null,1200]
[null,1201]
[null,1202]
[null,1203]
[null,1204]
[null,1205]
[null,1206]
[null,1207]
[null,1208]
[null,1209]
[null,1210]
[null,1211]
[null,1212]
[null,1213]
[null,1214]
[null,1215]
[null,1216]
[null,1217]
[null,1218]
[null,1219]
[null,1220]
[null,1221]
[null,1222]
[null,1223]
[null,1224]
[null,1225]
[null,1226]
[null,1227]
[null,1228]
[null,1229]
[null,1230]
[null,1231]
[null,1232]
[null,1233]
[null,1234]
[null,1235]
[null,1236]
[null,1237]
[null,1238]
[null,1239]
[null,1240]
[null,1241]
[null,1242]
[null,1243]
[null,1244]
[null,1245]
[null,1246]
[null,1247]
[null,1248]
[null,1249]
[null,1250]
[null,1251]
[null,1252]
[null,1253]
[null,1254]
[null,1255]
[null,1256]
[null,1257]
[null,1258]
[null,1259]
[null,1260]
[null,1261]
[null,1262]
[null,1263]
[null,1264]
[null,1265]
[null,1266]
[null,1267]
[null,1268]
[null,1269]
[null,1270]
[null,1271]
[null,1272]
[null,1273]
[null,1274]
[null,1275]
[null,1276]
[null,1277]
[null,1278]
[null,1279]
[null,1280]
[null,1281]
[null,1282]
[null,1283]
[null,1284]
[null,1285]
[null,1286]
[null,1287]
[null,1288]
[null,1289]
[null,1290]
[null,1291]
[null,1292]
[null,1293]
[null,1294]
[null,1295]
[null,1296]
[null,1297]
[null,1298]
[null,1299]
[null,1300]
[null,1301]
[null,1302]
[null,1303]
[null,1304]
[null,1305]
[null,1306]
[null,1307]
[null,1308]
[null,1309]
[null,1310]
[null,1311]
[null,1312]
[null,1313]
[null,1314]
[null,1315]
[null,1316]
[null,1317]
[null,1318]
[null,1319]
[null,1320]
[null,1321]
[null,1322]
[null,1323]
[null,1324]
[null,1325]
[null,1326]
[null,1327]
[null,1328]
[null,1329]
[null,1330]
[null,1331]
[null,1332]
[null,1333]
[null,1334]
[null,1335]
[null,1336]
[null,1337]
[null,1338]
[null,1339]
[null,1340]
[null,1341]
[null,1342]
[null,1343]
[null,1344]
[null,1345]
[null,1346]
[null,1347]
[null,1348]
[null,1349]
[null,1350]
[null,1351]
[null,1352]
[null,1353]
[null,1354]
[null,1355]
[null,1356]
[null,1357]
[null,1358]
[null,1359]
[null,1360]
[null,1361]
[null,1362]
[null,1363]
[null,1364]
[null,1365]
[null,1366]
[null,1367]
[null,1368]
[null,1369]
[null,1370]
[null,1371]
[null,1372]
[null,1373]
[null,1374]
[null,1375]
[null,1376]
[null,1377]
[null,1378]
[null,1379]
[null,1380]
[null,1381]
[null,1382]
[null,1383]
[null,1384]
[null,1385]
[null,1386]
[null,1387]
[null,1388]
[null,1389]
[null,1390]
[null,1391]
[null,1392]
[null,1393]
[null,1394]
[null,1395]
[null,1396]
[null,1397]
[null,1398]
[null,1399]
[null,1400]
[null,1401]
[null,1402]
[null,1403]
[null,1404]
[null,1405]
[null,1406]
[null,1407]
[null,1408]
[null,1409]
[null,1410]
[null,1411]
[null,1412]
[null,1413]
[null,1414]
[null,1415]
[null,1416]
[null,1417]
[null,1418]
[null,1419]
[null,1420]
[null,1421]
[null,1422]
[null,1423]
[null,1424]
[null,1425]
[null,1426]
[null,1427]
[null,1428]
[null,1429]
[null,1430]
[null,1431]
[null,1432]
[null,1433]
[null,1434]
[null,1435]
[null,1436]
[null,1437]
[null,1438]
[null,1439]
[null,1440]
[null,1441]
[null,1442]
[null,1443]
[null,1444]
[null,1445]
[null,1446]
[null,1447]
[null,1448]
[null,1449]
[null,1450]
[null,1451]
[null,1452]
[null,1453]
[null,1454]
[null,1455]
[null,1456]
[null,1457]
[null,1458]
[null,1459]
[null,1460]
[null,1461]
[null,1462]
[null,1463]
[null,1464]
[null,1465]
[null,1466]
[null,1467]
[null,1468]
[null,1469]
[null,1470]
[null,1471]
[null,1472]
[null,1473]
[null,1474]
[null,1475]
[null,1476]
[null,1477]
[null,1478]
[null,1479]
[null,1480]
[null,1481]
[null,1482]
[null,1483]
[null,1484]
[null,1485]
[null,1486]
[null,1487]
[null,1488]
[null,1489]
[null,1490]
[null,1491]
[null,1492]
[null,1493]
[null,1494]
[null,1495]
[null,1496]
[null,1497]
[null,1498]
[null,1499]
[null,1500]
[null,1501]
[null,1502]
[null,1503]
[null,1504]
[null,1505]
[null,1506]
[null,1507]
[null,1508]
[null,1509]
[null,1510]
[null,1511]
[null,1512]
[null,1513]
[null,1514]
[null,1515]
[null,1516]
[null,1517]
[null,1518]
[null,1519]
[null,1520]
[null,1521]
[null,1522]
[null,1523]
[null,1524]
[null,1525]
[null,1526]
[null,1527]
[null,1528]
[null,1529]
[null,1530]
[null,1531]
[null,1532]
[null,1533]
[null,1534]
[null,1535]
[null,1536]
[null,1537]
[null,1538]
[null,1539]
[null,1540]
[null,1541]
[null,1542]
[null,1543]
[null,1544]
[null,1545]
[null,1546]
[null,1547]
[null,1548]
[null,1549]
[null,1550]
[null,1551]
[null,1552]
[null,1553]
[null,1554]
[null,1555]
[null,1556]
[null,1557]
[null,1558]
[null,1559]
[null,1560]
[null,1561]
[null,1562]
[null,1563]
[null,1564]
[null,1565]
[null,1566]
[null,1567]
[null,1568]
[null,1569]
[null,1570]
[null,1571]
[null,1572]
[null,1573]
[null,1574]
[null,1575]
[null,1576]
[null,1577]
[null,1578]
[null,1579]
[null,1580]
[null,1581]
[null,1582]
[null,1583]
[null,1584]
[null,1585]
[null,1586]
[null,1587]
[null,1588]
[null,1589]
[null,1590]
[null,1591]
[null,1592]
[null,1593]
[null,1594]
[null,1595]
[null,1596]
[null,1597]
[null,1598]
[null,1599]
[null,1600]
[null,1601]
[null,1602]
[null,1603]
[null,1604]
[null,1605]
[null,1606]
[null,1607]
[null,1608]
[null,1609]
[null,1610]
[null,1611]
[null,1612]
[null,1613]
[null,1614]
[null,1615]
[null,1616]
[null,1617]
[null,1618]
[null,1619]
[null,1620]
[null,1621]
[null,1622]
[null,1623]
[null,1624]
[null,1625]
[null,1626]
[null,1627]
[null,1628]
[null,1629]
[null,1630]
[null,1631]
[null,1632]
[null,1633]
[null,1634]
[null,1635]
[null,1636]
[null,1637]
[null,1638]
[null,1639]
[null,1640]
[null,1641]
[null,1642]
[null,1643]
[null,1644]
[null,1645]
[null,1646]
[null,1647]
[null,1648]
[null,1649]
[null,1650]
[null,1651]
[null,1652]
[null,1653]
[null,1654]
[null,1655]
[null,1656]
[null,1657]
[null,1658]
[null,1659]
[null,1660]
[null,1661]
[null,1662]
[null,1663]
[null,1664]
[null,1665]
[null,1666]
[null,1667]
[null,1668]
[null,1669]
[null,1670]
[null,1671]
[null,1672]
[null,1673]
[null,1674]
[null,1675]
[null,1676]
[null,1677]
[null,1678]
[null,1679]
[null,1680]
[null,1681]
[null,1682]
[null,1683]
[null,1684]
[null,1685]
[null,1686]
[null,1687]
[null,1688]
[null,1689]
[null,1690]
[null,1691]
[null,1692]
[null,1693]
[null,1694]
[null,1695]
[null,1696]
[null,1697]
[null,1698]
[null,1699]
[null,1700]
[null,1701]
[null,1702]
[null,1703]
[null,1704]
[null,1705]
[null,1706]
[null,1707]
[null,1708]
[null,1709]
[null,1710]
[null,1711]
[null,1712]
[null,1713]
[null,1714]
[null,1715]
[null,1716]
[null,1717]
[null,1718]
[null,1719]
[null,1720]
[null,1721]
[null,1722]
[null,1723]
[null,1724]
[null,1725]
[null,1726]
[null,1727]
[null,1728]
[null,1729]
[null,1730]
[null,1731]
[null,1732]
[null,1733]
[null,1734]
[null,1735]
[null,1736]
[null,1737]
[null,1738]
[null,1739]
[null,1740]
[null,1741]
[null,1742]
[null,1743]
[null,1744]
[null,1745]
[null,1746]
[null,1747]
[null,1748]
[null,1749]
[null,1750]
[null,1751]
[null,1752]
[null,1753]
[null,1754]
[null,1755]
[null,1756]
[null,1757]
[null,1758]
[null,1759]
[null,1760]
[null,1761]
[null,1762]
[null,1763]
[null,1764]
[null,1765]
[null,1766]
[null,1767]
[null,1768]
[null,1769]
[null,1770]
[null,1771]
[null,1772]
[null,1773]
[null,1774]
[null,1775]
[null,1776]
[null,1777]
[null,1778]
[null,1779]
[null,1780]
[null,1781]
[null,1782]
[null,1783]
[null,1784]
[null,1785]
[null,1786]
[null,1787]
[null,1788]
[null,1789]
[null,1790]
[null,1791]
[null,1792]
[null,1793]
[null,1794]
[null,1795]
[null,1796]
[null,1797]
[null,1798]
[null,1799]
[null,1800]
[null,1801]
[null,1802]
[null,1803]
[null,1804]
[null,1805]
[null,1806]
[null,1807]
[null,1808]
[null,1809]
[null,1810]
[null,1811]
[null,1812]
[null,1813]
[null,1814]
[null,1815]
[null,1816]
[null,1817]
[null,1818]
[null,1819]
[null,1820]
[null,1821]
[null,1822]
[null,1823]
[null,1824]
[null,1825]
[null,1826]
[null,1827]
[null,1828]
[null,1829]
[null,1830]
[null,1831]
[null,1832]
[null,1833]
[null,1834]
[null,1835]
[null,1836]
[null,1837]
[null,1838]
[null,1839]
[null,1840]
[null,1841]
[null,1842]
[null,1843]
[null,1844]
[null,1845]
[null,1846]
[null,1847]
[null,1848]
[null,1849]
[null,1850]
[null,1851]
[null,1852]
[null,1853]
[null,1854]
[null,1855]
[null,1856]
[null,1857]
[null,1858]
[null,1859]
[null,1860]
[null,1861]
[null,1862]
[null,1863]
[null,1864]
[null,1865]
[null,1866]
[null,1867]
[null,1868]
[null,1869]
[null,1870]
[null,1871]
[null,1872]
[null,1873]
[null,1874]
[null,1875]
[null,1876]
[null,1877]
[null,1878]
[null,1879]
[null,1880]
[null,1881]
[null,1882]
[null,1883]
[null,1884]
[null,1885]
[null,1886]
[null,1887]
[null,1888]
[null,1889]
[null,1890]
[null,1891]
[null,1892]
[null,1893]
[null,1894]
[null,1895]
[null,1896]
[null,1897]
[null,1898]
[null,1899]
[null,1900]
[null,1901]
[null,1902]
[null,1903]
[null,1904]
[null,1905]
[null,1906]
[null,1907]
[null,1908]
[null,1909]
[null,1910]
[null,1911]
[null,1912]
[null,1913]
[null,1914]
[null,1915]
[null,1916]
[null,1917]
[null,1918]
[null,1919]
[null,1920]
[null,1921]
[null,1922]
[null,1923]
[null,1924]
[null,1925]
[null,1926]
[null,1927]
[null,1928]
[null,1929]
[null,1930]
[null,1931]
[null,1932]
[null,1933]
[null,1934]
[null,1935]
[null,1936]
[null,1937]
[null,1938]
[null,1939]
[null,1940]
[null,1941]
[null,1942]
[null,1943]
[null,1944]
[null,1945]
[null,1946]
[null,1947]
[null,1948]
[null,1949]
[null,1950]
[null,1951]
[null,1952]
[null,1953]
[null,1954]
[null,1955]
[null,1956]
[null,1957]
[null,1958]
[null,1959]
[null,1960]
[null,1961]
[null,1962]
[null,1963]
[null,1964]
[null,1965]
[null,1966]
[null,1967]
[null,1968]
[null,1969]
[null,1970]
[null,1971]
[null,1972]
[null,1973]
[null,1974]
[null,1975]
[null,1976]
[null,1977]
[null,1978]
[null,1979]
[null,1980]
[null,1981]
[null,1982]
[null,1983]
[null,1984]
[null,1985]
[null,1986]
[null,1987]
[null,1988]
[null,1989]
[null,1990]
[null,1991]
[null,1992]
[null,1993]
[null,1994]
[null,1995]
[null,1996]
[null,1997]
[null,1998]
[null,1999]
[null,2000]
[null,2001]
[null,2002]
[null,2003]
[null,2004]
[null,2005]
[null,2006]
[null,2007]
[null,2008]
[null,2009]
[null,2010]
[null,2011]
[null,2012]
[null,2013]
[null,2014]
[null,2015]
[null,2016]
[null,2017]
[null,2018]
[null,2019]
[null,2020]
[null,2021]
[null,2022]
[null,2023]
[null,2024]
[null,2025]
[null,2026]
[null,2027]
[null,2028]
[null,2029]
[null,2030]
[null,2031]
[null,2032]
[null,2033]
[null,2034]
[null,2035]
[null,2036]
[null,2037]
[null,2038]
[null,2039]
[null,2040]
[null,2041]
[null,2042]
[null,2043]
[null,2044]
[null,2045]
[null,2046]
[null,2047]
[null,2048]
[null,2049]
[null,2050]
[null,2051]
[null,2052]
[null,2053]
[null,2054]
[null,2055]
[null,2056]
[null,2057]
[null,2058]
[null,2059]
[null,2060]
[null,2061]
[null,2062]
[null,2063]
[null,2064]
[null,2065]
[null,2066]
[null,2067]
[null,2068]
[null,2069]
[null,2070]
[null,2071]
[null,2072]
[null,2073]
[null,2074]
[null,2075]
[null,2076]
[null,2077]
[null,2078]
[null,2079]
[null,2080]
[null,2081]
[null,2082]
[null,2083]
[null,2084]
[null,2085]
[null,2086]
[null,2087]
[null,2088]
[null,2089]
[null,2090]
[null,2091]
[null,2092]
[null,2093]
[null,2094]
[null,2095]
[null,2096]
[null,2097]
[null,2098]
[null,2099]
[null,2100]
[null,2101]
[null,2102]
[null,2103]
[null,2104]
[null,2105]
[null,2106]
[null,2107]
[null,2108]
[null,2109]
[null,2110]
[null,2111]
[null,2112]
[null,2113]
[null,2114]
[null,2115]
[null,2116]
[null,2117]
[null,2118]
[null,2119]
[null,2120]
[null,2121]
[null,2122]
[null,2123]
[null,2124]
[null,2125]
[null,2126]
[null,2127]
[null,2128]
[null,2129]
[null,2130]
[null,2131]
[null,2132]
[null,2133]
[null,2134]
[null,2135]
[null,2136]
[null,2137]
[null,2138]
[null,2139]
[null,2140]
[null,2141]
[null,2142]
[null,2143]
[null,2144]
[null,2145]
[null,2146]
[null,2147]
[null,2148]
[null,2149]
[null,2150]
[null,2151]
[null,2152]
[null,2153]
[null,2154]
[null,2155]
[null,2156]
[null,2157]
[null,2158]
[null,2159]
[null,2160]
[null,2161]
[null,2162]
[null,2163]
[null,2164]
[null,2165]
[null,2166]
[null,2167]
[null,2168]
[null,2169]
[null,2170]
[null,2171]
[null,2172]
[null,2173]
[null,2174]
[null,2175]
[null,2176]
[null,2177]
[null,2178]
[null,2179]
[null,2180]
[null,2181]
[null,2182]
[null,2183]
[null,2184]
[null,2185]
[null,2186]
[null,2187]
[null,2188]
[null,2189]
[null,2190]
[null,2191]
[null,2192]
[null,2193]
[null,2194]
[null,2195]
[null,2196]
[null,2197]
[null,2198]
[null,2199]
[null,2200]
[null,2201]
[null,2202]
[null,2203]
[null,2204]
[null,2205]
[null,2206]
[null,2207]
[null,2208]
[null,2209]
[null,2210]
[null,2211]
[null,2212]
[null,2213]
[null,2214]
[null,2215]
[null,2216]
[null,2217]
[null,2218]
[null,2219]
[null,2220]
[null,2221]
[null,2222]
[null,2223]
[null,2224]
[null,2225]
[null,2226]
[null,2227]
[null,2228]
[null,2229]
[null,2230]
[null,2231]
[null,2232]
[null,2233]
[null,2234]
[null,2235]
[null,2236]
[null,2237]
[null,2238]
[null,2239]
[null,2240]
[null,2241]
[null,2242]
[null,2243]
[null,2244]
[null,2245]
[null,2246]
[null,2247]
[null,2248]
[null,2249]
[null,2250]
[null,2251]
[null,2252]
[null,2253]
[null,2254]
[null,2255]
[null,2256]
[null,2257]
[null,2258]
[null,2259]
[null,2260]
[null,2261]
[null,2262]
[null,2263]
[null,2264]
[null,2265]
[null,2266]
[null,2267]
[null,2268]
[null,2269]
[null,2270]
[null,2271]
[null,2272]
[null,2273]
[null,2274]
[null,2275]
[null,2276]
[null,2277]
[null,2278]
[null,2279]
[null,2280]
[null,2281]
[null,2282]
[null,2283]
[null,2284]
[null,2285]
[null,2286]
[null,2287]
[null,2288]
[null,2289]
[null,2290]
[null,2291]
[null,2292]
[null,2293]
[null,2294]
[null,2295]
[null,2296]
[null,2297]
[null,2298]
[null,2299]
[null,2300]
[null,2301]
[null,2302]
[null,2303]
[null,2304]
[null,2305]
[null,2306]
[null,2307]
[null,2308]
[null,2309]
[null,2310]
[null,2311]
[null,2312]
[null,2313]
[null,2314]
[null,2315]
[null,2316]
[null,2317]
[null,2318]
[null,2319]
[null,2320]
[null,2321]
[null,2322]
[null,2323]
[null,2324]
[null,2325]
[null,2326]
[null,2327]
[null,2328]
[null,2329]
[null,2330]
[null,2331]
[null,2332]
[null,2333]
[null,2334]
[null,2335]
[null,2336]
[null,2337]
[null,2338]
[null,2339]
[null,2340]
[null,2341]
[null,2342]
[null,2343]
[null,2344]
[null,2345]
[null,2346]
[null,2347]
[null,2348]
[null,2349]
[null,2350]
[null,2351]
[null,2352]
[null,2353]
[null,2354]
[null,2355]
[null,2356]
[null,2357]
[null,2358]
[null,2359]
[null,2360]
[null,2361]
[null,2362]
[null,2363]
[null,2364]
[null,2365]
[null,2366]
[null,2367]
[null,2368]
[null,2369]
[null,2370]
[null,2371]
[null,2372]
[null,2373]
[null,2374]
[null,2375]
[null,2376]
[null,2377]
[null,2378]
[null,2379]
[null,2380]
[null,2381]
[null,2382]
[null,2383]
[null,2384]
[null,2385]
[null,2386]
[null,2387]
[null,2388]
[null,2389]
[null,2390]
[null,2391]
[null,2392]
[null,2393]
[null,2394]
[null,2395]
[null,2396]
[null,2397]
[null,2398]
[null,2399]
[null,2400]
[null,2401]
[null,2402]
[null,2403]
[null,2404]
[null,2405]
[null,2406]
[null,2407]
[null,2408]
[null,2409]
[null,2410]
[null,2411]
[null,2412]
[null,2413]
[null,2414]
[null,2415]
[null,2416]
[null,2417]
[null,2418]
[null,2419]
[null,2420]
[null,2421]
[null,2422]
[null,2423]
[null,2424]
[null,2425]
[null,2426]
[null,2427]
[null,2428]
[null,2429]
[null,2430]
[null,2431]
[null,2432]
[null,2433]
[null,2434]
[null,2435]
[null,2436]
[null,2437]
[null,2438]
[null,2439]
[null,2440]
[null,2441]
[null,2442]
[null,2443]
[null,2444]
[null,2445]
[null,2446]
[null,2447]
[null,2448]
[null,2449]
[null,2450]
[null,2451]
[null,2452]
[null,2453]
[null,2454]
[null,2455]
[null,2456]
[null,2457]
[null,2458]
[null,2459]
[null,2460]
[null,2461]
[null,2462]
[null,2463]
[null,2464]
[null,2465]
[null,2466]
[null,2467]
[null,2468]
[null,2469]
[null,2470]
[null,2471]
[null,2472]
[null,2473]
[null,2474]
[null,2475]
[null,2476]
[null,2477]
[null,2478]
[null,2479]
[null,2480]
[null,2481]
[null,2482]
[null,2483]
[null,2484]
[null,2485]
[null,2486]
[null,2487]
[null,2488]
[null,2489]
[null,2490]
[null,2491]
[null,2492]
[null,2493]
[null,2494]
[null,2495]
[null,2496]
[null,2497]
[null,2498]
[null,2499]
[null,2500]
[null,2501]
[null,2502]
[null,2503]
[null,2504]
[null,2505]
[null,2506]
[null,2507]
[null,2508]
[null,2509]
[null,2510]
[null,2511]
[null,2512]
[null,2513]
[null,2514]
[null,2515]
[null,2516]
[null,2517]
[null,2518]
[null,2519]
[null,2520]
[null,2521]
[null,2522]
[null,2523]
[null,2524]
[null,2525]
[null,2526]
[null,2527]
[null,2528]
[null,2529]
[null,2530]
[null,2531]
[null,2532]
[null,2533]
[null,2534]
[null,2535]
[null,2536]
[null,2537]
[null,2538]
[null,2539]
[null,2540]
[null,2541]
[null,2542]
[null,2543]
[null,2544]
[null,2545]
[null,2546]
[null,2547]
[null,2548]
[null,2549]
[null,2550]
[null,2551]
[null,2552]
[null,2553]
[null,2554]
[null,2555]
[null,2556]
[null,2557]
[null,2558]
[null,2559]
[null,2560]
[null,2561]
[null,2562]
[null,2563]
[null,2564]
[null,2565]
[null,2566]
[null,2567]
[null,2568]
[null,2569]
[null,2570]
[null,2571]
[null,2572]
[null,2573]
[null,2574]
[null,2575]
[null,2576]
[null,2577]
[null,2578]
[null,2579]
[null,2580]
[null,2581]
[null,2582]
[null,2583]
[null,2584]
[null,2585]
[null,2586]
[null,2587]
[null,2588]
[null,2589]
[null,2590]
[null,2591]
[null,2592]
[null,2593]
[null,2594]
[null,2595]
[null,2596]
[null,2597]
[null,2598]
[null,2599]
[null,2600]
[null,2601]
[null,2602]
[null,2603]
[null,2604]
[null,2605]
[null,2606]
[null,2607]
[null,2608]
[null,2609]
[null,2610]
[null,2611]
[null,2612]
[null,2613]
[null,2614]
[null,2615]
[null,2616]
[null,2617]
[null,2618]
[null,2619]
[null,2620]
[null,2621]
[null,2622]
[null,2623]
[null,2624]
[null,2625]
[null,2626]
[null,2627]
[null,2628]
[null,2629]
[null,2630]
[null,2631]
[null,2632]
[null,2633]
[null,2634]
[null,2635]
[null,2636]
[null,2637]
[null,2638]
[null,2639]
[null,2640]
[null,2641]
[null,2642]
[null,2643]
[null,2644]
[null,2645]
[null,2646]
[null,2647]
[null,2648]
[null,2649]
[null,2650]
[null,2651]
[null,2652]
[null,2653]
[null,2654]
[null,2655]
[null,2656]
[null,2657]
[null,2658]
[null,2659]
[null,2660]
[null,2661]
[null,2662]
[null,2663]
[null,2664]
[null,2665]
[null,2666]
[null,2667]
[null,2668]
[null,2669]
[null,2670]
[null,2671]
[null,2672]
[null,2673]
[null,2674]
[null,2675]
[null,2676]
[null,2677]
[null,2678]
[null,2679]
[null,2680]
[null,2681]
[null,2682]
[null,2683]
[null,2684]
[null,2685]
[null,2686]
[null,2687]
[null,2688]
[null,2689]
[null,2690]
[null,2691]
[null,2692]
[null,2693]
[null,2694]
[null,2695]
[null,2696]
[null,2697]
[null,2698]
[null,2699]
[null,2700]
[null,2701]
[null,2702]
[null,2703]
[null,2704]
[null,2705]
[null,2706]
[null,2707]
[null,2708]
[null,2709]
[null,2710]
[null,2711]
[null,2712]
[null,2713]
[null,2714]
[null,2715]
[null,2716]
[null,2717]
[null,2718]
[null,2719]
[null,2720]
[null,2721]
[null,2722]
[null,2723]
[null,2724]
[null,2725]
[null,2726]
[null,2727]
[null,2728]
[null,2729]
[null,2730]
[null,2731]
[null,2732]
[null,2733]
[null,2734]
[null,2735]
[null,2736]
[null,2737]
[null,2738]
[null,2739]
[null,2740]
[null,2741]
[null,2742]
[null,2743]
[null,2744]
[null,2745]
[null,2746]
[null,2747]
[null,2748]
[null,2749]
[null,2750]
[null,2751]
[null,2752]
[null,2753]
[null,2754]
[null,2755]
[null,2756]
[null,2757]
[null,2758]
[null,2759]
[null,2760]
[null,2761]
[null,2762]
[null,2763]
[null,2764]
[null,2765]
[null,2766]
[null,2767]
[null,2768]
[null,2769]
[null,2770]
[null,2771]
[null,2772]
[null,2773]
[null,2774]
[null,2775]
[null,2776]
[null,2777]
[null,2778]
[null,2779]
[null,2780]
[null,2781]
[null,2782]
[null,2783]
[null,2784]
[null,2785]
[null,2786]
[null,2787]
[null,2788]
[null,2789]
[null,2790]
[null,2791]
[null,2792]
[null,2793]
[null,2794]
[null,2795]
[null,2796]
[null,2797]
[null,2798]
[null,2799]
[null,2800]
[null,2801]
[null,2802]
[null,2803]
[null,2804]
[null,2805]
[null,2806]
[null,2807]
[null,2808]
[null,2809]
[null,2810]
[null,2811]
[null,2812]
[null,2813]
[null,2814]
[null,2815]
[null,2816]
[null,2817]
[null,2818]
[null,2819]
[null,2820]
[null,2821]
[null,2822]
[null,2823]
[null,2824]
[null,2825]
[null,2826]
[null,2827]
[null,2828]
[null,2829]
[null,2830]
[null,2831]
[null,2832]
[null,2833]
[null,2834]
[null,2835]
[null,2836]
[null,2837]
[null,2838]
[null,2839]
[null,2840]
[null,2841]
[null,2842]
[null,2843]
[null,2844]
[null,2845]
[null,2846]
[null,2847]
[null,2848]
[null,2849]
[null,2850]
[null,2851]
[null,2852]
[null,2853]
[null,2854]
[null,2855]
[null,2856]
[null,2857]
[null,2858]
[null,2859]
[null,2860]
[null,2861]
[null,2862]
[null,2863]
[null,2864]
[null,2865]
[null,2866]
[null,2867]
[null,2868]
[null,2869]
[null,2870]
[null,2871]
[null,2872]
[null,2873]
[null,2874]
[null,2875]
[null,2876]
[null,2877]
[null,2878]
[null,2879]
[null,2880]
[null,2881]
[null,2882]
[null,2883]
[null,2884]
[null,2885]
[null,2886]
[null,2887]
[null,2888]
[null,2889]
[null,2890]
[null,2891]
[null,2892]
[null,2893]
[null,2894]
[null,2895]
[null,2896]
[null,2897]
[null,2898]
[null,2899]
[null,2900]
[null,2901]
[null,2902]
[null,2903]
[null,2904]
[null,2905]
[null,2906]
[null,2907]
[null,2908]
[null,2909]
[null,2910]
[null,2911]
[null,2912]
[null,2913]
[null,2914]
[null,2915]
[null,2916]
[null,2917]
[null,2918]
[null,2919]
[null,2920]
[null,2921]
[null,2922]
[null,2923]
[null,2924]
[null,2925]
[null,2926]
[null,2927]
[null,2928]
[null,2929]
[null,2930]
[null,2931]
[null,2932]
[null,2933]
[null,2934]
[null,2935]
[null,2936]
[null,2937]
[null,2938]
[null,2939]
[null,2940]
[null,2941]
[null,2942]
[null,2943]
[null,2944]
[null,2945]
[null,2946]
[null,2947]
[null,2948]
[null,2949]
[null,2950]
[null,2951]
[null,2952]
[null,2953]
[null,2954]
[null,2955]
[null,2956]
[null,2957]
[null,2958]
[null,2959]
[null,2960]
[null,2961]
[null,2962]
[null,2963]
[null,2964]
[null,2965]
[null,2966]
[null,2967]
[null,2968]
[null,2969]
[null,2970]
[null,2971]
[null,2972]
[null,2973]
[null,2974]
[null,2975]
[null,2976]
[null,2977]
[null,2978]
[null,2979]
[null,2980]
[null,2981]
[null,2982]
[null,2983]
[null,2984]
[null,2985]
[null,2986]
[null,2987]
[null,2988]
[null,2989]
[null,2990]
[null,2991]
[null,2992]
[null,2993]
[null,2994]
[null,2995]
[null,2996]
[null,2997]
[null,2998]
[null,2999]
[null,3000]
[null,3001]
[null,3002]
[null,3003]
[null,3004]
[null,3005]
[null,3006]
[null,3007]
[null,3008]
[null,3009]
[null,3010]
[null,3011]
[null,3012]
[null,3013]
[null,3014]
[null,3015]
[null,3016]
[null,3017]
[null,3018]
[null,3019]
[null,3020]
[null,3021]
[null,3022]
[null,3023]
[null,3024]
[null,3025]
[null,3026]
[null,3027]
[null,3028]
[null,3029]
[null,3030]
[null,3031]
[null,3032]
[null,3033]
[null,3034]
[null,3035]
[null,3036]
[null,3037]
[null,3038]
[null,3039]
[null,3040]
[null,3041]
[null,3042]
[null,3043]
[null,3044]
[null,3045]
[null,3046]
[null,3047]
[null,3048]
[null,3049]
[null,3050]
[null,3051]
[null,3052]
[null,3053]
[null,3054]
[null,3055]
[null,3056]
[null,3057]
[null,3058]
[null,3059]
[null,3060]
[null,3061]
[null,3062]
[null,3063]
[null,3064]
[null,3065]
[null,3066]
[null,3067]
[null,3068]
[null,3069]
[null,3070]
[null,3071]
[null,3072]
[null,3073]
[null,3074]
[null,3075]
[null,3076]
[null,3077]
[null,3078]
[null,3079]
[null,3080]
[null,3081]
[null,3082]
[null,3083]
[null,3084]
[null,3085]
[null,3086]
[null,3087]
[null,3088]
[null,3089]
[null,3090]
[null,3091]
[null,3092]
[null,3093]
[null,3094]
[null,3095]
[null,3096]
[null,3097]
[null,3098]
[null,3099]
[null,3100]
[null,3101]
[null,3102]
[null,3103]
[null,3104]
[null,3105]
[null,3106]
[null,3107]
[null,3108]
[null,3109]
[null,3110]
[null,3111]
[null,3112]
[null,3113]
[null,3114]
[null,3115]
[null,3116]
[null,3117]
[null,3118]
[null,3119]
[null,3120]
[null,3121]
[null,3122]
[null,3123]
[null,3124]
[null,3125]
[null,3126]
[null,3127]
[null,3128]
[null,3129]
[null,3130]
[null,3131]
[null,3132]
[null,3133]
[null,3134]
[null,3135]
[null,3136]
[null,3137]
[null,3138]
[null,3139]
[null,3140]
[null,3141]
[null,3142]
[null,3143]
[null,3144]
[null,3145]
[null,3146]
[null,3147]
[null,3148]
[null,3149]
[null,3150]
[null,3151]
[null,3152]
[null,3153]
[null,3154]
[null,3155]
[null,3156]
[null,3157]
[null,3158]
[null,3159]
[null,3160]
[null,3161]
[null,3162]
[null,3163]
[null,3164]
[null,3165]
[null,3166]
[null,3167]
[null,3168]
[null,3169]
[null,3170]
[null,3171]
[null,3172]
[null,3173]
[null,3174]
[null,3175]
[null,3176]
[null,3177]
[null,3178]
[null,3179]
[null,3180]
[null,3181]
[null,3182]
[null,3183]
[null,3184]
[null,3185]
[null,3186]
[null,3187]
[null,3188]
[null,3189]
[null,3190]
[null,3191]
[null,3192]
[null,3193]
[null,3194]
[null,3195]
[null,3196]
[null,3197]
[null,3198]
[null,3199]
[null,3200]
[null,3201]
[null,3202]
[null,3203]
[null,3204]
[null,3205]
[null,3206]
[null,3207]
[null,3208]
[null,3209]
[null,3210]
[null,3211]
[null,3212]
[null,3213]
[null,3214]
[null,3215]
[null,3216]
[null,3217]
[null,3218]
[null,3219]
[null,3220]
[null,3221]
[null,3222]
[null,3223]
[null,3224]
[null,3225]
[null,3226]
[null,3227]
[null,3228]
[null,3229]
[null,3230]
[null,3231]
[null,3232]
[null,3233]
[null,3234]
[null,3235]
[null,3236]
[null,3237]
[null,3238]
[null,3239]
[null,3240]
[null,3241]
[null,3242]
[null,3243]
[null,3244]
[null,3245]
[null,3246]
[null,3247]
[null,3248]
[null,3249]
[null,3250]
[null,3251]
[null,3252]
[null,3253]
[null,3254]
[null,3255]
[null,3256]
[null,3257]
[null,3258]
[null,3259]
[null,3260]
[null,3261]
[null,3262]
[null,3263]
[null,3264]
[null,3265]
[null,3266]
[null,3267]
[null,3268]
[null,3269]
[null,3270]
[null,3271]
[null,3272]
[null,3273]
[null,3274]
[null,3275]
[null,3276]
[null,3277]
[null,3278]
[null,3279]
[null,3280]
[null,3281]
[null,3282]
[null,3283]
[null,3284]
[null,3285]
[null,3286]
[null,3287]
[null,3288]
[null,3289]
[null,3290]
[null,3291]
[null,3292]
[null,3293]
[null,3294]
[null,3295]
[null,3296]
[null,3297]
[null,3298]
[null,3299]
[null,3300]
[null,3301]
[null,3302]
[null,3303]
[null,3304]
[null,3305]
[null,3306]
[null,3307]
[null,3308]
[null,3309]
[null,3310]
[null,3311]
[null,3312]
[null,3313]
[null,3314]
[null,3315]
[null,3316]
[null,3317]
[null,3318]
[null,3319]
[null,3320]
[null,3321]
[null,3322]
[null,3323]
[null,3324]
[null,3325]
[null,3326]
[null,3327]
[null,3328]
[null,3329]
[null,3330]
[null,3331]
[null,3332]
[null,3333]
[null,3334]
[null,3335]
[null,3336]
[null,3337]
[null,3338]
[null,3339]
[null,3340]
[null,3341]
[null,3342]
[null,3343]
[null,3344]
[null,3345]
[null,3346]
[null,3347]
[null,3348]
[null,3349]
[null,3350]
[null,3351]
[null,3352]
[null,3353]
[null,3354]
[null,3355]
[null,3356]
[null,3357]
[null,3358]
[null,3359]
[null,3360]
[null,3361]
[null,3362]
[null,3363]
[null,3364]
[null,3365]
[null,3366]
[null,3367]
[null,3368]
[null,3369]
[null,3370]
[null,3371]
[null,3372]
[null,3373]
[null,3374]
[null,3375]
[null,3376]
[null,3377]
[null,3378]
[null,3379]
[null,3380]
[null,3381]
[null,3382]
[null,3383]
[null,3384]
[null,3385]
[null,3386]
[null,3387]
[null,3388]
[null,3389]
[null,3390]
[null,3391]
[null,3392]
[null,3393]
[null,3394]
[null,3395]
[null,3396]
[null,3397]
[null,3398]
[null,3399]
[null,3400]
[null,3401]
[null,3402]
[null,3403]
[null,3404]
[null,3405]
[null,3406]
[null,3407]
[null,3408]
[null,3409]
[null,3410]
[null,3411]
[null,3412]
[null,3413]
[null,3414]
[null,3415]
[null,3416]
[null,3417]
[null,3418]
[null,3419]
[null,3420]
[null,3421]
[null,3422]
[null,3423]
[null,3424]
[null,3425]
[null,3426]
[null,3427]
[null,3428]
[null,3429]
[null,3430]
[null,3431]
[null,3432]
[null,3433]
[null,3434]
[null,3435]
[null,3436]
[null,3437]
[null,3438]
[null,3439]
[null,3440]
[null,3441]
[null,3442]
[null,3443]
[null,3444]
[null,3445]
[null,3446]
[null,3447]
[null,3448]
[null,3449]
[null,3450]
[null,3451]
[null,3452]
[null,3453]
[null,3454]
[null,3455]
[null,3456]
[null,3457]
[null,3458]
[null,3459]
[null,3460]
[null,3461]
[null,3462]
[null,3463]
[null,3464]
[null,3465]
[null,3466]
[null,3467]
[null,3468]
[null,3469]
[null,3470]
[null,3471]
[null,3472]
[null,3473]
[null,3474]
[null,3475]
[null,3476]
[null,3477]
[null,3478]
[null,3479]
[null,3480]
[null,3481]
[null,3482]
[null,3483]
[null,3484]
[null,3485]
[null,3486]
[null,3487]
[null,3488]
[null,3489]
[null,3490]
[null,3491]
[null,3492]
[null,3493]
[null,3494]
[null,3495]
[null,3496]
[null,3497]
[null,3498]
[null,3499]
[null,3500]
[null,3501]
[null,3502]
[null,3503]
[null,3504]
[null,3505]
[null,3506]
[null,3507]
[null,3508]
[null,3509]
[null,3510]
[null,3511]
[null,3512]
[null,3513]
[null,3514]
[null,3515]
[null,3516]
[null,3517]
[null,3518]
[null,3519]
[null,3520]
[null,3521]
[null,3522]
[null,3523]
[null,3524]
[null,3525]
[null,3526]
[null,3527]
[null,3528]
[null,3529]
[null,3530]
[null,3531]
[null,3532]
[null,3533]
[null,3534]
[null,3535]
[null,3536]
[null,3537]
[null,3538]
[null,3539]
[null,3540]
[null,3541]
[null,3542]
[null,3543]
[null,3544]
[null,3545]
[null,3546]
[null,3547]
[null,3548]
[null,3549]
[null,3550]
[null,3551]
[null,3552]
[null,3553]
[null,3554]
[null,3555]
[null,3556]
[null,3557]
[null,3558]
[null,3559]
[null,3560]
[null,3561]
[null,3562]
[null,3563]
[null,3564]
[null,3565]
[null,3566]
[null,3567]
[null,3568]
[null,3569]
[null,3570]
[null,3571]
[null,3572]
[null,3573]
[null,3574]
[null,3575]
[null,3576]
[null,3577]
[null,3578]
[null,3579]
[null,3580]
[null,3581]
[null,3582]
[null,3583]
[null,3584]
[null,3585]
[null,3586]
[null,3587]
[null,3588]
[null,3589]
[null,3590]
[null,3591]
[null,3592]
[null,3593]
[null,3594]
[null,3595]
[null,3596]
[null,3597]
[null,3598]
[null,3599]
[null,3600]
[null,3601]
[null,3602]
[null,3603]
[null,3604]
[null,3605]
[null,3606]
[null,3607]
[null,3608]
[null,3609]
[null,3610]
[null,3611]
[null,3612]
[null,3613]
[null,3614]
[null,3615]
[null,3616]
[null,3617]
[null,3618]
[null,3619]
[null,3620]
[null,3621]
[null,3622]
[null,3623]
[null,3624]
[null,3625]
[null,3626]
[null,3627]
[null,3628]
[null,3629]
[null,3630]
[null,3631]
[null,3632]
[null,3633]
[null,3634]
[null,3635]
[null,3636]
[null,3637]
[null,3638]
[null,3639]
[null,3640]
[null,3641]
[null,3642]
[null,3643]
[null,3644]
[null,3645]
[null,3646]
[null,3647]
[null,3648]
[null,3649]
[null,3650]
[null,3651]
[null,3652]
[null,3653]
[null,3654]
[null,3655]
[null,3656]
[null,3657]
[null,3658]
[null,3659]
[null,3660]
[null,3661]
[null,3662]
[null,3663]
[null,3664]
[null,3665]
[null,3666]
[null,3667]
[null,3668]
[null,3669]
[null,3670]
[null,3671]
[null,3672]
[null,3673]
[null,3674]
[null,3675]
[null,3676]
[null,3677]
[null,3678]
[null,3679]
[null,3680]
[null,3681]
[null,3682]
[null,3683]
[null,3684]
[null,3685]
[null,3686]
[null,3687]
[null,3688]
[null,3689]
[null,3690]
[null,3691]
[null,3692]
[null,3693]
[null,3694]
[null,3695]
[null,3696]
[null,3697]
[null,3698]
[null,3699]
[null,3700]
[null,3701]
[null,3702]
[null,3703]
[null,3704]
[null,3705]
[null,3706]
[null,3707]
[null,3708]
[null,3709]
[null,3710]
[null,3711]
[null,3712]
[null,3713]
[null,3714]
[null,3715]
[null,3716]
[null,3717]
[null,3718]
[null,3719]
[null,3720]
[null,3721]
[null,3722]
[null,3723]
[null,3724]
[null,3725]
[null,3726]
[null,3727]
[null,3728]
[null,3729]
[null,3730]
[null,3731]
[null,3732]
[null,3733]
[null,3734]
[null,3735]
[null,3736]
[null,3737]
[null,3738]
[null,3739]
[null,3740]
[null,3741]
[null,3742]
[null,3743]
[null,3744]
[null,3745]
[null,3746]
[null,3747]
[null,3748]
[null,3749]
[null,3750]
[null,3751]
[null,3752]
[null,3753]
[null,3754]
[null,3755]
[null,3756]
[null,3757]
[null,3758]
[null,3759]
[null,3760]
[null,3761]
[null,3762]
[null,3763]
[null,3764]
[null,3765]
[null,3766]
[null,3767]
[null,3768]
[null,3769]
[null,3770]
[null,3771]
[null,3772]
[null,3773]
[null,3774]
[null,3775]
[null,3776]
[null,3777]
[null,3778]
[null,3779]
[null,3780]
[null,3781]
[null,3782]
[null,3783]
[null,3784]
[null,3785]
[null,3786]
[null,3787]
[null,3788]
[null,3789]
[null,3790]
[null,3791]
[null,3792]
[null,3793]
[null,3794]
[null,3795]
[null,3796]
[null,3797]
[null,3798]
[null,3799]
[null,3800]
[null,3801]
[null,3802]
[null,3803]
[null,3804]
[null,3805]
[null,3806]
[null,3807]
[null,3808]
[null,3809]
[null,3810]
[null,3811]
[null,3812]
[null,3813]
[null,3814]
[null,3815]
[null,3816]
[null,3817]
[null,3818]
[null,3819]
[null,3820]
[null,3821]
[null,3822]
[null,3823]
[null,3824]
[null,3825]
[null,3826]
[null,3827]
[null,3828]
[null,3829]
[null,3830]
[null,3831]
[null,3832]
[null,3833]
[null,3834]
[null,3835]
[null,3836]
[null,3837]
[null,3838]
[null,3839]
[null,3840]
[null,3841]
[null,3842]
[null,3843]
[null,3844]
[null,3845]
[null,3846]
[null,3847]
[null,3848]
[null,3849]
[null,3850]
[null,3851]
[null,3852]
[null,3853]
[null,3854]
[null,3855]
[null,3856]
[null,3857]
[null,3858]
[null,3859]
[null,3860]
[null,3861]
[null,3862]
[null,3863]
[null,3864]
[null,3865]
[null,3866]
[null,3867]
[null,3868]
[null,3869]
[null,3870]
[null,3871]
[null,3872]
[null,3873]
[null,3874]
[null,3875]
[null,3876]
[null,3877]
[null,3878]
[null,3879]
[null,3880]
[null,3881]
[null,3882]
[null,3883]
[null,3884]
[null,3885]
[null,3886]
[null,3887]
[null,3888]
[null,3889]
[null,3890]
[null,3891]
[null,3892]
[null,3893]
[null,3894]
[null,3895]
[null,3896]
[null,3897]
[null,3898]
[null,3899]
[null,3900]
[null,3901]
[null,3902]
[null,3903]
[null,3904]
[null,3905]
[null,3906]
[null,3907]
[null,3908]
[null,3909]
[null,3910]
[null,3911]
[null,3912]
[null,3913]
[null,3914]
[null,3915]
[null,3916]
[null,3917]
[null,3918]
[null,3919]
[null,3920]
[null,3921]
[null,3922]
[null,3923]
[null,3924]
[null,3925]
[null,3926]
[null,3927]
[null,3928]
[null,3929]
[null,3930]
[null,3931]
[null,3932]
[null,3933]
[null,3934]
[null,3935]
[null,3936]
[null,3937]
[null,3938]
[null,3939]
[null,3940]
[null,3941]
[null,3942]
[null,3943]
[null,3944]
[null,3945]
[null,3946]
[null,3947]
[null,3948]
[null,3949]
[null,3950]
[null,3951]
[null,3952]
[null,3953]
[null,3954]
[null,3955]
[null,3956]
[null,3957]
[null,3958]
[null,3959]
[null,3960]
[null,3961]
[null,3962]
[null,3963]
[null,3964]
[null,3965]
[null,3966]
[null,3967]
[null,3968]
[null,3969]
[null,3970]
[null,3971]
[null,3972]
[null,3973]
[null,3974]
[null,3975]
[null,3976]
[null,3977]
[null,3978]
[null,3979]
[null,3980]
[null,3981]
[null,3982]
[null,3983]
[null,3984]
[null,3985]
[null,3986]
[null,3987]
[null,3988]
[null,3989]
[null,3990]
[null,3991]
[null,3992]
[null,3993]
[null,3994]
[null,3995]
[null,3996]
[null,3997]
[null,3998]
[null,3999]
[null,4000]
[null,4001]
[null,4002]
[null,4003]
[null,4004]
[null,4005]
[null,4006]
[null,4007]
[null,4008]
[null,4009]
[null,4010]
[null,4011]
[null,4012]
[null,4013]
[null,4014]
[null,4015]
[null,4016]
[null,4017]
[null,4018]
[null,4019]
[null,4020]
[null,4021]
[null,4022]
[null,4023]
[null,4024]
[null,4025]
[null,4026]
[null,4027]
[null,4028]
[null,4029]
[null,4030]
[null,4031]
[null,4032]
[null,4033]
[null,4034]
[null,4035]
[null,4036]
[null,4037]
[null,4038]
[null,4039]
[null,4040]
[null,4041]
[null,4042]
[null,4043]
[null,4044]
[null,4045]
[null,4046]
[null,4047]
[null,4048]
[null,4049]
[null,4050]
[null,4051]
[null,4052]
[null,4053]
[null,4054]
[null,4055]
[null,4056]
[null,4057]
[null,4058]
[null,4059]
[null,4060]
[null,4061]
[null,4062]
[null,4063]
[null,4064]
[null,4065]
[null,4066]
[null,4067]
[null,4068]
[null,4069]
[null,4070]
[null,4071]
[null,4072]
[null,4073]
[null,4074]
[null,4075]
[null,4076]
[null,4077]
[null,4078]
[null,4079]
[null,4080]
[null,4081]
[null,4082]
[null,4083]
[null,4084]
[null,4085]
[null,4086]
[null,4087]
[null,4088]
[null,4089]
[null,4090]
[null,4091]
[null,4092]
[null,4093]
[null,4094]
[null,4095]
[null,4096]
[null,4097]
[null,4098]
[null,4099]
[null,4100]
[null,4101]
[null,4102]
[null,4103]
[null,4104]
[null,4105]
[null,4106]
[null,4107]
[null,4108]
[null,4109]
[null,4110]
[null,4111]
[null,4112]
[null,4113]
[null,4114]
[null,4115]
[null,4116]
[null,4117]
[null,4118]
[null,4119]
[null,4120]
[null,4121]
[null,4122]
[null,4123]
[null,4124]
[null,4125]
[null,4126]
[null,4127]
[null,4128]
[null,4129]
[null,4130]
[null,4131]
[null,4132]
[null,4133]
[null,4134]
[null,4135]
[null,4136]
[null,4137]
[null,4138]
[null,4139]
[null,4140]
[null,4141]
[null,4142]
[null,4143]
[null,4144]
[null,4145]
[null,4146]
[null,4147]
[null,4148]
[null,4149]
[null,4150]
[null,4151]
[null,4152]
[null,4153]
[null,4154]
[null,4155]
[null,4156]
[null,4157]
[null,4158]
[null,4159]
[null,4160]
[null,4161]
[null,4162]
[null,4163]
[null,4164]
[null,4165]
[null,4166]
[null,4167]
[null,4168]
[null,4169]
[null,4170]
[null,4171]
[null,4172]
[null,4173]
[null,4174]
[null,4175]
[null,4176]
[null,4177]
[null,4178]
[null,4179]
[null,4180]
[null,4181]
[null,4182]
[null,4183]
[null,4184]
[null,4185]
[null,4186]
[null,4187]
[null,4188]
[null,4189]
[null,4190]
[null,4191]
[null,4192]
[null,4193]
[null,4194]
[null,4195]
[null,4196]
[null,4197]
[null,4198]
[null,4199]
[null,4200]
[null,4201]
[null,4202]
[null,4203]
[null,4204]
[null,4205]
[null,4206]
[null,4207]
[null,4208]
[null,4209]
[null,4210]
[null,4211]
[null,4212]
[null,4213]
[null,4214]
[null,4215]
[null,4216]
[null,4217]
[null,4218]
[null,4219]
[null,4220]
[null,4221]
[null,4222]
[null,4223]
[null,4224]
[null,4225]
[null,4226]
[null,4227]
[null,4228]
[null,4229]
[null,4230]
[null,4231]
[null,4232]
[null,4233]
[null,4234]
[null,4235]
[null,4236]
[null,4237]
[null,4238]
[null,4239]
[null,4240]
[null,4241]
[null,4242]
[null,4243]
[null,4244]
[null,4245]
[null,4246]
[null,4247]
[null,4248]
[null,4249]
[null,4250]
[null,4251]
[null,4252]
[null,4253]
[null,4254]
[null,4255]
[null,4256]
[null,4257]
[null,4258]
[null,4259]
[null,4260]
[null,4261]
[null,4262]
[null,4263]
[null,4264]
[null,4265]
[null,4266]
[null,4267]
[null,4268]
[null,4269]
[null,4270]
[null,4271]
[null,4272]
[null,4273]
[null,4274]
[null,4275]
[null,4276]
[null,4277]
[null,4278]
[null,4279]
[null,4280]
[null,4281]
[null,4282]
[null,4283]
[null,4284]
[null,4285]
[null,4286]
[null,4287]
[null,4288]
[null,4289]
[null,4290]
[null,4291]
[null,4292]
[null,4293]
[null,4294]
[null,4295]
[null,4296]
[null,4297]
[null,4298]
[null,4299]
[null,4300]
[null,4301]
[null,4302]
[null,4303]
[null,4304]
[null,4305]
[null,4306]
[null,4307]
[null,4308]
[null,4309]
[null,4310]
[null,4311]
[null,4312]
[null,4313]
[null,4314]
[null,4315]
[null,4316]
[null,4317]
[null,4318]
[null,4319]
[null,4320]
[null,4321]
[null,4322]
[null,4323]
[null,4324]
[null,4325]
[null,4326]
[null,4327]
[null,4328]
[null,4329]
[null,4330]
[null,4331]
[null,4332]
[null,4333]
[null,4334]
[null,4335]
[null,4336]
[null,4337]
[null,4338]
[null,4339]
[null,4340]
[null,4341]
[null,4342]
[null,4343]
[null,4344]
[null,4345]
[null,4346]
[null,4347]
[null,4348]
[null,4349]
[null,4350]
[null,4351]
[null,4352]
[null,4353]
[null,4354]
[null,4355]
[null,4356]
[null,4357]
[null,4358]
[null,4359]
[null,4360]
[null,4361]
[null,4362]
[null,4363]
[null,4364]
[null,4365]
[null,4366]
[null,4367]
[null,4368]
[null,4369]
[null,4370]
[null,4371]
[null,4372]
[null,4373]
[null,4374]
[null,4375]
[null,4376]
[null,4377]
[null,4378]
[null,4379]
[null,4380]
[null,4381]
[null,4382]
[null,4383]
[null,4384]
[null,4385]
[null,4386]
[null,4387]
[null,4388]
[null,4389]
[null,4390]
[null,4391]
[null,4392]
[null,4393]
[null,4394]
[null,4395]
[null,4396]
[null,4397]
[null,4398]
[null,4399]
[null,4400]
[null,4401]
[null,4402]
[null,4403]
[null,4404]
[null,4405]
[null,4406]
[null,4407]
[null,4408]
[null,4409]
[null,4410]
[null,4411]
[null,4412]
[null,4413]
[null,4414]
[null,4415]
[null,4416]
[null,4417]
[null,4418]
[null,4419]
[null,4420]
[null,4421]
[null,4422]
[null,4423]
[null,4424]
[null,4425]
[null,4426]
[null,4427]
[null,4428]
[null,4429]
[null,4430]
[null,4431]
[null,4432]
[null,4433]
[null,4434]
[null,4435]
[null,4436]
[null,4437]
[null,4438]
[null,4439]
[null,4440]
[null,4441]
[null,4442]
[null,4443]
[null,4444]
[null,4445]
[null,4446]
[null,4447]
[null,4448]
[null,4449]
[null,4450]
[null,4451]
[null,4452]
[null,4453]
[null,4454]
[null,4455]
[null,4456]
[null,4457]
[null,4458]
[null,4459]
[null,4460]
[null,4461]
[null,4462]
[null,4463]
[null,4464]
[null,4465]
[null,4466]
[null,4467]
[null,4468]
[null,4469]
[null,4470]
[null,4471]
[null,4472]
[null,4473]
[null,4474]
[null,4475]
[null,4476]
[null,4477]
[null,4478]
[null,4479]
[null,4480]
[null,4481]
[null,4482]
[null,4483]
[null,4484]
[null,4485]
[null,4486]
[null,4487]
[null,4488]
[null,4489]
[null,4490]
[null,4491]
[null,4492]
[null,4493]
[null,4494]
[null,4495]
[null,4496]
[null,4497]
[null,4498]
[null,4499]
[null,4500]
[null,4501]
[null,4502]
[null,4503]
[null,4504]
[null,4505]
[null,4506]
[null,4507]
[null,4508]
[null,4509]
[null,4510]
[null,4511]
[null,4512]
[null,4513]
[null,4514]
[null,4515]
[null,4516]
[null,4517]
[null,4518]
[null,4519]
[null,4520]
[null,4521]
[null,4522]
[null,4523]
[null,4524]
[null,4525]
[null,4526]
[null,4527]
[null,4528]
[null,4529]
[null,4530]
[null,4531]
[null,4532]
[null,4533]
[null,4534]
[null,4535]
[null,4536]
[null,4537]
[null,4538]
[null,4539]
[null,4540]
[null,4541]
[null,4542]
[null,4543]
[null,4544]
[null,4545]
[null,4546]
[null,4547]
[null,4548]
[null,4549]
[null,4550]
[null,4551]
[null,4552]
[null,4553]
[null,4554]
[null,4555]
[null,4556]
[null,4557]
[null,4558]
[null,4559]
[null,4560]
[null,4561]
[null,4562]
[null,4563]
[null,4564]
[null,4565]
[null,4566]
[null,4567]
[null,4568]
[null,4569]
[null,4570]
[null,4571]
[null,4572]
[null,4573]
[null,4574]
[null,4575]
[null,4576]
[null,4577]
[null,4578]
[null,4579]
[null,4580]
[null,4581]
[null,4582]
[null,4583]
[null,4584]
[null,4585]
[null,4586]
[null,4587]
[null,4588]
[null,4589]
[null,4590]
[null,4591]
[null,4592]
[null,4593]
[null,4594]
[null,4595]
[null,4596]
[null,4597]
[null,4598]
[null,4599]
[null,4600]
[null,4601]
[null,4602]
[null,4603]
[null,4604]
[null,4605]
[null,4606]
[null,4607]
[null,4608]
[null,4609]
[null,4610]
[null,4611]
[null,4612]
[null,4613]
[null,4614]
[null,4615]
[null,4616]
[null,4617]
[null,4618]
[null,4619]
[null,4620]
[null,4621]
[null,4622]
[null,4623]
[null,4624]
[null,4625]
[null,4626]
[null,4627]
[null,4628]
[null,4629]
[null,4630]
[null,4631]
[null,4632]
[null,4633]
[null,4634]
[null,4635]
[null,4636]
[null,4637]
[null,4638]
[null,4639]
[null,4640]
[null,4641]
[null,4642]
[null,4643]
[null,4644]
[null,4645]
[null,4646]
[null,4647]
[null,4648]
[null,4649]
[null,4650]
[null,4651]
[null,4652]
[null,4653]
[null,4654]
[null,4655]
[null,4656]
[null,4657]
[null,4658]
[null,4659]
[null,4660]
[null,4661]
[null,4662]
[null,4663]
[null,4664]
[null,4665]
[null,4666]
[null,4667]
[null,4668]
[null,4669]
[null,4670]
[null,4671]
[null,4672]
[null,4673]
[null,4674]
[null,4675]
[null,4676]
[null,4677]
[null,4678]
[null,4679]
[null,4680]
[null,4681]
[null,4682]
[null,4683]
[null,4684]
[null,4685]
[null,4686]
[null,4687]
[null,4688]
[null,4689]
[null,4690]
[null,4691]
[null,4692]
[null,4693]
[null,4694]
[null,4695]
[null,4696]
[null,4697]
[null,4698]
[null,4699]
[null,4700]
[null,4701]
[null,4702]
[null,4703]
[null,4704]
[null,4705]
[null,4706]
[null,4707]
[null,4708]
[null,4709]
[null,4710]
[null,4711]
[null,4712]
[null,4713]
[null,4714]
[null,4715]
[null,4716]
[null,4717]
[null,4718]
[null,4719]
[null,4720]
[null,4721]
[null,4722]
[null,4723]
[null,4724]
[null,4725]
[null,4726]
[null,4727]
[null,4728]
[null,4729]
[null,4730]
[null,4731]
[null,4732]
[null,4733]
[null,4734]
[null,4735]
[null,4736]
[null,4737]
[null,4738]
[null,4739]
[null,4740]
[null,4741]
[null,4742]
[null,4743]
[null,4744]
[null,4745]
[null,4746]
[null,4747]
[null,4748]
[null,4749]
[null,4750]
[null,4751]
[null,4752]
[null,4753]
[null,4754]
[null,4755]
[null,4756]
[null,4757]
[null,4758]
[null,4759]
[null,4760]
[null,4761]
[null,4762]
[null,4763]
[null,4764]
[null,4765]
[null,4766]
[null,4767]
[null,4768]
[null,4769]
[null,4770]
[null,4771]
[null,4772]
[null,4773]
[null,4774]
[null,4775]
[null,4776]
[null,4777]
[null,4778]
[null,4779]
[null,4780]
[null,4781]
[null,4782]
[null,4783]
[null,4784]
[null,4785]
[null,4786]
[null,4787]
[null,4788]
[null,4789]
[null,4790]
[null,4791]
[null,4792]
[null,4793]
[null,4794]
[null,4795]
[null,4796]
[null,4797]
[null,4798]
[null,4799]
[null,4800]
[null,4801]
[null,4802]
[null,4803]
[null,4804]
[null,4805]
[null,4806]
[null,4807]
[null,4808]
[null,4809]
[null,4810]
[null,4811]
[null,4812]
[null,4813]
[null,4814]
[null,4815]
[null,4816]
[null,4817]
[null,4818]
[null,4819]
[null,4820]
[null,4821]
[null,4822]
[null,4823]
[null,4824]
[null,4825]
[null,4826]
[null,4827]
[null,4828]
[null,4829]
[null,4830]
[null,4831]
[null,4832]
[null,4833]
[null,4834]
[null,4835]
[null,4836]
[null,4837]
[null,4838]
[null,4839]
[null,4840]
[null,4841]
[null,4842]
[null,4843]
[null,4844]
[null,4845]
[null,4846]
[null,4847]
[null,4848]
[null,4849]
[null,4850]
[null,4851]
[null,4852]
[null,4853]
[null,4854]
[null,4855]
[null,4856]
[null,4857]
[null,4858]
[null,4859]
[null,4860]
[null,4861]
[null,4862]
[null,4863]
[null,4864]
[null,4865]
[null,4866]
[null,4867]
[null,4868]
[null,4869]
[null,4870]
[null,4871]
[null,4872]
[null,4873]
[null,4874]
[null,4875]
[null,4876]
[null,4877]
[null,4878]
[null,4879]
[null,4880]
[null,4881]
[null,4882]
[null,4883]
[null,4884]
[null,4885]
[null,4886]
[null,4887]
[null,4888]
[null,4889]
[null,4890]
[null,4891]
[null,4892]
[null,4893]
[null,4894]
[null,4895]
[null,4896]
[null,4897]
[null,4898]
[null,4899]
[null,4900]
[null,4901]
[null,4902]
[null,4903]
[null,4904]
[null,4905]
[null,4906]
[null,4907]
[null,4908]
[null,4909]
[null,4910]
[null,4911]
[null,4912]
[null,4913]
[null,4914]
[null,4915]
[null,4916]
[null,4917]
[null,4918]
[null,4919]
[null,4920]
[null,4921]
[null,4922]
[null,4923]
[null,4924]
[null,4925]
[null,4926]
[null,4927]
[null,4928]
[null,4929]
[null,4930]
[null,4931]
[null,4932]
[null,4933]
[null,4934]
[null,4935]
[null,4936]
[null,4937]
[null,4938]
[null,4939]
[null,4940]
[null,4941]
[null,4942]
[null,4943]
[null,4944]
[null,4945]
[null,4946]
[null,4947]
[null,4948]
[null,4949]
[null,4950]
[null,4951]
[null,4952]
[null,4953]
[null,4954]
[null,4955]
[null,4956]
[null,4957]
[null,4958]
[null,4959]
[null,4960]
[null,4961]
[null,4962]
[null,4963]
[null,4964]
[null,4965]
[null,4966]
[null,4967]
[null,4968]
[null,4969]
[null,4970]
[null,4971]
[null,4972]
[null,4973]
[null,4974]
[null,4975]
[null,4976]
[null,4977]
[null,4978]
[null,4979]
[null,4980]
[null,4981]
[null,4982]
[null,4983]
[null,4984]
[null,4985]
[null,4986]
[null,4987]
[null,4988]
[null,4989]
[null,4990]
[null,4991]
[null,4992]
[null,4993]
[null,4994]
[null,4995]
[null,4996]
[null,4997]
[null,4998]
[null,4999]
[null,5000]
[null,5001]
[null,5002]
[null,5003]
[null,5004]
[null,5005]
[null,5006]
[null,5007]
[null,5008]
[null,5009]
[null,5010]
[null,5011]
[null,5012]
[null,5013]
[null,5014]
[null,5015]
[null,5016]
[null,5017]
[null,5018]
[null,5019]
[null,5020]
[null,5021]
[null,5022]
[null,5023]
[null,5024]
[null,5025]
[null,5026]
[null,5027]
[null,5028]
[null,5029]
[null,5030]
[null,5031]
[null,5032]
[null,5033]
[null,5034]
[null,5035]
[null,5036]
[null,5037]
[null,5038]
[null,5039]
[null,5040]
[null,5041]
[null,5042]
[null,5043]
[null,5044]
[null,5045]
[null,5046]
[null,5047]
[null,5048]
[null,5049]
[null,5050]
[null,5051]
[null,5052]
[null,5053]
[null,5054]
[null,5055]
[null,5056]
[null,5057]
[null,5058]
[null,5059]
[null,5060]
[null,5061]
[null,5062]
[null,5063]
[null,5064]
[null,5065]
[null,5066]
[null,5067]
[null,5068]
[null,5069]
[null,5070]
[null,5071]
[null,5072]
[null,5073]
[null,5074]
[null,5075]
[null,5076]
[null,5077]
[null,5078]
[null,5079]
[null,5080]
[null,5081]
[null,5082]
[null,5083]
[null,5084]
[null,5085]
[null,5086]
[null,5087]
[null,5088]
[null,5089]
[null,5090]
[null,5091]
[null,5092]
[null,5093]
[null,5094]
[null,5095]
[null,5096]
[null,5097]
[null,5098]
[null,5099]
[null,5100]
[null,5101]
[null,5102]
[null,5103]
[null,5104]
[null,5105]
[null,5106]
[null,5107]
[null,5108]
[null,5109]
[null,5110]
[null,5111]
[null,5112]
[null,5113]
[null,5114]
[null,5115]
[null,5116]
[null,5117]
[null,5118]
[null,5119]
[null,5120]
[null,5121]
[null,5122]
[null,5123]
[null,5124]
[null,5125]
[null,5126]
[null,5127]
[null,5128]
[null,5129]
[null,5130]
[null,5131]
[null,5132]
[null,5133]
[null,5134]
[null,5135]
[null,5136]
[null,5137]
[null,5138]
[null,5139]
[null,5140]
[null,5141]
[null,5142]
[null,5143]
[null,5144]
[null,5145]
[null,5146]
[null,5147]
[null,5148]
[null,5149]
[null,5150]
[null,5151]
[null,5152]
[null,5153]
[null,5154]
[null,5155]
[null,5156]
[null,5157]
[null,5158]
[null,5159]
[null,5160]
[null,5161]
[null,5162]
[null,5163]
[null,5164]
[null,5165]
[null,5166]
[null,5167]
[null,5168]
[null,5169]
[null,5170]
[null,5171]
[null,5172]
[null,5173]
[null,5174]
[null,5175]
[null,5176]
[null,5177]
[null,5178]
[null,5179]
[null,5180]
[null,5181]
[null,5182]
[null,5183]
[null,5184]
[null,5185]
[null,5186]
[null,5187]
[null,5188]
[null,5189]
[null,5190]
[null,5191]
[null,5192]
[null,5193]
[null,5194]
[null,5195]
[null,5196]
[null,5197]
[null,5198]
[null,5199]
[null,5200]
[null,5201]
[null,5202]
[null,5203]
[null,5204]
[null,5205]
[null,5206]
[null,5207]
[null,5208]
[null,5209]
[null,5210]
[null,5211]
[null,5212]
[null,5213]
[null,5214]
[null,5215]
[null,5216]
[null,5217]
[null,5218]
[null,5219]
[null,5220]
[null,5221]
[null,5222]
[null,5223]
[null,5224]
[null,5225]
[null,5226]
[null,5227]
[null,5228]
[null,5229]
[null,5230]
[null,5231]
[null,5232]
[null,5233]
[null,5234]
[null,5235]
[null,5236]
[null,5237]
[null,5238]
[null,5239]
[null,5240]
[null,5241]
[null,5242]
[null,5243]
[null,5244]
[null,5245]
[null,5246]
[null,5247]
[null,5248]
[null,5249]
[null,5250]
[null,5251]
[null,5252]
[null,5253]
[null,5254]
[null,5255]
[null,5256]
[null,5257]
[null,5258]
[null,5259]
[null,5260]
[null,5261]
[null,5262]
[null,5263]
[null,5264]
[null,5265]
[null,5266]
[null,5267]
[null,5268]
[null,5269]
[null,5270]
[null,5271]
[null,5272]
[null,5273]
[null,5274]
[null,5275]
[null,5276]
[null,5277]
[null,5278]
[null,5279]
[null,5280]
[null,5281]
[null,5282]
[null,5283]
[null,5284]
[null,5285]
[null,5286]
[null,5287]
[null,5288]
[null,5289]
[null,5290]
[null,5291]
[null,5292]
[null,5293]
[null,5294]
[null,5295]
[null,5296]
[null,5297]
[null,5298]
[null,5299]
[null,5300]
[null,5301]
[null,5302]
[null,5303]
[null,5304]
[null,5305]
[null,5306]
[null,5307]
[null,5308]
[null,5309]
[null,5310]
[null,5311]
[null,5312]
[null,5313]
[null,5314]
[null,5315]
[null,5316]
[null,5317]
[null,5318]
[null,5319]
[null,5320]
[null,5321]
[null,5322]
[null,5323]
[null,5324]
[null,5325]
[null,5326]
[null,5327]
[null,5328]
[null,5329]
[null,5330]
[null,5331]
[null,5332]
[null,5333]
[null,5334]
[null,5335]
[null,5336]
[null,5337]
[null,5338]
[null,5339]
[null,5340]
[null,5341]
[null,5342]
[null,5343]
[null,5344]
[null,5345]
[null,5346]
[null,5347]
[null,5348]
[null,5349]
[null,5350]
[null,5351]
[null,5352]
[null,5353]
[null,5354]
[null,5355]
[null,5356]
[null,5357]
[null,5358]
[null,5359]
[null,5360]
[null,5361]
[null,5362]
[null,5363]
[null,5364]
[null,5365]
[null,5366]
[null,5367]
[null,5368]
[null,5369]
[null,5370]
[null,5371]
[null,5372]
[null,5373]
[null,5374]
[null,5375]
[null,5376]
[null,5377]
[null,5378]
[null,5379]
[null,5380]
[null,5381]
[null,5382]
[null,5383]
[null,5384]
[null,5385]
[null,5386]
[null,5387]
[null,5388]
[null,5389]
[null,5390]
[null,5391]
[null,5392]
[null,5393]
[null,5394]
[null,5395]
[null,5396]
[null,5397]
[null,5398]
[null,5399]
[null,5400]
[null,5401]
[null,5402]
[null,5403]
[null,5404]
[null,5405]
[null,5406]
[null,5407]
[null,5408]
[null,5409]
[null,5410]
[null,5411]
[null,5412]
[null,5413]
[null,5414]
[null,5415]
[null,5416]
[null,5417]
[null,5418]
[null,5419]
[null,5420]
[null,5421]
[null,5422]
[null,5423]
[null,5424]
[null,5425]
[null,5426]
[null,5427]
[null,5428]
[null,5429]
[null,5430]
[null,5431]
[null,5432]
[null,5433]
[null,5434]
[null,5435]
[null,5436]
[null,5437]
[null,5438]
[null,5439]
[null,5440]
[null,5441]
[null,5442]
[null,5443]
[null,5444]
[null,5445]
[null,5446]
[null,5447]
[null,5448]
[null,5449]
[null,5450]
[null,5451]
[null,5452]
[null,5453]
[null,5454]
[null,5455]
[null,5456]
[null,5457]
[null,5458]
[null,5459]
[null,5460]
[null,5461]
[null,5462]
[null,5463]
[null,5464]
[null,5465]
[null,5466]
[null,5467]
[null,5468]
[null,5469]
[null,5470]
[null,5471]
[null,5472]
[null,5473]
[null,5474]
[null,5475]
[null,5476]
[null,5477]
[null,5478]
[null,5479]
[null,5480]
[null,5481]
[null,5482]
[null,5483]
[null,5484]
[null,5485]
[null,5486]
[null,5487]
[null,5488]
[null,5489]
[null,5490]
[null,5491]
[null,5492]
[null,5493]
[null,5494]
[null,5495]
[null,5496]
[null,5497]
[null,5498]
[null,5499]
[null,5500]
[null,5501]
[null,5502]
[null,5503]
[null,5504]
[null,5505]
[null,5506]
[null,5507]
[null,5508]
[null,5509]
[null,5510]
[null,5511]
[null,5512]
[null,5513]
[null,5514]
[null,5515]
[null,5516]
[null,5517]
[null,5518]
[null,5519]
[null,5520]
[null,5521]
[null,5522]
[null,5523]
[null,5524]
[null,5525]
[null,5526]
[null,5527]
[null,5528]
[null,5529]
[null,5530]
[null,5531]
[null,5532]
[null,5533]
[null,5534]
[null,5535]
[null,5536]
[null,5537]
[null,5538]
[null,5539]
[null,5540]
[null,5541]
[null,5542]
[null,5543]
[null,5544]
[null,5545]
[null,5546]
[null,5547]
[null,5548]
[null,5549]
[null,5550]
[null,5551]
[null,5552]
[null,5553]
[null,5554]
[null,5555]
[null,5556]
[null,5557]
[null,5558]
[null,5559]
[null,5560]
[null,5561]
[null,5562]
[null,5563]
[null,5564]
[null,5565]
[null,5566]
[null,5567]
[null,5568]
[null,5569]
[null,5570]
[null,5571]
[null,5572]
[null,5573]
[null,5574]
[null,5575]
[null,5576]
[null,5577]
[null,5578]
[null,5579]
[null,5580]
[null,5581]
[null,5582]
[null,5583]
[null,5584]
[null,5585]
[null,5586]
[null,5587]
[null,5588]
[null,5589]
[null,5590]
[null,5591]
[null,5592]
[null,5593]
[null,5594]
[null,5595]
[null,5596]
[null,5597]
[null,5598]
[null,5599]
[null,5600]
[null,5601]
[null,5602]
[null,5603]
[null,5604]
[null,5605]
[null,5606]
[null,5607]
[null,5608]
[null,5609]
[null,5610]
[null,5611]
[null,5612]
[null,5613]
[null,5614]
[null,5615]
[null,5616]
[null,5617]
[null,5618]
[null,5619]
[null,5620]
[null,5621]
[null,5622]
[null,5623]
[null,5624]
[null,5625]
[null,5626]
[null,5627]
[null,5628]
[null,5629]
[null,5630]
[null,5631]
[null,5632]
[null,5633]
[null,5634]
[null,5635]
[null,5636]
[null,5637]
[null,5638]
[null,5639]
[null,5640]
[null,5641]
[null,5642]
[null,5643]
[null,5644]
[null,5645]
[null,5646]
[null,5647]
[null,5648]
[null,5649]
[null,5650]
[null,5651]
[null,5652]
[null,5653]
[null,5654]
[null,5655]
[null,5656]
[null,5657]
[null,5658]
[null,5659]
[null,5660]
[null,5661]
[null,5662]
[null,5663]
[null,5664]
[null,5665]
[null,5666]
[null,5667]
[null,5668]
[null,5669]
[null,5670]
[null,5671]
[null,5672]
[null,5673]
[null,5674]
[null,5675]
[null,5676]
[null,5677]
[null,5678]
[null,5679]
[null,5680]
[null,5681]
[null,5682]
[null,5683]
[null,5684]
[null,5685]
[null,5686]
[null,5687]
[null,5688]
[null,5689]
[null,5690]
[null,5691]
[null,5692]
[null,5693]
[null,5694]
[null,5695]
[null,5696]
[null,5697]
[null,5698]
[null,5699]
[null,5700]
[null,5701]
[null,5702]
[null,5703]
[null,5704]
[null,5705]
[null,5706]
[null,5707]
[null,5708]
[null,5709]
[null,5710]
[null,5711]
[null,5712]
[null,5713]
[null,5714]
[null,5715]
[null,5716]
[null,5717]
[null,5718]
[null,5719]
[null,5720]
[null,5721]
[null,5722]
[null,5723]
[null,5724]
[null,5725]
[null,5726]
[null,5727]
[null,5728]
[null,5729]
[null,5730]
[null,5731]
[null,5732]
[null,5733]
[null,5734]
[null,5735]
[null,5736]
[null,5737]
[null,5738]
[null,5739]
[null,5740]
[null,5741]
[null,5742]
[null,5743]
[null,5744]
[null,5745]
[null,5746]
[null,5747]
[null,5748]
[null,5749]
[null,5750]
[null,5751]
[null,5752]
[null,5753]
[null,5754]
[null,5755]
[null,5756]
[null,5757]
[null,5758]
[null,5759]
[null,5760]
[null,5761]
[null,5762]
[null,5763]
[null,5764]
[null,5765]
[null,5766]
[null,5767]
[null,5768]
[null,5769]
[null,5770]
[null,5771]
[null,5772]
[null,5773]
[null,5774]
[null,5775]
[null,5776]
[null,5777]
[null,5778]
[null,5779]
[null,5780]
[null,5781]
[null,5782]
[null,5783]
[null,5784]
[null,5785]
[null,5786]
[null,5787]
[null,5788]
[null,5789]
[null,5790]
[null,5791]
[null,5792]
[null,5793]
[null,5794]
[null,5795]
[null,5796]
[null,5797]
[null,5798]
[null,5799]
[null,5800]
[null,5801]
[null,5802]
[null,5803]
[null,5804]
[null,5805]
[null,5806]
[null,5807]
[null,5808]
[null,5809]
[null,5810]
[null,5811]
[null,5812]
[null,5813]
[null,5814]
[null,5815]
[null,5816]
[null,5817]
[null,5818]
[null,5819]
[null,5820]
[null,5821]
[null,5822]
[null,5823]
[null,5824]
[null,5825]
[null,5826]
[null,5827]
[null,5828]
[null,5829]
[null,5830]
[null,5831]
[null,5832]
[null,5833]
[null,5834]
[null,5835]
[null,5836]
[null,5837]
[null,5838]
[null,5839]
[null,5840]
[null,5841]
[null,5842]
[null,5843]
[null,5844]
[null,5845]
[null,5846]
[null,5847]
[null,5848]
[null,5849]
[null,5850]
[null,5851]
[null,5852]
[null,5853]
[null,5854]
[null,5855]
[null,5856]
[null,5857]
[null,5858]
[null,5859]
[null,5860]
[null,5861]
[null,5862]
[null,5863]
[null,5864]
[null,5865]
[null,5866]
[null,5867]
[null,5868]
[null,5869]
[null,5870]
[null,5871]
[null,5872]
[null,5873]
[null,5874]
[null,5875]
[null,5876]
[null,5877]
[null,5878]
[null,5879]
[null,5880]
[null,5881]
[null,5882]
[null,5883]
[null,5884]
[null,5885]
[null,5886]
[null,5887]
[null,5888]
[null,5889]
[null,5890]
[null,5891]
[null,5892]
[null,5893]
[null,5894]
[null,5895]
[null,5896]
[null,5897]
[null,5898]
[null,5899]
[null,5900]
[null,5901]
[null,5902]
[null,5903]
[null,5904]
[null,5905]
[null,5906]
[null,5907]
[null,5908]
[null,5909]
[null,5910]
[null,5911]
[null,5912]
[null,5913]
[null,5914]
[null,5915]
[null,5916]
[null,5917]
[null,5918]
[null,5919]
[null,5920]
[null,5921]
[null,5922]
[null,5923]
[null,5924]
[null,5925]
[null,5926]
[null,5927]
[null,5928]
[null,5929]
[null,5930]
[null,5931]
[null,5932]
[null,5933]
[null,5934]
[null,5935]
[null,5936]
[null,5937]
[null,5938]
[null,5939]
[null,5940]
[null,5941]
[null,5942]
[null,5943]
[null,5944]
[null,5945]
[null,5946]
[null,5947]
[null,5948]
[null,5949]
[null,5950]
[null,5951]
[null,5952]
[null,5953]
[null,5954]
[null,5955]
[null,5956]
[null,5957]
[null,5958]
[null,5959]
[null,5960]
[null,5961]
[null,5962]
[null,5963]
[null,5964]
[null,5965]
[null,5966]
[null,5967]
[null,5968]
[null,5969]
[null,5970]
[null,5971]
[null,5972]
[null,5973]
[null,5974]
[null,5975]
[null,5976]
[null,5977]
[null,5978]
[null,5979]
[null,5980]
[null,5981]
[null,5982]
[null,5983]
[null,5984]
[null,5985]
[null,5986]
[null,5987]
[null,5988]
[null,5989]
[null,5990]
[null,5991]
[null,5992]
[null,5993]
[null,5994]
[null,5995]
[null,5996]
[null,5997]
[null,5998]
[null,5999]
[null,6000]
[null,6001]
[null,6002]
[null,6003]
[null,6004]
[null,6005]
[null,6006]
[null,6007]
[null,6008]
[null,6009]
[null,6010]
[null,6011]
[null,6012]
[null,6013]
[null,6014]
[null,6015]
[null,6016]
[null,6017]
[null,6018]
[null,6019]
[null,6020]
[null,6021]
[null,6022]
[null,6023]
[null,6024]
[null,6025]
[null,6026]
[null,6027]
[null,6028]
[null,6029]
[null,6030]
[null,6031]
[null,6032]
[null,6033]
[null,6034]
[null,6035]
[null,6036]
[null,6037]
[null,6038]
[null,6039]
[null,6040]
[null,6041]
[null,6042]
[null,6043]
[null,6044]
[null,6045]
[null,6046]
[null,6047]
[null,6048]
[null,6049]
[null,6050]
[null,6051]
[null,6052]
[null,6053]
[null,6054]
[null,6055]
[null,6056]
[null,6057]
[null,6058]
[null,6059]
[null,6060]
[null,6061]
[null,6062]
[null,6063]
[null,6064]
[null,6065]
[null,6066]
[null,6067]
[null,6068]
[null,6069]
[null,6070]
[null,6071]
[null,6072]
[null,6073]
[null,6074]
[null,6075]
[null,6076]
[null,6077]
[null,6078]
[null,6079]
[null,6080]
[null,6081]
[null,6082]
[null,6083]
[null,6084]
[null,6085]
[null,6086]
[null,6087]
[null,6088]
[null,6089]
[null,6090]
[null,6091]
[null,6092]
[null,6093]
[null,6094]
[null,6095]
[null,6096]
[null,6097]
[null,6098]
[null,6099]
[null,6100]
[null,6101]
[null,6102]
[null,6103]
[null,6104]
[null,6105]
[null,6106]
[null,6107]
[null,6108]
[null,6109]
[null,6110]
[null,6111]
[null,6112]
[null,6113]
[null,6114]
[null,6115]
[null,6116]
[null,6117]
[null,6118]
[null,6119]
[null,6120]
[null,6121]
[null,6122]
[null,6123]
[null,6124]
[null,6125]
[null,6126]
[null,6127]
[null,6128]
[null,6129]
[null,6130]
[null,6131]
[null,6132]
[null,6133]
[null,6134]
[null,6135]
[null,6136]
[null,6137]
[null,6138]
[null,6139]
[null,6140]
[null,6141]
[null,6142]
[null,6143]
[null,6144]
[null,6145]
[null,6146]
[null,6147]
[null,6148]
[null,6149]
[null,6150]
[null,6151]
[null,6152]
[null,6153]
[null,6154]
[null,6155]
[null,6156]
[null,6157]
[null,6158]
[null,6159]
[null,6160]
[null,6161]
[null,6162]
[null,6163]
[null,6164]
[null,6165]
[null,6166]
[null,6167]
[null,6168]
[null,6169]
[null,6170]
[null,6171]
[null,6172]
[null,6173]
[null,6174]
[null,6175]
[null,6176]
[null,6177]
[null,6178]
[null,6179]
[null,6180]
[null,6181]
[null,6182]
[null,6183]
[null,6184]
[null,6185]
[null,6186]
[null,6187]
[null,6188]
[null,6189]
[null,6190]
[null,6191]
[null,6192]
[null,6193]
[null,6194]
[null,6195]
[null,6196]
[null,6197]
[null,6198]
[null,6199]
[null,6200]
[null,6201]
[null,6202]
[null,6203]
[null,6204]
[null,6205]
[null,6206]
[null,6207]
[null,6208]
[null,6209]
[null,6210]
[null,6211]
[null,6212]
[null,6213]
[null,6214]
[null,6215]
[null,6216]
[null,6217]
[null,6218]
[null,6219]
[null,6220]
[null,6221]
[null,6222]
[null,6223]
[null,6224]
[null,6225]
[null,6226]
[null,6227]
[null,6228]
[null,6229]
[null,6230]
[null,6231]
[null,6232]
[null,6233]
[null,6234]
[null,6235]
[null,6236]
[null,6237]
[null,6238]
[null,6239]
[null,6240]
[null,6241]
[null,6242]
[null,6243]
[null,6244]
[null,6245]
[null,6246]
[null,6247]
[null,6248]
[null,6249]
[null,6250]
[null,6251]
[null,6252]
[null,6253]
[null,6254]
[null,6255]
[null,6256]
[null,6257]
[null,6258]
[null,6259]
[null,6260]
[null,6261]
[null,6262]
[null,6263]
[null,6264]
[null,6265]
[null,6266]
[null,6267]
[null,6268]
[null,6269]
[null,6270]
[null,6271]
[null,6272]
[null,6273]
[null,6274]
[null,6275]
[null,6276]
[null,6277]
[null,6278]
[null,6279]
[null,6280]
[null,6281]
[null,6282]
[null,6283]
[null,6284]
[null,6285]
[null,6286]
[null,6287]
[null,6288]
[null,6289]
[null,6290]
[null,6291]
[null,6292]
[null,6293]
[null,6294]
[null,6295]
[null,6296]
[null,6297]
[null,6298]
[null,6299]
[null,6300]
[null,6301]
[null,6302]
[null,6303]
[null,6304]
[null,6305]
[null,6306]
[null,6307]
[null,6308]
[null,6309]
[null,6310]
[null,6311]
[null,6312]
[null,6313]
[null,6314]
[null,6315]
[null,6316]
[null,6317]
[null,6318]
[null,6319]
[null,6320]
[null,6321]
[null,6322]
[null,6323]
[null,6324]
[null,6325]
[null,6326]
[null,6327]
[null,6328]
[null,6329]
[null,6330]
[null,6331]
[null,6332]
[null,6333]
[null,6334]
[null,6335]
[null,6336]
[null,6337]
[null,6338]
[null,6339]
[null,6340]
[null,6341]
[null,6342]
[null,6343]
[null,6344]
[null,6345]
[null,6346]
[null,6347]
[null,6348]
[null,6349]
[null,6350]
[null,6351]
[null,6352]
[null,6353]
[null,6354]
[null,6355]
[null,6356]
[null,6357]
[null,6358]
[null,6359]
[null,6360]
[null,6361]
[null,6362]
[null,6363]
[null,6364]
[null,6365]
[null,6366]
[null,6367]
[null,6368]
[null,6369]
[null,6370]
[null,6371]
[null,6372]
[null,6373]
[null,6374]
[null,6375]
[null,6376]
[null,6377]
[null,6378]
[null,6379]
[null,6380]
[null,6381]
[null,6382]
[null,6383]
[null,6384]
[null,6385]
[null,6386]
[null,6387]
[null,6388]
[null,6389]
[null,6390]
[null,6391]
[null,6392]
[null,6393]
[null,6394]
[null,6395]
[null,6396]
[null,6397]
[null,6398]
[null,6399]
[null,6400]
[null,6401]
[null,6402]
[null,6403]
[null,6404]
[null,6405]
[null,6406]
[null,6407]
[null,6408]
[null,6409]
[null,6410]
[null,6411]
[null,6412]
[null,6413]
[null,6414]
[null,6415]
[null,6416]
[null,6417]
[null,6418]
[null,6419]
[null,6420]
[null,6421]
[null,6422]
[null,6423]
[null,6424]
[null,6425]
[null,6426]
[null,6427]
[null,6428]
[null,6429]
[null,6430]
[null,6431]
[null,6432]
[null,6433]
[null,6434]
[null,6435]
[null,6436]
[null,6437]
[null,6438]
[null,6439]
[null,6440]
[null,6441]
[null,6442]
[null,6443]
[null,6444]
[null,6445]
[null,6446]
[null,6447]
[null,6448]
[null,6449]
[null,6450]
[null,6451]
[null,6452]
[null,6453]
[null,6454]
[null,6455]
[null,6456]
[null,6457]
[null,6458]
[null,6459]
[null,6460]
[null,6461]
[null,6462]
[null,6463]
[null,6464]
[null,6465]
[null,6466]
[null,6467]
[null,6468]
[null,6469]
[null,6470]
[null,6471]
[null,6472]
[null,6473]
[null,6474]
[null,6475]
[null,6476]
[null,6477]
[null,6478]
[null,6479]
[null,6480]
[null,6481]
[null,6482]
[null,6483]
[null,6484]
[null,6485]
[null,6486]
[null,6487]
[null,6488]
[null,6489]
[null,6490]
[null,6491]
[null,6492]
[null,6493]
[null,6494]
[null,6495]
[null,6496]
[null,6497]
[null,6498]
[null,6499]
[null,6500]
[null,6501]
[null,6502]
[null,6503]
[null,6504]
[null,6505]
[null,6506]
[null,6507]
[null,6508]
[null,6509]
[null,6510]
[null,6511]
[null,6512]
[null,6513]
[null,6514]
[null,6515]
[null,6516]
[null,6517]
[null,6518]
[null,6519]
[null,6520]
[null,6521]
[null,6522]
[null,6523]
[null,6524]
[null,6525]
[null,6526]
[null,6527]
[null,6528]
[null,6529]
[null,6530]
[null,6531]
[null,6532]
[null,6533]
[null,6534]
[null,6535]
[null,6536]
[null,6537]
[null,6538]
[null,6539]
[null,6540]
[null,6541]
[null,6542]
[null,6543]
[null,6544]
[null,6545]
[null,6546]
[null,6547]
[null,6548]
[null,6549]
[null,6550]
[null,6551]
[null,6552]
[null,6553]
[null,6554]
[null,6555]
[null,6556]
[null,6557]
[null,6558]
[null,6559]
[null,6560]
[null,6561]
[null,6562]
[null,6563]
[null,6564]
[null,6565]
[null,6566]
[null,6567]
[null,6568]
[null,6569]
[null,6570]
[null,6571]
[null,6572]
[null,6573]
[null,6574]
[null,6575]
[null,6576]
[null,6577]
[null,6578]
[null,6579]
[null,6580]
[null,6581]
[null,6582]
[null,6583]
[null,6584]
[null,6585]
[null,6586]
[null,6587]
[null,6588]
[null,6589]
[null,6590]
[null,6591]
[null,6592]
[null,6593]
[null,6594]
[null,6595]
[null,6596]
[null,6597]
[null,6598]
[null,6599]
[null,6600]
[null,6601]
[null,6602]
[null,6603]
[null,6604]
[null,6605]
[null,6606]
[null,6607]
[null,6608]
[null,6609]
[null,6610]
[null,6611]
[null,6612]
[null,6613]
[null,6614]
[null,6615]
[null,6616]
[null,6617]
[null,6618]
[null,6619]
[null,6620]
[null,6621]
[null,6622]
[null,6623]
[null,6624]
[null,6625]
[null,6626]
[null,6627]
[null,6628]
[null,6629]
[null,6630]
[null,6631]
[null,6632]
[null,6633]
[null,6634]
[null,6635]
[null,6636]
[null,6637]
[null,6638]
[null,6639]
[null,6640]
[null,6641]
[null,6642]
[null,6643]
[null,6644]
[null,6645]
[null,6646]
[null,6647]
[null,6648]
[null,6649]
[null,6650]
[null,6651]
[null,6652]
[null,6653]
[null,6654]
[null,6655]
[null,6656]
[null,6657]
[null,6658]
[null,6659]
[null,6660]
[null,6661]
[null,6662]
[null,6663]
[null,6664]
[null,6665]
[null,6666]
[null,6667]
[null,6668]
[null,6669]
[null,6670]
[null,6671]
[null,6672]
[null,6673]
[null,6674]
[null,6675]
[null,6676]
[null,6677]
[null,6678]
[null,6679]
[null,6680]
[null,6681]
[null,6682]
[null,6683]
[null,6684]
[null,6685]
[null,6686]
[null,6687]
[null,6688]
[null,6689]
[null,6690]
[null,6691]
[null,6692]
[null,6693]
[null,6694]
[null,6695]
[null,6696]
[null,6697]
[null,6698]
[null,6699]
[null,6700]
[null,6701]
[null,6702]
[null,6703]
[null,6704]
[null,6705]
[null,6706]
[null,6707]
[null,6708]
[null,6709]
[null,6710]
[null,6711]
[null,6712]
[null,6713]
[null,6714]
[null,6715]
[null,6716]
[null,6717]
[null,6718]
[null,6719]
[null,6720]
[null,6721]
[null,6722]
[null,6723]
[null,6724]
[null,6725]
[null,6726]
[null,6727]
[null,6728]
[null,6729]
[null,6730]
[null,6731]
[null,6732]
[null,6733]
[null,6734]
[null,6735]
[null,6736]
[null,6737]
[null,6738]
[null,6739]
[null,6740]
[null,6741]
[null,6742]
[null,6743]
[null,6744]
[null,6745]
[null,6746]
[null,6747]
[null,6748]
[null,6749]
[null,6750]
[null,6751]
[null,6752]
[null,6753]
[null,6754]
[null,6755]
[null,6756]
[null,6757]
[null,6758]
[null,6759]
[null,6760]
[null,6761]
[null,6762]
[null,6763]
[null,6764]
[null,6765]
[null,6766]
[null,6767]
[null,6768]
[null,6769]
[null,6770]
[null,6771]
[null,6772]
[null,6773]
[null,6774]
[null,6775]
[null,6776]
[null,6777]
[null,6778]
[null,6779]
[null,6780]
[null,6781]
[null,6782]
[null,6783]
[null,6784]
[null,6785]
[null,6786]
[null,6787]
[null,6788]
[null,6789]
[null,6790]
[null,6791]
[null,6792]
[null,6793]
[null,6794]
[null,6795]
[null,6796]
[null,6797]
[null,6798]
[null,6799]
[null,6800]
[null,6801]
[null,6802]
[null,6803]
[null,6804]
[null,6805]
[null,6806]
[null,6807]
[null,6808]
[null,6809]
[null,6810]
[null,6811]
[null,6812]
[null,6813]
[null,6814]
[null,6815]
[null,6816]
[null,6817]
[null,6818]
[null,6819]
[null,6820]
[null,6821]
[null,6822]
[null,6823]
[null,6824]
[null,6825]
[null,6826]
[null,6827]
[null,6828]
[null,6829]
[null,6830]
[null,6831]
[null,6832]
[null,6833]
[null,6834]
[null,6835]
[null,6836]
[null,6837]
[null,6838]
[null,6839]
[null,6840]
[null,6841]
[null,6842]
[null,6843]
[null,6844]
[null,6845]
[null,6846]
[null,6847]
[null,6848]
[null,6849]
[null,6850]
[null,6851]
[null,6852]
[null,6853]
[null,6854]
[null,6855]
[null,6856]
[null,6857]
[null,6858]
[null,6859]
[null,6860]
[null,6861]
[null,6862]
[null,6863]
[null,6864]
[null,6865]
[null,6866]
[null,6867]
[null,6868]
[null,6869]
[null,6870]
[null,6871]
[null,6872]
[null,6873]
[null,6874]
[null,6875]
[null,6876]
[null,6877]
[null,6878]
[null,6879]
[null,6880]
[null,6881]
[null,6882]
[null,6883]
[null,6884]
[null,6885]
[null,6886]
[null,6887]
[null,6888]
[null,6889]
[null,6890]
[null,6891]
[null,6892]
[null,6893]
[null,6894]
[null,6895]
[null,6896]
[null,6897]
[null,6898]
[null,6899]
[null,6900]
[null,6901]
[null,6902]
[null,6903]
[null,6904]
[null,6905]
[null,6906]
[null,6907]
[null,6908]
[null,6909]
[null,6910]
[null,6911]
[null,6912]
[null,6913]
[null,6914]
[null,6915]
[null,6916]
[null,6917]
[null,6918]
[null,6919]
[null,6920]
[null,6921]
[null,6922]
[null,6923]
[null,6924]
[null,6925]
[null,6926]
[null,6927]
[null,6928]
[null,6929]
[null,6930]
[null,6931]
[null,6932]
[null,6933]
[null,6934]
[null,6935]
[null,6936]
[null,6937]
[null,6938]
[null,6939]
[null,6940]
[null,6941]
[null,6942]
[null,6943]
[null,6944]
[null,6945]
[null,6946]
[null,6947]
[null,6948]
[null,6949]
[null,6950]
[null,6951]
[null,6952]
[null,6953]
[null,6954]
[null,6955]
[null,6956]
[null,6957]
[null,6958]
[null,6959]
[null,6960]
[null,6961]
[null,6962]
[null,6963]
[null,6964]
[null,6965]
[null,6966]
[null,6967]
[null,6968]
[null,6969]
[null,6970]
[null,6971]
[null,6972]
[null,6973]
[null,6974]
[null,6975]
[null,6976]
[null,6977]
[null,6978]
[null,6979]
[null,6980]
[null,6981]
[null,6982]
[null,6983]
[null,6984]
[null,6985]
[null,6986]
[null,6987]
[null,6988]
[null,6989]
[null,6990]
[null,6991]
[null,6992]
[null,6993]
[null,6994]
[null,6995]
[null,6996]
[null,6997]
[null,6998]
[null,6999]
[null,7000]
[null,7001]
[null,7002]
[null,7003]
[null,7004]
[null,7005]
[null,7006]
[null,7007]
[null,7008]
[null,7009]
[null,7010]
[null,7011]
[null,7012]
[null,7013]
[null,7014]
[null,7015]
[null,7016]
[null,7017]
[null,7018]
[null,7019]
[null,7020]
[null,7021]
[null,7022]
[null,7023]
[null,7024]
[null,7025]
[null,7026]
[null,7027]
[null,7028]
[null,7029]
[null,7030]
[null,7031]
[null,7032]
[null,7033]
[null,7034]
[null,7035]
[null,7036]
[null,7037]
[null,7038]
[null,7039]
[null,7040]
[null,7041]
[null,7042]
[null,7043]
[null,7044]
[null,7045]
[null,7046]
[null,7047]
[null,7048]
[null,7049]
[null,7050]
[null,7051]
[null,7052]
[null,7053]
[null,7054]
[null,7055]
[null,7056]
[null,7057]
[null,7058]
[null,7059]
[null,7060]
[null,7061]
[null,7062]
[null,7063]
[null,7064]
[null,7065]
[null,7066]
[null,7067]
[null,7068]
[null,7069]
[null,7070]
[null,7071]
[null,7072]
[null,7073]
[null,7074]
[null,7075]
[null,7076]
[null,7077]
[null,7078]
[null,7079]
[null,7080]
[null,7081]
[null,7082]
[null,7083]
[null,7084]
[null,7085]
[null,7086]
[null,7087]
[null,7088]
[null,7089]
[null,7090]
[null,7091]
[null,7092]
[null,7093]
[null,7094]
[null,7095]
[null,7096]
[null,7097]
[null,7098]
[null,7099]
[null,7100]
[null,7101]
[null,7102]
[null,7103]
[null,7104]
[null,7105]
[null,7106]
[null,7107]
[null,7108]
[null,7109]
[null,7110]
[null,7111]
[null,7112]
[null,7113]
[null,7114]
[null,7115]
[null,7116]
[null,7117]
[null,7118]
[null,7119]
[null,7120]
[null,7121]
[null,7122]
[null,7123]
[null,7124]
[null,7125]
[null,7126]
[null,7127]
[null,7128]
[null,7129]
[null,7130]
[null,7131]
[null,7132]
[null,7133]
[null,7134]
[null,7135]
[null,7136]
[null,7137]
[null,7138]
[null,7139]
[null,7140]
[null,7141]
[null,7142]
[null,7143]
[null,7144]
[null,7145]
[null,7146]
[null,7147]
[null,7148]
[null,7149]
[null,7150]
[null,7151]
[null,7152]
[null,7153]
[null,7154]
[null,7155]
[null,7156]
[null,7157]
[null,7158]
[null,7159]
[null,7160]
[null,7161]
[null,7162]
[null,7163]
[null,7164]
[null,7165]
[null,7166]
[null,7167]
[null,7168]
[null,7169]
[null,7170]
[null,7171]
[null,7172]
[null,7173]
[null,7174]
[null,7175]
[null,7176]
[null,7177]
[null,7178]
[null,7179]
[null,7180]
[null,7181]
[null,7182]
[null,7183]
[null,7184]
[null,7185]
[null,7186]
[null,7187]
[null,7188]
[null,7189]
[null,7190]
[null,7191]
[null,7192]
[null,7193]
[null,7194]
[null,7195]
[null,7196]
[null,7197]
[null,7198]
[null,7199]
[null,7200]
[null,7201]
[null,7202]
[null,7203]
[null,7204]
[null,7205]
[null,7206]
[null,7207]
[null,7208]
[null,7209]
[null,7210]
[null,7211]
[null,7212]
[null,7213]
[null,7214]
[null,7215]
[null,7216]
[null,7217]
[null,7218]
[null,7219]
[null,7220]
[null,7221]
[null,7222]
[null,7223]
[null,7224]
[null,7225]
[null,7226]
[null,7227]
[null,7228]
[null,7229]
[null,7230]
[null,7231]
[null,7232]
[null,7233]
[null,7234]
[null,7235]
[null,7236]
[null,7237]
[null,7238]
[null,7239]
[null,7240]
[null,7241]
[null,7242]
[null,7243]
[null,7244]
[null,7245]
[null,7246]
[null,7247]
[null,7248]
[null,7249]
[null,7250]
[null,7251]
[null,7252]
[null,7253]
[null,7254]
[null,7255]
[null,7256]
[null,7257]
[null,7258]
[null,7259]
[null,7260]
[null,7261]
[null,7262]
[null,7263]
[null,7264]
[null,7265]
[null,7266]
[null,7267]
[null,7268]
[null,7269]
[null,7270]
[null,7271]
[null,7272]
[null,7273]
[null,7274]
[null,7275]
[null,7276]
[null,7277]
[null,7278]
[null,7279]
[null,7280]
[null,7281]
[null,7282]
[null,7283]
[null,7284]
[null,7285]
[null,7286]
[null,7287]
[null,7288]
[null,7289]
[null,7290]
[null,7291]
[null,7292]
[null,7293]
[null,7294]
[null,7295]
[null,7296]
[null,7297]
[null,7298]
[null,7299]
[null,7300]
[null,7301]
[null,7302]
[null,7303]
[null,7304]
[null,7305]
[null,7306]
[null,7307]
[null,7308]
[null,7309]
[null,7310]
[null,7311]
[null,7312]
[null,7313]
[null,7314]
[null,7315]
[null,7316]
[null,7317]
[null,7318]
[null,7319]
[null,7320]
[null,7321]
[null,7322]
[null,7323]
[null,7324]
[null,7325]
[null,7326]
[null,7327]
[null,7328]
[null,7329]
[null,7330]
[null,7331]
[null,7332]
[null,7333]
[null,7334]
[null,7335]
[null,7336]
[null,7337]
[null,7338]
[null,7339]
[null,7340]
[null,7341]
[null,7342]
[null,7343]
[null,7344]
[null,7345]
[null,7346]
[null,7347]
[null,7348]
[null,7349]
[null,7350]
[null,7351]
[null,7352]
[null,7353]
[null,7354]
[null,7355]
[null,7356]
[null,7357]
[null,7358]
[null,7359]
[null,7360]
[null,7361]
[null,7362]
[null,7363]
[null,7364]
[null,7365]
[null,7366]
[null,7367]
[null,7368]
[null,7369]
[null,7370]
[null,7371]
[null,7372]
[null,7373]
[null,7374]
[null,7375]
[null,7376]
[null,7377]
[null,7378]
[null,7379]
[null,7380]
[null,7381]
[null,7382]
[null,7383]
[null,7384]
[null,7385]
[null,7386]
[null,7387]
[null,7388]
[null,7389]
[null,7390]
[null,7391]
[null,7392]
[null,7393]
[null,7394]
[null,7395]
[null,7396]
[null,7397]
[null,7398]
[null,7399]
[null,7400]
[null,7401]
[null,7402]
[null,7403]
[null,7404]
[null,7405]
[null,7406]
[null,7407]
[null,7408]
[null,7409]
[null,7410]
[null,7411]
[null,7412]
[null,7413]
[null,7414]
[null,7415]
[null,7416]
[null,7417]
[null,7418]
[null,7419]
[null,7420]
[null,7421]
[null,7422]
[null,7423]
[null,7424]
[null,7425]
[null,7426]
[null,7427]
[null,7428]
[null,7429]
[null,7430]
[null,7431]
[null,7432]
[null,7433]
[null,7434]
[null,7435]
[null,7436]
[null,7437]
[null,7438]
[null,7439]
[null,7440]
[null,7441]
[null,7442]
[null,7443]
[null,7444]
[null,7445]
[null,7446]
[null,7447]
[null,7448]
[null,7449]
[null,7450]
[null,7451]
[null,7452]
[null,7453]
[null,7454]
[null,7455]
[null,7456]
[null,7457]
[null,7458]
[null,7459]
[null,7460]
[null,7461]
[null,7462]
[null,7463]
[null,7464]
[null,7465]
[null,7466]
[null,7467]
[null,7468]
[null,7469]
[null,7470]
[null,7471]
[null,7472]
[null,7473]
[null,7474]
[null,7475]
[null,7476]
[null,7477]
[null,7478]
[null,7479]
[null,7480]
[null,7481]
[null,7482]
[null,7483]
[null,7484]
[null,7485]
[null,7486]
[null,7487]
[null,7488]
[null,7489]
[null,7490]
[null,7491]
[null,7492]
[null,7493]
[null,7494]
[null,7495]
[null,7496]
[null,7497]
[null,7498]
[null,7499]
[null,7500]
[null,7501]
[null,7502]
[null,7503]
[null,7504]
[null,7505]
[null,7506]
[null,7507]
[null,7508]
[null,7509]
[null,7510]
[null,7511]
[null,7512]
[null,7513]
[null,7514]
[null,7515]
[null,7516]
[null,7517]
[null,7518]
[null,7519]
[null,7520]
[null,7521]
[null,7522]
[null,7523]
[null,7524]
[null,7525]
[null,7526]
[null,7527]
[null,7528]
[null,7529]
[null,7530]
[null,7531]
[null,7532]
[null,7533]
[null,7534]
[null,7535]
[null,7536]
[null,7537]
[null,7538]
[null,7539]
[null,7540]
[null,7541]
[null,7542]
[null,7543]
[null,7544]
[null,7545]
[null,7546]
[null,7547]
[null,7548]
[null,7549]
[null,7550]
[null,7551]
[null,7552]
[null,7553]
[null,7554]
[null,7555]
[null,7556]
[null,7557]
[null,7558]
[null,7559]
[null,7560]
[null,7561]
[null,7562]
[null,7563]
[null,7564]
[null,7565]
[null,7566]
[null,7567]
[null,7568]
[null,7569]
[null,7570]
[null,7571]
[null,7572]
[null,7573]
[null,7574]
[null,7575]
[null,7576]
[null,7577]
[null,7578]
[null,7579]
[null,7580]
[null,7581]
[null,7582]
[null,7583]
[null,7584]
[null,7585]
[null,7586]
[null,7587]
[null,7588]
[null,7589]
[null,7590]
[null,7591]
[null,7592]
[null,7593]
[null,7594]
[null,7595]
[null,7596]
[null,7597]
[null,7598]
[null,7599]
[null,7600]
[null,7601]
[null,7602]
[null,7603]
[null,7604]
[null,7605]
[null,7606]
[null,7607]
[null,7608]
[null,7609]
[null,7610]
[null,7611]
[null,7612]
[null,7613]
[null,7614]
[null,7615]
[null,7616]
[null,7617]
[null,7618]
[null,7619]
[null,7620]
[null,7621]
[null,7622]
[null,7623]
[null,7624]
[null,7625]
[null,7626]
[null,7627]
[null,7628]
[null,7629]
[null,7630]
[null,7631]
[null,7632]
[null,7633]
[null,7634]
[null,7635]
[null,7636]
[null,7637]
[null,7638]
[null,7639]
[null,7640]
[null,7641]
[null,7642]
[null,7643]
[null,7644]
[null,7645]
[null,7646]
[null,7647]
[null,7648]
[null,7649]
[null,7650]
[null,7651]
[null,7652]
[null,7653]
[null,7654]
[null,7655]
[null,7656]
[null,7657]
[null,7658]
[null,7659]
[null,7660]
[null,7661]
[null,7662]
[null,7663]
[null,7664]
[null,7665]
[null,7666]
[null,7667]
[null,7668]
[null,7669]
[null,7670]
[null,7671]
[null,7672]
[null,7673]
[null,7674]
[null,7675]
[null,7676]
[null,7677]
[null,7678]
[null,7679]
[null,7680]
[null,7681]
[null,7682]
[null,7683]
[null,7684]
[null,7685]
[null,7686]
[null,7687]
[null,7688]
[null,7689]
[null,7690]
[null,7691]
[null,7692]
[null,7693]
[null,7694]
[null,7695]
[null,7696]
[null,7697]
[null,7698]
[null,7699]
[null,7700]
[null,7701]
[null,7702]
[null,7703]
[null,7704]
[null,7705]
[null,7706]
[null,7707]
[null,7708]
[null,7709]
[null,7710]
[null,7711]
[null,7712]
[null,7713]
[null,7714]
[null,7715]
[null,7716]
[null,7717]
[null,7718]
[null,7719]
[null,7720]
[null,7721]
[null,7722]
[null,7723]
[null,7724]
[null,7725]
[null,7726]
[null,7727]
[null,7728]
[null,7729]
[null,7730]
[null,7731]
[null,7732]
[null,7733]
[null,7734]
[null,7735]
[null,7736]
[null,7737]
[null,7738]
[null,7739]
[null,7740]
[null,7741]
[null,7742]
[null,7743]
[null,7744]
[null,7745]
[null,7746]
[null,7747]
[null,7748]
[null,7749]
[null,7750]
[null,7751]
[null,7752]
[null,7753]
[null,7754]
[null,7755]
[null,7756]
[null,7757]
[null,7758]
[null,7759]
[null,7760]
[null,7761]
[null,7762]
[null,7763]
[null,7764]
[null,7765]
[null,7766]
[null,7767]
[null,7768]
[null,7769]
[null,7770]
[null,7771]
[null,7772]
[null,7773]
[null,7774]
[null,7775]
[null,7776]
[null,7777]
[null,7778]
[null,7779]
[null,7780]
[null,7781]
[null,7782]
[null,7783]
[null,7784]
[null,7785]
[null,7786]
[null,7787]
[null,7788]
[null,7789]
[null,7790]
[null,7791]
[null,7792]
[null,7793]
[null,7794]
[null,7795]
[null,7796]
[null,7797]
[null,7798]
[null,7799]
[null,7800]
[null,7801]
[null,7802]
[null,7803]
[null,7804]
[null,7805]
[null,7806]
[null,7807]
[null,7808]
[null,7809]
[null,7810]
[null,7811]
[null,7812]
[null,7813]
[null,7814]
[null,7815]
[null,7816]
[null,7817]
[null,7818]
[null,7819]
[null,7820]
[null,7821]
[null,7822]
[null,7823]
[null,7824]
[null,7825]
[null,7826]
[null,7827]
[null,7828]
[null,7829]
[null,7830]
[null,7831]
[null,7832]
[null,7833]
[null,7834]
[null,7835]
[null,7836]
[null,7837]
[null,7838]
[null,7839]
[null,7840]
[null,7841]
[null,7842]
[null,7843]
[null,7844]
[null,7845]
[null,7846]
[null,7847]
[null,7848]
[null,7849]
[null,7850]
[null,7851]
[null,7852]
[null,7853]
[null,7854]
[null,7855]
[null,7856]
[null,7857]
[null,7858]
[null,7859]
[null,7860]
[null,7861]
[null,7862]
[null,7863]
[null,7864]
[null,7865]
[null,7866]
[null,7867]
[null,7868]
[null,7869]
[null,7870]
[null,7871]
[null,7872]
[null,7873]
[null,7874]
[null,7875]
[null,7876]
[null,7877]
[null,7878]
[null,7879]
[null,7880]
[null,7881]
[null,7882]
[null,7883]
[null,7884]
[null,7885]
[null,7886]
[null,7887]
[null,7888]
[null,7889]
[null,7890]
[null,7891]
[null,7892]
[null,7893]
[null,7894]
[null,7895]
[null,7896]
[null,7897]
[null,7898]
[null,7899]
[null,7900]
[null,7901]
[null,7902]
[null,7903]
[null,7904]
[null,7905]
[null,7906]
[null,7907]
[null,7908]
[null,7909]
[null,7910]
[null,7911]
[null,7912]
[null,7913]
[null,7914]
[null,7915]
[null,7916]
[null,7917]
[null,7918]
[null,7919]
[null,7920]
[null,7921]
[null,7922]
[null,7923]
[null,7924]
[null,7925]
[null,7926]
[null,7927]
[null,7928]
[null,7929]
[null,7930]
[null,7931]
[null,7932]
[null,7933]
[null,7934]
[null,7935]
[null,7936]
[null,7937]
[null,7938]
[null,7939]
[null,7940]
[null,7941]
[null,7942]
[null,7943]
[null,7944]
[null,7945]
[null,7946]
[null,7947]
[null,7948]
[null,7949]
[null,7950]
[null,7951]
[null,7952]
[null,7953]
[null,7954]
[null,7955]
[null,7956]
[null,7957]
[null,7958]
[null,7959]
[null,7960]
[null,7961]
[null,7962]
[null,7963]
[null,7964]
[null,7965]
[null,7966]
[null,7967]
[null,7968]
[null,7969]
[null,7970]
[null,7971]
[null,7972]
[null,7973]
[null,7974]
[null,7975]
[null,7976]
[null,7977]
[null,7978]
[null,7979]
[null,7980]
[null,7981]
[null,7982]
[null,7983]
[null,7984]
[null,7985]
[null,7986]
[null,7987]
[null,7988]
[null,7989]
[null,7990]
[null,7991]
[null,7992]
[null,7993]
[null,7994]
[null,7995]
[null,7996]
[null,7997]
[null,7998]
[null,7999]
[null,8000]
[null,8001]
[null,8002]
[null,8003]
[null,8004]
[null,8005]
[null,8006]
[null,8007]
[null,8008]
[null,8009]
[null,8010]
[null,8011]
[null,8012]
[null,8013]
[null,8014]
[null,8015]
[null,8016]
[null,8017]
[null,8018]
[null,8019]
[null,8020]
[null,8021]
[null,8022]
[null,8023]
[null,8024]
[null,8025]
[null,8026]
[null,8027]
[null,8028]
[null,8029]
[null,8030]
[null,8031]
[null,8032]
[null,8033]
[null,8034]
[null,8035]
[null,8036]
[null,8037]
[null,8038]
[null,8039]
[null,8040]
[null,8041]
[null,8042]
[null,8043]
[null,8044]
[null,8045]
[null,8046]
[null,8047]
[null,8048]
[null,8049]
[null,8050]
[null,8051]
[null,8052]
[null,8053]
[null,8054]
[null,8055]
[null,8056]
[null,8057]
[null,8058]
[null,8059]
[null,8060]
[null,8061]
[null,8062]
[null,8063]
[null,8064]
[null,8065]
[null,8066]
[null,8067]
[null,8068]
[null,8069]
[null,8070]
[null,8071]
[null,8072]
[null,8073]
[null,8074]
[null,8075]
[null,8076]
[null,8077]
[null,8078]
[null,8079]
[null,8080]
[null,8081]
[null,8082]
[null,8083]
[null,8084]
[null,8085]
[null,8086]
[null,8087]
[null,8088]
[null,8089]
[null,8090]
[null,8091]
[null,8092]
[null,8093]
[null,8094]
[null,8095]
[null,8096]
[null,8097]
[null,8098]
[null,8099]
[null,8100]
[null,8101]
[null,8102]
[null,8103]
[null,8104]
[null,8105]
[null,8106]
[null,8107]
[null,8108]
[null,8109]
[null,8110]
[null,8111]
[null,8112]
[null,8113]
[null,8114]
[null,8115]
[null,8116]
[null,8117]
[null,8118]
[null,8119]
[null,8120]
[null,8121]
[null,8122]
[null,8123]
[null,8124]
[null,8125]
[null,8126]
[null,8127]
[null,8128]
[null,8129]
[null,8130]
[null,8131]
[null,8132]
[null,8133]
[null,8134]
[null,8135]
[null,8136]
[null,8137]
[null,8138]
[null,8139]
[null,8140]
[null,8141]
[null,8142]
[null,8143]
[null,8144]
[null,8145]
[null,8146]
[null,8147]
[null,8148]
[null,8149]
[null,8150]
[null,8151]
[null,8152]
[null,8153]
[null,8154]
[null,8155]
[null,8156]
[null,8157]
[null,8158]
[null,8159]
[null,8160]
[null,8161]
[null,8162]
[null,8163]
[null,8164]
[null,8165]
[null,8166]
[null,8167]
[null,8168]
[null,8169]
[null,8170]
[null,8171]
[null,8172]
[null,8173]
[null,8174]
[null,8175]
[null,8176]
[null,8177]
[null,8178]
[null,8179]
[null,8180]
[null,8181]
[null,8182]
[null,8183]
[null,8184]
[null,8185]
[null,8186]
[null,8187]
[null,8188]
[null,8189]
[null,8190]
[null,8191]
[null,8192]
[null,8193]
[null,8194]
[null,8195]
[null,8196]
[null,8197]
[null,8198]
[null,8199]
[null,8200]
[null,8201]
[null,8202]
[null,8203]
[null,8204]
[null,8205]
[null,8206]
[null,8207]
[null,8208]
[null,8209]
[null,8210]
[null,8211]
[null,8212]
[null,8213]
[null,8214]
[null,8215]
[null,8216]
[null,8217]
[null,8218]
[null,8219]
[null,8220]
[null,8221]
[null,8222]
[null,8223]
[null,8224]
[null,8225]
[null,8226]
[null,8227]
[null,8228]
[null,8229]
[null,8230]
[null,8231]
[null,8232]
[null,8233]
[null,8234]
[null,8235]
[null,8236]
[null,8237]
[null,8238]
[null,8239]
[null,8240]
[null,8241]
[null,8242]
[null,8243]
[null,8244]
[null,8245]
[null,8246]
[null,8247]
[null,8248]
[null,8249]
[null,8250]
[null,8251]
[null,8252]
[null,8253]
[null,8254]
[null,8255]
[null,8256]
[null,8257]
[null,8258]
[null,8259]
[null,8260]
[null,8261]
[null,8262]
[null,8263]
[null,8264]
[null,8265]
[null,8266]
[null,8267]
[null,8268]
[null,8269]
[null,8270]
[null,8271]
[null,8272]
[null,8273]
[null,8274]
[null,8275]
[null,8276]
[null,8277]
[null,8278]
[null,8279]
[null,8280]
[null,8281]
[null,8282]
[null,8283]
[null,8284]
[null,8285]
[null,8286]
[null,8287]
[null,8288]
[null,8289]
[null,8290]
[null,8291]
[null,8292]
[null,8293]
[null,8294]
[null,8295]
[null,8296]
[null,8297]
[null,8298]
[null,8299]
[null,8300]
[null,8301]
[null,8302]
[null,8303]
[null,8304]
[null,8305]
[null,8306]
[null,8307]
[null,8308]
[null,8309]
[null,8310]
[null,8311]
[null,8312]
[null,8313]
[null,8314]
[null,8315]
[null,8316]
[null,8317]
[null,8318]
[null,8319]
[null,8320]
[null,8321]
[null,8322]
[null,8323]
[null,8324]
[null,8325]
[null,8326]
[null,8327]
[null,8328]
[null,8329]
[null,8330]
[null,8331]
[null,8332]
[null,8333]
[null,8334]
[null,8335]
[null,8336]
[null,8337]
[null,8338]
[null,8339]
[null,8340]
[null,8341]
[null,8342]
[null,8343]
[null,8344]
[null,8345]
[null,8346]
[null,8347]
[null,8348]
[null,8349]
[null,8350]
[null,8351]
[null,8352]
[null,8353]
[null,8354]
[null,8355]
[null,8356]
[null,8357]
[null,8358]
[null,8359]
[null,8360]
[null,8361]
[null,8362]
[null,8363]
[null,8364]
[null,8365]
[null,8366]
[null,8367]
[null,8368]
[null,8369]
[null,8370]
[null,8371]
[null,8372]
[null,8373]
[null,8374]
[null,8375]
[null,8376]
[null,8377]
[null,8378]
[null,8379]
[null,8380]
[null,8381]
[null,8382]
[null,8383]
[null,8384]
[null,8385]
[null,8386]
[null,8387]
[null,8388]
[null,8389]
[null,8390]
[null,8391]
[null,8392]
[null,8393]
[null,8394]
[null,8395]
[null,8396]
[null,8397]
[null,8398]
[null,8399]
[null,8400]
[null,8401]
[null,8402]
[null,8403]
[null,8404]
[null,8405]
[null,8406]
[null,8407]
[null,8408]
[null,8409]
[null,8410]
[null,8411]
[null,8412]
[null,8413]
[null,8414]
[null,8415]
[null,8416]
[null,8417]
[null,8418]
[null,8419]
[null,8420]
[null,8421]
[null,8422]
[null,8423]
[null,8424]
[null,8425]
[null,8426]
[null,8427]
[null,8428]
[null,8429]
[null,8430]
[null,8431]
[null,8432]
[null,8433]
[null,8434]
[null,8435]
[null,8436]
[null,8437]
[null,8438]
[null,8439]
[null,8440]
[null,8441]
[null,8442]
[null,8443]
[null,8444]
[null,8445]
[null,8446]
[null,8447]
[null,8448]
[null,8449]
[null,8450]
[null,8451]
[null,8452]
[null,8453]
[null,8454]
[null,8455]
[null,8456]
[null,8457]
[null,8458]
[null,8459]
[null,8460]
[null,8461]
[null,8462]
[null,8463]
[null,8464]
[null,8465]
[null,8466]
[null,8467]
[null,8468]
[null,8469]
[null,8470]
[null,8471]
[null,8472]
[null,8473]
[null,8474]
[null,8475]
[null,8476]
[null,8477]
[null,8478]
[null,8479]
[null,8480]
[null,8481]
[null,8482]
[null,8483]
[null,8484]
[null,8485]
[null,8486]
[null,8487]
[null,8488]
[null,8489]
[null,8490]
[null,8491]
[null,8492]
[null,8493]
[null,8494]
[null,8495]
[null,8496]
[null,8497]
[null,8498]
[null,8499]
[null,8500]
[null,8501]
[null,8502]
[null,8503]
[null,8504]
[null,8505]
[null,8506]
[null,8507]
[null,8508]
[null,8509]
[null,8510]
[null,8511]
[null,8512]
[null,8513]
[null,8514]
[null,8515]
[null,8516]
[null,8517]
[null,8518]
[null,8519]
[null,8520]
[null,8521]
[null,8522]
[null,8523]
[null,8524]
[null,8525]
[null,8526]
[null,8527]
[null,8528]
[null,8529]
[null,8530]
[null,8531]
[null,8532]
[null,8533]
[null,8534]
[null,8535]
[null,8536]
[null,8537]
[null,8538]
[null,8539]
[null,8540]
[null,8541]
[null,8542]
[null,8543]
[null,8544]
[null,8545]
[null,8546]
[null,8547]
[null,8548]
[null,8549]
[null,8550]
[null,8551]
[null,8552]
[null,8553]
[null,8554]
[null,8555]
[null,8556]
[null,8557]
[null,8558]
[null,8559]
[null,8560]
[null,8561]
[null,8562]
[null,8563]
[null,8564]
[null,8565]
[null,8566]
[null,8567]
[null,8568]
[null,8569]
[null,8570]
[null,8571]
[null,8572]
[null,8573]
[null,8574]
[null,8575]
[null,8576]
[null,8577]
[null,8578]
[null,8579]
[null,8580]
[null,8581]
[null,8582]
[null,8583]
[null,8584]
[null,8585]
[null,8586]
[null,8587]
[null,8588]
[null,8589]
[null,8590]
[null,8591]
[null,8592]
[null,8593]
[null,8594]
[null,8595]
[null,8596]
[null,8597]
[null,8598]
[null,8599]
[null,8600]
[null,8601]
[null,8602]
[null,8603]
[null,8604]
[null,8605]
[null,8606]
[null,8607]
[null,8608]
[null,8609]
[null,8610]
[null,8611]
[null,8612]
[null,8613]
[null,8614]
[null,8615]
[null,8616]
[null,8617]
[null,8618]
[null,8619]
[null,8620]
[null,8621]
[null,8622]
[null,8623]
[null,8624]
[null,8625]
[null,8626]
[null,8627]
[null,8628]
[null,8629]
[null,8630]
[null,8631]
[null,8632]
[null,8633]
[null,8634]
[null,8635]
[null,8636]
[null,8637]
[null,8638]
[null,8639]
[null,8640]
[null,8641]
[null,8642]
[null,8643]
[null,8644]
[null,8645]
[null,8646]
[null,8647]
[null,8648]
[null,8649]
[null,8650]
[null,8651]
[null,8652]
[null,8653]
[null,8654]
[null,8655]
[null,8656]
[null,8657]
[null,8658]
[null,8659]
[null,8660]
[null,8661]
[null,8662]
[null,8663]
[null,8664]
[null,8665]
[null,8666]
[null,8667]
[null,8668]
[null,8669]
[null,8670]
[null,8671]
[null,8672]
[null,8673]
[null,8674]
[null,8675]
[null,8676]
[null,8677]
[null,8678]
[null,8679]
[null,8680]
[null,8681]
[null,8682]
[null,8683]
[null,8684]
[null,8685]
[null,8686]
[null,8687]
[null,8688]
[null,8689]
[null,8690]
[null,8691]
[null,8692]
[null,8693]
[null,8694]
[null,8695]
[null,8696]
[null,8697]
[null,8698]
[null,8699]
[null,8700]
[null,8701]
[null,8702]
[null,8703]
[null,8704]
[null,8705]
[null,8706]
[null,8707]
[null,8708]
[null,8709]
[null,8710]
[null,8711]
[null,8712]
[null,8713]
[null,8714]
[null,8715]
[null,8716]
[null,8717]
[null,8718]
[null,8719]
[null,8720]
[null,8721]
[null,8722]
[null,8723]
[null,8724]
[null,8725]
[null,8726]
[null,8727]
[null,8728]
[null,8729]
[null,8730]
[null,8731]
[null,8732]
[null,8733]
[null,8734]
[null,8735]
[null,8736]
[null,8737]
[null,8738]
[null,8739]
[null,8740]
[null,8741]
[null,8742]
[null,8743]
[null,8744]
[null,8745]
[null,8746]
[null,8747]
[null,8748]
[null,8749]
[null,8750]
[null,8751]
[null,8752]
[null,8753]
[null,8754]
[null,8755]
[null,8756]
[null,8757]
[null,8758]
[null,8759]
[null,8760]
[null,8761]
[null,8762]
[null,8763]
[null,8764]
[null,8765]
[null,8766]
[null,8767]
[null,8768]
[null,8769]
[null,8770]
[null,8771]
[null,8772]
[null,8773]
[null,8774]
[null,8775]
[null,8776]
[null,8777]
[null,8778]
[null,8779]
[null,8780]
[null,8781]
[null,8782]
[null,8783]
[null,8784]
[null,8785]
[null,8786]
[null,8787]
[null,8788]
[null,8789]
[null,8790]
[null,8791]
[null,8792]
[null,8793]
[null,8794]
[null,8795]
[null,8796]
[null,8797]
[null,8798]
[null,8799]
[null,8800]
[null,8801]
[null,8802]
[null,8803]
[null,8804]
[null,8805]
[null,8806]
[null,8807]
[null,8808]
[null,8809]
[null,8810]
[null,8811]
[null,8812]
[null,8813]
[null,8814]
[null,8815]
[null,8816]
[null,8817]
[null,8818]
[null,8819]
[null,8820]
[null,8821]
[null,8822]
[null,8823]
[null,8824]
[null,8825]
[null,8826]
[null,8827]
[null,8828]
[null,8829]
[null,8830]
[null,8831]
[null,8832]
[null,8833]
[null,8834]
[null,8835]
[null,8836]
[null,8837]
[null,8838]
[null,8839]
[null,8840]
[null,8841]
[null,8842]
[null,8843]
[null,8844]
[null,8845]
[null,8846]
[null,8847]
[null,8848]
[null,8849]
[null,8850]
[null,8851]
[null,8852]
[null,8853]
[null,8854]
[null,8855]
[null,8856]
[null,8857]
[null,8858]
[null,8859]
[null,8860]
[null,8861]
[null,8862]
[null,8863]
[null,8864]
[null,8865]
[null,8866]
[null,8867]
[null,8868]
[null,8869]
[null,8870]
[null,8871]
[null,8872]
[null,8873]
[null,8874]
[null,8875]
[null,8876]
[null,8877]
[null,8878]
[null,8879]
[null,8880]
[null,8881]
[null,8882]
[null,8883]
[null,8884]
[null,8885]
[null,8886]
[null,8887]
[null,8888]
[null,8889]
[null,8890]
[null,8891]
[null,8892]
[null,8893]
[null,8894]
[null,8895]
[null,8896]
[null,8897]
[null,8898]
[null,8899]
[null,8900]
[null,8901]
[null,8902]
[null,8903]
[null,8904]
[null,8905]
[null,8906]
[null,8907]
[null,8908]
[null,8909]
[null,8910]
[null,8911]
[null,8912]
[null,8913]
[null,8914]
[null,8915]
[null,8916]
[null,8917]
[null,8918]
[null,8919]
[null,8920]
[null,8921]
[null,8922]
[null,8923]
[null,8924]
[null,8925]
[null,8926]
[null,8927]
[null,8928]
[null,8929]
[null,8930]
[null,8931]
[null,8932]
[null,8933]
[null,8934]
[null,8935]
[null,8936]
[null,8937]
[null,8938]
[null,8939]
[null,8940]
[null,8941]
[null,8942]
[null,8943]
[null,8944]
[null,8945]
[null,8946]
[null,8947]
[null,8948]
[null,8949]
[null,8950]
[null,8951]
[null,8952]
[null,8953]
[null,8954]
[null,8955]
[null,8956]
[null,8957]
[null,8958]
[null,8959]
[null,8960]
[null,8961]
[null,8962]
[null,8963]
[null,8964]
[null,8965]
[null,8966]
[null,8967]
[null,8968]
[null,8969]
[null,8970]
[null,8971]
[null,8972]
[null,8973]
[null,8974]
[null,8975]
[null,8976]
[null,8977]
[null,8978]
[null,8979]
[null,8980]
[null,8981]
[null,8982]
[null,8983]
[null,8984]
[null,8985]
[null,8986]
[null,8987]
[null,8988]
[null,8989]
[null,8990]
[null,8991]
[null,8992]
[null,8993]
[null,8994]
[null,8995]
[null,8996]
[null,8997]
[null,8998]
[null,8999]
[null,9000]
[null,9001]
[null,9002]
[null,9003]
[null,9004]
[null,9005]
[null,9006]
[null,9007]
[null,9008]
[null,9009]
[null,9010]
[null,9011]
[null,9012]
[null,9013]
[null,9014]
[null,9015]
[null,9016]
[null,9017]
[null,9018]
[null,9019]
[null,9020]
[null,9021]
[null,9022]
[null,9023]
[null,9024]
[null,9025]
[null,9026]
[null,9027]
[null,9028]
[null,9029]
[null,9030]
[null,9031]
[null,9032]
[null,9033]
[null,9034]
[null,9035]
[null,9036]
[null,9037]
[null,9038]
[null,9039]
[null,9040]
[null,9041]
[null,9042]
[null,9043]
[null,9044]
[null,9045]
[null,9046]
[null,9047]
[null,9048]
[null,9049]
[null,9050]
[null,9051]
[null,9052]
[null,9053]
[null,9054]
[null,9055]
[null,9056]
[null,9057]
[null,9058]
[null,9059]
[null,9060]
[null,9061]
[null,9062]
[null,9063]
[null,9064]
[null,9065]
[null,9066]
[null,9067]
[null,9068]
[null,9069]
[null,9070]
[null,9071]
[null,9072]
[null,9073]
[null,9074]
[null,9075]
[null,9076]
[null,9077]
[null,9078]
[null,9079]
[null,9080]
[null,9081]
[null,9082]
[null,9083]
[null,9084]
[null,9085]
[null,9086]
[null,9087]
[null,9088]
[null,9089]
[null,9090]
[null,9091]
[null,9092]
[null,9093]
[null,9094]
[null,9095]
[null,9096]
[null,9097]
[null,9098]
[null,9099]
[null,9100]
[null,9101]
[null,9102]
[null,9103]
[null,9104]
[null,9105]
[null,9106]
[null,9107]
[null,9108]
[null,9109]
[null,9110]
[null,9111]
[null,9112]
[null,9113]
[null,9114]
[null,9115]
[null,9116]
[null,9117]
[null,9118]
[null,9119]
[null,9120]
[null,9121]
[null,9122]
[null,9123]
[null,9124]
[null,9125]
[null,9126]
[null,9127]
[null,9128]
[null,9129]
[null,9130]
[null,9131]
[null,9132]
[null,9133]
[null,9134]
[null,9135]
[null,9136]
[null,9137]
[null,9138]
[null,9139]
[null,9140]
[null,9141]
[null,9142]
[null,9143]
[null,9144]
[null,9145]
[null,9146]
[null,9147]
[null,9148]
[null,9149]
[null,9150]
[null,9151]
[null,9152]
[null,9153]
[null,9154]
[null,9155]
[null,9156]
[null,9157]
[null,9158]
[null,9159]
[null,9160]
[null,9161]
[null,9162]
[null,9163]
[null,9164]
[null,9165]
[null,9166]
[null,9167]
[null,9168]
[null,9169]
[null,9170]
[null,9171]
[null,9172]
[null,9173]
[null,9174]
[null,9175]
[null,9176]
[null,9177]
[null,9178]
[null,9179]
[null,9180]
[null,9181]
[null,9182]
[null,9183]
[null,9184]
[null,9185]
[null,9186]
[null,9187]
[null,9188]
[null,9189]
[null,9190]
[null,9191]
[null,9192]
[null,9193]
[null,9194]
[null,9195]
[null,9196]
[null,9197]
[null,9198]
[null,9199]
[null,9200]
[null,9201]
[null,9202]
[null,9203]
[null,9204]
[null,9205]
[null,9206]
[null,9207]
[null,9208]
[null,9209]
[null,9210]
[null,9211]
[null,9212]
[null,9213]
[null,9214]
[null,9215]
[null,9216]
[null,9217]
[null,9218]
[null,9219]
[null,9220]
[null,9221]
[null,9222]
[null,9223]
[null,9224]
[null,9225]
[null,9226]
[null,9227]
[null,9228]
[null,9229]
[null,9230]
[null,9231]
[null,9232]
[null,9233]
[null,9234]
[null,9235]
[null,9236]
[null,9237]
[null,9238]
[null,9239]
[null,9240]
[null,9241]
[null,9242]
[null,9243]
[null,9244]
[null,9245]
[null,9246]
[null,9247]
[null,9248]
[null,9249]
[null,9250]
[null,9251]
[null,9252]
[null,9253]
[null,9254]
[null,9255]
[null,9256]
[null,9257]
[null,9258]
[null,9259]
[null,9260]
[null,9261]
[null,9262]
[null,9263]
[null,9264]
[null,9265]
[null,9266]
[null,9267]
[null,9268]
[null,9269]
[null,9270]
[null,9271]
[null,9272]
[null,9273]
[null,9274]
[null,9275]
[null,9276]
[null,9277]
[null,9278]
[null,9279]
[null,9280]
[null,9281]
[null,9282]
[null,9283]
[null,9284]
[null,9285]
[null,9286]
[null,9287]
[null,9288]
[null,9289]
[null,9290]
[null,9291]
[null,9292]
[null,9293]
[null,9294]
[null,9295]
[null,9296]
[null,9297]
[null,9298]
[null,9299]
[null,9300]
[null,9301]
[null,9302]
[null,9303]
[null,9304]
[null,9305]
[null,9306]
[null,9307]
[null,9308]
[null,9309]
[null,9310]
[null,9311]
[null,9312]
[null,9313]
[null,9314]
[null,9315]
[null,9316]
[null,9317]
[null,9318]
[null,9319]
[null,9320]
[null,9321]
[null,9322]
[null,9323]
[null,9324]
[null,9325]
[null,9326]
[null,9327]
[null,9328]
[null,9329]
[null,9330]
[null,9331]
[null,9332]
[null,9333]
[null,9334]
[null,9335]
[null,9336]
[null,9337]
[null,9338]
[null,9339]
[null,9340]
[null,9341]
[null,9342]
[null,9343]
[null,9344]
[null,9345]
[null,9346]
[null,9347]
[null,9348]
[null,9349]
[null,9350]
[null,9351]
[null,9352]
[null,9353]
[null,9354]
[null,9355]
[null,9356]
[null,9357]
[null,9358]
[null,9359]
[null,9360]
[null,9361]
[null,9362]
[null,9363]
[null,9364]
[null,9365]
[null,9366]
[null,9367]
[null,9368]
[null,9369]
[null,9370]
[null,9371]
[null,9372]
[null,9373]
[null,9374]
[null,9375]
[null,9376]
[null,9377]
[null,9378]
[null,9379]
[null,9380]
[null,9381]
[null,9382]
[null,9383]
[null,9384]
[null,9385]
[null,9386]
[null,9387]
[null,9388]
[null,9389]
[null,9390]
[null,9391]
[null,9392]
[null,9393]
[null,9394]
[null,9395]
[null,9396]
[null,9397]
[null,9398]
[null,9399]
[null,9400]
[null,9401]
[null,9402]
[null,9403]
[null,9404]
[null,9405]
[null,9406]
[null,9407]
[null,9408]
[null,9409]
[null,9410]
[null,9411]
[null,9412]
[null,9413]
[null,9414]
[null,9415]
[null,9416]
[null,9417]
[null,9418]
[null,9419]
[null,9420]
[null,9421]
[null,9422]
[null,9423]
[null,9424]
[null,9425]
[null,9426]
[null,9427]
[null,9428]
[null,9429]
[null,9430]
[null,9431]
[null,9432]
[null,9433]
[null,9434]
[null,9435]
[null,9436]
[null,9437]
[null,9438]
[null,9439]
[null,9440]
[null,9441]
[null,9442]
[null,9443]
[null,9444]
[null,9445]
[null,9446]
[null,9447]
[null,9448]
[null,9449]
[null,9450]
[null,9451]
[null,9452]
[null,9453]
[null,9454]
[null,9455]
[null,9456]
[null,9457]
[null,9458]
[null,9459]
[null,9460]
[null,9461]
[null,9462]
[null,9463]
[null,9464]
[null,9465]
[null,9466]
[null,9467]
[null,9468]
[null,9469]
[null,9470]
[null,9471]
[null,9472]
[null,9473]
[null,9474]
[null,9475]
[null,9476]
[null,9477]
[null,9478]
[null,9479]
[null,9480]
[null,9481]
[null,9482]
[null,9483]
[null,9484]
[null,9485]
[null,9486]
[null,9487]
[null,9488]
[null,9489]
[null,9490]
[null,9491]
[null,9492]
[null,9493]
[null,9494]
[null,9495]
[null,9496]
[null,9497]
[null,9498]
[null,9499]
[null,9500]
[null,9501]
[null,9502]
[null,9503]
[null,9504]
[null,9505]
[null,9506]
[null,9507]
[null,9508]
[null,9509]
[null,9510]
[null,9511]
[null,9512]
[null,9513]
[null,9514]
[null,9515]
[null,9516]
[null,9517]
[null,9518]
[null,9519]
[null,9520]
[null,9521]
[null,9522]
[null,9523]
[null,9524]
[null,9525]
[null,9526]
[null,9527]
[null,9528]
[null,9529]
[null,9530]
[null,9531]
[null,9532]
[null,9533]
[null,9534]
[null,9535]
[null,9536]
[null,9537]
[null,9538]
[null,9539]
[null,9540]
[null,9541]
[null,9542]
[null,9543]
[null,9544]
[null,9545]
[null,9546]
[null,9547]
[null,9548]
[null,9549]
[null,9550]
[null,9551]
[null,9552]
[null,9553]
[null,9554]
[null,9555]
[null,9556]
[null,9557]
[null,9558]
[null,9559]
[null,9560]
[null,9561]
[null,9562]
[null,9563]
[null,9564]
[null,9565]
[null,9566]
[null,9567]
[null,9568]
[null,9569]
[null,9570]
[null,9571]
[null,9572]
[null,9573]
[null,9574]
[null,9575]
[null,9576]
[null,9577]
[null,9578]
[null,9579]
[null,9580]
[null,9581]
[null,9582]
[null,9583]
[null,9584]
[null,9585]
[null,9586]
[null,9587]
[null,9588]
[null,9589]
[null,9590]
[null,9591]
[null,9592]
[null,9593]
[null,9594]
[null,9595]
[null,9596]
[null,9597]
[null,9598]
[null,9599]
[null,9600]
[null,9601]
[null,9602]
[null,9603]
[null,9604]
[null,9605]
[null,9606]
[null,9607]
[null,9608]
[null,9609]
[null,9610]
[null,9611]
[null,9612]
[null,9613]
[null,9614]
[null,9615]
[null,9616]
[null,9617]
[null,9618]
[null,9619]
[null,9620]
[null,9621]
[null,9622]
[null,9623]
[null,9624]
[null,9625]
[null,9626]
[null,9627]
[null,9628]
[null,9629]
[null,9630]
[null,9631]
[null,9632]
[null,9633]
[null,9634]
[null,9635]
[null,9636]
[null,9637]
[null,9638]
[null,9639]
[null,9640]
[null,9641]
[null,9642]
[null,9643]
[null,9644]
[null,9645]
[null,9646]
[null,9647]
[null,9648]
[null,9649]
[null,9650]
[null,9651]
[null,9652]
[null,9653]
[null,9654]
[null,9655]
[null,9656]
[null,9657]
[null,9658]
[null,9659]
[null,9660]
[null,9661]
[null,9662]
[null,9663]
[null,9664]
[null,9665]
[null,9666]
[null,9667]
[null,9668]
[null,9669]
[null,9670]
[null,9671]
[null,9672]
[null,9673]
[null,9674]
[null,9675]
[null,9676]
[null,9677]
[null,9678]
[null,9679]
[null,9680]
[null,9681]
[null,9682]
[null,9683]
[null,9684]
[null,9685]
[null,9686]
[null,9687]
[null,9688]
[null,9689]
[null,9690]
[null,9691]
[null,9692]
[null,9693]
[null,9694]
[null,9695]
[null,9696]
[null,9697]
[null,9698]
[null,9699]
[null,9700]
[null,9701]
[null,9702]
[null,9703]
[null,9704]
[null,9705]
[null,9706]
[null,9707]
[null,9708]
[null,9709]
[null,9710]
[null,9711]
[null,9712]
[null,9713]
[null,9714]
[null,9715]
[null,9716]
[null,9717]
[null,9718]
[null,9719]
[null,9720]
[null,9721]
[null,9722]
[null,9723]
[null,9724]
[null,9725]
[null,9726]
[null,9727]
[null,9728]
[null,9729]
[null,9730]
[null,9731]
[null,9732]
[null,9733]
[null,9734]
[null,9735]
[null,9736]
[null,9737]
[null,9738]
[null,9739]
[null,9740]
[null,9741]
[null,9742]
[null,9743]
[null,9744]
[null,9745]
[null,9746]
[null,9747]
[null,9748]
[null,9749]
[null,9750]
[null,9751]
[null,9752]
[null,9753]
[null,9754]
[null,9755]
[null,9756]
[null,9757]
[null,9758]
[null,9759]
[null,9760]
[null,9761]
[null,9762]
[null,9763]
[null,9764]
[null,9765]
[null,9766]
[null,9767]
[null,9768]
[null,9769]
[null,9770]
[null,9771]
[null,9772]
[null,9773]
[null,9774]
[null,9775]
[null,9776]
[null,9777]
[null,9778]
[null,9779]
[null,9780]
[null,9781]
[null,9782]
[null,9783]
[null,9784]
[null,9785]
[null,9786]
[null,9787]
[null,9788]
[null,9789]
[null,9790]
[null,9791]
[null,9792]
[null,9793]
[null,9794]
[null,9795]
[null,9796]
[null,9797]
[null,9798]
[null,9799]
[null,9800]
[null,9801]
[null,9802]
[null,9803]
[null,9804]
[null,9805]
[null,9806]
[null,9807]
[null,9808]
[null,9809]
[null,9810]
[null,9811]
[null,9812]
[null,9813]
[null,9814]
[null,9815]
[null,9816]
[null,9817]
[null,9818]
[null,9819]
[null,9820]
[null,9821]
[null,9822]
[null,9823]
[null,9824]
[null,9825]
[null,9826]
[null,9827]
[null,9828]
[null,9829]
[null,9830]
[null,9831]
[null,9832]
[null,9833]
[null,9834]
[null,9835]
[null,9836]
[null,9837]
[null,9838]
[null,9839]
[null,9840]
[null,9841]
[null,9842]
[null,9843]
[null,9844]
[null,9845]
[null,9846]
[null,9847]
[null,9848]
[null,9849]
[null,9850]
[null,9851]
[null,9852]
[null,9853]
[null,9854]
[null,9855]
[null,9856]
[null,9857]
[null,9858]
[null,9859]
[null,9860]
[null,9861]
[null,9862]
[null,9863]
[null,9864]
[null,9865]
[null,9866]
[null,9867]
[null,9868]
[null,9869]
[null,9870]
[null,9871]
[null,9872]
[null,9873]
[null,9874]
[null,9875]
[null,9876]
[null,9877]
[null,9878]
[null,9879]
[null,9880]
[null,9881]
[null,9882]
[null,9883]
[null,9884]
[null,9885]
[null,9886]
[null,9887]
[null,9888]
[null,9889]
[null,9890]
[null,9891]
[null,9892]
[null,9893]
[null,9894]
[null,9895]
[null,9896]
[null,9897]
[null,9898]
[null,9899]
[null,9900]
[null,9901]
[null,9902]
[null,9903]
[null,9904]
[null,9905]
[null,9906]
[null,9907]
[null,9908]
[null,9909]
[null,9910]
[null,9911]
[null,9912]
[null,9913]
[null,9914]
[null,9915]
[null,9916]
[null,9917]
[null,9918]
[null,9919]
[null,9920]
[null,9921]
[null,9922]
[null,9923]
[null,9924]
[null,9925]
[null,9926]
[null,9927]
[null,9928]
[null,9929]
[null,9930]
[null,9931]
[null,9932]
[null,9933]
[null,9934]
[null,9935]
[null,9936]
[null,9937]
[null,9938]
[null,9939]
[null,9940]
[null,9941]
[null,9942]
[null,9943]
[null,9944]
[null,9945]
[null,9946]
[null,9947]
[null,9948]
[null,9949]
[null,9950]
[null,9951]
[null,9952]
[null,9953]
[null,9954]
[null,9955]
[null,9956]
[null,9957]
[null,9958]
[null,9959]
[null,9960]
[null,9961]
[null,9962]
[null,9963]
[null,9964]
[null,9965]
[null,9966]
[null,9967]
[null,9968]
[null,9969]
[null,9970]
[null,9971]
[null,9972]
[null,9973]
[null,9974]
[null,9975]
[null,9976]
[null,9977]
[null,9978]
[null,9979]
[null,9980]
[null,9981]
[null,9982]
[null,9983]
[null,9984]
[null,9985]
[null,9986]
[null,9987]
[null,9988]
[null,9989]
[null,9990]
[null,9991]
[null,9992]
[null,9993]
[null,9994]
[null,9995]
[null,9996]
[null,9997]
[null,9998]
[null,9999]
[null,10000]

{"sheet":"1","index":3,"n_rows":12,"n_cols":7,"rows_kept":12,"cut":false,"hidden":false,"merged":[]}
[]
[null,"Contas a Pagar/Receber"]
[]
[null,"Ano","(vazio)"]
[null,"Mês","(vazio)"]
[null,"Tipo de Operação","(vazio)"]
[null,"Status","(vazio)"]
[]
[null,"Total"]
[null,"Vencimento","PN","Código","Parcela","Observação","Total"]
[null,"(vazio)","(vazio)","(vazio)","(vazio)","(vazio)"]
[null,"Total Geral"]

{"sheet":"2","index":4,"n_rows":9,"n_cols":7,"rows_kept":9,"cut":false,"hidden":false,"merged":[]}
[]
[null,"Extrato de Conta"]
[]
[null,"Ano","(vazio)"]
[null,"Mês","(vazio)"]
[]
[null,"Soma de Saldo"]
[null,"Forma de Pag/Rec","Data","Código","Descrição","Valor","Total"]
[null,"(vazio)","(vazio)","(vazio)","(vazio)","(vazio)"]

{"sheet":"3","index":5,"n_rows":10,"n_cols":4,"rows_kept":10,"cut":false,"hidden":false,"merged":[]}
[]
[null,"Receita Por Parceiro de Negócio"]
[]
[null,"Ano","(Vários itens)"]
[null,"Mês","(Vários itens)"]
[null,"Tipo de Operação","(Vários itens)"]
[null,"Status","(Vários itens)"]
[]
[null,"Rótulos de Linha","Soma de Valor","% "]
[null,"Total Geral",null,{"$error":"#DIV/0!"}]

{"sheet":"4","index":6,"n_rows":12,"n_cols":7,"rows_kept":12,"cut":false,"hidden":false,"merged":[[1,1,1,4]]}
[]
[null,"Extrato do Cartão de Crédito"]
[]
[null,"Portador","(vazio)"]
[null,"Status","(vazio)"]
[]
[null,"Soma de Valor",null,null,null,"Ano","Mês"]
[null,null,null,null,null,"(vazio)","Total Geral"]
[null,"Tipo de Compra","Emissão","PN","Código","(vazio)"]
[null,"(vazio)","(vazio)","(vazio)","(vazio)"]
[null,"Total (vazio)"]
[null,"Total Geral"]

{"sheet":"5","index":7,"n_rows":9,"n_cols":7,"rows_kept":9,"cut":false,"hidden":false,"merged":[]}
[]
[null,"DRE - Demonstrativo de Resultados do Exercício"]
[]
[null,"Tipo de Operação","(Tudo)"]
[null,"Status","(Tudo)"]
[]
[null,"Soma de Valor",null,null,null,"Ano","Mês"]
[]
[null,"Grupo","Subgrupo","N° Conta","Descrição"]

{"sheet":"6","index":8,"n_rows":13,"n_cols":5,"rows_kept":13,"cut":false,"hidden":false,"merged":[]}
[]
[null,"Relatório Analítico"]
[]
[null,"Ano","(vazio)"]
[null,"Tipo de Operação","(vazio)"]
[null,"Conta","(vazio)"]
[null,"Status","(vazio)"]
[]
[null,"Soma de Valor","Mês","Vencimento"]
[null,null,"(vazio)","(vazio) Total","Total Geral"]
[null,"Parceiro de Negócio","(vazio)"]
[null,"(vazio)"]
[null,"Total Geral"]

{"sheet":"7","index":9,"n_rows":10,"n_cols":4,"rows_kept":10,"cut":false,"hidden":false,"merged":[]}
[]
[null,"Recebimentos x Pagamentos"]
[]
[null,"Ano","(vazio)"]
[null,"Status","(vazio)"]
[]
[null,"Soma de Valor","Mês"]
[null,"Tipo de Operação","(vazio)","Total Geral"]
[null,"(vazio)"]
[null,"Total Geral"]

{"sheet":"8","index":10,"n_rows":5,"n_cols":7,"rows_kept":5,"cut":false,"hidden":false,"merged":[]}
[]
[null,"Saldo Atual das Contas"]
[]
[null,"Soma de Saldo"]
[null,"Forma de Pag/Rec","Data","Código","Descrição","Valor","Total"]

{"sheet":"TB_Cadastro_Contas","index":11,"n_rows":2,"n_cols":29,"rows_kept":2,"cut":false,"hidden":false,"merged":[]}
[]
[null,"Código","Cod PN","PN","N° Doc/NF","Cod Tipo de Operação","Tipo de Operação","Emissão","Mès Emissão","Ano Emissão","Cod Setor","Setor","Vencimento","Mês","Ano","Valor","Parcela","Cod Portador","Portador","Cod Conta","Conta","N° Conta","Cod Empresa","Empresa","Observação","Cod Status","Status","Data L","Hora L"]

{"sheet":"TB_Fluxo_Caixa","index":12,"n_rows":2,"n_cols":25,"rows_kept":2,"cut":false,"hidden":false,"merged":[]}
[]
[null,"Código","CP/CR","Parcela","PN","Data","Mês","Ano","Cod Tipo de Operação","Tipo de Operação","Cod Conta","Conta","Descrição","Cod Empresa","Empresa","Cod Forma de Pag/Rec","Forma de Pag/Rec","Contrato","Nº Cheque","Valor","Saldo","Cod Status","Status","Data L","Hora L"]